BEGIN:VCALENDAR
VERSION:2.0
PRODID:-//Race Time - ECPv6.15.13//NONSGML v1.0//EN
CALSCALE:GREGORIAN
METHOD:PUBLISH
X-WR-CALNAME:Race Time
X-ORIGINAL-URL:https://www.racetime.info
X-WR-CALDESC:Events for Race Time
REFRESH-INTERVAL;VALUE=DURATION:PT1H
X-Robots-Tag:noindex
X-PUBLISHED-TTL:PT1H
BEGIN:VTIMEZONE
TZID:America/Chicago
BEGIN:DAYLIGHT
TZOFFSETFROM:-0600
TZOFFSETTO:-0500
TZNAME:CDT
DTSTART:20250309T080000
END:DAYLIGHT
BEGIN:STANDARD
TZOFFSETFROM:-0500
TZOFFSETTO:-0600
TZNAME:CST
DTSTART:20251102T070000
END:STANDARD
BEGIN:DAYLIGHT
TZOFFSETFROM:-0600
TZOFFSETTO:-0500
TZNAME:CDT
DTSTART:20260308T080000
END:DAYLIGHT
BEGIN:STANDARD
TZOFFSETFROM:-0500
TZOFFSETTO:-0600
TZNAME:CST
DTSTART:20261101T070000
END:STANDARD
BEGIN:DAYLIGHT
TZOFFSETFROM:-0600
TZOFFSETTO:-0500
TZNAME:CDT
DTSTART:20270314T080000
END:DAYLIGHT
BEGIN:STANDARD
TZOFFSETFROM:-0500
TZOFFSETTO:-0600
TZNAME:CST
DTSTART:20271107T070000
END:STANDARD
END:VTIMEZONE
BEGIN:VEVENT
DTSTART;TZID=America/Chicago:20260425T090000
DTEND;TZID=America/Chicago:20260425T103000
DTSTAMP:20260425T065715
CREATED:20260123T132525Z
LAST-MODIFIED:20260123T132525Z
UID:10002469-1777107600-1777113000@www.racetime.info
SUMMARY:Earlville PTA 5K Run/Walk
DESCRIPTION:
URL:https://www.racetime.info/event/earlville-pta-5k-run-walk-3/
LOCATION:Earlville School\, 415 West Union Street\, Earlville\, IL\, 60518\, United States
ORGANIZER;CN="Amber Clemens":MAILTO:earlvillepta1@gmail.com
END:VEVENT
BEGIN:VEVENT
DTSTART;TZID=America/Chicago:20260425T090000
DTEND;TZID=America/Chicago:20260425T103000
DTSTAMP:20260425T065715
CREATED:20260302T131103Z
LAST-MODIFIED:20260302T131103Z
UID:10002506-1777107600-1777113000@www.racetime.info
SUMMARY:The Heritage Haul 5K * 1 Mile Run/Walk
DESCRIPTION:
URL:https://www.racetime.info/event/the-heritage-haul-5k-1-mile-run-walk/
LOCATION:Lincoln Landing\, 9th Street and Canal Street\, Lockport\, IL\, 60441\, United States
ORGANIZER;CN="Beth Mrozek":MAILTO:beth@lockportchamber.com
END:VEVENT
BEGIN:VEVENT
DTSTART;TZID=America/Chicago:20260425T090000
DTEND;TZID=America/Chicago:20260425T103000
DTSTAMP:20260425T065715
CREATED:20260302T132335Z
LAST-MODIFIED:20260302T132335Z
UID:10002507-1777107600-1777113000@www.racetime.info
SUMMARY:Vernon Hills Rec & Roll 5K: Pathways to Play
DESCRIPTION:
URL:https://www.racetime.info/event/vernon-hills-rec-roll-5k-pathways-to-play/
LOCATION:Century Park North Pavilion\, 1401 Indianwood Drive\, Vernon Hills\, IL\, 60061\, United States
ORGANIZER;CN="Heather Rabbitt":MAILTO:heatherr@vhparkdistrict.org
GEO:42.2374557;-87.9695504
X-APPLE-STRUCTURED-LOCATION;VALUE=URI;X-ADDRESS=Century Park North Pavilion 1401 Indianwood Drive Vernon Hills IL 60061 United States;X-APPLE-RADIUS=500;X-TITLE=1401 Indianwood Drive:geo:-87.9695504,42.2374557
END:VEVENT
BEGIN:VEVENT
DTSTART;TZID=America/Chicago:20260425T090000
DTEND;TZID=America/Chicago:20260425T110000
DTSTAMP:20260425T065715
CREATED:20260308T111731Z
LAST-MODIFIED:20260308T111731Z
UID:10002517-1777107600-1777114800@www.racetime.info
SUMMARY:The Germazing Race 5K Run/Walk & Kids' Dash
DESCRIPTION:
URL:https://www.racetime.info/event/the-germazing-race-5k-run-walk-kids-dash-4/
LOCATION:St. Germaine Parish\, 9711 S. Kolin\, Oak Lawn\, IL\, 60453\, United States
ORGANIZER;CN="Kate Paluszek":MAILTO:germazingrace@hotmail.com
GEO:41.7151965;-87.7292777
X-APPLE-STRUCTURED-LOCATION;VALUE=URI;X-ADDRESS=St. Germaine Parish 9711 S. Kolin Oak Lawn IL 60453 United States;X-APPLE-RADIUS=500;X-TITLE=9711 S. Kolin:geo:-87.7292777,41.7151965
END:VEVENT
BEGIN:VEVENT
DTSTART;TZID=America/Chicago:20260425T103000
DTEND;TZID=America/Chicago:20260425T120000
DTSTAMP:20260425T065715
CREATED:20260124T150744Z
LAST-MODIFIED:20260124T150744Z
UID:10002471-1777113000-1777118400@www.racetime.info
SUMMARY:Healthy Kids Day 5K Run/Walk
DESCRIPTION:
URL:https://www.racetime.info/event/healthy-kids-day-5k-run-walk/
LOCATION:Geneva Lakes Family YMCA\, 203 S. Wells Street\, Lake Geneva\, WI\, 53147\, United States
ORGANIZER;CN="Mary Agnes Zellmer":MAILTO:maz@chicagoracemanagement.com
END:VEVENT
END:VCALENDAR