BEGIN:VCALENDAR
VERSION:2.0
PRODID:-//Race Time - ECPv6.15.13//NONSGML v1.0//EN
CALSCALE:GREGORIAN
METHOD:PUBLISH
X-ORIGINAL-URL:https://www.racetime.info
X-WR-CALDESC:Events for Race Time
REFRESH-INTERVAL;VALUE=DURATION:PT1H
X-Robots-Tag:noindex
X-PUBLISHED-TTL:PT1H
BEGIN:VTIMEZONE
TZID:America/Chicago
BEGIN:DAYLIGHT
TZOFFSETFROM:-0600
TZOFFSETTO:-0500
TZNAME:CDT
DTSTART:20140309T080000
END:DAYLIGHT
BEGIN:STANDARD
TZOFFSETFROM:-0500
TZOFFSETTO:-0600
TZNAME:CST
DTSTART:20141102T070000
END:STANDARD
BEGIN:DAYLIGHT
TZOFFSETFROM:-0600
TZOFFSETTO:-0500
TZNAME:CDT
DTSTART:20150308T080000
END:DAYLIGHT
BEGIN:STANDARD
TZOFFSETFROM:-0500
TZOFFSETTO:-0600
TZNAME:CST
DTSTART:20151101T070000
END:STANDARD
BEGIN:DAYLIGHT
TZOFFSETFROM:-0600
TZOFFSETTO:-0500
TZNAME:CDT
DTSTART:20160313T080000
END:DAYLIGHT
BEGIN:STANDARD
TZOFFSETFROM:-0500
TZOFFSETTO:-0600
TZNAME:CST
DTSTART:20161106T070000
END:STANDARD
END:VTIMEZONE
BEGIN:VEVENT
DTSTART;TZID=America/Chicago:20150628T080500
DTEND;TZID=America/Chicago:20150628T110000
DTSTAMP:20260424T000533
CREATED:20150606T105858Z
LAST-MODIFIED:20150628T222945Z
UID:10000249-1435478700-1435489200@www.racetime.info
SUMMARY:Waucondafest Challenge 5K & 10K
DESCRIPTION:Waucondafest 5K Age Group Results\n\nWaucondafest 5K Overall Results\n\nWaucondafest 10K Age Group Results\n\nWaucondafest 10K Overall Results
URL:https://www.racetime.info/event/waucondafest-challenge-5k-10k/
LOCATION:Wauconda Fest Grounds\, 600 N. Main Street\, Wauconda\, IL\, 60084\, United States
CATEGORIES:2015-06 Results (June)
ORGANIZER;CN="Tim Staton":MAILTO:tstaton@waucondaparks.com
GEO:42.2687042;-88.1441097
X-APPLE-STRUCTURED-LOCATION;VALUE=URI;X-ADDRESS=Wauconda Fest Grounds 600 N. Main Street Wauconda IL 60084 United States;X-APPLE-RADIUS=500;X-TITLE=600 N. Main Street:geo:-88.1441097,42.2687042
END:VEVENT
BEGIN:VEVENT
DTSTART;TZID=America/Chicago:20150628T080000
DTEND;TZID=America/Chicago:20150628T110000
DTSTAMP:20260424T000533
CREATED:20150526T015107Z
LAST-MODIFIED:20150702T195427Z
UID:10000045-1435478400-1435489200@www.racetime.info
SUMMARY:Firecracker 5K Run & 2 Mile Walk
DESCRIPTION:Firecracker 2 Mile Overall Results\n\nFirecracker 5K Wheelchair Division\n\nFirecracker 5K Age Group Results\n\nFirecracker 5K Overall Results
URL:https://www.racetime.info/event/firecracker-5k-run-2-mile-walk/
LOCATION:Sunset Woods Park\, 1801 Sunset Road\, Highland Park\, IL\, 60035\, United States
CATEGORIES:2015-06 Results (June)
ORGANIZER;CN="Mitch Carr":MAILTO:mcarr@pdhp.org
GEO:42.184132;-87.808067
X-APPLE-STRUCTURED-LOCATION;VALUE=URI;X-ADDRESS=Sunset Woods Park 1801 Sunset Road Highland Park IL 60035 United States;X-APPLE-RADIUS=500;X-TITLE=1801 Sunset Road:geo:-87.808067,42.184132
END:VEVENT
BEGIN:VEVENT
DTSTART;TZID=America/Chicago:20150628T080000
DTEND;TZID=America/Chicago:20150628T110000
DTSTAMP:20260424T000533
CREATED:20150409T034514Z
LAST-MODIFIED:20150628T165531Z
UID:10000019-1435478400-1435489200@www.racetime.info
SUMMARY:Hyatt's Gambol Through The Grove 5K Run/Walk
DESCRIPTION:Hyatt’s Gambol 5K Age Group Results\n\nHyatt’s Gambol 5K Overall Results
URL:https://www.racetime.info/event/hyatts-gambol-through-the-grove-2/
LOCATION:Independence Grove Forest Preserve\, 16400 Buckley Road\, Libertyville\, IL\, 60045\, United States
CATEGORIES:2015-06 Results (June)
ORGANIZER;CN="Doug Fleegle":MAILTO:doug.fleegle@gmail.com
GEO:42.3118463;-87.9529568
X-APPLE-STRUCTURED-LOCATION;VALUE=URI;X-ADDRESS=Independence Grove Forest Preserve 16400 Buckley Road Libertyville IL 60045 United States;X-APPLE-RADIUS=500;X-TITLE=16400 Buckley Road:geo:-87.9529568,42.3118463
END:VEVENT
BEGIN:VEVENT
DTSTART;TZID=America/Chicago:20150627T080000
DTEND;TZID=America/Chicago:20150627T220000
DTSTAMP:20260424T000533
CREATED:20150526T002933Z
LAST-MODIFIED:20150628T223435Z
UID:10000050-1435392000-1435442400@www.racetime.info
SUMMARY:Superhero 5K Run/Walk & 1 Mile Fun Run
DESCRIPTION:Journey’s Superhero 5K Age Group Results\n\nJourney’s Superhero 5K Overall Results
URL:https://www.racetime.info/event/superhero-5k-runwalk-1-mile-fun-run/
LOCATION:Palatine Towne Square\, Smith Street and Colfax Street\, Palatine\, IL\, 60074\, United States
CATEGORIES:2015-06 Results (June)
GEO:42.114824;-88.0485573
X-APPLE-STRUCTURED-LOCATION;VALUE=URI;X-ADDRESS=Palatine Towne Square Smith Street and Colfax Street Palatine IL 60074 United States;X-APPLE-RADIUS=500;X-TITLE=Smith Street and Colfax Street:geo:-88.0485573,42.114824
END:VEVENT
BEGIN:VEVENT
DTSTART;TZID=America/Chicago:20150627T080000
DTEND;TZID=America/Chicago:20150627T100000
DTSTAMP:20260424T000533
CREATED:20150526T004612Z
LAST-MODIFIED:20150627T153533Z
UID:10000044-1435392000-1435399200@www.racetime.info
SUMMARY:West Chicago Cross Country Reunion 3 Mile Run
DESCRIPTION:WE GO Reunion 5K Overall Results
URL:https://www.racetime.info/event/west-chicago-cross-country-reunion-3-mile-run/
LOCATION:Kress Creek Farm\, 30W150 Wilson Road\, West Chicago\, IL\, 60185\, United States
CATEGORIES:2015-06 Results (June)
ORGANIZER;CN="Robert Maxson":MAILTO:rmaxson@d94.org
GEO:41.856453;-88.2043276
X-APPLE-STRUCTURED-LOCATION;VALUE=URI;X-ADDRESS=Kress Creek Farm 30W150 Wilson Road West Chicago IL 60185 United States;X-APPLE-RADIUS=500;X-TITLE=30W150 Wilson Road:geo:-88.2043276,41.856453
END:VEVENT
BEGIN:VEVENT
DTSTART;TZID=America/Chicago:20150625T193000
DTEND;TZID=America/Chicago:20150625T210000
DTSTAMP:20260424T000533
CREATED:20150409T034514Z
LAST-MODIFIED:20150626T021540Z
UID:10000025-1435260600-1435266000@www.racetime.info
SUMMARY:Reach Out For Outreach 5K & Dash On Ash Youth Run
DESCRIPTION:Dash On Ash Youth Results\n\nReach Out For Outreach 5K Age Group Results\n\nReach Out For Outreach 5K Overall Results
URL:https://www.racetime.info/event/reach-out-for-outreach-2/
LOCATION:Outreach House Parking Lot\, 220 S. Main Street\, Lombard\, IL\, United States
CATEGORIES:2015-06 Results (June)
ORGANIZER;CN="Denise Dabisch":MAILTO:ddabisch.fcol@gmail.com
GEO:41.883161;-88.01885
X-APPLE-STRUCTURED-LOCATION;VALUE=URI;X-ADDRESS=Outreach House Parking Lot 220 S. Main Street Lombard IL United States;X-APPLE-RADIUS=500;X-TITLE=220 S. Main Street:geo:-88.01885,41.883161
END:VEVENT
BEGIN:VEVENT
DTSTART;TZID=America/Chicago:20150625T183000
DTEND;TZID=America/Chicago:20150625T213000
DTSTAMP:20260424T000533
CREATED:20150608T020429Z
LAST-MODIFIED:20150626T022043Z
UID:10000253-1435257000-1435267800@www.racetime.info
SUMMARY:Truck It 5K/10K Run
DESCRIPTION:Truck It  5K & 10K Age Groups\n\nTruck It  5K & 10K Overall Results
URL:https://www.racetime.info/event/truck-it-5k10k-run/
LOCATION:Soldier Field\, 1410 Museum Campus Drive\, Chicago\, IL\, 60605\, United States
CATEGORIES:2015-06 Results (June)
ORGANIZER;CN="John Corrigan":MAILTO:jmcpartners@sbcglobal.net
GEO:41.8622646;-87.6166382
X-APPLE-STRUCTURED-LOCATION;VALUE=URI;X-ADDRESS=Soldier Field 1410 Museum Campus Drive Chicago IL 60605 United States;X-APPLE-RADIUS=500;X-TITLE=1410 Museum Campus Drive:geo:-87.6166382,41.8622646
END:VEVENT
BEGIN:VEVENT
DTSTART;TZID=America/Chicago:20150621T083000
DTEND;TZID=America/Chicago:20150621T110000
DTSTAMP:20260424T000533
CREATED:20150409T034513Z
LAST-MODIFIED:20150623T030240Z
UID:10000024-1434875400-1434884400@www.racetime.info
SUMMARY:Prairie Fest 5K Run/Walk & 1 Mile Prairie Dog Jog
DESCRIPTION:Prairie Dog Jog 1 Mile Run\n\nPrairie Fest 5K Age Group Results\n\nPrairie Fest 5K Overall Results
URL:https://www.racetime.info/event/prairie-fest-5k-2/
LOCATION:Prairie Point Center\, 313 East Washington\, Oswego\, IL\, 60543\, United States
CATEGORIES:2015-06 Results (June)
ORGANIZER;CN="Amy Walters":MAILTO:awalters@oswegolandpd.org
GEO:41.6756673;-88.3467905
X-APPLE-STRUCTURED-LOCATION;VALUE=URI;X-ADDRESS=Prairie Point Center 313 East Washington Oswego IL 60543 United States;X-APPLE-RADIUS=500;X-TITLE=313 East Washington:geo:-88.3467905,41.6756673
END:VEVENT
BEGIN:VEVENT
DTSTART;TZID=America/Chicago:20150620T182000
DTEND;TZID=America/Chicago:20150620T210000
DTSTAMP:20260424T000533
CREATED:20150409T034513Z
LAST-MODIFIED:20150831T202800Z
UID:10000022-1434824400-1434834000@www.racetime.info
SUMMARY:The PR Mile
DESCRIPTION:PR Mile Age Group Overall Results\n\nPR Mile Overall Combined Results
URL:https://www.racetime.info/event/the-pr-mile-2/
LOCATION:Cass Avenue 1/2 Mile South Of I55\, United States
CATEGORIES:2015-06 Results (June)
GEO:37.09024;-95.712891
END:VEVENT
BEGIN:VEVENT
DTSTART;TZID=America/Chicago:20150620T101500
DTEND;TZID=America/Chicago:20150620T120000
DTSTAMP:20260424T000533
CREATED:20150522T235112Z
LAST-MODIFIED:20150622T111745Z
UID:10000051-1434795300-1434801600@www.racetime.info
SUMMARY:ATI's Metal 1K Walk & 5K Run
DESCRIPTION:ATI Metal 5K Age Group Results\n\nATI Metal 5K Overall Results
URL:https://www.racetime.info/event/atis-metal-1k-walk-5k-run/
LOCATION:Silver Cross Field\, 1 Mayor Art Schultz Dr\, Joliet\, IL\, 60432\, United States
CATEGORIES:2015-06 Results (June)
ORGANIZER;CN="ATI Physical Therapy":MAILTO:terry.williams@atipt.com
GEO:41.5260175;-88.0775418
X-APPLE-STRUCTURED-LOCATION;VALUE=URI;X-ADDRESS=Silver Cross Field 1 Mayor Art Schultz Dr Joliet IL 60432 United States;X-APPLE-RADIUS=500;X-TITLE=1 Mayor Art Schultz Dr:geo:-88.0775418,41.5260175
END:VEVENT
BEGIN:VEVENT
DTSTART;TZID=America/Chicago:20150620T090000
DTEND;TZID=America/Chicago:20150620T110000
DTSTAMP:20260424T000533
CREATED:20150526T000353Z
LAST-MODIFIED:20150620T203136Z
UID:10000049-1434790800-1434798000@www.racetime.info
SUMMARY:Remembering Lauren 5K Run/Walk
DESCRIPTION:Remembering Lauren 5K Age Group Results\n\nRemembering Lauren 5K Overall Results
URL:https://www.racetime.info/event/remembering-lauren-5k-runwalk/
LOCATION:Willowbrook High School\, 1250 South Ardmore Avenue\, Villa Park\, IL\, 60181\, United States
CATEGORIES:2015-06 Results (June)
ORGANIZER;CN="Jan Keifer":MAILTO:jkiefer@dupage88.net
GEO:41.8897519;-87.9889543
X-APPLE-STRUCTURED-LOCATION;VALUE=URI;X-ADDRESS=Willowbrook High School 1250 South Ardmore Avenue Villa Park IL 60181 United States;X-APPLE-RADIUS=500;X-TITLE=1250 South Ardmore Avenue:geo:-87.9889543,41.8897519
END:VEVENT
BEGIN:VEVENT
DTSTART;TZID=America/Chicago:20150620T080000
DTEND;TZID=America/Chicago:20150620T110000
DTSTAMP:20260424T000533
CREATED:20150409T034513Z
LAST-MODIFIED:20150620T203020Z
UID:10000023-1434787200-1434798000@www.racetime.info
SUMMARY:PCA Eagle 5K Run/Walk & 10K Run
DESCRIPTION:PCA Eagle 5K Age Group Results\n\nPCA Eagle 5K Overall Results\n\nPCA Eagle 10K Age Group Results\n\nPCA Eagle 10K Overall Results
URL:https://www.racetime.info/event/pca-runwalk-2/
LOCATION:Deering Park\, Princeton\, IL\, United States
CATEGORIES:2015-06 Results (June)
ORGANIZER;CN="Steve Mckenney":MAILTO:smckenney@agviewfs.com
GEO:41.3680919;-89.4648145
END:VEVENT
BEGIN:VEVENT
DTSTART;TZID=America/Chicago:20150614T083000
DTEND;TZID=America/Chicago:20150614T110000
DTSTAMP:20260424T000533
CREATED:20150522T150518Z
LAST-MODIFIED:20150614T175908Z
UID:10000238-1434270600-1434279600@www.racetime.info
SUMMARY:GiGi’s Playhouse 5K Run & 1 Mile Walk
DESCRIPTION:Gigi’s Playhouse 5K Overall Results
URL:https://www.racetime.info/event/gigis-playhouse-5k-run-1-mile-walk/
LOCATION:Sears Center\, 5333 Prairie Stone Pkwy\, Hoffman Estates\, IL\, 60192\, United States
CATEGORIES:2015-06 Results (June)
ORGANIZER;CN="Mike Jostes":MAILTO:mjostes@gigisplayhouse.org
GEO:42.0693116;-88.2128888
X-APPLE-STRUCTURED-LOCATION;VALUE=URI;X-ADDRESS=Sears Center 5333 Prairie Stone Pkwy Hoffman Estates IL 60192 United States;X-APPLE-RADIUS=500;X-TITLE=5333 Prairie Stone Pkwy:geo:-88.2128888,42.0693116
END:VEVENT
BEGIN:VEVENT
DTSTART;TZID=America/Chicago:20150614T081500
DTEND;TZID=America/Chicago:20150614T170000
DTSTAMP:20260424T000533
CREATED:20150507T111501Z
LAST-MODIFIED:20150614T175800Z
UID:10000208-1434269700-1434301200@www.racetime.info
SUMMARY:Race To Embrace 5K Run & 3K Walk
DESCRIPTION:Race To Embrace 5K Overall Results
URL:https://www.racetime.info/event/race-to-embrace-5k-run-3k-walk/
LOCATION:Bunker Hill Forest Preserve\, Touhy & Harts Road\, Niles\, IL\, 60714\, United States
CATEGORIES:2015-06 Results (June)
ORGANIZER;CN="Erika Vavrik":MAILTO:erika_vavrick@orchardvillage.org
GEO:42.0119149;-87.7914455
X-APPLE-STRUCTURED-LOCATION;VALUE=URI;X-ADDRESS=Bunker Hill Forest Preserve Touhy & Harts Road Niles IL 60714 United States;X-APPLE-RADIUS=500;X-TITLE=Touhy & Harts Road:geo:-87.7914455,42.0119149
END:VEVENT
BEGIN:VEVENT
DTSTART;TZID=America/Chicago:20150614T080000
DTEND;TZID=America/Chicago:20150614T100000
DTSTAMP:20260424T000533
CREATED:20150525T234201Z
LAST-MODIFIED:20150615T133439Z
UID:10000048-1434268800-1434276000@www.racetime.info
SUMMARY:Donuts For Dad 5K & Kids Fun Run
DESCRIPTION:Donuts For Dads 5K Age Group Results\n\nDonuts For Dads 5K Overall Results
URL:https://www.racetime.info/event/donuts-for-dad-5k-kids-fun-run/
LOCATION:Dundee Township Visitor’s Center\, River Street & Barrington Avenue\, East Dundee\, IL\, 60010\, United States
CATEGORIES:2015-06 Results (June)
ORGANIZER;CN="Jon Seidenzahl":MAILTO:jseidenzahl@dtpd.org
GEO:42.1018439;-88.2750477
X-APPLE-STRUCTURED-LOCATION;VALUE=URI;X-ADDRESS=Dundee Township Visitor’s Center River Street & Barrington Avenue East Dundee IL 60010 United States;X-APPLE-RADIUS=500;X-TITLE=River Street & Barrington Avenue:geo:-88.2750477,42.1018439
END:VEVENT
BEGIN:VEVENT
DTSTART;TZID=America/Chicago:20150613T081000
DTEND;TZID=America/Chicago:20150613T100000
DTSTAMP:20260424T000533
CREATED:20150510T015057Z
LAST-MODIFIED:20150613T182226Z
UID:10000223-1434183000-1434189600@www.racetime.info
SUMMARY:St. Norbert's Block Party 5K
DESCRIPTION:Block Party 5K Age Group Results\n\nBlock Party 5K Overall Results
URL:https://www.racetime.info/event/st-norberts-block-party-5k/
LOCATION:St. Norbert School\, Walters and Meadows Street\, Northbrook\, IL\, 60062\, United States
CATEGORIES:2015-06 Results (June)
ORGANIZER;CN="Bill Davis":MAILTO:stnorbert5k@gmail.com
GEO:42.1273517;-87.8266068
X-APPLE-STRUCTURED-LOCATION;VALUE=URI;X-ADDRESS=St. Norbert School Walters and Meadows Street Northbrook IL 60062 United States;X-APPLE-RADIUS=500;X-TITLE=Walters and Meadows Street:geo:-87.8266068,42.1273517
END:VEVENT
BEGIN:VEVENT
DTSTART;TZID=America/Chicago:20150613T080000
DTEND;TZID=America/Chicago:20150613T110000
DTSTAMP:20260424T000533
CREATED:20150603T021713Z
LAST-MODIFIED:20150613T195934Z
UID:10000244-1434182400-1434193200@www.racetime.info
SUMMARY:PIC 5K Run & Walk for Life 2015
DESCRIPTION:PIC 5K Age Group Results\n\nPIC 5K Overall Results
URL:https://www.racetime.info/event/pic-5k-run-walk-for-life-2015/
LOCATION:Christ Community Church\, 40W098 Galena Blvd\, Aurora\, IL\, 60506\, United States
CATEGORIES:2015-06 Results (June)
ORGANIZER;CN="Michelle Gerken":MAILTO:michelle@rupregnant.com
GEO:41.7680361;-88.3961248
X-APPLE-STRUCTURED-LOCATION;VALUE=URI;X-ADDRESS=Christ Community Church 40W098 Galena Blvd Aurora IL 60506 United States;X-APPLE-RADIUS=500;X-TITLE=40W098 Galena Blvd:geo:-88.3961248,41.7680361
END:VEVENT
BEGIN:VEVENT
DTSTART;TZID=America/Chicago:20150613T080000
DTEND;TZID=America/Chicago:20150613T110000
DTSTAMP:20260424T000533
CREATED:20150510T014656Z
LAST-MODIFIED:20150613T181833Z
UID:10000215-1434182400-1434193200@www.racetime.info
SUMMARY:Run For The Lights 5K Run/Walk
DESCRIPTION:Run For The Lights Youth Run\n\nRun For The Lights 5K Age Group Results\n\nRun For The Lights 5K Overall Results\n\nRun For The Lights 10K Age Group Results\n\nRun For The Lights 10K Overall Results
URL:https://www.racetime.info/event/run-for-the-lights-5k-runwalk/
LOCATION:South Elgin High School\, 760 E. Main Street\, Elgin\, IL\, 60177\, United States
CATEGORIES:2015-06 Results (June)
ORGANIZER;CN="Keith Kmiec":MAILTO:kkmiec@runforlights.com
GEO:42.0009176;-88.2836443
X-APPLE-STRUCTURED-LOCATION;VALUE=URI;X-ADDRESS=South Elgin High School 760 E. Main Street Elgin IL 60177 United States;X-APPLE-RADIUS=500;X-TITLE=760 E. Main Street:geo:-88.2836443,42.0009176
END:VEVENT
BEGIN:VEVENT
DTSTART;TZID=America/Chicago:20150613T080000
DTEND;TZID=America/Chicago:20150613T110000
DTSTAMP:20260424T000533
CREATED:20150409T034512Z
LAST-MODIFIED:20150613T181953Z
UID:10000021-1434182400-1434193200@www.racetime.info
SUMMARY:5K Race For Diversity
DESCRIPTION:Race For Diversity 1 Mile Youth Run Overall Results\n\nRace For Diversity 5K Overall Results
URL:https://www.racetime.info/event/5k-race-for-diversity-2/
LOCATION:Northwestern University Campus\, 1201 Davis St.\, Evanston\, IL\, United States
CATEGORIES:2015-06 Results (June)
ORGANIZER;CN="Domonique McCord":MAILTO:nubaa5k@gmail.com
GEO:42.0475597;-87.6894531
X-APPLE-STRUCTURED-LOCATION;VALUE=URI;X-ADDRESS=Northwestern University Campus 1201 Davis St. Evanston IL United States;X-APPLE-RADIUS=500;X-TITLE=1201 Davis St.:geo:-87.6894531,42.0475597
END:VEVENT
BEGIN:VEVENT
DTSTART;TZID=America/Chicago:20150607T100000
DTEND;TZID=America/Chicago:20150607T120000
DTSTAMP:20260424T000533
CREATED:20150525T022519Z
LAST-MODIFIED:20150831T202906Z
UID:10000047-1433671200-1433678400@www.racetime.info
SUMMARY:Opportunity 5K Run/Walk
DESCRIPTION:Opportunity 5K Overall Results
URL:https://www.racetime.info/event/opportunity-5k-runwalk/
LOCATION:Independence Grove Forest Preserve\, 16400 Buckley Road\, Libertyville\, IL\, 60045\, United States
CATEGORIES:2015-06 Results (June)
ORGANIZER;CN="Brad Carlson":MAILTO:bcarlson@countrysideassn.org
GEO:42.3118463;-87.9529568
X-APPLE-STRUCTURED-LOCATION;VALUE=URI;X-ADDRESS=Independence Grove Forest Preserve 16400 Buckley Road Libertyville IL 60045 United States;X-APPLE-RADIUS=500;X-TITLE=16400 Buckley Road:geo:-87.9529568,42.3118463
END:VEVENT
BEGIN:VEVENT
DTSTART;TZID=America/Chicago:20150607T080000
DTEND;TZID=America/Chicago:20150607T170000
DTSTAMP:20260424T000533
CREATED:20150409T034511Z
LAST-MODIFIED:20150607T184246Z
UID:10000173-1433664000-1433696400@www.racetime.info
SUMMARY:Run With The Nuns 5K Run/Walk & Youth Dash
DESCRIPTION:Run With The Nuns 1 Mile Overall Results\n\nRun With The Nuns 5K Overall Results
URL:https://www.racetime.info/event/run-with-the-nuns-2/
LOCATION:Mt. Assisi Academy\, 13860 Main Street\, Lemont\, IL\, 60439\, United States
CATEGORIES:2015-06 Results (June)
ORGANIZER;CN="Carrie Peters":MAILTO:carriepeters2@sbcglobal.net
GEO:41.685218;-87.981291
X-APPLE-STRUCTURED-LOCATION;VALUE=URI;X-ADDRESS=Mt. Assisi Academy 13860 Main Street Lemont IL 60439 United States;X-APPLE-RADIUS=500;X-TITLE=13860 Main Street:geo:-87.981291,41.685218
END:VEVENT
BEGIN:VEVENT
DTSTART;TZID=America/Chicago:20150607T080000
DTEND;TZID=America/Chicago:20150607T100000
DTSTAMP:20260424T000533
CREATED:20150607T233851Z
LAST-MODIFIED:20150607T233851Z
UID:10000251-1433664000-1433671200@www.racetime.info
SUMMARY:Step For The Cure 5K
DESCRIPTION:Step For A Cure 5K Age Group Results\n\nStep For A Cure 5K Overall Results
URL:https://www.racetime.info/event/step-for-the-cure-5k/
LOCATION:Unnamed Venue\, Chicago\, IL\, United States
CATEGORIES:2015-06 Results (June)
ORGANIZER;CN="John Corrigan":MAILTO:jmcpartners@sbcglobal.net
GEO:41.8781136;-87.6297982
END:VEVENT
BEGIN:VEVENT
DTSTART;TZID=America/Chicago:20150606T100000
DTEND;TZID=America/Chicago:20150606T170000
DTSTAMP:20260424T000533
CREATED:20150421T114510Z
LAST-MODIFIED:20150607T000416Z
UID:10000033-1433584800-1433610000@www.racetime.info
SUMMARY:Team Megan 5K Run/Walk
DESCRIPTION:Team Megan 5K Overall Results
URL:https://www.racetime.info/event/team-megan-5k-runwalk/
LOCATION:Coal City Middle School\, 500 S. Carbon Hill Road\, Coal City\, IL\, United States
CATEGORIES:2015-06 Results (June)
ORGANIZER;CN="Christopher Shirkey":MAILTO:teammegan5K@gmail.com
GEO:41.2808493;-88.3044445
X-APPLE-STRUCTURED-LOCATION;VALUE=URI;X-ADDRESS=Coal City Middle School 500 S. Carbon Hill Road Coal City IL United States;X-APPLE-RADIUS=500;X-TITLE=500 S. Carbon Hill Road:geo:-88.3044445,41.2808493
END:VEVENT
BEGIN:VEVENT
DTSTART;TZID=America/Chicago:20150606T091000
DTEND;TZID=America/Chicago:20150606T110000
DTSTAMP:20260424T000533
CREATED:20150409T034511Z
LAST-MODIFIED:20150606T185906Z
UID:10000171-1433581800-1433588400@www.racetime.info
SUMMARY:911 3K
DESCRIPTION:911 3K Age Group Results\n\n911 3K Overall Results
URL:https://www.racetime.info/event/911-3k-2/
LOCATION:Rockford Fire\, 391 N. Trainer Road\, Rockford\, IL\, 61101\, United States
CATEGORIES:2015-06 Results (June)
ORGANIZER;CN="Sandy Stansell":MAILTO:sandy.stansell@rockfordil.gov
GEO:42.2722816;-88.9898061
X-APPLE-STRUCTURED-LOCATION;VALUE=URI;X-ADDRESS=Rockford Fire 391 N. Trainer Road Rockford IL 61101 United States;X-APPLE-RADIUS=500;X-TITLE=391 N. Trainer Road:geo:-88.9898061,42.2722816
END:VEVENT
BEGIN:VEVENT
DTSTART;TZID=America/Chicago:20150606T083000
DTEND;TZID=America/Chicago:20150606T103000
DTSTAMP:20260424T000533
CREATED:20150409T034510Z
LAST-MODIFIED:20150606T190113Z
UID:10000163-1433579400-1433586600@www.racetime.info
SUMMARY:Running With The Knights 5K Run/Walk
DESCRIPTION:Running With The Knights 1 Mile Youth Run\n\nRunning With The Knights 5K Wheelchair Division\n\nRunning With The Knights 5K Age Group Results\n\nRunning With The Knights 5K Overall Results
URL:https://www.racetime.info/event/run-with-the-knights-2/
LOCATION:Annerino Community Center\, 201 Recreation Drive\, Bolingbrook\, IL\, 60440\, United States
CATEGORIES:2015-06 Results (June)
ORGANIZER;CN="Jen Shroba":MAILTO:runningwithknights5k@gmail.com
GEO:41.6938209;-88.0591861
X-APPLE-STRUCTURED-LOCATION;VALUE=URI;X-ADDRESS=Annerino Community Center 201 Recreation Drive Bolingbrook IL 60440 United States;X-APPLE-RADIUS=500;X-TITLE=201 Recreation Drive:geo:-88.0591861,41.6938209
END:VEVENT
BEGIN:VEVENT
DTSTART;TZID=America/Chicago:20150606T080000
DTEND;TZID=America/Chicago:20150606T170000
DTSTAMP:20260424T000533
CREATED:20150409T034510Z
LAST-MODIFIED:20150606T185740Z
UID:10000165-1433577600-1433610000@www.racetime.info
SUMMARY:Summer Dash To Mpower Students
DESCRIPTION:Mpower Summer 5K Overall Results
URL:https://www.racetime.info/event/summer-dash-to-mpower-students-2/
LOCATION:Marquette Park\, 6743 S. Kedzie Avenue\, Chicago\, IL\, 60629\, United States
CATEGORIES:2015-06 Results (June)
ORGANIZER;CN="Jose Gutierrez":MAILTO:gutierjo@metrofamily.org
GEO:41.7709226;-87.702875
X-APPLE-STRUCTURED-LOCATION;VALUE=URI;X-ADDRESS=Marquette Park 6743 S. Kedzie Avenue Chicago IL 60629 United States;X-APPLE-RADIUS=500;X-TITLE=6743 S. Kedzie Avenue:geo:-87.702875,41.7709226
END:VEVENT
BEGIN:VEVENT
DTSTART;TZID=America/Chicago:20150606T080000
DTEND;TZID=America/Chicago:20150606T110000
DTSTAMP:20260424T000533
CREATED:20150409T034510Z
LAST-MODIFIED:20150606T185639Z
UID:10000166-1433577600-1433588400@www.racetime.info
SUMMARY:Covington 5K
DESCRIPTION:Covington 5K Age Group Results\n\nCovington 5K Overall Results
URL:https://www.racetime.info/event/covington-5k-2/
LOCATION:Covington City Park\, 1 Park Avenue\, Covington\, IN\, 47932\, United States
CATEGORIES:2015-06 Results (June)
ORGANIZER;CN="Beth Mason":MAILTO:mason.beth@hotmail.com
GEO:40.1466435;-87.3990699
X-APPLE-STRUCTURED-LOCATION;VALUE=URI;X-ADDRESS=Covington City Park 1 Park Avenue Covington IN 47932 United States;X-APPLE-RADIUS=500;X-TITLE=1 Park Avenue:geo:-87.3990699,40.1466435
END:VEVENT
END:VCALENDAR