BEGIN:VCALENDAR
VERSION:2.0
PRODID:-//Race Time - ECPv6.15.13//NONSGML v1.0//EN
CALSCALE:GREGORIAN
METHOD:PUBLISH
X-ORIGINAL-URL:https://www.racetime.info
X-WR-CALDESC:Events for Race Time
REFRESH-INTERVAL;VALUE=DURATION:PT1H
X-Robots-Tag:noindex
X-PUBLISHED-TTL:PT1H
BEGIN:VTIMEZONE
TZID:America/Chicago
BEGIN:DAYLIGHT
TZOFFSETFROM:-0600
TZOFFSETTO:-0500
TZNAME:CDT
DTSTART:20140309T080000
END:DAYLIGHT
BEGIN:STANDARD
TZOFFSETFROM:-0500
TZOFFSETTO:-0600
TZNAME:CST
DTSTART:20141102T070000
END:STANDARD
BEGIN:DAYLIGHT
TZOFFSETFROM:-0600
TZOFFSETTO:-0500
TZNAME:CDT
DTSTART:20150308T080000
END:DAYLIGHT
BEGIN:STANDARD
TZOFFSETFROM:-0500
TZOFFSETTO:-0600
TZNAME:CST
DTSTART:20151101T070000
END:STANDARD
BEGIN:DAYLIGHT
TZOFFSETFROM:-0600
TZOFFSETTO:-0500
TZNAME:CDT
DTSTART:20160313T080000
END:DAYLIGHT
BEGIN:STANDARD
TZOFFSETFROM:-0500
TZOFFSETTO:-0600
TZNAME:CST
DTSTART:20161106T070000
END:STANDARD
END:VTIMEZONE
BEGIN:VEVENT
DTSTART;TZID=America/Chicago:20150726T090000
DTEND;TZID=America/Chicago:20150726T110000
DTSTAMP:20260423T224208
CREATED:20150726T153825Z
LAST-MODIFIED:20150726T161146Z
UID:10000321-1437901200-1437908400@www.racetime.info
SUMMARY:CDW 5K Employee Run
DESCRIPTION:CDW 5K Age Group Results\n\nCDW 5K Overall Results
URL:https://www.racetime.info/event/cdw-5k-employee-run/
LOCATION:Vernon Hills Park District\, 700 Lakeview Parkway\, Vernon Hills\, IL\, 60061\, United States
CATEGORIES:2015-07 Results (July)
GEO:42.236739;-87.957314
X-APPLE-STRUCTURED-LOCATION;VALUE=URI;X-ADDRESS=Vernon Hills Park District 700 Lakeview Parkway Vernon Hills IL 60061 United States;X-APPLE-RADIUS=500;X-TITLE=700 Lakeview Parkway:geo:-87.957314,42.236739
END:VEVENT
BEGIN:VEVENT
DTSTART;TZID=America/Chicago:20150726T090000
DTEND;TZID=America/Chicago:20150726T110000
DTSTAMP:20260423T224208
CREATED:20150409T034518Z
LAST-MODIFIED:20150728T105236Z
UID:10000190-1437901200-1437908400@www.racetime.info
SUMMARY:Run For Veterans 5K Run/Walk
DESCRIPTION:Run For Veterans 5K Age Group Results\n\nRun For Veterans 5K Overall Results
URL:https://www.racetime.info/event/run-for-veterans-2/
LOCATION:Burr Ridge Shopping Center\, 150 Burr Ridge Parkway\, Burr Ridge\, IL\, 60527\, United States
CATEGORIES:2015-07 Results (July)
ORGANIZER;CN="Pauline Ozols":MAILTO:pozols@runforveterans.com
GEO:41.7489203;-87.9183919
X-APPLE-STRUCTURED-LOCATION;VALUE=URI;X-ADDRESS=Burr Ridge Shopping Center 150 Burr Ridge Parkway Burr Ridge IL 60527 United States;X-APPLE-RADIUS=500;X-TITLE=150 Burr Ridge Parkway:geo:-87.9183919,41.7489203
END:VEVENT
BEGIN:VEVENT
DTSTART;TZID=America/Chicago:20150726T080000
DTEND;TZID=America/Chicago:20150726T110000
DTSTAMP:20260423T224208
CREATED:20150718T000933Z
LAST-MODIFIED:20150726T164047Z
UID:10000295-1437897600-1437908400@www.racetime.info
SUMMARY:Algonquin Founder's Day 1 Mile\, 5K & 10K Run
DESCRIPTION:Algonquin Founders Day Youth 1 Mile Run\n\nAlgonquin Founders Day 5K Age Group Results\n\nAlgonquin Founders Day 5K Run Overall Results\n\nAlgonquin Founders Day 5K Walk Overall Results\n\nAlgonquin Founders Day 10K Age Group Results\n\nAlgonquin Founders Day 10K Overall Results
URL:https://www.racetime.info/event/algonquin-founders-day-1-mile-5k-10k-run/
LOCATION:Algonquin Lakes School\, 1401 Compton Drive\, Algonquin\, IL\, 60102\, United States
CATEGORIES:2015-07 Results (July)
ORGANIZER;CN="Jeff Krajewski":MAILTO:foundersrun1@yahoo.com
GEO:42.1512671;-88.2774733
X-APPLE-STRUCTURED-LOCATION;VALUE=URI;X-ADDRESS=Algonquin Lakes School 1401 Compton Drive Algonquin IL 60102 United States;X-APPLE-RADIUS=500;X-TITLE=1401 Compton Drive:geo:-88.2774733,42.1512671
END:VEVENT
BEGIN:VEVENT
DTSTART;TZID=America/Chicago:20150726T080000
DTEND;TZID=America/Chicago:20150726T110000
DTSTAMP:20260423T224208
CREATED:20150409T034518Z
LAST-MODIFIED:20150728T021521Z
UID:10000191-1437897600-1437908400@www.racetime.info
SUMMARY:Get Your Rear In Gear 5K Run/Walk
DESCRIPTION:Get Your Rear In Gear Survivor Results\n\nGet Your Rear In Gear 5K Age Group Results\n\nGet Your Rear In Gear 5K Overall Results
URL:https://www.racetime.info/event/get-your-rear-in-gear-2/
LOCATION:Community Park\, 8105 W. 171st Street\, Tinley Park\, IL\, 60477\, United States
CATEGORIES:2015-07 Results (July)
ORGANIZER;CN="Celeste Hayward":MAILTO:tinleyparkgyrig@gmail.com
GEO:41.5800197;-87.8160163
X-APPLE-STRUCTURED-LOCATION;VALUE=URI;X-ADDRESS=Community Park 8105 W. 171st Street Tinley Park IL 60477 United States;X-APPLE-RADIUS=500;X-TITLE=8105 W. 171st Street:geo:-87.8160163,41.5800197
END:VEVENT
BEGIN:VEVENT
DTSTART;TZID=America/Chicago:20150725T160000
DTEND;TZID=America/Chicago:20150725T190000
DTSTAMP:20260423T224208
CREATED:20150609T232733Z
LAST-MODIFIED:20150726T002454Z
UID:10000056-1437840000-1437850800@www.racetime.info
SUMMARY:Night Out Against Substance Abuse 5K Run/Walk
DESCRIPTION:Night Out Against Substance Abuse 5K Age Group Results\n\nNight Out Against Substance Abuse 5K Overall Results
URL:https://www.racetime.info/event/night-out-against-substance-abuse-5k-runwalk/
LOCATION:Gunner Anderson Forest Preserve\, Route 31\, Geneva\, IL\, 60134\, United States
CATEGORIES:2015-07 Results (July)
ORGANIZER;CN="Anita Lewis":MAILTO:alewis4244@msn.com
GEO:41.8807764;-88.3083013
X-APPLE-STRUCTURED-LOCATION;VALUE=URI;X-ADDRESS=Gunner Anderson Forest Preserve Route 31 Geneva IL 60134 United States;X-APPLE-RADIUS=500;X-TITLE=Route 31:geo:-88.3083013,41.8807764
END:VEVENT
BEGIN:VEVENT
DTSTART;TZID=America/Chicago:20150725T083000
DTEND;TZID=America/Chicago:20150725T113000
DTSTAMP:20260423T224208
CREATED:20150409T034517Z
LAST-MODIFIED:20150726T002336Z
UID:10000189-1437813000-1437823800@www.racetime.info
SUMMARY:Splashes\, Dashes & Spokes Kids Triathlon
DESCRIPTION:St. Charles Youth Triathlon
URL:https://www.racetime.info/event/splashes-and-dashes-kids-tri-2/
LOCATION:James O’Breen Community Park\, Campton Hills Road & Peck Road\, St. Charles\, IL\, 60174\, United States
CATEGORIES:2015-07 Results (July)
ORGANIZER;CN="Melissa Caine":MAILTO:mcaine@stcparks.org
GEO:41.9135899;-88.3601517
X-APPLE-STRUCTURED-LOCATION;VALUE=URI;X-ADDRESS=James O’Breen Community Park Campton Hills Road & Peck Road St. Charles IL 60174 United States;X-APPLE-RADIUS=500;X-TITLE=Campton Hills Road & Peck Road:geo:-88.3601517,41.9135899
END:VEVENT
BEGIN:VEVENT
DTSTART;TZID=America/Chicago:20150725T080000
DTEND;TZID=America/Chicago:20150725T110000
DTSTAMP:20260423T224208
CREATED:20150721T014050Z
LAST-MODIFIED:20150725T173941Z
UID:10000310-1437811200-1437822000@www.racetime.info
SUMMARY:Wauconda Kids Sprint Triathlon
DESCRIPTION:Wauconda Youth Triathlon
URL:https://www.racetime.info/event/wauconda-kids-sprint-triathlon/
LOCATION:Wauconda Fest Grounds\, 600 N. Main Street\, Wauconda\, IL\, 60084\, United States
CATEGORIES:2015-07 Results (July)
ORGANIZER;CN="Tim Staton":MAILTO:tstaton@waucondaparks.com
GEO:42.2687042;-88.1441097
X-APPLE-STRUCTURED-LOCATION;VALUE=URI;X-ADDRESS=Wauconda Fest Grounds 600 N. Main Street Wauconda IL 60084 United States;X-APPLE-RADIUS=500;X-TITLE=600 N. Main Street:geo:-88.1441097,42.2687042
END:VEVENT
BEGIN:VEVENT
DTSTART;TZID=America/Chicago:20150725T080000
DTEND;TZID=America/Chicago:20150725T110000
DTSTAMP:20260423T224208
CREATED:20150409T034517Z
LAST-MODIFIED:20150725T174219Z
UID:10000185-1437811200-1437822000@www.racetime.info
SUMMARY:St. John's Run for Life 5K Run
DESCRIPTION:St. John’s Run For Life 5K Age Group Results\n\nSt. John’s Run For Life 5K Overall Results
URL:https://www.racetime.info/event/st-johns-run-2/
LOCATION:St. John the Baptist Church\, 0S233 Church Street\, Winfield\, IL\, 60190\, United States
CATEGORIES:2015-07 Results (July)
ORGANIZER;CN="Jennipher Graf":MAILTO:trillium92016@yahoo.com
GEO:41.8685708;-88.1569357
X-APPLE-STRUCTURED-LOCATION;VALUE=URI;X-ADDRESS=St. John the Baptist Church 0S233 Church Street Winfield IL 60190 United States;X-APPLE-RADIUS=500;X-TITLE=0S233 Church Street:geo:-88.1569357,41.8685708
END:VEVENT
BEGIN:VEVENT
DTSTART;TZID=America/Chicago:20150725T073000
DTEND;TZID=America/Chicago:20150725T100000
DTSTAMP:20260423T224208
CREATED:20150409T034517Z
LAST-MODIFIED:20150725T173824Z
UID:10000187-1437809400-1437818400@www.racetime.info
SUMMARY:Sugar Grove Corn Boil 5K Run/Walk
DESCRIPTION:Sugar Grove Corn Boil 5K Age Group Results\n\nSugar Grove Corn Boil 5K Overall Results
URL:https://www.racetime.info/event/sugar-grove-corn-boil-run-2/
LOCATION:Sugar Grove Park District\, 61 Main St.\, Sugar Grove\, IL\, 60554\, United States
CATEGORIES:2015-07 Results (July)
ORGANIZER;CN="Blake Mayerle":MAILTO:bmayerle@sgparks.org
GEO:41.7632516;-88.4442141
X-APPLE-STRUCTURED-LOCATION;VALUE=URI;X-ADDRESS=Sugar Grove Park District 61 Main St. Sugar Grove IL 60554 United States;X-APPLE-RADIUS=500;X-TITLE=61 Main St.:geo:-88.4442141,41.7632516
END:VEVENT
BEGIN:VEVENT
DTSTART;TZID=America/Chicago:20150719T073000
DTEND;TZID=America/Chicago:20150719T093000
DTSTAMP:20260423T224208
CREATED:20150409T034517Z
LAST-MODIFIED:20150720T172335Z
UID:10000179-1437291000-1437298200@www.racetime.info
SUMMARY:Winfield Run for History 5K & 10K
DESCRIPTION:Winfield History 5K Age Group Results\n\nWinfield History 5K Overall Results\n\nWinfield History 10K Age Group Results\n\nWinfield History 10K Overall Results
URL:https://www.racetime.info/event/winfield-5k-10k-2/
LOCATION:Northwestern Medicine Central DuPage Hospital\, Winfield\, IL
CATEGORIES:2015-07 Results (July)
ORGANIZER;CN="Mary Zellmer":MAILTO:maz@chicagoracemanagement.com
GEO:41.8616956;-88.1609031
END:VEVENT
BEGIN:VEVENT
DTSTART;TZID=America/Chicago:20150718T080000
DTEND;TZID=America/Chicago:20150718T100000
DTSTAMP:20260423T224208
CREATED:20150510T012009Z
LAST-MODIFIED:20150718T205913Z
UID:10000213-1437206400-1437213600@www.racetime.info
SUMMARY:Go For Gwen 5K Run
DESCRIPTION:Go For Gwen 5K Age Group Results\n\nGo For Gwen 5K Overall Results
URL:https://www.racetime.info/event/go-for-gwen-5k-run/
LOCATION:Ada Hayden Heritage Park\, 5205 Grand Avenue\, Ames\, IA\, 50010\, United States
CATEGORIES:2015-07 Results (July)
ORGANIZER;CN="Holly Eide":MAILTO:quack@duckworthwearing.com
GEO:42.072223;-93.626564
X-APPLE-STRUCTURED-LOCATION;VALUE=URI;X-ADDRESS=Ada Hayden Heritage Park 5205 Grand Avenue Ames IA 50010 United States;X-APPLE-RADIUS=500;X-TITLE=5205 Grand Avenue:geo:-93.626564,42.072223
END:VEVENT
BEGIN:VEVENT
DTSTART;TZID=America/Chicago:20150712T083000
DTEND;TZID=America/Chicago:20150712T110000
DTSTAMP:20260423T224208
CREATED:20150608T021405Z
LAST-MODIFIED:20150831T202631Z
UID:10000064-1436689800-1436698800@www.racetime.info
SUMMARY:Miles For Melanoma 5K Run/Walk
DESCRIPTION:Miles for Melanoma 5K Age Group Results\n\nMiles for Melanoma 5K Overall Results
URL:https://www.racetime.info/event/miles-for-melanoma-5k-runwalk/
LOCATION:Montrose Harbor\, 601 W. Montrose Avenue\, Chicago\, IL\, United States
CATEGORIES:2015-07 Results (July)
ORGANIZER;CN="John Corrigan":MAILTO:jmcpartners@sbcglobal.net
GEO:41.9630332;-87.6381737
X-APPLE-STRUCTURED-LOCATION;VALUE=URI;X-ADDRESS=Montrose Harbor 601 W. Montrose Avenue Chicago IL United States;X-APPLE-RADIUS=500;X-TITLE=601 W. Montrose Avenue:geo:-87.6381737,41.9630332
END:VEVENT
BEGIN:VEVENT
DTSTART;TZID=America/Chicago:20150712T073000
DTEND;TZID=America/Chicago:20150712T093000
DTSTAMP:20260423T224208
CREATED:20150409T034516Z
LAST-MODIFIED:20150712T143632Z
UID:10000177-1436686200-1436693400@www.racetime.info
SUMMARY:Dash n' Splash 5K Run/Walk
DESCRIPTION:Dash & Splash 5K Age Group Results\n\nDash & Splash 5K Overall Results
URL:https://www.racetime.info/event/dash-n-splash-2/
LOCATION:Greenbrook Elementary School\, 5208 Arlington Circle\, Hanover Park\, IL\, 60188\, United States
CATEGORIES:2015-07 Results (July)
ORGANIZER;CN="Heczen Gomez":MAILTO:h.gomez@hpparks.org
GEO:41.9679903;-88.1387323
X-APPLE-STRUCTURED-LOCATION;VALUE=URI;X-ADDRESS=Greenbrook Elementary School 5208 Arlington Circle Hanover Park IL 60188 United States;X-APPLE-RADIUS=500;X-TITLE=5208 Arlington Circle:geo:-88.1387323,41.9679903
END:VEVENT
BEGIN:VEVENT
DTSTART;TZID=America/Chicago:20150711T090000
DTEND;TZID=America/Chicago:20150711T110000
DTSTAMP:20260423T224208
CREATED:20150608T183044Z
LAST-MODIFIED:20150711T192944Z
UID:10000067-1436605200-1436612400@www.racetime.info
SUMMARY:MS 5K Run/Walk
DESCRIPTION:MS Run for the US 5K Overall Results
URL:https://www.racetime.info/event/ms-5k-runwalk/
LOCATION:Plainfield East High School\, 12001 S Naperville Rd\, Plainfield\, IL\, United States
CATEGORIES:2015-07 Results (July)
ORGANIZER;CN="Justin Koszarek":MAILTO:jkoszarek1982@gmail.com
GEO:41.6649235;-88.1739219
X-APPLE-STRUCTURED-LOCATION;VALUE=URI;X-ADDRESS=Plainfield East High School 12001 S Naperville Rd Plainfield IL United States;X-APPLE-RADIUS=500;X-TITLE=12001 S Naperville Rd:geo:-88.1739219,41.6649235
END:VEVENT
BEGIN:VEVENT
DTSTART;TZID=America/Chicago:20150711T083000
DTEND;TZID=America/Chicago:20150711T110000
DTSTAMP:20260423T224208
CREATED:20150513T232411Z
LAST-MODIFIED:20150711T194453Z
UID:10000228-1436603400-1436612400@www.racetime.info
SUMMARY:Seth Egger 5K Memorial Run/Walk
DESCRIPTION:Seth Egger 5K Age Group Results\n\nSeth Egger 5K Overall Results
URL:https://www.racetime.info/event/seth-egger-5k-memorial-runwalk/
LOCATION:Phillips Park\, 1000 Ray Moses Drive\, Aurora\, IL\, 60505\, United States
CATEGORIES:2015-07 Results (July)
ORGANIZER;CN="Raquel Thomas":MAILTO:sethegger5k@yahoo.com
GEO:41.7365152;-88.2948701
X-APPLE-STRUCTURED-LOCATION;VALUE=URI;X-ADDRESS=Phillips Park 1000 Ray Moses Drive Aurora IL 60505 United States;X-APPLE-RADIUS=500;X-TITLE=1000 Ray Moses Drive:geo:-88.2948701,41.7365152
END:VEVENT
BEGIN:VEVENT
DTSTART;TZID=America/Chicago:20150711T080000
DTEND;TZID=America/Chicago:20150711T110000
DTSTAMP:20260423T224208
CREATED:20150602T180554Z
LAST-MODIFIED:20150711T192850Z
UID:10000243-1436601600-1436612400@www.racetime.info
SUMMARY:Run For Hope/Race Against The Odds 5K & .5 Mile Kids Run
DESCRIPTION:Run For Hope 5K Age Group Results\n\nRun For Hope 5K Overall Results
URL:https://www.racetime.info/event/run-for-hope-5k/
LOCATION:Grace Lutheran Church\, 1300 Kishawukee Valley Road\, Woodstock\, IL\, 60098\, United States
CATEGORIES:2015-07 Results (July)
ORGANIZER;CN="Lynn Fuller":MAILTO:runforhope@live.com
GEO:42.3183719;-88.4704838
X-APPLE-STRUCTURED-LOCATION;VALUE=URI;X-ADDRESS=Grace Lutheran Church 1300 Kishawukee Valley Road Woodstock IL 60098 United States;X-APPLE-RADIUS=500;X-TITLE=1300 Kishawukee Valley Road:geo:-88.4704838,42.3183719
END:VEVENT
BEGIN:VEVENT
DTSTART;TZID=America/Chicago:20150711T080000
DTEND;TZID=America/Chicago:20150711T110000
DTSTAMP:20260423T224208
CREATED:20150409T034516Z
LAST-MODIFIED:20150711T194310Z
UID:10000175-1436601600-1436612400@www.racetime.info
SUMMARY:Run For Sam 10K Run & 1 Mile Walk
DESCRIPTION:Run For Sam 10K Run Age Group Results\n\nRun For Sam 10K Run Overall Results\n\nRun For Sam 10K Walk Overall Results\n\nRun For Sam 1 Mile Overall Results
URL:https://www.racetime.info/event/run-for-sam-10k-2/
LOCATION:VFW Post 10452\, 136 North Farmer STreet\, Princeton\, WI\, 54968\, United States
CATEGORIES:2015-07 Results (July)
ORGANIZER;CN="Alecia Gende":MAILTO:aleciagende@yahoo.com
GEO:43.8513122;-89.1268404
X-APPLE-STRUCTURED-LOCATION;VALUE=URI;X-ADDRESS=VFW Post 10452 136 North Farmer STreet Princeton WI 54968 United States;X-APPLE-RADIUS=500;X-TITLE=136 North Farmer STreet:geo:-89.1268404,43.8513122
END:VEVENT
BEGIN:VEVENT
DTSTART;TZID=America/Chicago:20150711T073000
DTEND;TZID=America/Chicago:20150711T100000
DTSTAMP:20260423T224208
CREATED:20150608T023356Z
LAST-MODIFIED:20150712T231518Z
UID:10000065-1436599800-1436608800@www.racetime.info
SUMMARY:Crystal Lake Open Swim 1 & 2 Mile Race
DESCRIPTION:Crystal Lake 1 Mile Swim Age Group Results\n\nCrystal Lake 1 Mile Swim Overall Results\n\nCrystal Lake 1 Mile Clydes and Athena Overall Results\n\nCrystal Lake 2 Mile Swim Age Group Results\n\nCrystal Lake 2 Mile Swim Overall Results\n\nCrystal Lake 2 Mile Swim Clydes and Athena Overall Results
URL:https://www.racetime.info/event/crystal-lake-open-swim-1-2-mile-race/
LOCATION:Crystal Lake Main Beach\, 300 Lakeshore Drive\, Crystal Lake\, IL\, 60014\, United States
CATEGORIES:2015-07 Results (July)
ORGANIZER;CN="Joe Davison":MAILTO:jdavison@crystallakeparks.org
GEO:42.2325146;-88.3442798
X-APPLE-STRUCTURED-LOCATION;VALUE=URI;X-ADDRESS=Crystal Lake Main Beach 300 Lakeshore Drive Crystal Lake IL 60014 United States;X-APPLE-RADIUS=500;X-TITLE=300 Lakeshore Drive:geo:-88.3442798,42.2325146
END:VEVENT
BEGIN:VEVENT
DTSTART;TZID=America/Chicago:20150705T073000
DTEND;TZID=America/Chicago:20150705T100000
DTSTAMP:20260423T224208
CREATED:20150610T195152Z
LAST-MODIFIED:20150705T231622Z
UID:10000062-1436081400-1436090400@www.racetime.info
SUMMARY:Stampede Run 5K & 10K
DESCRIPTION:Stampede 5K Age Group Results\n\nStampede 5K Overall Results\n\nStampede 10K Age Group Results\n\nStampede 10K Overall Results
URL:https://www.racetime.info/event/stampede-run-5k-10k/
LOCATION:Miner School\, 1101 East Miner Street\, Arlington Heights\, IL\, 60004\, United States
CATEGORIES:2015-07 Results (July)
ORGANIZER;CN="Steve Sawyer":MAILTO:buzzzsaw@gmail.com
GEO:42.083683;-87.968497
X-APPLE-STRUCTURED-LOCATION;VALUE=URI;X-ADDRESS=Miner School 1101 East Miner Street Arlington Heights IL 60004 United States;X-APPLE-RADIUS=500;X-TITLE=1101 East Miner Street:geo:-87.968497,42.083683
END:VEVENT
BEGIN:VEVENT
DTSTART;TZID=America/Chicago:20150704T090000
DTEND;TZID=America/Chicago:20150704T090000
DTSTAMP:20260423T224208
CREATED:20150409T034516Z
LAST-MODIFIED:20150704T170005Z
UID:10000018-1436000400-1436000400@www.racetime.info
SUMMARY:Tipton Firecracker 5K Run\, 1 Mile Fun Run/Walk & Youth Sparkler Sprint
DESCRIPTION:Tipton 5K Age Group Results\n\nTipton 5K Overall Results
URL:https://www.racetime.info/event/tipton-firecracker-run-2/
LOCATION:Tipton City Park\, Tipton\, IA\, United States
CATEGORIES:2015-07 Results (July)
ORGANIZER;CN="Jill Chambliss":MAILTO:jchambliss@citizensbankia.com
GEO:41.7697434;-91.1279349
END:VEVENT
BEGIN:VEVENT
DTSTART;TZID=America/Chicago:20150704T080000
DTEND;TZID=America/Chicago:20150704T110000
DTSTAMP:20260423T224208
CREATED:20150510T011054Z
LAST-MODIFIED:20150704T161330Z
UID:10000211-1435996800-1436007600@www.racetime.info
SUMMARY:Deerfield Family Days 5K Run/Walk & 10K Run
DESCRIPTION:Deerfield 5K Overall Results\n\nDeerfield 10K Age Group Results\n\nDeerfield 10K Overall Results
URL:https://www.racetime.info/event/deerfield-family-days-5k-runwalk-10k-run/
LOCATION:Walden School\, 630 Essex Court\, Deerfield\, IL\, 60015\, United States
CATEGORIES:2015-07 Results (July)
ORGANIZER;CN="Janice Becker":MAILTO:jbecker@deerfieldbank.com
GEO:42.1769861;-87.8438887
X-APPLE-STRUCTURED-LOCATION;VALUE=URI;X-ADDRESS=Walden School 630 Essex Court Deerfield IL 60015 United States;X-APPLE-RADIUS=500;X-TITLE=630 Essex Court:geo:-87.8438887,42.1769861
END:VEVENT
BEGIN:VEVENT
DTSTART;TZID=America/Chicago:20150704T080000
DTEND;TZID=America/Chicago:20150704T110000
DTSTAMP:20260423T224208
CREATED:20150409T034515Z
LAST-MODIFIED:20150704T171633Z
UID:10000014-1435996800-1436007600@www.racetime.info
SUMMARY:Pokanoka's Trail 8 Mile Run & 1.8 Mile Walk
DESCRIPTION:Pokanoka’s 1.8 Mile Overall Results\n\nPokanoka’s 8 Mile Age Group Results\n\nPokanoka’s 8 Mile Overall Results
URL:https://www.racetime.info/event/pokanokas-trail-run-2/
LOCATION:Shabbona Lake State Park\, 100 E. Preserve Road\, Shabbona\, IL\, 60550\, United States
CATEGORIES:2015-07 Results (July)
ORGANIZER;CN="Denny Sands":MAILTO:san8dn@aol.com
GEO:41.759148;-88.8699532
X-APPLE-STRUCTURED-LOCATION;VALUE=URI;X-ADDRESS=Shabbona Lake State Park 100 E. Preserve Road Shabbona IL 60550 United States;X-APPLE-RADIUS=500;X-TITLE=100 E. Preserve Road:geo:-88.8699532,41.759148
END:VEVENT
BEGIN:VEVENT
DTSTART;TZID=America/Chicago:20150704T073000
DTEND;TZID=America/Chicago:20150704T100000
DTSTAMP:20260423T224208
CREATED:20150409T034515Z
LAST-MODIFIED:20150704T151728Z
UID:10000016-1435995000-1436004000@www.racetime.info
SUMMARY:Liberty Loop 5K
DESCRIPTION:Liberty Loop 5K Age Group Results\n\nLiberty Loop 5K Overall Results
URL:https://www.racetime.info/event/liberty-loop-rk-2/
LOCATION:Techny Prairie Activity Center\, 180 Anets Drive\, Northbrook\, IL\, 60062\, United States
CATEGORIES:2015-07 Results (July)
ORGANIZER;CN="John Wilhelm":MAILTO:jwilhelm@nbparks.org
GEO:42.1275267;-87.8289548
X-APPLE-STRUCTURED-LOCATION;VALUE=URI;X-ADDRESS=Techny Prairie Activity Center 180 Anets Drive Northbrook IL 60062 United States;X-APPLE-RADIUS=500;X-TITLE=180 Anets Drive:geo:-87.8289548,42.1275267
END:VEVENT
BEGIN:VEVENT
DTSTART;TZID=America/Chicago:20150704T071500
DTEND;TZID=America/Chicago:20150704T100000
DTSTAMP:20260423T224208
CREATED:20150607T233121Z
LAST-MODIFIED:20150707T031758Z
UID:10000250-1435994100-1436004000@www.racetime.info
SUMMARY:Good Shepherd's Family Fitness Run 5K/10K Run & 2K Walk
DESCRIPTION:Good Shepherd 5K Age Group Results\n\nGood Shepherd 5K Overall Results\n\nGood Shepherd 10K Age Group Results\n\nGood Shepherd 10K Overall Results
URL:https://www.racetime.info/event/family-fitness-run-5k10k-run-2k-walk/
LOCATION:Downtown Barrington\, Park Avenue (Commuter Lot)\, Barrington\, IL\, 60010\, United States
CATEGORIES:2015-07 Results (July)
ORGANIZER;CN="Rick Gerwin":MAILTO:richard.gerwin@advocatehealth.com
GEO:42.1526661;-88.133274
X-APPLE-STRUCTURED-LOCATION;VALUE=URI;X-ADDRESS=Downtown Barrington Park Avenue (Commuter Lot) Barrington IL 60010 United States;X-APPLE-RADIUS=500;X-TITLE=Park Avenue (Commuter Lot):geo:-88.133274,42.1526661
END:VEVENT
BEGIN:VEVENT
DTSTART;TZID=America/Chicago:20150704T071500
DTEND;TZID=America/Chicago:20150704T090000
DTSTAMP:20260423T224208
CREATED:20150610T201409Z
LAST-MODIFIED:20150706T055546Z
UID:10000255-1435994100-1436000400@www.racetime.info
SUMMARY:4 on the 4th 4 Mile Race & 1K Youth Run
DESCRIPTION:4 on the 4th 4 Mile Race Overall Results
URL:https://www.racetime.info/event/4-on-the-4th-4-mile-race-1k-youth-run/
LOCATION:Elmhurst College\, 190 Prospect Avenue\, Elmhurst\, IL\, 60126\, United States
CATEGORIES:2015-07 Results (July)
ORGANIZER;CN="Bob Richards":MAILTO:bobnanrun@sbcglobal.net
GEO:41.8963081;-87.9461686
X-APPLE-STRUCTURED-LOCATION;VALUE=URI;X-ADDRESS=Elmhurst College 190 Prospect Avenue Elmhurst IL 60126 United States;X-APPLE-RADIUS=500;X-TITLE=190 Prospect Avenue:geo:-87.9461686,41.8963081
END:VEVENT
BEGIN:VEVENT
DTSTART;TZID=America/Chicago:20150703T080000
DTEND;TZID=America/Chicago:20150703T110000
DTSTAMP:20260423T224208
CREATED:20150409T034514Z
LAST-MODIFIED:20150703T191133Z
UID:10000020-1435910400-1435921200@www.racetime.info
SUMMARY:Fourth Of July 4 Mile Run & 2 Mile Walk & Youth Dashes
DESCRIPTION:Wilmette Fouth of July Youth Runs\n\nWilmette Fourth of July 4 Mile Age Group Results\n\nWilmette Fourth of July 4 Mile Overall Results
URL:https://www.racetime.info/event/fourth-of-july-4-mile-run-2/
LOCATION:Gillson Beach\, 800 Gillson Park Drive\, Wilmette\, IL\, 60091\, United States
CATEGORIES:2015-07 Results (July)
ORGANIZER;CN="Tim Johnson":MAILTO:tjohnson@wilpark.org
GEO:42.0804297;-87.6887941
X-APPLE-STRUCTURED-LOCATION;VALUE=URI;X-ADDRESS=Gillson Beach 800 Gillson Park Drive Wilmette IL 60091 United States;X-APPLE-RADIUS=500;X-TITLE=800 Gillson Park Drive:geo:-87.6887941,42.0804297
END:VEVENT
END:VCALENDAR