BEGIN:VCALENDAR
VERSION:2.0
PRODID:-//Race Time - ECPv6.15.13//NONSGML v1.0//EN
CALSCALE:GREGORIAN
METHOD:PUBLISH
X-WR-CALNAME:Race Time
X-ORIGINAL-URL:https://www.racetime.info
X-WR-CALDESC:Events for Race Time
REFRESH-INTERVAL;VALUE=DURATION:PT1H
X-Robots-Tag:noindex
X-PUBLISHED-TTL:PT1H
BEGIN:VTIMEZONE
TZID:America/Chicago
BEGIN:DAYLIGHT
TZOFFSETFROM:-0600
TZOFFSETTO:-0500
TZNAME:CDT
DTSTART:20140309T080000
END:DAYLIGHT
BEGIN:STANDARD
TZOFFSETFROM:-0500
TZOFFSETTO:-0600
TZNAME:CST
DTSTART:20141102T070000
END:STANDARD
BEGIN:DAYLIGHT
TZOFFSETFROM:-0600
TZOFFSETTO:-0500
TZNAME:CDT
DTSTART:20150308T080000
END:DAYLIGHT
BEGIN:STANDARD
TZOFFSETFROM:-0500
TZOFFSETTO:-0600
TZNAME:CST
DTSTART:20151101T070000
END:STANDARD
BEGIN:DAYLIGHT
TZOFFSETFROM:-0600
TZOFFSETTO:-0500
TZNAME:CDT
DTSTART:20160313T080000
END:DAYLIGHT
BEGIN:STANDARD
TZOFFSETFROM:-0500
TZOFFSETTO:-0600
TZNAME:CST
DTSTART:20161106T070000
END:STANDARD
END:VTIMEZONE
BEGIN:VEVENT
DTSTART;TZID=America/Chicago:20150830T080000
DTEND;TZID=America/Chicago:20150830T110000
DTSTAMP:20260424T000444
CREATED:20150720T200347Z
LAST-MODIFIED:20150830T162356Z
UID:10000306-1440921600-1440932400@www.racetime.info
SUMMARY:Willow House 5K Run For Hope and 1 Mile Walk to Remember
DESCRIPTION:Willow House Run For Hope 5K Age Group Results\n\nWillow House Run For Hope 5K Overall Results
URL:https://www.racetime.info/event/willow-house-5k-run-for-hope-and-1-mile-walk-to-remember/
LOCATION:Independence Grove Forest Preserve\, 16400 Buckley Road\, Libertyville\, IL\, 60045\, United States
CATEGORIES:2015-08 Results (August)
GEO:42.3118463;-87.9529568
X-APPLE-STRUCTURED-LOCATION;VALUE=URI;X-ADDRESS=Independence Grove Forest Preserve 16400 Buckley Road Libertyville IL 60045 United States;X-APPLE-RADIUS=500;X-TITLE=16400 Buckley Road:geo:-87.9529568,42.3118463
END:VEVENT
BEGIN:VEVENT
DTSTART;TZID=America/Chicago:20150830T073000
DTEND;TZID=America/Chicago:20150830T100000
DTSTAMP:20260424T000444
CREATED:20150616T234923Z
LAST-MODIFIED:20150902T011807Z
UID:10000283-1440919800-1440928800@www.racetime.info
SUMMARY:Calahan Foundation 5K RUN4LIFE
DESCRIPTION:Run4Life 5K Overall Results\n\nRun4Life Team Results
URL:https://www.racetime.info/event/calahan-foundation-5k-run4life/
LOCATION:Mount Hope Cemetary\, 11500 S. Fairfield\, Chicago\, IL\, United States
CATEGORIES:2015-08 Results (August)
ORGANIZER;CN="Erica Bell":MAILTO:hands4u@calahanfoundation.org
GEO:41.6839596;-87.6891645
X-APPLE-STRUCTURED-LOCATION;VALUE=URI;X-ADDRESS=Mount Hope Cemetary 11500 S. Fairfield Chicago IL United States;X-APPLE-RADIUS=500;X-TITLE=11500 S. Fairfield:geo:-87.6891645,41.6839596
END:VEVENT
BEGIN:VEVENT
DTSTART;TZID=America/Chicago:20150829T153000
DTEND;TZID=America/Chicago:20150829T190000
DTSTAMP:20260424T000444
CREATED:20150531T012517Z
LAST-MODIFIED:20150830T162524Z
UID:10000043-1440862200-1440874800@www.racetime.info
SUMMARY:Hometown Heroes 5K Run/Walk
DESCRIPTION:Hometown Heroes 5K Overall Results
URL:https://www.racetime.info/event/hometown-heroes-5k-runwalk/
LOCATION:Bopps Tavern\, 103 E. Front Street\, Harvard\, IL\, 60033\, United States
CATEGORIES:2015-08 Results (August)
ORGANIZER;CN="Teri McCloud":MAILTO:harvardhometownheroes@gmail.com
GEO:42.419497;-88.61579
X-APPLE-STRUCTURED-LOCATION;VALUE=URI;X-ADDRESS=Bopps Tavern 103 E. Front Street Harvard IL 60033 United States;X-APPLE-RADIUS=500;X-TITLE=103 E. Front Street:geo:-88.61579,42.419497
END:VEVENT
BEGIN:VEVENT
DTSTART;TZID=America/Chicago:20150829T090000
DTEND;TZID=America/Chicago:20150829T120000
DTSTAMP:20260424T000444
CREATED:20150616T113958Z
LAST-MODIFIED:20151205T121629Z
UID:10000274-1440838800-1440849600@www.racetime.info
SUMMARY:Celebration of Life 5K Run/Walk\, 10K Run & 1 Mile Walk
DESCRIPTION:SSEEO 5K Age Group Results\n\nSSEEO 5K Overall Results\n\nCelebration of Life 10k Run Age Group Results\n\nCelebration of Life 10K Overall Results
URL:https://www.racetime.info/event/celebration-of-life-5k-runwalk-10k-run-1-mile-walk/
LOCATION:Village Park\, 2700 9th Street\, Winthrop Harbor\, IL\, 60096\, United States
CATEGORIES:2015-08 Results (August)
ORGANIZER;CN="Phyllis Weiss":MAILTO:phyllis@sseeo.org
GEO:42.4827778;-87.8161111
X-APPLE-STRUCTURED-LOCATION;VALUE=URI;X-ADDRESS=Village Park 2700 9th Street Winthrop Harbor IL 60096 United States;X-APPLE-RADIUS=500;X-TITLE=2700 9th Street:geo:-87.8161111,42.4827778
END:VEVENT
BEGIN:VEVENT
DTSTART;TZID=America/Chicago:20150829T080000
DTEND;TZID=America/Chicago:20150829T170000
DTSTAMP:20260424T000444
CREATED:20150829T190142Z
LAST-MODIFIED:20150829T190603Z
UID:10000118-1440835200-1440867600@www.racetime.info
SUMMARY:Lease Plan 5K
DESCRIPTION:Lease Plan 5K Age Group Results\n\nLease Plan 5K Overall Results
URL:https://www.racetime.info/event/lease-plan-5k/
LOCATION:Busse Woods South\, Grove 20\, S. Arlington Heights Rd\, Elk Grove\, IL\, 60004\, United States
CATEGORIES:2015-08 Results (August)
ORGANIZER;CN="Mary Agnes Zellmer":MAILTO:maz@chicagoracemanagement.com
GEO:42.0126908;-87.9982495
X-APPLE-STRUCTURED-LOCATION;VALUE=URI;X-ADDRESS=Busse Woods South Grove 20 S. Arlington Heights Rd Elk Grove IL 60004 United States;X-APPLE-RADIUS=500;X-TITLE=S. Arlington Heights Rd:geo:-87.9982495,42.0126908
END:VEVENT
BEGIN:VEVENT
DTSTART;TZID=America/Chicago:20150829T080000
DTEND;TZID=America/Chicago:20150829T100000
DTSTAMP:20260424T000444
CREATED:20150510T005825Z
LAST-MODIFIED:20150829T215758Z
UID:10000209-1440835200-1440842400@www.racetime.info
SUMMARY:Race To Stop Hunger
DESCRIPTION:Race To Stop Hunger 5K Age Group Results\n\nRace To Stop Hunger 5K Overall Results
URL:https://www.racetime.info/event/race-to-stop-hunger/
LOCATION:Kids Against Hunger-Fox Valley Satellite\, 400 E. Irving Park Road\, Roselle\, IL\, 60172\, United States
CATEGORIES:2015-08 Results (August)
ORGANIZER;CN="Nancy Thiemann":MAILTO:racetostophunger@gmail.com
GEO:41.9834419;-88.0704541
X-APPLE-STRUCTURED-LOCATION;VALUE=URI;X-ADDRESS=Kids Against Hunger-Fox Valley Satellite 400 E. Irving Park Road Roselle IL 60172 United States;X-APPLE-RADIUS=500;X-TITLE=400 E. Irving Park Road:geo:-88.0704541,41.9834419
END:VEVENT
BEGIN:VEVENT
DTSTART;TZID=America/Chicago:20150829T073000
DTEND;TZID=America/Chicago:20150829T100000
DTSTAMP:20260424T000444
CREATED:20150602T155257Z
LAST-MODIFIED:20150829T231710Z
UID:10000241-1440833400-1440842400@www.racetime.info
SUMMARY:Running For Life 5K Run/Walk & 10K Run for Ovarian Cancer
DESCRIPTION:Running For Life 5K Age Group Results\n\nRunning For Life 5K Overall Results\n\nRunning For Life 10K Age Group Results\n\nRunning For Life 10K Overall Results
URL:https://www.racetime.info/event/running-for-life-5k-runwalk-10k-run-for-ovarian-cancer/
LOCATION:Ritchie  Brothers\, 2400 Ritchie Road\, Morris\, IL\, 60450\, United States
CATEGORIES:2015-08 Results (August)
ORGANIZER;CN="Corrie Trotter":MAILTO:ctrotter20@gmail.com
GEO:41.38381;-88.4495209
X-APPLE-STRUCTURED-LOCATION;VALUE=URI;X-ADDRESS=Ritchie  Brothers 2400 Ritchie Road Morris IL 60450 United States;X-APPLE-RADIUS=500;X-TITLE=2400 Ritchie Road:geo:-88.4495209,41.38381
END:VEVENT
BEGIN:VEVENT
DTSTART;TZID=America/Chicago:20150826T170000
DTEND;TZID=America/Chicago:20150826T190000
DTSTAMP:20260424T000444
CREATED:20150825T022149Z
LAST-MODIFIED:20150829T193712Z
UID:10000359-1440608400-1440615600@www.racetime.info
SUMMARY:SWSC Pre-Season Cross Country Meet
DESCRIPTION:SWSC Fresh Soph Boys Detail Team Report\n\nSWSC Fresh Soph Boys Overall\n\nSWSC Fresh Soph Boys Summary Team Report\n\nSWSC Fresh Soph Girls Detail Team Report\n\nSWSC Fresh Soph Girls Overall\n\nSWSC Fresh Soph Girls Summary Team Report\n\nSWSC Varsity Boys Detail Team Report\n\nSWSC Varsity Boys Overall\n\nSWSC Varsity Boys Summary Team Report\n\nSWSC Varsity Girls Detail Team Report\n\nSWSC Varsity Girls Overall\n\nSWSC Varsity Girls Summary Team Report
URL:https://www.racetime.info/event/swsc-pre-season-cross-country-meet/
LOCATION:Channahon Community Park\, 23200 W. McClintock Road\, Channahon\, IL\, 60410\, United States
CATEGORIES:2015 Cross Country Results,2015-08 Results (August)
ORGANIZER;CN="Steve Millsaps":MAILTO:smillsaps@jths.org
GEO:41.4726537;-88.1767734
X-APPLE-STRUCTURED-LOCATION;VALUE=URI;X-ADDRESS=Channahon Community Park 23200 W. McClintock Road Channahon IL 60410 United States;X-APPLE-RADIUS=500;X-TITLE=23200 W. McClintock Road:geo:-88.1767734,41.4726537
END:VEVENT
BEGIN:VEVENT
DTSTART;TZID=America/Chicago:20150823T083000
DTEND;TZID=America/Chicago:20150823T110000
DTSTAMP:20260424T000444
CREATED:20150720T180659Z
LAST-MODIFIED:20150825T140818Z
UID:10000304-1440318600-1440327600@www.racetime.info
SUMMARY:High Holiday Hustle 5K Run/Walk (Timing by "Time To Run")
DESCRIPTION:High Holiday Hustle 5K Age Group Awards\n\nHigh Holiday Hustle 5K Overall Results
URL:https://www.racetime.info/event/high-holiday-hustle-5k-runwalk-1-mile-stroll/
LOCATION:Congregation Etz Chaim\, 1710 South Highland Avenue\, Lombard\, IL\, 60148\, United States
CATEGORIES:2015-08 Results (August)
ORGANIZER;CN="Andrea Cosnowsky":MAILTO:highholidayhustle@gmail.com
GEO:41.850664;-88.0127351
X-APPLE-STRUCTURED-LOCATION;VALUE=URI;X-ADDRESS=Congregation Etz Chaim 1710 South Highland Avenue Lombard IL 60148 United States;X-APPLE-RADIUS=500;X-TITLE=1710 South Highland Avenue:geo:-88.0127351,41.850664
END:VEVENT
BEGIN:VEVENT
DTSTART;TZID=America/Chicago:20150823T080000
DTEND;TZID=America/Chicago:20150823T110000
DTSTAMP:20260424T000444
CREATED:20150615T112959Z
LAST-MODIFIED:20150824T011456Z
UID:10000271-1440316800-1440327600@www.racetime.info
SUMMARY:Windrunners 10K Run
DESCRIPTION:Windrunners 10K Age Group Results\n\nWindrunners 10K Overall Results
URL:https://www.racetime.info/event/windrunners-10k-run/
LOCATION:Danada Forest Preserve\, 3S580 Naperville Road\, Wheaton\, IL\, 60187\, United States
CATEGORIES:2015-08 Results (August)
ORGANIZER;CN="Bill Igoe":MAILTO:windrunner.race.director@gmail.com
GEO:41.819072;-88.1124109
X-APPLE-STRUCTURED-LOCATION;VALUE=URI;X-ADDRESS=Danada Forest Preserve 3S580 Naperville Road Wheaton IL 60187 United States;X-APPLE-RADIUS=500;X-TITLE=3S580 Naperville Road:geo:-88.1124109,41.819072
END:VEVENT
BEGIN:VEVENT
DTSTART;TZID=America/Chicago:20150822T190000
DTEND;TZID=America/Chicago:20150822T210000
DTSTAMP:20260424T000444
CREATED:20150805T184540Z
LAST-MODIFIED:20150823T024936Z
UID:10000093-1440270000-1440277200@www.racetime.info
SUMMARY:MEGA Watt Family 5K Night Run/Walk
DESCRIPTION:MEGA Watt 5K Age Group Results\n\nMEGA Watt 5K Overall Results
URL:https://www.racetime.info/event/mega-watt-family-5k-night-runwalk/
LOCATION:MEGA Gymnastics\, 410 Airport Road\, Unit A\, Elgin\, IL\, 60123\, United States
CATEGORIES:2015-08 Results (August)
ORGANIZER;CN="Jan Williamson":MAILTO:jwilliamson@megaofelgin.com
GEO:42.0710253;-88.2887882
X-APPLE-STRUCTURED-LOCATION;VALUE=URI;X-ADDRESS=MEGA Gymnastics 410 Airport Road Unit A Elgin IL 60123 United States;X-APPLE-RADIUS=500;X-TITLE=410 Airport Road\, Unit A:geo:-88.2887882,42.0710253
END:VEVENT
BEGIN:VEVENT
DTSTART;TZID=America/Chicago:20150822T080000
DTEND;TZID=America/Chicago:20150822T110000
DTSTAMP:20260424T000444
CREATED:20150616T234340Z
LAST-MODIFIED:20150822T160519Z
UID:10000279-1440230400-1440241200@www.racetime.info
SUMMARY:CHARGE ON! 5K Run/Walk
DESCRIPTION:Charge On! 5K Age Group Results\n\nCharge On! 5K Overall Results
URL:https://www.racetime.info/event/charge-on-5k-runwalk/
LOCATION:St. Catherine of Alexandria Parish\, 10621 S. Kedvale\, Oak Lawn\, IL\, 60453\, United States
CATEGORIES:2015-08 Results (August)
ORGANIZER;CN="Donna Marie Ivers":MAILTO:dmivers@sbcglobal.net
GEO:41.6991195;-87.723894
X-APPLE-STRUCTURED-LOCATION;VALUE=URI;X-ADDRESS=St. Catherine of Alexandria Parish 10621 S. Kedvale Oak Lawn IL 60453 United States;X-APPLE-RADIUS=500;X-TITLE=10621 S. Kedvale:geo:-87.723894,41.6991195
END:VEVENT
BEGIN:VEVENT
DTSTART;TZID=America/Chicago:20150821T190000
DTEND;TZID=America/Chicago:20150826T210000
DTSTAMP:20260424T000444
CREATED:20150826T232451Z
LAST-MODIFIED:20150826T232604Z
UID:10000102-1440183600-1440622800@www.racetime.info
SUMMARY:Sheldon Fun Days 5K Run/Walk: Ram Run
DESCRIPTION:Sheldon 5K Age Group Results\n\nSheldon 5K Overall Results
URL:https://www.racetime.info/event/sheldon-fun-days-5k-runwalk-ram-run/
LOCATION:Sumner National Bank\, Center Street and Fourth Street\, Sheldon\, IL\, 60966\, United States
CATEGORIES:2015-08 Results (August)
ORGANIZER;CN="Kylie Wright":MAILTO:ckbbwright@gmail.com
GEO:40.769106;-87.5639539
X-APPLE-STRUCTURED-LOCATION;VALUE=URI;X-ADDRESS=Sumner National Bank Center Street and Fourth Street Sheldon IL 60966 United States;X-APPLE-RADIUS=500;X-TITLE=Center Street and Fourth Street:geo:-87.5639539,40.769106
END:VEVENT
BEGIN:VEVENT
DTSTART;TZID=America/Chicago:20150818T160000
DTEND;TZID=America/Chicago:20150818T170000
DTSTAMP:20260424T000444
CREATED:20150818T234047Z
LAST-MODIFIED:20150901T012013Z
UID:10000091-1439913600-1439917200@www.racetime.info
SUMMARY:Paris Mayo Cross Country Meet
DESCRIPTION:Paris Girls Detail Team Results\n\nParis Girls Summary Team Results\n\nParis Boys Detail Team Results\n\nParis Boys Summary Team Results
URL:https://www.racetime.info/event/paris-mayo-cross-country-meet/
LOCATION:Unnamed Venue\, Parish\, IL\, United States
CATEGORIES:2015 Cross Country Results,2015-08 Results (August)
GEO:39.4574433;-89.4121686
END:VEVENT
BEGIN:VEVENT
DTSTART;TZID=America/Chicago:20150816T090000
DTEND;TZID=America/Chicago:20150816T120000
DTSTAMP:20260424T000444
CREATED:20150615T112408Z
LAST-MODIFIED:20150817T211208Z
UID:10000270-1439715600-1439726400@www.racetime.info
SUMMARY:Barrington Honor Run 5K & 10K
DESCRIPTION:Barrington Honor 5K Overall Results\n\nBarrington Honor 10K Overall Results
URL:https://www.racetime.info/event/barrington-honor-run-5k-10k/
LOCATION:Citizens Park\, 511 Lake Zurich Road\, Barrington\, IL\, 60010\, United States
CATEGORIES:2015-08 Results (August)
ORGANIZER;CN="Mark Konicek":MAILTO:triad5150@yahoo.com
GEO:42.1628694;-88.1244873
X-APPLE-STRUCTURED-LOCATION;VALUE=URI;X-ADDRESS=Citizens Park 511 Lake Zurich Road Barrington IL 60010 United States;X-APPLE-RADIUS=500;X-TITLE=511 Lake Zurich Road:geo:-88.1244873,42.1628694
END:VEVENT
BEGIN:VEVENT
DTSTART;TZID=America/Chicago:20150816T083000
DTEND;TZID=America/Chicago:20150816T110000
DTSTAMP:20260424T000444
CREATED:20150615T111639Z
LAST-MODIFIED:20150816T173847Z
UID:10000268-1439713800-1439722800@www.racetime.info
SUMMARY:Andrew Kuebrich Hero 5K Run/Walk
DESCRIPTION:Andrew Kuebrich 5k Age Group Results\n\nAndrew Kuebrich 5K Overall Results
URL:https://www.racetime.info/event/andrew-kuebrich-hero-5k-runwalk/
LOCATION:Plano Fire Department\, 5 East North Street\, Plano\, IL\, 60545\, United States
CATEGORIES:2015-08 Results (August)
ORGANIZER;CN="Ralph Torres":MAILTO:torres_post395@comcast.net
GEO:41.6635499;-88.5375932
X-APPLE-STRUCTURED-LOCATION;VALUE=URI;X-ADDRESS=Plano Fire Department 5 East North Street Plano IL 60545 United States;X-APPLE-RADIUS=500;X-TITLE=5 East North Street:geo:-88.5375932,41.6635499
END:VEVENT
BEGIN:VEVENT
DTSTART;TZID=America/Chicago:20150815T090000
DTEND;TZID=America/Chicago:20150815T110000
DTSTAMP:20260424T000444
CREATED:20150616T114644Z
LAST-MODIFIED:20150831T203612Z
UID:10000277-1439629200-1439636400@www.racetime.info
SUMMARY:Kroc Community Center Back-To-School 5K Run/Walk
DESCRIPTION:Kroc Community Center Back-to-School 5K Age Group Results\n\nKroc Community Center Back-to-School 5K Overall Results
URL:https://www.racetime.info/event/kroc-excels-back-to-school-5k-runwalk/
LOCATION:Kroc Center\, 1250 W. 119th Street\, Chicago\, IL\, 60643\, United States
CATEGORIES:2015-08 Results (August)
ORGANIZER;CN="Earnestine Davis":MAILTO:earnestine_davis@usc.salvationarmy.org
GEO:41.6784123;-87.6527937
X-APPLE-STRUCTURED-LOCATION;VALUE=URI;X-ADDRESS=Kroc Center 1250 W. 119th Street Chicago IL 60643 United States;X-APPLE-RADIUS=500;X-TITLE=1250 W. 119th Street:geo:-87.6527937,41.6784123
END:VEVENT
BEGIN:VEVENT
DTSTART;TZID=America/Chicago:20150815T080000
DTEND;TZID=America/Chicago:20150815T110000
DTSTAMP:20260424T000444
CREATED:20150626T203418Z
LAST-MODIFIED:20150815T172123Z
UID:10000288-1439625600-1439636400@www.racetime.info
SUMMARY:Kariann Hill Breast Cancer 5K Run/Walk Benefit
DESCRIPTION:Kariann Hill 5K Age Group Results\n\nKariann Hill 5K Overall Results
URL:https://www.racetime.info/event/kariann-hill-breast-cancer-5k-runwalk-benefit/
LOCATION:Round Lake Area Park District\, 2004 N. Municipal Wy\, Round Lake Beach\, IL\, 60073\, United States
CATEGORIES:2015-08 Results (August)
ORGANIZER;CN="Patrick Murray":MAILTO:pmurray0247@gmail.com
GEO:42.3843311;-88.0721672
X-APPLE-STRUCTURED-LOCATION;VALUE=URI;X-ADDRESS=Round Lake Area Park District 2004 N. Municipal Wy Round Lake Beach IL 60073 United States;X-APPLE-RADIUS=500;X-TITLE=2004 N. Municipal Wy:geo:-88.0721672,42.3843311
END:VEVENT
BEGIN:VEVENT
DTSTART;TZID=America/Chicago:20150815T080000
DTEND;TZID=America/Chicago:20150815T100000
DTSTAMP:20260424T000444
CREATED:20150627T031105Z
LAST-MODIFIED:20150815T171934Z
UID:10000289-1439625600-1439632800@www.racetime.info
SUMMARY:Lisbon Kraut Route 5K Run/Walk
DESCRIPTION:Lisbon Kraut 5K Run Age Group Results\n\nLisbon Kraut 5K Run Overall Results\n\nLisbon Kraut 5K Walk Overall Results\n\nLisbon Kraut 5K Run & Walk Combined Overall Results
URL:https://www.racetime.info/event/lisbon-kraut-route-5k-runwalk/
LOCATION:Lisbon City Park\, South Jackson Street\, Lisbon\, IA\, 52253\, United States
CATEGORIES:2015-08 Results (August)
ORGANIZER;CN="Sue Nelson":MAILTO:tanelson@windstream.net
GEO:41.91794;-91.3839519
X-APPLE-STRUCTURED-LOCATION;VALUE=URI;X-ADDRESS=Lisbon City Park South Jackson Street Lisbon IA 52253 United States;X-APPLE-RADIUS=500;X-TITLE=South Jackson Street:geo:-91.3839519,41.91794
END:VEVENT
BEGIN:VEVENT
DTSTART;TZID=America/Chicago:20150813T180000
DTEND;TZID=America/Chicago:20150813T210000
DTSTAMP:20260424T000444
CREATED:20150812T151420Z
LAST-MODIFIED:20150814T032500Z
UID:10000089-1439488800-1439499600@www.racetime.info
SUMMARY:Run As One 5K (Private Race)
DESCRIPTION:CDW Run As One 5K Age Group Results\n\nCDW Run As One 5K Overall Results
URL:https://www.racetime.info/event/run-as-one-5k-private-race/
LOCATION:CDW\, 26125 N. Riverwoods Road\, Mettawa\, IL\, 60045\, United States
CATEGORIES:2015-08 Results (August)
ORGANIZER;CN="Diana Schnell":MAILTO:info@equestrianconnection.org
GEO:42.2004908;-87.9060797
X-APPLE-STRUCTURED-LOCATION;VALUE=URI;X-ADDRESS=CDW 26125 N. Riverwoods Road Mettawa IL 60045 United States;X-APPLE-RADIUS=500;X-TITLE=26125 N. Riverwoods Road:geo:-87.9060797,42.2004908
END:VEVENT
BEGIN:VEVENT
DTSTART;TZID=America/Chicago:20150813T180000
DTEND;TZID=America/Chicago:20150813T200000
DTSTAMP:20260424T000444
CREATED:20150720T175401Z
LAST-MODIFIED:20150814T032325Z
UID:10000299-1439488800-1439496000@www.racetime.info
SUMMARY:ECFA's 5K 4 Kids Run & Youth Dashes
DESCRIPTION:ECFA 5K Overall Results\n\nECFA Youth Run
URL:https://www.racetime.info/event/ecfas-5k-4-kids-run-youth-dashes/
LOCATION:Danada Forest Preserve\, 3S580 Naperville Road\, Wheaton\, IL\, 60187\, United States
CATEGORIES:2015-08 Results (August)
ORGANIZER;CN="Odette Navarro":MAILTO:5k4kids@evancfa.org
GEO:41.819072;-88.1124109
X-APPLE-STRUCTURED-LOCATION;VALUE=URI;X-ADDRESS=Danada Forest Preserve 3S580 Naperville Road Wheaton IL 60187 United States;X-APPLE-RADIUS=500;X-TITLE=3S580 Naperville Road:geo:-88.1124109,41.819072
END:VEVENT
BEGIN:VEVENT
DTSTART;TZID=America/Chicago:20150812T183000
DTEND;TZID=America/Chicago:20150812T210000
DTSTAMP:20260424T000444
CREATED:20150713T131241Z
LAST-MODIFIED:20150813T015249Z
UID:10000082-1439404200-1439413200@www.racetime.info
SUMMARY:Homestretch for Heroes 5K
DESCRIPTION:Homestretch for Heroes 5K Overall Results
URL:https://www.racetime.info/event/homestretch-for-heroes-5k/
LOCATION:Arlington International Racecourse\, 2200 W. Euclid Avenue\, Arlington Heights\, IL\, 60004\, United States
CATEGORIES:2015-08 Results (August)
ORGANIZER;CN="Sue Hussey":MAILTO:sue@saluteinc.org
GEO:42.088754;-87.955779
X-APPLE-STRUCTURED-LOCATION;VALUE=URI;X-ADDRESS=Arlington International Racecourse 2200 W. Euclid Avenue Arlington Heights IL 60004 United States;X-APPLE-RADIUS=500;X-TITLE=2200 W. Euclid Avenue:geo:-87.955779,42.088754
END:VEVENT
BEGIN:VEVENT
DTSTART;TZID=America/Chicago:20150809T083000
DTEND;TZID=America/Chicago:20150809T110000
DTSTAMP:20260424T000444
CREATED:20150615T110528Z
LAST-MODIFIED:20150809T163526Z
UID:10000266-1439109000-1439118000@www.racetime.info
SUMMARY:Warehouse Project & Gallery 5K Run/Walk
DESCRIPTION:Warehouse Project 5K Age Group Results\n\nWarehouse Project 5K Overall Results
URL:https://www.racetime.info/event/warehouse-project-gallery-5k-runwalk/
LOCATION:Bedford Park District\, 6652 S. 78th Avenue\, Bedford Park\, IL\, 60501\, United States
CATEGORIES:2015-08 Results (August)
ORGANIZER;CN="Edith Crawford":MAILTO:twpg5k@gmail.com
GEO:41.7705967;-87.8152533
X-APPLE-STRUCTURED-LOCATION;VALUE=URI;X-ADDRESS=Bedford Park District 6652 S. 78th Avenue Bedford Park IL 60501 United States;X-APPLE-RADIUS=500;X-TITLE=6652 S. 78th Avenue:geo:-87.8152533,41.7705967
END:VEVENT
BEGIN:VEVENT
DTSTART;TZID=America/Chicago:20150808T090000
DTEND;TZID=America/Chicago:20150808T110000
DTSTAMP:20260424T000444
CREATED:20150616T035349Z
LAST-MODIFIED:20150809T163711Z
UID:10000273-1439024400-1439031600@www.racetime.info
SUMMARY:Sharkfest 1 Mile Swim Race
DESCRIPTION:Shark Fest Age Group Results\n\nShark Fest Overall Results
URL:https://www.racetime.info/event/sharkfest-1-mile-swim-race/
LOCATION:Ohio Street Beach\, 400 N. Lake Shore Drive\, Chicago\, IL\, United States
CATEGORIES:2015-08 Results (August)
GEO:41.890009;-87.6141913
X-APPLE-STRUCTURED-LOCATION;VALUE=URI;X-ADDRESS=Ohio Street Beach 400 N. Lake Shore Drive Chicago IL United States;X-APPLE-RADIUS=500;X-TITLE=400 N. Lake Shore Drive:geo:-87.6141913,41.890009
END:VEVENT
BEGIN:VEVENT
DTSTART;TZID=America/Chicago:20150808T080000
DTEND;TZID=America/Chicago:20150808T110000
DTSTAMP:20260424T000444
CREATED:20150713T130459Z
LAST-MODIFIED:20150808T173221Z
UID:10000080-1439020800-1439031600@www.racetime.info
SUMMARY:Northbrook  Youth Triathlon
DESCRIPTION:Northbrook Youth Triathlon
URL:https://www.racetime.info/event/northbrook-youth-triathlon/
LOCATION:Meadowhill Aquatic Center\, 1479 Maple Avenue\, Northbrook\, IL\, 60062\, United States
CATEGORIES:2015-08 Results (August)
ORGANIZER;CN="Ethan Williams":MAILTO:ewilliams@nbparks.org
GEO:42.1254467;-87.8150784
X-APPLE-STRUCTURED-LOCATION;VALUE=URI;X-ADDRESS=Meadowhill Aquatic Center 1479 Maple Avenue Northbrook IL 60062 United States;X-APPLE-RADIUS=500;X-TITLE=1479 Maple Avenue:geo:-87.8150784,42.1254467
END:VEVENT
BEGIN:VEVENT
DTSTART;TZID=America/Chicago:20150808T080000
DTEND;TZID=America/Chicago:20150808T110000
DTSTAMP:20260424T000444
CREATED:20150707T120048Z
LAST-MODIFIED:20150811T021533Z
UID:10000084-1439020800-1439031600@www.racetime.info
SUMMARY:Mendota CORNAPALOOZA 5K/10K Run
DESCRIPTION:Cornapalooza 5K Age Group Results\n\nCornapalooza 5K Overall Results\n\nCornapalooza 10K Age Group Results\n\nCornapalooza 10K Overall Results
URL:https://www.racetime.info/event/mendota-cornapalooza-5k10k-run/
LOCATION:Lake Mendota\, Route 251/52 & Tom Merwin Drive\, Mendota\, IL\, 61342\, United States
CATEGORIES:2015-08 Results (August)
ORGANIZER;CN="JoEllyn Gahan":MAILTO:joellyn.gahan@osfhealthcare.org
GEO:41.5578777;-89.1277915
X-APPLE-STRUCTURED-LOCATION;VALUE=URI;X-ADDRESS=Lake Mendota Route 251/52 & Tom Merwin Drive Mendota IL 61342 United States;X-APPLE-RADIUS=500;X-TITLE=Route 251/52 & Tom Merwin Drive:geo:-89.1277915,41.5578777
END:VEVENT
BEGIN:VEVENT
DTSTART;TZID=America/Chicago:20150808T073000
DTEND;TZID=America/Chicago:20150808T100000
DTSTAMP:20260424T000444
CREATED:20150608T192946Z
LAST-MODIFIED:20150808T173122Z
UID:10000063-1439019000-1439028000@www.racetime.info
SUMMARY:Flapjack 5K Run/Walk
DESCRIPTION:Flap Jack 5K Age Group Results\n\nFlap Jack 5K Overall Results\n\nFlap Jack 5K Team Results
URL:https://www.racetime.info/event/flapjack-5k-runwalk/
LOCATION:St. Isidore Church\, 427 W. Army Trail Road\, Bloomingdale\, IL\, 60108\, United States
CATEGORIES:2015-08 Results (August)
ORGANIZER;CN="Ferdinand Marasigan":MAILTO:flapjack5knfp@gmail.com
GEO:41.9401992;-88.1178537
X-APPLE-STRUCTURED-LOCATION;VALUE=URI;X-ADDRESS=St. Isidore Church 427 W. Army Trail Road Bloomingdale IL 60108 United States;X-APPLE-RADIUS=500;X-TITLE=427 W. Army Trail Road:geo:-88.1178537,41.9401992
END:VEVENT
BEGIN:VEVENT
DTSTART;TZID=America/Chicago:20150802T090000
DTEND;TZID=America/Chicago:20150802T110000
DTSTAMP:20260424T000444
CREATED:20150728T105953Z
LAST-MODIFIED:20150808T173701Z
UID:10000326-1438506000-1438513200@www.racetime.info
SUMMARY:Winthrop Harbor 5K & 10K Run For Nature & 3K Walk
DESCRIPTION:Run For Nature 5K Age Group Results\n\nRun For Nature 5K Overall Results\n\nRun For Nature 10K Age Group Results\n\nRun For Nature 10K Overall Results
URL:https://www.racetime.info/event/winthrop-harbor-5k-10k-run-for-nature-3k-walk/
LOCATION:North Point Marina\, Russell Road and Sheridan Road\, Winthrop Harbor\, IL\, 60096\, United States
CATEGORIES:2015-08 Results (August)
ORGANIZER;CN="John Mazurek":MAILTO:john@winthropharbortourism.com
GEO:42.4928435;-87.821967
X-APPLE-STRUCTURED-LOCATION;VALUE=URI;X-ADDRESS=North Point Marina Russell Road and Sheridan Road Winthrop Harbor IL 60096 United States;X-APPLE-RADIUS=500;X-TITLE=Russell Road and Sheridan Road:geo:-87.821967,42.4928435
END:VEVENT
BEGIN:VEVENT
DTSTART;TZID=America/Chicago:20150802T080000
DTEND;TZID=America/Chicago:20150802T110000
DTSTAMP:20260424T000444
CREATED:20150713T125818Z
LAST-MODIFIED:20150808T173813Z
UID:10000079-1438502400-1438513200@www.racetime.info
SUMMARY:I Tried a Triathlon - Mini Sprint Triathlon
DESCRIPTION:I Tried a Tri Age Group Results\n\nI Tried A Tri Overall Results
URL:https://www.racetime.info/event/i-tried-a-triathlon-mini-sprint-triathlon/
LOCATION:Oswegoland Park District Civic Center\, 5 Ashlawn Avenue\, Montgomery\, IL\, 60538\, United States
CATEGORIES:2015-08 Results (August)
ORGANIZER;CN="Amy Walters":MAILTO:awalters@oswegolandpd.org
GEO:41.702849;-88.3445277
X-APPLE-STRUCTURED-LOCATION;VALUE=URI;X-ADDRESS=Oswegoland Park District Civic Center 5 Ashlawn Avenue Montgomery IL 60538 United States;X-APPLE-RADIUS=500;X-TITLE=5 Ashlawn Avenue:geo:-88.3445277,41.702849
END:VEVENT
BEGIN:VEVENT
DTSTART;TZID=America/Chicago:20150801T090000
DTEND;TZID=America/Chicago:20150801T120000
DTSTAMP:20260424T000444
CREATED:20150523T000711Z
LAST-MODIFIED:20150801T181916Z
UID:10000052-1438419600-1438430400@www.racetime.info
SUMMARY:Lindenhurst Lake Villa Chamber of Commerce Mud Run 5K
DESCRIPTION:Mudd Run Age Group Results\n\nMudd Run Overall Results\n\nMudd Run Team Results
URL:https://www.racetime.info/event/lindenhurst-lake-villa-chamber-of-commerce-mud-run-5k/
LOCATION:Dering Park\, 5241 West Dering Lane\, Lake Villa\, IL\, 60046\, United States
CATEGORIES:2015-08 Results (August)
ORGANIZER;CN="Patrick Gallagher":MAILTO:pat_gallagher@msn.com
GEO:42.4267119;-88.1224199
X-APPLE-STRUCTURED-LOCATION;VALUE=URI;X-ADDRESS=Dering Park 5241 West Dering Lane Lake Villa IL 60046 United States;X-APPLE-RADIUS=500;X-TITLE=5241 West Dering Lane:geo:-88.1224199,42.4267119
END:VEVENT
END:VCALENDAR