BEGIN:VCALENDAR
VERSION:2.0
PRODID:-//Race Time - ECPv6.15.13//NONSGML v1.0//EN
CALSCALE:GREGORIAN
METHOD:PUBLISH
X-WR-CALNAME:Race Time
X-ORIGINAL-URL:https://www.racetime.info
X-WR-CALDESC:Events for Race Time
REFRESH-INTERVAL;VALUE=DURATION:PT1H
X-Robots-Tag:noindex
X-PUBLISHED-TTL:PT1H
BEGIN:VTIMEZONE
TZID:America/Chicago
BEGIN:DAYLIGHT
TZOFFSETFROM:-0600
TZOFFSETTO:-0500
TZNAME:CDT
DTSTART:20140309T080000
END:DAYLIGHT
BEGIN:STANDARD
TZOFFSETFROM:-0500
TZOFFSETTO:-0600
TZNAME:CST
DTSTART:20141102T070000
END:STANDARD
BEGIN:DAYLIGHT
TZOFFSETFROM:-0600
TZOFFSETTO:-0500
TZNAME:CDT
DTSTART:20150308T080000
END:DAYLIGHT
BEGIN:STANDARD
TZOFFSETFROM:-0500
TZOFFSETTO:-0600
TZNAME:CST
DTSTART:20151101T070000
END:STANDARD
BEGIN:DAYLIGHT
TZOFFSETFROM:-0600
TZOFFSETTO:-0500
TZNAME:CDT
DTSTART:20160313T080000
END:DAYLIGHT
BEGIN:STANDARD
TZOFFSETFROM:-0500
TZOFFSETTO:-0600
TZNAME:CST
DTSTART:20161106T070000
END:STANDARD
END:VTIMEZONE
BEGIN:VEVENT
DTSTART;TZID=America/Chicago:20150927T090000
DTEND;TZID=America/Chicago:20150927T110000
DTSTAMP:20260423T224955
CREATED:20150828T105242Z
LAST-MODIFIED:20150927T175704Z
UID:10000110-1443344400-1443351600@www.racetime.info
SUMMARY:Northfield District 31 Family Fun Run 5K & 1 Mile
DESCRIPTION:Northfield D31 1 Mile Overall Results\n\nNorthfield D31 5K Age Group Results\n\nNorthfield D31 5K Overall Results
URL:https://www.racetime.info/event/northfield-district-31-family-fun-run-5k-1-mile/
LOCATION:Wood Oaks Green Park\, 1192 Sanders Road\, Northbrook\, IL\, 60062\, United States
CATEGORIES:2015-09 Results (September)
ORGANIZER;CN="Lana Razumov":MAILTO:lanarazumov@gmail.com
GEO:42.1307323;-87.8799866
X-APPLE-STRUCTURED-LOCATION;VALUE=URI;X-ADDRESS=Wood Oaks Green Park 1192 Sanders Road Northbrook IL 60062 United States;X-APPLE-RADIUS=500;X-TITLE=1192 Sanders Road:geo:-87.8799866,42.1307323
END:VEVENT
BEGIN:VEVENT
DTSTART;TZID=America/Chicago:20150927T080000
DTEND;TZID=America/Chicago:20150927T110000
DTSTAMP:20260423T224955
CREATED:20150826T235008Z
LAST-MODIFIED:20150927T175522Z
UID:10000106-1443340800-1443351600@www.racetime.info
SUMMARY:Mustang Stampede 5K Run/Walk
DESCRIPTION:Mustang Stampede 400 Yard Age Group Results\n\nMustang Stampede 400 Yard Overall Results\n\nMustang Stampede 1 Mile Age Group Results\n\nMustang Stampede 1 Mile Overall Results\n\nMustang Stampede 5K Age Group Results\n\nMustang Stampede 5K Overall Results
URL:https://www.racetime.info/event/mustang-stampede-5k-runwalk/
LOCATION:St. Charles East High School: Norris Stadium\, 1020 Dunham Road\, St. Charles\, IL\, 60174\, United States
CATEGORIES:2015-09 Results (September)
ORGANIZER;CN="Peggy  Leuthold":MAILTO:margret_leuthold@yahoo.com
GEO:41.9274362;-88.2808843
X-APPLE-STRUCTURED-LOCATION;VALUE=URI;X-ADDRESS=St. Charles East High School: Norris Stadium 1020 Dunham Road St. Charles IL 60174 United States;X-APPLE-RADIUS=500;X-TITLE=1020 Dunham Road:geo:-88.2808843,41.9274362
END:VEVENT
BEGIN:VEVENT
DTSTART;TZID=America/Chicago:20150926T083000
DTEND;TZID=America/Chicago:20150926T110000
DTSTAMP:20260423T224955
CREATED:20150805T191412Z
LAST-MODIFIED:20150926T165357Z
UID:10000096-1443256200-1443265200@www.racetime.info
SUMMARY:Morris Corn Fest 5K Run/Walk & Tot Trot
DESCRIPTION:Corn Fest 5K Age Group Results\n\nCorn Fest 5K Overall Results
URL:https://www.racetime.info/event/morris-corn-fest-5k-runwalk-tot-trot/
LOCATION:Morris Elementary School\, 2001 DuPont Avenue\, Morris\, IL\, 60450\, United States
CATEGORIES:2015-09 Results (September)
ORGANIZER;CN="Rebecca Evola":MAILTO:revola@morrishospital.org
GEO:41.3666063;-88.4509794
X-APPLE-STRUCTURED-LOCATION;VALUE=URI;X-ADDRESS=Morris Elementary School 2001 DuPont Avenue Morris IL 60450 United States;X-APPLE-RADIUS=500;X-TITLE=2001 DuPont Avenue:geo:-88.4509794,41.3666063
END:VEVENT
BEGIN:VEVENT
DTSTART;TZID=America/Chicago:20150926T080000
DTEND;TZID=America/Chicago:20150926T110000
DTSTAMP:20260423T224955
CREATED:20150903T115352Z
LAST-MODIFIED:20150927T030807Z
UID:10000133-1443254400-1443265200@www.racetime.info
SUMMARY:Big Hollow PTO 5K Run/Walk and Kids Fun Run
DESCRIPTION:Big Hollow 1 Mile Youth Run\n\nBig Hollow 5K Age Group Results\n\nBig Hollow 5K Overall Results
URL:https://www.racetime.info/event/big-hollow-pto-5k-runwalk-and-kids-fun-run/
LOCATION:Big Hollow School\, 33335 N. Fish Lake Road\, Ingleside\, IL\, 60041\, United States
CATEGORIES:2015-09 Results (September)
ORGANIZER;CN="Leeanna Knauff":MAILTO:info@bighollow5k.com
GEO:42.3486869;-88.1435519
X-APPLE-STRUCTURED-LOCATION;VALUE=URI;X-ADDRESS=Big Hollow School 33335 N. Fish Lake Road Ingleside IL 60041 United States;X-APPLE-RADIUS=500;X-TITLE=33335 N. Fish Lake Road:geo:-88.1435519,42.3486869
END:VEVENT
BEGIN:VEVENT
DTSTART;TZID=America/Chicago:20150924T140000
DTEND;TZID=America/Chicago:20150924T160000
DTSTAMP:20260423T224955
CREATED:20150901T171650Z
LAST-MODIFIED:20150925T000650Z
UID:10000389-1443103200-1443110400@www.racetime.info
SUMMARY:SHC WiLD Girls In The Game 5K (Private Race)
DESCRIPTION:Girls In The Game 5K Age Group Results\n\nGirls In The Game 5K Overall Results
URL:https://www.racetime.info/event/shc-wild-girls-in-the-game-5k-private-race/
LOCATION:Sears Holding\, 3333 Beverly Road\, Hoffman Estates\, IL\, 60179\, United States
CATEGORIES:2015-09 Results (September)
ORGANIZER;CN="Lily Nishida":MAILTO:wnet707@searshc.com
GEO:42.0777546;-88.2149715
X-APPLE-STRUCTURED-LOCATION;VALUE=URI;X-ADDRESS=Sears Holding 3333 Beverly Road Hoffman Estates IL 60179 United States;X-APPLE-RADIUS=500;X-TITLE=3333 Beverly Road:geo:-88.2149715,42.0777546
END:VEVENT
BEGIN:VEVENT
DTSTART;TZID=America/Chicago:20150920T083000
DTEND;TZID=America/Chicago:20150920T110000
DTSTAMP:20260423T224955
CREATED:20150901T025420Z
LAST-MODIFIED:20150920T173914Z
UID:10000384-1442737800-1442746800@www.racetime.info
SUMMARY:Trot-A-Thon
DESCRIPTION:Trot-A-Thon 5K Age Group Results\n\nTrot-A-Thon 5K Overall Results
URL:https://www.racetime.info/event/trot-a-thon/
LOCATION:Silver Lining Equestrian\, 1109 Pyott Road\, Lake In The Hills\, IL\, 60156\, United States
CATEGORIES:2015-09 Results (September)
ORGANIZER;CN="Mane In Heaven Board of Directors":MAILTO:events@maneinheaven.org
GEO:42.1862141;-88.3061036
X-APPLE-STRUCTURED-LOCATION;VALUE=URI;X-ADDRESS=Silver Lining Equestrian 1109 Pyott Road Lake In The Hills IL 60156 United States;X-APPLE-RADIUS=500;X-TITLE=1109 Pyott Road:geo:-88.3061036,42.1862141
END:VEVENT
BEGIN:VEVENT
DTSTART;TZID=America/Chicago:20150920T083000
DTEND;TZID=America/Chicago:20150920T110000
DTSTAMP:20260423T224955
CREATED:20150819T021556Z
LAST-MODIFIED:20150920T174521Z
UID:10000339-1442737800-1442746800@www.racetime.info
SUMMARY:I'm Possible 5K Run/Walk
DESCRIPTION:I’m Possible 5K Age Group Results\n\nI’m Possible 5K Overall Results
URL:https://www.racetime.info/event/im-possible-5k-runwalk/
LOCATION:St. Joe’s Park\, 1500 N. Raynor\, Joliet\, IL\, United States
CATEGORIES:2015-09 Results (September)
ORGANIZER;CN="Joanna Veghts":MAILTO:teamnicholas2012@gmail.com
GEO:41.5505058;-88.1016953
X-APPLE-STRUCTURED-LOCATION;VALUE=URI;X-ADDRESS=St. Joe’s Park 1500 N. Raynor Joliet IL United States;X-APPLE-RADIUS=500;X-TITLE=1500 N. Raynor:geo:-88.1016953,41.5505058
END:VEVENT
BEGIN:VEVENT
DTSTART;TZID=America/Chicago:20150920T083000
DTEND;TZID=America/Chicago:20150920T110000
DTSTAMP:20260423T224955
CREATED:20150606T105119Z
LAST-MODIFIED:20150923T014331Z
UID:10000248-1442737800-1442746800@www.racetime.info
SUMMARY:D96 Dash 5K Run/Walk
DESCRIPTION:D96 Dash 5K Overall Results – no names
URL:https://www.racetime.info/event/d96-dash-5k-runwalk/
LOCATION:Twin Groves School\, 2600 N. Buffalo Grove Road\, Buffalo Grove\, IL\, 60089\, United States
CATEGORIES:2015-09 Results (September)
ORGANIZER;CN="Lindley Caldwell":MAILTO:district96dash@gmail.com
GEO:42.196103;-87.970911
X-APPLE-STRUCTURED-LOCATION;VALUE=URI;X-ADDRESS=Twin Groves School 2600 N. Buffalo Grove Road Buffalo Grove IL 60089 United States;X-APPLE-RADIUS=500;X-TITLE=2600 N. Buffalo Grove Road:geo:-87.970911,42.196103
END:VEVENT
BEGIN:VEVENT
DTSTART;TZID=America/Chicago:20150920T080000
DTEND;TZID=America/Chicago:20150920T110000
DTSTAMP:20260423T224955
CREATED:20150901T024811Z
LAST-MODIFIED:20150920T180748Z
UID:10000382-1442736000-1442746800@www.racetime.info
SUMMARY:I Support Community: Represent 5K Run/Walk
DESCRIPTION:Represent 5K Age Group Results\n\nRepresent 5K Overall Results\n\nRepresent Team Results
URL:https://www.racetime.info/event/i-support-represent-5k-runwalk/
LOCATION:Danada Forest Preserve\, 3S580 Naperville Road\, Wheaton\, IL\, 60187\, United States
CATEGORIES:2015-09 Results (September)
ORGANIZER;CN="Marion Ruthig":MAILTO:marion@isupportcommunity.org
GEO:41.819072;-88.1124109
X-APPLE-STRUCTURED-LOCATION;VALUE=URI;X-ADDRESS=Danada Forest Preserve 3S580 Naperville Road Wheaton IL 60187 United States;X-APPLE-RADIUS=500;X-TITLE=3S580 Naperville Road:geo:-88.1124109,41.819072
END:VEVENT
BEGIN:VEVENT
DTSTART;TZID=America/Chicago:20150920T080000
DTEND;TZID=America/Chicago:20150920T110000
DTSTAMP:20260423T224955
CREATED:20150819T025845Z
LAST-MODIFIED:20150920T170324Z
UID:10000342-1442736000-1442746800@www.racetime.info
SUMMARY:3rd Annual Run for Peace 5K Run/Walk
DESCRIPTION:Run For Peace 5K Age Group Results\n\nRun For Peace 5K Overall Results
URL:https://www.racetime.info/event/5k-run-for-peace/
LOCATION:Queen of Peace Campus\, 7659 S. Linder Avenue\, Burbank\, IL\, 60459\, United States
CATEGORIES:2015-09 Results (September)
ORGANIZER;CN="Stephanie Ruvalcaba":MAILTO:ruvalcabas@queenofpeacehs.org
GEO:41.7536961;-87.7571286
X-APPLE-STRUCTURED-LOCATION;VALUE=URI;X-ADDRESS=Queen of Peace Campus 7659 S. Linder Avenue Burbank IL 60459 United States;X-APPLE-RADIUS=500;X-TITLE=7659 S. Linder Avenue:geo:-87.7571286,41.7536961
END:VEVENT
BEGIN:VEVENT
DTSTART;TZID=America/Chicago:20150920T075000
DTEND;TZID=America/Chicago:20150920T110000
DTSTAMP:20260423T224955
CREATED:20150515T200656Z
LAST-MODIFIED:20150920T170106Z
UID:10000229-1442735400-1442746800@www.racetime.info
SUMMARY:Let's Move Elgin 5K Run/Walk
DESCRIPTION:Let’s Move Elgin 5K Age Group Results\n\nLet’s Move Elgin 5K Overall Results
URL:https://www.racetime.info/event/lets-move-elgin-5k-runwalk/
LOCATION:Festival Park\, 132 S. Grove Avenue\, Elgin\, 60120\, United States
CATEGORIES:2015-09 Results (September)
ORGANIZER;CN="Terri Dallas":MAILTO:info@letsmoveelgin.com
GEO:42.031068;-88.2785788
X-APPLE-STRUCTURED-LOCATION;VALUE=URI;X-ADDRESS=Festival Park 132 S. Grove Avenue Elgin 60120 United States;X-APPLE-RADIUS=500;X-TITLE=132 S. Grove Avenue:geo:-88.2785788,42.031068
END:VEVENT
BEGIN:VEVENT
DTSTART;TZID=America/Chicago:20150919T163000
DTEND;TZID=America/Chicago:20150919T190000
DTSTAMP:20260423T224955
CREATED:20150722T003016Z
LAST-MODIFIED:20150920T000520Z
UID:10000315-1442680200-1442689200@www.racetime.info
SUMMARY:Food Truck 5K
DESCRIPTION:Food Truck 5K Age Group Results\n\nFood Truck 5K Overall Results
URL:https://www.racetime.info/event/food-truck-5k/
LOCATION:Recreation Park\, 500 East Miner Street\, Arlington Heights\, IL\, 60004\, United States
CATEGORIES:2015-09 Results (September)
ORGANIZER;CN="Sherri Grysen":MAILTO:sgrysen@gmail.com
GEO:42.0846102;-87.9767831
X-APPLE-STRUCTURED-LOCATION;VALUE=URI;X-ADDRESS=Recreation Park 500 East Miner Street Arlington Heights IL 60004 United States;X-APPLE-RADIUS=500;X-TITLE=500 East Miner Street:geo:-87.9767831,42.0846102
END:VEVENT
BEGIN:VEVENT
DTSTART;TZID=America/Chicago:20150919T103000
DTEND;TZID=America/Chicago:20150919T130000
DTSTAMP:20260423T224955
CREATED:20150617T001757Z
LAST-MODIFIED:20150919T181601Z
UID:10000286-1442658600-1442667600@www.racetime.info
SUMMARY:Race to Our Place 5K Run/Walk
DESCRIPTION:Race To Our Place 5K Age Group Results\n\nRace To Our Place 5K Overall Results
URL:https://www.racetime.info/event/race-to-our-place-5k-runwalk/
LOCATION:Skokie Lagoon-Tower Road Boat Launch\, Tower Road\, Winnetka\, IL\, 60093\, United States
CATEGORIES:2015-09 Results (September)
ORGANIZER;CN="Chanel Ruiz Bricco":MAILTO:cbricco@ourplaceofnewtrier.org
GEO:42.1157768;-87.7546035
X-APPLE-STRUCTURED-LOCATION;VALUE=URI;X-ADDRESS=Skokie Lagoon-Tower Road Boat Launch Tower Road Winnetka IL 60093 United States;X-APPLE-RADIUS=500;X-TITLE=Tower Road:geo:-87.7546035,42.1157768
END:VEVENT
BEGIN:VEVENT
DTSTART;TZID=America/Chicago:20150919T090000
DTEND;TZID=America/Chicago:20150919T110000
DTSTAMP:20260423T224955
CREATED:20150919T183615Z
LAST-MODIFIED:20150919T183615Z
UID:10000413-1442653200-1442660400@www.racetime.info
SUMMARY:Run 4 Justice
DESCRIPTION:Run 4 Justice 5K Age Group Results\n\nRun 4 Justice 5K Overall Results
URL:https://www.racetime.info/event/run-4-justice/
LOCATION:Calumet Park\, 9801 S. Avenue G\, Chicago\, IL\, 60617\, United States
CATEGORIES:2015-09 Results (September)
GEO:41.717816;-87.531576
X-APPLE-STRUCTURED-LOCATION;VALUE=URI;X-ADDRESS=Calumet Park 9801 S. Avenue G Chicago IL 60617 United States;X-APPLE-RADIUS=500;X-TITLE=9801 S. Avenue G:geo:-87.531576,41.717816
END:VEVENT
BEGIN:VEVENT
DTSTART;TZID=America/Chicago:20150919T090000
DTEND;TZID=America/Chicago:20150919T110000
DTSTAMP:20260423T224955
CREATED:20150831T204812Z
LAST-MODIFIED:20150919T181352Z
UID:10000361-1442653200-1442660400@www.racetime.info
SUMMARY:Miles For James 5K & Kids Dash
DESCRIPTION:Miles For James 5K Age Group Results\n\nMiles For James 5K Overall Results
URL:https://www.racetime.info/event/miles-for-james-5k-kids-dash/
LOCATION:Family Harvest Church\, 18500 92nd Avenue\, Tinley Park\, IL\, 60487\, United States
CATEGORIES:2015-09 Results (September)
ORGANIZER;CN="Joni Javier":MAILTO:info@milesforjames.com
GEO:41.5543733;-87.8430733
X-APPLE-STRUCTURED-LOCATION;VALUE=URI;X-ADDRESS=Family Harvest Church 18500 92nd Avenue Tinley Park IL 60487 United States;X-APPLE-RADIUS=500;X-TITLE=18500 92nd Avenue:geo:-87.8430733,41.5543733
END:VEVENT
BEGIN:VEVENT
DTSTART;TZID=America/Chicago:20150919T090000
DTEND;TZID=America/Chicago:20150919T110000
DTSTAMP:20260423T224955
CREATED:20150723T112419Z
LAST-MODIFIED:20150919T181454Z
UID:10000317-1442653200-1442660400@www.racetime.info
SUMMARY:Foundation 5K Run/Walk & Kids Mini Mile
DESCRIPTION:Foundation 5K Overall Results
URL:https://www.racetime.info/event/foundation-5k-runwalk-kids-mini-mile/
LOCATION:North Park\, 10040 Addison\, Franklin Park\, IL\, 60131\, United States
CATEGORIES:2015-09 Results (September)
GEO:41.9438347;-87.8769876
X-APPLE-STRUCTURED-LOCATION;VALUE=URI;X-ADDRESS=North Park 10040 Addison Franklin Park IL 60131 United States;X-APPLE-RADIUS=500;X-TITLE=10040 Addison:geo:-87.8769876,41.9438347
END:VEVENT
BEGIN:VEVENT
DTSTART;TZID=America/Chicago:20150919T083000
DTEND;TZID=America/Chicago:20150919T110000
DTSTAMP:20260423T224955
CREATED:20150708T183041Z
LAST-MODIFIED:20150919T181239Z
UID:10000072-1442651400-1442660400@www.racetime.info
SUMMARY:Run For Learning 5K Walk/Run\, 1K Fun Run & Kids Dash
DESCRIPTION:Run For Learning Youth Run\n\nRun For Learning 5K Age Group Results\n\nRun For Learning 5K Overall Results
URL:https://www.racetime.info/event/run-for-learning-5k-walkrun-1k-fun-run-kids-dash/
LOCATION:Downtown Grayslake\, Whitney Street and Center Street\, Grayslake\, IL\, 60030\, United States
CATEGORIES:2015-09 Results (September)
ORGANIZER;CN="Holly Ness":MAILTO:runforlearning@gmail.com
GEO:42.3443252;-88.0402633
X-APPLE-STRUCTURED-LOCATION;VALUE=URI;X-ADDRESS=Downtown Grayslake Whitney Street and Center Street Grayslake IL 60030 United States;X-APPLE-RADIUS=500;X-TITLE=Whitney Street and Center Street:geo:-88.0402633,42.3443252
END:VEVENT
BEGIN:VEVENT
DTSTART;TZID=America/Chicago:20150919T080000
DTEND;TZID=America/Chicago:20150919T110000
DTSTAMP:20260423T224955
CREATED:20150901T110240Z
LAST-MODIFIED:20150919T180937Z
UID:10000385-1442649600-1442660400@www.racetime.info
SUMMARY:Run For A Life 5K & 1 Mile Run/Walk
DESCRIPTION:Run For A Life 5K Overall Results
URL:https://www.racetime.info/event/run-for-a-life-5k-runwalk/
LOCATION:Bierman Park\, Woodlake Drive & Seabury Circle\, Carol Stream\, IL\, 60188\, United States
CATEGORIES:2015-09 Results (September)
ORGANIZER;CN="Ken Schrock":MAILTO:ken@childrensrelief.org
GEO:41.937528;-88.162216
X-APPLE-STRUCTURED-LOCATION;VALUE=URI;X-ADDRESS=Bierman Park Woodlake Drive & Seabury Circle Carol Stream IL 60188 United States;X-APPLE-RADIUS=500;X-TITLE=Woodlake Drive & Seabury Circle:geo:-88.162216,41.937528
END:VEVENT
BEGIN:VEVENT
DTSTART;TZID=America/Chicago:20150919T080000
DTEND;TZID=America/Chicago:20150919T110000
DTSTAMP:20260423T224955
CREATED:20150512T162352Z
LAST-MODIFIED:20150919T181108Z
UID:10000225-1442649600-1442660400@www.racetime.info
SUMMARY:Run The Shores at Lake Barrington
DESCRIPTION:Run The Shores 1 Mile Overall Results\n\nRun The Shores 5K Age Group Results\n\nRun The Shores 5K Overall Results
URL:https://www.racetime.info/event/run-the-shores-at-lake-barrington/
LOCATION:Lake Barrington Shores\, 5035 Shoreline Road\, Barrington\, IL\, 60010\, United States
CATEGORIES:2015-09 Results (September)
ORGANIZER;CN="Jamie Scheppman":MAILTO:jscheppman@fsresidential.com
GEO:42.2275309;-88.1460612
X-APPLE-STRUCTURED-LOCATION;VALUE=URI;X-ADDRESS=Lake Barrington Shores 5035 Shoreline Road Barrington IL 60010 United States;X-APPLE-RADIUS=500;X-TITLE=5035 Shoreline Road:geo:-88.1460612,42.2275309
END:VEVENT
BEGIN:VEVENT
DTSTART;TZID=America/Chicago:20150913T101500
DTEND;TZID=America/Chicago:20150913T130000
DTSTAMP:20260423T224955
CREATED:20150819T013047Z
LAST-MODIFIED:20150913T233147Z
UID:10000335-1442139300-1442149200@www.racetime.info
SUMMARY:SEA Blue Prostate Cancer Walk & 5K Run
DESCRIPTION:Sea Blue 5K Overall Survivors\n\nSea Blue 5K Age Group Results\n\nSea Blue 5K Overall Results
URL:https://www.racetime.info/event/sea-blue-prostate-cancer-walk-5k-run/
LOCATION:Lincoln Park Chicago\, Stockton & LaSalle\, Chicago\, IL\, 60614\, United States
CATEGORIES:2015-09 Results (September)
ORGANIZER;CN="Amy Wood":MAILTO:amyw@ustoo.org
GEO:41.913775;-87.631695
X-APPLE-STRUCTURED-LOCATION;VALUE=URI;X-ADDRESS=Lincoln Park Chicago Stockton & LaSalle Chicago IL 60614 United States;X-APPLE-RADIUS=500;X-TITLE=Stockton & LaSalle:geo:-87.631695,41.913775
END:VEVENT
BEGIN:VEVENT
DTSTART;TZID=America/Chicago:20150913T100000
DTEND;TZID=America/Chicago:20150913T120000
DTSTAMP:20260423T224955
CREATED:20150826T233010Z
LAST-MODIFIED:20150913T202032Z
UID:10000104-1442138400-1442145600@www.racetime.info
SUMMARY:El Grito 5K Run/Walk
DESCRIPTION:El Grito 5K Age Group Results\n\nEl Grito 5K Overall Results
URL:https://www.racetime.info/event/el-grito-5k-runwalk/
LOCATION:Beyond The Ball\, 26th Street and Kostner Avenue\, Chicago\, IL\, United States
CATEGORIES:2015-09 Results (September)
ORGANIZER;CN="Jackie Covarrubias":MAILTO:jackie@beyondtheball.org
GEO:41.844106;-87.7342806
X-APPLE-STRUCTURED-LOCATION;VALUE=URI;X-ADDRESS=Beyond The Ball 26th Street and Kostner Avenue Chicago IL United States;X-APPLE-RADIUS=500;X-TITLE=26th Street and Kostner Avenue:geo:-87.7342806,41.844106
END:VEVENT
BEGIN:VEVENT
DTSTART;TZID=America/Chicago:20150913T090000
DTEND;TZID=America/Chicago:20150913T110000
DTSTAMP:20260423T224955
CREATED:20150909T011348Z
LAST-MODIFIED:20150914T001856Z
UID:10000412-1442134800-1442142000@www.racetime.info
SUMMARY:Ryan's Run 5K Run & 1 Mile Walk
DESCRIPTION:Ryan’s Run 5K Age Group Results\n\nRyan’s Run 5K Overall Results
URL:https://www.racetime.info/event/ryans-run-5k-run-1-mile-walk/
LOCATION:Century Park North Pavilion\, 1401 Indianwood Drive\, Vernon Hills\, IL\, 60061\, United States
CATEGORIES:2015-09 Results (September)
ORGANIZER;CN="Frederick Briere":MAILTO:frederick@ryanbrierefoundation.org
GEO:42.2374557;-87.9695504
X-APPLE-STRUCTURED-LOCATION;VALUE=URI;X-ADDRESS=Century Park North Pavilion 1401 Indianwood Drive Vernon Hills IL 60061 United States;X-APPLE-RADIUS=500;X-TITLE=1401 Indianwood Drive:geo:-87.9695504,42.2374557
END:VEVENT
BEGIN:VEVENT
DTSTART;TZID=America/Chicago:20150913T090000
DTEND;TZID=America/Chicago:20150913T110000
DTSTAMP:20260423T224955
CREATED:20150901T174209Z
LAST-MODIFIED:20150913T201710Z
UID:10000397-1442134800-1442142000@www.racetime.info
SUMMARY:Rock The Beat 5K Run
DESCRIPTION:Rock The Beat 5K Age Group Results\n\nRock The Beat 5K Overall Results
URL:https://www.racetime.info/event/rock-the-beat-5k-run/
LOCATION:Lisle Sr. High School\, 1800 Short Street\, Lisle\, IL\, 60532\, United States
CATEGORIES:2015-09 Results (September)
ORGANIZER;CN="John Dzikowicz":MAILTO:john@realestatestakesheart.org
GEO:41.7930979;-88.0836007
X-APPLE-STRUCTURED-LOCATION;VALUE=URI;X-ADDRESS=Lisle Sr. High School 1800 Short Street Lisle IL 60532 United States;X-APPLE-RADIUS=500;X-TITLE=1800 Short Street:geo:-88.0836007,41.7930979
END:VEVENT
BEGIN:VEVENT
DTSTART;TZID=America/Chicago:20150913T090000
DTEND;TZID=America/Chicago:20150913T110000
DTSTAMP:20260423T224955
CREATED:20150901T172714Z
LAST-MODIFIED:20150913T201902Z
UID:10000391-1442134800-1442142000@www.racetime.info
SUMMARY:Westchester Patriot Day Color Run 5K\, 1 Mile Walk & Kids Run
DESCRIPTION:Patriots Color 5K Run Overall Results
URL:https://www.racetime.info/event/westchester-patriot-day-color-run-5k-1-mile-walk-kids-run/
LOCATION:Westchester Park District\, 10835 Wakefield Avenue\, Westchester\, IL\, 60154\, United States
CATEGORIES:2015-09 Results (September)
ORGANIZER;CN="Lianne Robinette":MAILTO:liannerobinette@comcast.net
GEO:41.8389059;-87.8924797
X-APPLE-STRUCTURED-LOCATION;VALUE=URI;X-ADDRESS=Westchester Park District 10835 Wakefield Avenue Westchester IL 60154 United States;X-APPLE-RADIUS=500;X-TITLE=10835 Wakefield Avenue:geo:-87.8924797,41.8389059
END:VEVENT
BEGIN:VEVENT
DTSTART;TZID=America/Chicago:20150913T080000
DTEND;TZID=America/Chicago:20150913T110000
DTSTAMP:20260423T224955
CREATED:20150829T025406Z
LAST-MODIFIED:20150913T231441Z
UID:10000116-1442131200-1442142000@www.racetime.info
SUMMARY:D211 Fun(d) Run 5K Run/Walk
DESCRIPTION:D211 Fund Run 5K Age Group Results\n\nD211 Fund Run 5K Overall Results\n\nD211 Fund Team Results
URL:https://www.racetime.info/event/d211-fund-run-5k-runwalk/
LOCATION:Palatine High School\, 1111 Rohlwing Road\, Palatine\, IL\, 60074\, United States
CATEGORIES:2015-09 Results (September)
ORGANIZER;CN="Lisa Czepiel":MAILTO:lczepiel.ad@comcast.net
GEO:42.1334251;-88.0240434
X-APPLE-STRUCTURED-LOCATION;VALUE=URI;X-ADDRESS=Palatine High School 1111 Rohlwing Road Palatine IL 60074 United States;X-APPLE-RADIUS=500;X-TITLE=1111 Rohlwing Road:geo:-88.0240434,42.1334251
END:VEVENT
BEGIN:VEVENT
DTSTART;TZID=America/Chicago:20150913T080000
DTEND;TZID=America/Chicago:20150913T110000
DTSTAMP:20260423T224955
CREATED:20150608T115250Z
LAST-MODIFIED:20150915T012630Z
UID:10000066-1442131200-1442142000@www.racetime.info
SUMMARY:Crystal Lake Memorial Half Marathon
DESCRIPTION:Memorial Half Marathon Age Group Results\n\nMemorial Half Marathon Overall Results\n\nMemorial Half Marathon Clydesdale and Athena Results\n\nMemorial Half Marathon Walkers Overall Results
URL:https://www.racetime.info/event/crystal-lake-memorial-half-marathon/
LOCATION:Lippold Park\, 8597 Il. Hwy. 176\, Crystal Lake\, IL\, 60014\, United States
CATEGORIES:2015-09 Results (September)
ORGANIZER;CN="Joe Davison":MAILTO:jdavison@crystallakeparks.org
GEO:42.2480551;-88.3760423
X-APPLE-STRUCTURED-LOCATION;VALUE=URI;X-ADDRESS=Lippold Park 8597 Il. Hwy. 176 Crystal Lake IL 60014 United States;X-APPLE-RADIUS=500;X-TITLE=8597 Il. Hwy. 176:geo:-88.3760423,42.2480551
END:VEVENT
BEGIN:VEVENT
DTSTART;TZID=America/Chicago:20150912T193000
DTEND;TZID=America/Chicago:20150912T220000
DTSTAMP:20260423T224955
CREATED:20150812T151907Z
LAST-MODIFIED:20150913T032347Z
UID:10000090-1442086200-1442095200@www.racetime.info
SUMMARY:Dash In The Dark 5K
DESCRIPTION:Dash In The Dark 5K Age Group Results\n\nDash In The Dark 5K Overall Results
URL:https://www.racetime.info/event/dash-in-the-dark-5k/
LOCATION:Pottawatomi Park\, 8 North Avenue\, St. Charles\, IL\, 60174\, United States
CATEGORIES:2015-09 Results (September)
ORGANIZER;CN="Ryan Crawford":MAILTO:rcrawford@sd129.org
GEO:41.9210527;-88.3158804
X-APPLE-STRUCTURED-LOCATION;VALUE=URI;X-ADDRESS=Pottawatomi Park 8 North Avenue St. Charles IL 60174 United States;X-APPLE-RADIUS=500;X-TITLE=8 North Avenue:geo:-88.3158804,41.9210527
END:VEVENT
BEGIN:VEVENT
DTSTART;TZID=America/Chicago:20150912T163000
DTEND;TZID=America/Chicago:20150912T190000
DTSTAMP:20260423T224955
CREATED:20150531T234812Z
LAST-MODIFIED:20150913T032000Z
UID:10000239-1442075400-1442084400@www.racetime.info
SUMMARY:Field Park Fit Family 5K Run/Walk & Kids Dashes
DESCRIPTION:FIELD FIT 5K AGE GROUP RESULTS\n\nFIELD FIT 5K OVERALL RESULTS
URL:https://www.racetime.info/event/field-park-fit-family-5k-runwalk-kids-dash/
LOCATION:Field Park School\, 4335 Howard Avenue\, Western Springs\, IL\, 60558\, United States
CATEGORIES:2015-09 Results (September)
ORGANIZER;CN="Amanda Collins":MAILTO:aj_collins03@yahoo.com
GEO:41.811506;-87.894762
X-APPLE-STRUCTURED-LOCATION;VALUE=URI;X-ADDRESS=Field Park School 4335 Howard Avenue Western Springs IL 60558 United States;X-APPLE-RADIUS=500;X-TITLE=4335 Howard Avenue:geo:-87.894762,41.811506
END:VEVENT
BEGIN:VEVENT
DTSTART;TZID=America/Chicago:20150912T100000
DTEND;TZID=America/Chicago:20150912T120000
DTSTAMP:20260423T224955
CREATED:20150729T184203Z
LAST-MODIFIED:20150912T204749Z
UID:10000331-1442052000-1442059200@www.racetime.info
SUMMARY:TAILS Mutt Strut 5K Run/Walk-A-Thon
DESCRIPTION:TAILS Mutt Strut 5K Overall With and Without Dogs
URL:https://www.racetime.info/event/tails-mutt-strut-5k-runwalk-a-thon/
LOCATION:Hopkins Park\, 1403 Sycamore Road\, DeKalb\, IL\, 60115\, United States
CATEGORIES:2015-09 Results (September)
ORGANIZER;CN="Heather Short":MAILTO:hshort@tailshumanesociety.org
GEO:41.9447506;-88.7369386
X-APPLE-STRUCTURED-LOCATION;VALUE=URI;X-ADDRESS=Hopkins Park 1403 Sycamore Road DeKalb IL 60115 United States;X-APPLE-RADIUS=500;X-TITLE=1403 Sycamore Road:geo:-88.7369386,41.9447506
END:VEVENT
BEGIN:VEVENT
DTSTART;TZID=America/Chicago:20150912T090000
DTEND;TZID=America/Chicago:20150912T110000
DTSTAMP:20260423T224955
CREATED:20150902T010723Z
LAST-MODIFIED:20150912T203509Z
UID:10000135-1442048400-1442055600@www.racetime.info
SUMMARY:Step For Hope 5K Run/Walk
DESCRIPTION:Step For Hope 5K Age Group Results\n\nStep For Hope 5K Overall Results
URL:https://www.racetime.info/event/step-for-hope-5k-runwalk/
LOCATION:Ross Ferraro Town Center\, N. Gary Avenue and Lies Road\, Carol Stream\, IL\, 60188\, United States
CATEGORIES:2015-09 Results (September)
ORGANIZER;CN="Beth Ruddock":MAILTO:firedancer97@hotmail.com
GEO:41.9311036;-88.1202514
X-APPLE-STRUCTURED-LOCATION;VALUE=URI;X-ADDRESS=Ross Ferraro Town Center N. Gary Avenue and Lies Road Carol Stream IL 60188 United States;X-APPLE-RADIUS=500;X-TITLE=N. Gary Avenue and Lies Road:geo:-88.1202514,41.9311036
END:VEVENT
END:VCALENDAR