BEGIN:VCALENDAR
VERSION:2.0
PRODID:-//Race Time - ECPv6.15.13//NONSGML v1.0//EN
CALSCALE:GREGORIAN
METHOD:PUBLISH
X-WR-CALNAME:Race Time
X-ORIGINAL-URL:https://www.racetime.info
X-WR-CALDESC:Events for Race Time
REFRESH-INTERVAL;VALUE=DURATION:PT1H
X-Robots-Tag:noindex
X-PUBLISHED-TTL:PT1H
BEGIN:VTIMEZONE
TZID:America/Chicago
BEGIN:DAYLIGHT
TZOFFSETFROM:-0600
TZOFFSETTO:-0500
TZNAME:CDT
DTSTART:20140309T080000
END:DAYLIGHT
BEGIN:STANDARD
TZOFFSETFROM:-0500
TZOFFSETTO:-0600
TZNAME:CST
DTSTART:20141102T070000
END:STANDARD
BEGIN:DAYLIGHT
TZOFFSETFROM:-0600
TZOFFSETTO:-0500
TZNAME:CDT
DTSTART:20150308T080000
END:DAYLIGHT
BEGIN:STANDARD
TZOFFSETFROM:-0500
TZOFFSETTO:-0600
TZNAME:CST
DTSTART:20151101T070000
END:STANDARD
BEGIN:DAYLIGHT
TZOFFSETFROM:-0600
TZOFFSETTO:-0500
TZNAME:CDT
DTSTART:20160313T080000
END:DAYLIGHT
BEGIN:STANDARD
TZOFFSETFROM:-0500
TZOFFSETTO:-0600
TZNAME:CST
DTSTART:20161106T070000
END:STANDARD
END:VTIMEZONE
BEGIN:VEVENT
DTSTART;TZID=America/Chicago:20151031T083000
DTEND;TZID=America/Chicago:20151031T110000
DTSTAMP:20260423T225543
CREATED:20150903T010343Z
LAST-MODIFIED:20151031T181407Z
UID:10000131-1446280200-1446289200@www.racetime.info
SUMMARY:St. George's Spooky Sprint 5K Run/Walk
DESCRIPTION:Spooky Sprint 5K Age Group Results\n\nSpooky Sprint 5K Overall Results
URL:https://www.racetime.info/event/st-georges-spooky-sprint-5k-runwalk/
LOCATION:St. George School\, 6700 W. 176th Street\, Tinley Park\, IL\, 60477\, United States
CATEGORIES:2015-10 Results (October)
ORGANIZER;CN="Lisa McCarty":MAILTO:lmccarty@stgeorgeschool.org
GEO:41.5722754;-87.7821722
X-APPLE-STRUCTURED-LOCATION;VALUE=URI;X-ADDRESS=St. George School 6700 W. 176th Street Tinley Park IL 60477 United States;X-APPLE-RADIUS=500;X-TITLE=6700 W. 176th Street:geo:-87.7821722,41.5722754
END:VEVENT
BEGIN:VEVENT
DTSTART;TZID=America/Chicago:20151031T080000
DTEND;TZID=America/Chicago:20151031T110000
DTSTAMP:20260423T225543
CREATED:20150909T005939Z
LAST-MODIFIED:20151031T181135Z
UID:10000407-1446278400-1446289200@www.racetime.info
SUMMARY:St. Gerald Great Pumpkin 5K Run/Walk
DESCRIPTION:Great Pumpkin 5K Age Group Results\n\nGreat Pumpkin 5K Overall Results
URL:https://www.racetime.info/event/st-gerald-giant-pumpkin-5k-runwalk/
LOCATION:St. Gerald Parish and School\, 9310 South 55th Court\, Oak Lawn\, IL\, 60453\, United States
CATEGORIES:2015-10 Results (October)
ORGANIZER;CN="Debbie Janicke":MAILTO:development@stgerald.com
GEO:41.7221325;-87.7599577
X-APPLE-STRUCTURED-LOCATION;VALUE=URI;X-ADDRESS=St. Gerald Parish and School 9310 South 55th Court Oak Lawn IL 60453 United States;X-APPLE-RADIUS=500;X-TITLE=9310 South 55th Court:geo:-87.7599577,41.7221325
END:VEVENT
BEGIN:VEVENT
DTSTART;TZID=America/Chicago:20151031T080000
DTEND;TZID=America/Chicago:20151031T110000
DTSTAMP:20260423T225543
CREATED:20150904T173122Z
LAST-MODIFIED:20151031T181258Z
UID:10000400-1446278400-1446289200@www.racetime.info
SUMMARY:Schaumburg Christian School 5K Run/Walk
DESCRIPTION:Schaumburg Christian 1K Overall Results\n\nSchaumburg Christian 5K Age Group Results\n\nSchaumburg Christian 5K Overall Results
URL:https://www.racetime.info/event/schaumburg-christian-school-5k-runwalk/
LOCATION:Schaumburg Christian School\, 200 North Roselle Road\, Schaumburg\, IL\, 60194\, United States
CATEGORIES:2015-10 Results (October)
ORGANIZER;CN="Josh Washburn":MAILTO:joshwashburn@bethelministries.org
GEO:42.0322042;-88.0809195
X-APPLE-STRUCTURED-LOCATION;VALUE=URI;X-ADDRESS=Schaumburg Christian School 200 North Roselle Road Schaumburg IL 60194 United States;X-APPLE-RADIUS=500;X-TITLE=200 North Roselle Road:geo:-88.0809195,42.0322042
END:VEVENT
BEGIN:VEVENT
DTSTART;TZID=America/Chicago:20151025T083000
DTEND;TZID=America/Chicago:20151025T110000
DTSTAMP:20260423T225543
CREATED:20151006T030303Z
LAST-MODIFIED:20151025T161848Z
UID:10000456-1445761800-1445770800@www.racetime.info
SUMMARY:One Small Voice 5K Run/Walk
DESCRIPTION:One Small Voice 5K Age Group Results\n\nOne Small Voice 5K Overall Results
URL:https://www.racetime.info/event/one-small-voice-5k-runwalk/
LOCATION:Downtown Elmhurst\, 511 S. York Street\, Elmhurst\, IL\, 60126\, United States
CATEGORIES:2015-10 Results (October)
ORGANIZER;CN="Kevin Katzbeck":MAILTO:onesmallvoice@att.net
GEO:41.8849611;-87.9399797
X-APPLE-STRUCTURED-LOCATION;VALUE=URI;X-ADDRESS=Downtown Elmhurst 511 S. York Street Elmhurst IL 60126 United States;X-APPLE-RADIUS=500;X-TITLE=511 S. York Street:geo:-87.9399797,41.8849611
END:VEVENT
BEGIN:VEVENT
DTSTART;TZID=America/Chicago:20151025T081500
DTEND;TZID=America/Chicago:20151025T110000
DTSTAMP:20260423T225543
CREATED:20150902T190121Z
LAST-MODIFIED:20151025T161726Z
UID:10000126-1445760900-1445770800@www.racetime.info
SUMMARY:Be A Hero For Hope Shelter 5K/10K Run
DESCRIPTION:Shelter 5K Age Group Results\n\nShelter 5K Overall Results\n\nShelter 10K Age Group Results\n\nShelter 10K Overall Results
URL:https://www.racetime.info/event/family-shelter-service-5k10k-1-mile-run/
LOCATION:Downers Grove North High School\, 4436 Main Street\, Downers Grove\, IL\, 60515\, United States
CATEGORIES:2015-10 Results (October)
ORGANIZER;CN="Karen Walsh":MAILTO:karenw@familyshelterservice.net
GEO:41.8051502;-88.0121803
X-APPLE-STRUCTURED-LOCATION;VALUE=URI;X-ADDRESS=Downers Grove North High School 4436 Main Street Downers Grove IL 60515 United States;X-APPLE-RADIUS=500;X-TITLE=4436 Main Street:geo:-88.0121803,41.8051502
END:VEVENT
BEGIN:VEVENT
DTSTART;TZID=America/Chicago:20151024T093000
DTEND;TZID=America/Chicago:20151024T113000
DTSTAMP:20260423T225543
CREATED:20150709T120038Z
LAST-MODIFIED:20151024T213535Z
UID:10000074-1445679000-1445686200@www.racetime.info
SUMMARY:Elgin Zombie 5K Run & 1 Mile Walk
DESCRIPTION:Zombie 5K Age Group Results\n\nZombie 5K Overall Results
URL:https://www.racetime.info/event/elgin-zombie-5k-run-1-mile-walk/
LOCATION:City of Elgin\, Kimball Street and Grove Street\, Elgin\, IL\, 60120\, United States
CATEGORIES:2015-10 Results (October)
ORGANIZER;CN="Liz Orcutt":MAILTO:eorcutt@bgcelgin.org
GEO:42.0416694;-88.2868417
X-APPLE-STRUCTURED-LOCATION;VALUE=URI;X-ADDRESS=City of Elgin Kimball Street and Grove Street Elgin IL 60120 United States;X-APPLE-RADIUS=500;X-TITLE=Kimball Street and Grove Street:geo:-88.2868417,42.0416694
END:VEVENT
BEGIN:VEVENT
DTSTART;TZID=America/Chicago:20151024T093000
DTEND;TZID=America/Chicago:20151024T110000
DTSTAMP:20260423T225543
CREATED:20150925T013501Z
LAST-MODIFIED:20151024T213347Z
UID:10000437-1445679000-1445684400@www.racetime.info
SUMMARY:Miles for Music 5K Run/Walk
DESCRIPTION:Miles For Music 5K Age Group Results\n\nMiles For Music 5K Overall Results
URL:https://www.racetime.info/event/miles-for-music-5k-runwalk/
LOCATION:Lincoln Way North High School\, 19900 S. Harlem Avenue\, Frankfort\, IL\, 60423\, United States
CATEGORIES:2015-10 Results (October)
ORGANIZER;CN="Trudy Sturino":MAILTO:info@maddogstrong.org
GEO:41.5260813;-87.795022
X-APPLE-STRUCTURED-LOCATION;VALUE=URI;X-ADDRESS=Lincoln Way North High School 19900 S. Harlem Avenue Frankfort IL 60423 United States;X-APPLE-RADIUS=500;X-TITLE=19900 S. Harlem Avenue:geo:-87.795022,41.5260813
END:VEVENT
BEGIN:VEVENT
DTSTART;TZID=America/Chicago:20151024T090000
DTEND;TZID=America/Chicago:20151024T120000
DTSTAMP:20260423T225543
CREATED:20150609T014317Z
LAST-MODIFIED:20151029T001030Z
UID:10000054-1445677200-1445688000@www.racetime.info
SUMMARY:Batfest 5K Run/Walk; 10K Run & 1/4 Mile Youth Run
DESCRIPTION:Bat Fest 5K Age Group Results\n\nBat Fest 5K Overall Results\n\nBat Fest 10K Age Group Results\n\nBat Fest 10K Overall Results
URL:https://www.racetime.info/event/batfest-5k-runwalk-10k-run-14-mile-youth-run/
LOCATION:Downtown Batavia\, 21 North Water River Street\, Batavia\, IL\, 60510\, United States
CATEGORIES:2015-10 Results (October)
ORGANIZER;CN="Melinda Kintz":MAILTO:info@bataviaunitedway.org
GEO:41.853407;-88.3092422
X-APPLE-STRUCTURED-LOCATION;VALUE=URI;X-ADDRESS=Downtown Batavia 21 North Water River Street Batavia IL 60510 United States;X-APPLE-RADIUS=500;X-TITLE=21 North Water River Street:geo:-88.3092422,41.853407
END:VEVENT
BEGIN:VEVENT
DTSTART;TZID=America/Chicago:20151024T090000
DTEND;TZID=America/Chicago:20151024T110000
DTSTAMP:20260423T225543
CREATED:20150924T105408Z
LAST-MODIFIED:20151024T211131Z
UID:10000421-1445677200-1445684400@www.racetime.info
SUMMARY:Runnin' 4U 5K Run/Walk
DESCRIPTION:Runnin 4 U 5K Age Group Results\n\nRunnin 4 U 5K Overall Results
URL:https://www.racetime.info/event/runnin-4u-5k-runwalk/
LOCATION:Westside Park\, West Fulton Street\, Polo\, IL\, 61064\, United States
CATEGORIES:2015-10 Results (October)
ORGANIZER;CN="Sara Thorngren":MAILTO:sara@runthesaukvalley.com
GEO:41.9903609;-89.5824595
X-APPLE-STRUCTURED-LOCATION;VALUE=URI;X-ADDRESS=Westside Park West Fulton Street Polo IL 61064 United States;X-APPLE-RADIUS=500;X-TITLE=West Fulton Street:geo:-89.5824595,41.9903609
END:VEVENT
BEGIN:VEVENT
DTSTART;TZID=America/Chicago:20151024T090000
DTEND;TZID=America/Chicago:20151024T110000
DTSTAMP:20260423T225543
CREATED:20150821T042138Z
LAST-MODIFIED:20151024T212415Z
UID:10000344-1445677200-1445684400@www.racetime.info
SUMMARY:Howl Through The Hills 5K Run/Walk
DESCRIPTION:Howl Through The Hills 5K Age Group Results\n\nHowl Through The Hills 5K Overall Results
URL:https://www.racetime.info/event/howl-through-the-hills-5k-runwalk/
LOCATION:Hickory Hills City Hall\, 8652 West 95th Street\, Hickory Hills\, IL\, 60457\, United States
CATEGORIES:2015-10 Results (October)
ORGANIZER;CN="Mike Howley":MAILTO:howley@insite-inc.com
GEO:41.7185263;-87.8344458
X-APPLE-STRUCTURED-LOCATION;VALUE=URI;X-ADDRESS=Hickory Hills City Hall 8652 West 95th Street Hickory Hills IL 60457 United States;X-APPLE-RADIUS=500;X-TITLE=8652 West 95th Street:geo:-87.8344458,41.7185263
END:VEVENT
BEGIN:VEVENT
DTSTART;TZID=America/Chicago:20151024T083000
DTEND;TZID=America/Chicago:20151024T233000
DTSTAMP:20260423T225543
CREATED:20150822T014925Z
LAST-MODIFIED:20151024T210521Z
UID:10000352-1445675400-1445729400@www.racetime.info
SUMMARY:St. Bede School Halloween Hustle: 1 Mile\, 5K & 10K Run!
DESCRIPTION:Halloween Hustle 5K Age Group Results\n\nHalloween Hustle 5K Overall Results\n\nHalloween Hustle 10K Age Group Results\n\nHalloween Hustle 10K Overall Results\n\nHalloween Hustle Youth 1 Mile Results\n\nHalloween Hustle Dog Division
URL:https://www.racetime.info/event/st-bede-school-halloween-hustle-1-mile-5k-10k-run/
LOCATION:Grant Woods Forest Preserve\, 25405 West Monaville Road\, Ingleside\, IL\, 60041\, United States
CATEGORIES:2015-10 Results (October)
ORGANIZER;CN="Tina Lutzke":MAILTO:tinalutzke@hotmail.com
GEO:42.399051;-88.128126
X-APPLE-STRUCTURED-LOCATION;VALUE=URI;X-ADDRESS=Grant Woods Forest Preserve 25405 West Monaville Road Ingleside IL 60041 United States;X-APPLE-RADIUS=500;X-TITLE=25405 West Monaville Road:geo:-88.128126,42.399051
END:VEVENT
BEGIN:VEVENT
DTSTART;TZID=America/Chicago:20151024T080000
DTEND;TZID=America/Chicago:20151024T100000
DTSTAMP:20260423T225543
CREATED:20150902T190630Z
LAST-MODIFIED:20151024T210038Z
UID:10000129-1445673600-1445680800@www.racetime.info
SUMMARY:CURRAMUS 5K Run/Walk
DESCRIPTION:Curramus 5K Age Group Results\n\nCurramus 5K Overall Results
URL:https://www.racetime.info/event/curramus-5k-runwalk/
LOCATION:Danada Forest Preserve\, 3S580 Naperville Road\, Wheaton\, IL\, 60187\, United States
CATEGORIES:2015-10 Results (October)
ORGANIZER;CN="Lisa Morris":MAILTO:nca.lisam@gmail.com
GEO:41.819072;-88.1124109
X-APPLE-STRUCTURED-LOCATION;VALUE=URI;X-ADDRESS=Danada Forest Preserve 3S580 Naperville Road Wheaton IL 60187 United States;X-APPLE-RADIUS=500;X-TITLE=3S580 Naperville Road:geo:-88.1124109,41.819072
END:VEVENT
BEGIN:VEVENT
DTSTART;TZID=America/Chicago:20151018T110000
DTEND;TZID=America/Chicago:20151018T130000
DTSTAMP:20260423T225543
CREATED:20150728T023345Z
LAST-MODIFIED:20151018T193350Z
UID:10000324-1445166000-1445173200@www.racetime.info
SUMMARY:Duncan Dash 5K & 1 Mile Youth Fun Run
DESCRIPTION:Duncan Dash 5K Age Group Results\n\nDuncan Dash 5K Overall Results
URL:https://www.racetime.info/event/duncan-dash-5k-1-mile-youth-fun-run/
LOCATION:YMCA Camp Duncan\, 32405 N. HIghway 12\, Volo\, IL\, 60041\, United States
CATEGORIES:2015-10 Results (October)
ORGANIZER;CN="Danielle Kiessel":MAILTO:dkiessel@ymcachicago.org
GEO:42.3388339;-88.1584637
X-APPLE-STRUCTURED-LOCATION;VALUE=URI;X-ADDRESS=YMCA Camp Duncan 32405 N. HIghway 12 Volo IL 60041 United States;X-APPLE-RADIUS=500;X-TITLE=32405 N. HIghway 12:geo:-88.1584637,42.3388339
END:VEVENT
BEGIN:VEVENT
DTSTART;TZID=America/Chicago:20151018T100000
DTEND;TZID=America/Chicago:20151018T120000
DTSTAMP:20260423T225543
CREATED:20150926T115326Z
LAST-MODIFIED:20151018T193233Z
UID:10000444-1445162400-1445169600@www.racetime.info
SUMMARY:Hairy Buzz 10K Run
DESCRIPTION:Hairy Buzz 10K Age Group Results\n\nHairy Buzz 10K Overall Results
URL:https://www.racetime.info/event/hairy-buzz-10k-run/
LOCATION:Studio 404 Salon\, 112 E. Fellows\, Dixon\, IL\, 61021\, United States
CATEGORIES:2015-10 Results (October)
ORGANIZER;CN="Stacia Staples":MAILTO:stylist404@hotmail.com
GEO:41.8493243;-89.4845399
X-APPLE-STRUCTURED-LOCATION;VALUE=URI;X-ADDRESS=Studio 404 Salon 112 E. Fellows Dixon IL 61021 United States;X-APPLE-RADIUS=500;X-TITLE=112 E. Fellows:geo:-89.4845399,41.8493243
END:VEVENT
BEGIN:VEVENT
DTSTART;TZID=America/Chicago:20151018T090000
DTEND;TZID=America/Chicago:20151018T110000
DTSTAMP:20260423T225543
CREATED:20150924T103401Z
LAST-MODIFIED:20151024T212435Z
UID:10000418-1445158800-1445166000@www.racetime.info
SUMMARY:Tiger Trot 5K Run/Walk\, 1 Mile Run & Youth Dash
DESCRIPTION:Tiger Trot 5K Age Group Results\n\nTiger Trot 5K Overall Results\n\nTiger Trot Youth Run Overall Results
URL:https://www.racetime.info/event/tiger-trot-5k-runwalk-1-mile-run-youth-dash/
LOCATION:Bierman Park\, Woodlake Drive & Seabury Circle\, Carol Stream\, IL\, 60188\, United States
CATEGORIES:2015-10 Results (October)
ORGANIZER;CN="Monica Bakos":MAILTO:updates@springtrailpto.org
GEO:41.937528;-88.162216
X-APPLE-STRUCTURED-LOCATION;VALUE=URI;X-ADDRESS=Bierman Park Woodlake Drive & Seabury Circle Carol Stream IL 60188 United States;X-APPLE-RADIUS=500;X-TITLE=Woodlake Drive & Seabury Circle:geo:-88.162216,41.937528
END:VEVENT
BEGIN:VEVENT
DTSTART;TZID=America/Chicago:20151018T080000
DTEND;TZID=America/Chicago:20151018T100000
DTSTAMP:20260423T225543
CREATED:20150928T183514Z
LAST-MODIFIED:20151018T193545Z
UID:10000450-1445155200-1445162400@www.racetime.info
SUMMARY:Resurrection Mary 5K Run/Walk
DESCRIPTION:Resurrection Mary 5K Age Group Results\n\nResurrection Mary 5K Overall Results
URL:https://www.racetime.info/event/resurrection-mary-5k-runwalk/
LOCATION:Resurrection Mary Course\, 7649 S. Cork Avenue\, Justice\, IL\, United States
CATEGORIES:2015-10 Results (October)
ORGANIZER;CN="Angela Krejci":MAILTO:akrejci@isd209.org
GEO:41.7514497;-87.8387167
X-APPLE-STRUCTURED-LOCATION;VALUE=URI;X-ADDRESS=Resurrection Mary Course 7649 S. Cork Avenue Justice IL United States;X-APPLE-RADIUS=500;X-TITLE=7649 S. Cork Avenue:geo:-87.8387167,41.7514497
END:VEVENT
BEGIN:VEVENT
DTSTART;TZID=America/Chicago:20151017T090000
DTEND;TZID=America/Chicago:20151017T110000
DTSTAMP:20260423T225543
CREATED:20150908T004422Z
LAST-MODIFIED:20151017T202113Z
UID:10000403-1445072400-1445079600@www.racetime.info
SUMMARY:Lancer Dash 5k\, 2K & Youth Sprint
DESCRIPTION:Little Lancer 2K Age Group Results\n\nLittle Lancer 2K Overall Results\n\nLancer Dash 5K Age Group Results\n\nLancer Dash 5K Overall Results
URL:https://www.racetime.info/event/lancer-dash-5k-2k-youth-sprint/
LOCATION:St. Mary’s School\, 210 Gurler Road\, DeKalb\, IL\, 60115\, United States
CATEGORIES:2015-10 Results (October)
ORGANIZER;CN="Greg Kubitz":MAILTO:greg.kubitz@gmail.com
GEO:41.8910563;-88.7651788
X-APPLE-STRUCTURED-LOCATION;VALUE=URI;X-ADDRESS=St. Mary’s School 210 Gurler Road DeKalb IL 60115 United States;X-APPLE-RADIUS=500;X-TITLE=210 Gurler Road:geo:-88.7651788,41.8910563
END:VEVENT
BEGIN:VEVENT
DTSTART;TZID=America/Chicago:20151017T083000
DTEND;TZID=America/Chicago:20151017T110000
DTSTAMP:20260423T225543
CREATED:20150909T010608Z
LAST-MODIFIED:20151024T210941Z
UID:10000409-1445070600-1445079600@www.racetime.info
SUMMARY:Run For Your Life! 5K
DESCRIPTION:Run For Your Life! 5K Age Group Results\n\nRun For Your Life! 5K Overall Results
URL:https://www.racetime.info/event/run-for-your-life-5k/
LOCATION:Wauconda Middle School\, 215 Slocum Lake Road\, Wauconda\, IL\, 60084\, United States
CATEGORIES:2015-10 Results (October)
ORGANIZER;CN="Jennifer Vogler":MAILTO:voglerhouse@aol.com
GEO:42.261247;-88.1465112
X-APPLE-STRUCTURED-LOCATION;VALUE=URI;X-ADDRESS=Wauconda Middle School 215 Slocum Lake Road Wauconda IL 60084 United States;X-APPLE-RADIUS=500;X-TITLE=215 Slocum Lake Road:geo:-88.1465112,42.261247
END:VEVENT
BEGIN:VEVENT
DTSTART;TZID=America/Chicago:20151017T080000
DTEND;TZID=America/Chicago:20151017T100000
DTSTAMP:20260423T225543
CREATED:20150924T110037Z
LAST-MODIFIED:20151018T193816Z
UID:10000422-1445068800-1445076000@www.racetime.info
SUMMARY:Holm Studio 5K Run/Walk
DESCRIPTION:Holm Studio 5K Age Group Results\n\nHolm Studio 5K Overall Results
URL:https://www.racetime.info/event/holm-studio-5k-runwalk/
LOCATION:Holm Studio Personal Training\, 40W124 Campton Crossings Drive\, St. Charles\, IL\, 60175\, United States
CATEGORIES:2015-10 Results (October)
ORGANIZER;CN="Erin Hester":MAILTO:holmstudio@live.com
GEO:41.9368371;-88.3966186
X-APPLE-STRUCTURED-LOCATION;VALUE=URI;X-ADDRESS=Holm Studio Personal Training 40W124 Campton Crossings Drive St. Charles IL 60175 United States;X-APPLE-RADIUS=500;X-TITLE=40W124 Campton Crossings Drive:geo:-88.3966186,41.9368371
END:VEVENT
BEGIN:VEVENT
DTSTART;TZID=America/Chicago:20151017T080000
DTEND;TZID=America/Chicago:20151017T100000
DTSTAMP:20260423T225543
CREATED:20150805T190615Z
LAST-MODIFIED:20151017T201607Z
UID:10000095-1445068800-1445076000@www.racetime.info
SUMMARY:Love The Run You're With 5K Run/Walk
DESCRIPTION:Love The Run You’re With 5K Age Group Results\n\nLove The Run You’re With 5K Overall Results
URL:https://www.racetime.info/event/love-the-run-your-with-5k-runwalk/
LOCATION:Palatine Towne Square\, Smith Street and Colfax Street\, Palatine\, IL\, 60074\, United States
CATEGORIES:2015-10 Results (October)
ORGANIZER;CN="Mary Podjasek":MAILTO:m.podjasek@diabetesscholars.org
GEO:42.114824;-88.0485573
X-APPLE-STRUCTURED-LOCATION;VALUE=URI;X-ADDRESS=Palatine Towne Square Smith Street and Colfax Street Palatine IL 60074 United States;X-APPLE-RADIUS=500;X-TITLE=Smith Street and Colfax Street:geo:-88.0485573,42.114824
END:VEVENT
BEGIN:VEVENT
DTSTART;TZID=America/Chicago:20151017T080000
DTEND;TZID=America/Chicago:20151017T100000
DTSTAMP:20260423T225543
CREATED:20150805T185024Z
LAST-MODIFIED:20151017T201727Z
UID:10000094-1445068800-1445076000@www.racetime.info
SUMMARY:Run The Ridge 5K Run/Walk
DESCRIPTION:Run The Chicago Ridge 5K Overall Results
URL:https://www.racetime.info/event/run-the-ridge-5k-runwalk/
LOCATION:Chicago Ridge Village Hall\, 10455 S. Ridgeland Avenue\, Chicago Ridge\, IL\, 60415\, United States
CATEGORIES:2015-10 Results (October)
ORGANIZER;CN="Jamie Hollock":MAILTO:jbisiules@chicagoridge.org
GEO:41.702045;-87.7785271
X-APPLE-STRUCTURED-LOCATION;VALUE=URI;X-ADDRESS=Chicago Ridge Village Hall 10455 S. Ridgeland Avenue Chicago Ridge IL 60415 United States;X-APPLE-RADIUS=500;X-TITLE=10455 S. Ridgeland Avenue:geo:-87.7785271,41.702045
END:VEVENT
BEGIN:VEVENT
DTSTART;TZID=America/Chicago:20151010T090000
DTEND;TZID=America/Chicago:20151010T110000
DTSTAMP:20260423T225543
CREATED:20150927T180315Z
LAST-MODIFIED:20151010T202428Z
UID:10000448-1444467600-1444474800@www.racetime.info
SUMMARY:St. Charles Knights of Columbus Fall Classic 5K Run & 2 Mile Walk
DESCRIPTION:Fall Classic 5K Age Group Results\n\nFall Classic 5K Overall Results
URL:https://www.racetime.info/event/st-charles-knights-of-columbus-fall-classic-5k-run-2-mile-walk/
LOCATION:LeRoy Oakes Forest Preserve\, 37W584 Dean Street\, St. Charles\, IL\, 60175\, United States
CATEGORIES:2015-10 Results (October)
ORGANIZER;CN="Steve Hill":MAILTO:stevenchill@comcast.net
GEO:41.929212;-88.352091
X-APPLE-STRUCTURED-LOCATION;VALUE=URI;X-ADDRESS=LeRoy Oakes Forest Preserve 37W584 Dean Street St. Charles IL 60175 United States;X-APPLE-RADIUS=500;X-TITLE=37W584 Dean Street:geo:-88.352091,41.929212
END:VEVENT
BEGIN:VEVENT
DTSTART;TZID=America/Chicago:20151010T090000
DTEND;TZID=America/Chicago:20151010T110000
DTSTAMP:20260423T225543
CREATED:20150901T002752Z
LAST-MODIFIED:20151010T202539Z
UID:10000362-1444467600-1444474800@www.racetime.info
SUMMARY:Honoring Amie 5K Run/Walk
DESCRIPTION:Honoring Aimee 5K Age Group Results\n\nHonoring Aimee 5K Overall Results
URL:https://www.racetime.info/event/honoring-amie-5k-runwalk/
LOCATION:Fabyan Forest Preserve\, 1925 Chrissy Avenue\, Geneva\, IL\, 60134\, United States
CATEGORIES:2015-10 Results (October)
ORGANIZER;CN="Gretchen Steil Weiss":MAILTO:ge-steil@wiu.edu
GEO:41.8716989;-88.3128618
X-APPLE-STRUCTURED-LOCATION;VALUE=URI;X-ADDRESS=Fabyan Forest Preserve 1925 Chrissy Avenue Geneva IL 60134 United States;X-APPLE-RADIUS=500;X-TITLE=1925 Chrissy Avenue:geo:-88.3128618,41.8716989
END:VEVENT
BEGIN:VEVENT
DTSTART;TZID=America/Chicago:20151010T083000
DTEND;TZID=America/Chicago:20151010T103000
DTSTAMP:20260423T225543
CREATED:20150925T011707Z
LAST-MODIFIED:20151010T202318Z
UID:10000149-1444465800-1444473000@www.racetime.info
SUMMARY:Sandwich Community Fund Run 5K & 1 Mile
DESCRIPTION:Sandwich Fund 5K Run Overall Results
URL:https://www.racetime.info/event/sandwich-community-fund-run-5k-1-mile/
LOCATION:Sandwich Park District\, Latham & Arnold\, Sandwich\, IL\, 60548\, United States
CATEGORIES:2015-10 Results (October)
ORGANIZER;CN="Ralph Torres":MAILTO:torres_post395@comcast.net
GEO:41.6549384;-88.6122681
X-APPLE-STRUCTURED-LOCATION;VALUE=URI;X-ADDRESS=Sandwich Park District Latham & Arnold Sandwich IL 60548 United States;X-APPLE-RADIUS=500;X-TITLE=Latham & Arnold:geo:-88.6122681,41.6549384
END:VEVENT
BEGIN:VEVENT
DTSTART;TZID=America/Chicago:20151004T130000
DTEND;TZID=America/Chicago:20151004T160000
DTSTAMP:20260423T225543
CREATED:20150819T022753Z
LAST-MODIFIED:20151004T215125Z
UID:10000340-1443963600-1443974400@www.racetime.info
SUMMARY:PANDAS Dash 5K Run/Walk: Going the Distance!
DESCRIPTION:Panda 5K Age Group Results\n\nPanda 5K Overall Results
URL:https://www.racetime.info/event/pandas-dash-5k-runwalk-going-the-distance/
LOCATION:Willowbrook High School\, 1250 South Ardmore Avenue\, Villa Park\, IL\, 60181\, United States
CATEGORIES:2015-10 Results (October)
ORGANIZER;CN="Kate Drury":MAILTO:events@pas.care
GEO:41.8897519;-87.9889543
X-APPLE-STRUCTURED-LOCATION;VALUE=URI;X-ADDRESS=Willowbrook High School 1250 South Ardmore Avenue Villa Park IL 60181 United States;X-APPLE-RADIUS=500;X-TITLE=1250 South Ardmore Avenue:geo:-87.9889543,41.8897519
END:VEVENT
BEGIN:VEVENT
DTSTART;TZID=America/Chicago:20151004T090000
DTEND;TZID=America/Chicago:20151004T110000
DTSTAMP:20260423T225543
CREATED:20150925T014803Z
LAST-MODIFIED:20151006T000956Z
UID:10000438-1443949200-1443956400@www.racetime.info
SUMMARY:Histio Heroes 5K Run/Walk
DESCRIPTION:Histio Warriors\n\nHistio Heroes 5K Age Group Results\n\nHistio Heroes 5K Overall Results
URL:https://www.racetime.info/event/histio-heroes-5k-runwalk/
LOCATION:Downtown Batavia\, 21 North Water River Street\, Batavia\, IL\, 60510\, United States
CATEGORIES:2015-10 Results (October)
ORGANIZER;CN="Pamela Kurtz":MAILTO:histioheroes@yahoo.com
GEO:41.853407;-88.3092422
X-APPLE-STRUCTURED-LOCATION;VALUE=URI;X-ADDRESS=Downtown Batavia 21 North Water River Street Batavia IL 60510 United States;X-APPLE-RADIUS=500;X-TITLE=21 North Water River Street:geo:-88.3092422,41.853407
END:VEVENT
BEGIN:VEVENT
DTSTART;TZID=America/Chicago:20151004T090000
DTEND;TZID=America/Chicago:20151004T110000
DTSTAMP:20260423T225543
CREATED:20150728T022935Z
LAST-MODIFIED:20151004T214843Z
UID:10000323-1443949200-1443956400@www.racetime.info
SUMMARY:District 95 Educational Foundation 5K & 1 Mile Fun Run
DESCRIPTION:D95 1 Mile Run Age Group Results\n\nD95 1 Mile Run Overall Results\n\nD95 5K Age Group Results\n\nD95 5K Overall Results
URL:https://www.racetime.info/event/district-95-educational-foundation-5k-1-mile-fun-run/
LOCATION:Heritage Oaks Park\, Fairfield Road\, Hawthorn Woods\, IL\, 60047\, United States
CATEGORIES:2015-10 Results (October)
ORGANIZER;CN="Nancy Coleman":MAILTO:foundation@lz95.org
GEO:42.2067509;-88.0555186
X-APPLE-STRUCTURED-LOCATION;VALUE=URI;X-ADDRESS=Heritage Oaks Park Fairfield Road Hawthorn Woods IL 60047 United States;X-APPLE-RADIUS=500;X-TITLE=Fairfield Road:geo:-88.0555186,42.2067509
END:VEVENT
BEGIN:VEVENT
DTSTART;TZID=America/Chicago:20151004T080000
DTEND;TZID=America/Chicago:20151004T110000
DTSTAMP:20260423T225543
CREATED:20150731T040142Z
LAST-MODIFIED:20151005T153205Z
UID:10000092-1443945600-1443956400@www.racetime.info
SUMMARY:Palos Cardinal Chase 5K & 1 Mile Youth Run
DESCRIPTION:Cardinal Chase 5K Run Age Group Results\n\nCardinal Chase 5K Overall Results\n\nCardinal Chase 1 Mile Age Group Results\n\nCardinal Chase 1 Mile Overall Results
URL:https://www.racetime.info/event/palos-cardinal-chase-5k-1-mile-youth-run/
LOCATION:Memorial Park\, 8901 W. College Drive\, Palos Heights\, IL\, 60463\, United States
CATEGORIES:2015-10 Results (October)
ORGANIZER;CN="Nadine Antonini":MAILTO:nadinetdk@earthlink.net
GEO:41.674947;-87.8161142
X-APPLE-STRUCTURED-LOCATION;VALUE=URI;X-ADDRESS=Memorial Park 8901 W. College Drive Palos Heights IL 60463 United States;X-APPLE-RADIUS=500;X-TITLE=8901 W. College Drive:geo:-87.8161142,41.674947
END:VEVENT
BEGIN:VEVENT
DTSTART;TZID=America/Chicago:20151003T140000
DTEND;TZID=America/Chicago:20151003T170000
DTSTAMP:20260423T225543
CREATED:20150819T025356Z
LAST-MODIFIED:20151004T025035Z
UID:10000341-1443880800-1443891600@www.racetime.info
SUMMARY:Dead Last 5K Zombie Run!
DESCRIPTION:Dead Last 1 Mile Fun Run\n\nDead Last 5K Age Group Results\n\nDead Last 5K Overall Results
URL:https://www.racetime.info/event/dead-last-5k-zombie-run/
LOCATION:College of Lake County\, 19351 W. Washington Street\, Grayslake\, IL\, 60030\, United States
CATEGORIES:2015-10 Results (October)
ORGANIZER;CN="Catherine Finger":MAILTO:deadlast5k@gmail.com
GEO:42.3542742;-88.0121625
X-APPLE-STRUCTURED-LOCATION;VALUE=URI;X-ADDRESS=College of Lake County 19351 W. Washington Street Grayslake IL 60030 United States;X-APPLE-RADIUS=500;X-TITLE=19351 W. Washington Street:geo:-88.0121625,42.3542742
END:VEVENT
BEGIN:VEVENT
DTSTART;TZID=America/Chicago:20151003T100000
DTEND;TZID=America/Chicago:20151003T120000
DTSTAMP:20260423T225543
CREATED:20150523T005247Z
LAST-MODIFIED:20151004T010223Z
UID:10000046-1443866400-1443873600@www.racetime.info
SUMMARY:Run 4 Paws 5K Run & 2K Walk
DESCRIPTION:Run 4 Paws 5K Age Group Results\n\nRun 4 Paws 5K Overall Results
URL:https://www.racetime.info/event/run-4-paws-5k-run-2k-walk/
LOCATION:McCollum Park\, 6801 S. Main Street\, Downers Grove\, IL\, 60515\, United States
CATEGORIES:2015-10 Results (October)
ORGANIZER;CN="Mark Fodrey":MAILTO:run4paws5k@yahoo.com
GEO:41.802885;-88.044102
X-APPLE-STRUCTURED-LOCATION;VALUE=URI;X-ADDRESS=McCollum Park 6801 S. Main Street Downers Grove IL 60515 United States;X-APPLE-RADIUS=500;X-TITLE=6801 S. Main Street:geo:-88.044102,41.802885
END:VEVENT
END:VCALENDAR