BEGIN:VCALENDAR
VERSION:2.0
PRODID:-//Race Time - ECPv6.15.13//NONSGML v1.0//EN
CALSCALE:GREGORIAN
METHOD:PUBLISH
X-WR-CALNAME:Race Time
X-ORIGINAL-URL:https://www.racetime.info
X-WR-CALDESC:Events for Race Time
REFRESH-INTERVAL;VALUE=DURATION:PT1H
X-Robots-Tag:noindex
X-PUBLISHED-TTL:PT1H
BEGIN:VTIMEZONE
TZID:America/Chicago
BEGIN:DAYLIGHT
TZOFFSETFROM:-0600
TZOFFSETTO:-0500
TZNAME:CDT
DTSTART:20140309T080000
END:DAYLIGHT
BEGIN:STANDARD
TZOFFSETFROM:-0500
TZOFFSETTO:-0600
TZNAME:CST
DTSTART:20141102T070000
END:STANDARD
BEGIN:DAYLIGHT
TZOFFSETFROM:-0600
TZOFFSETTO:-0500
TZNAME:CDT
DTSTART:20150308T080000
END:DAYLIGHT
BEGIN:STANDARD
TZOFFSETFROM:-0500
TZOFFSETTO:-0600
TZNAME:CST
DTSTART:20151101T070000
END:STANDARD
BEGIN:DAYLIGHT
TZOFFSETFROM:-0600
TZOFFSETTO:-0500
TZNAME:CDT
DTSTART:20160313T080000
END:DAYLIGHT
BEGIN:STANDARD
TZOFFSETFROM:-0500
TZOFFSETTO:-0600
TZNAME:CST
DTSTART:20161106T070000
END:STANDARD
END:VTIMEZONE
BEGIN:VEVENT
DTSTART;TZID=America/Chicago:20151205T143000
DTEND;TZID=America/Chicago:20151205T160000
DTSTAMP:20260423T195146
CREATED:20151020T113158Z
LAST-MODIFIED:20151205T220158Z
UID:10000463-1449325800-1449331200@www.racetime.info
SUMMARY:Frosty 5K Run/Walk & Chilly 1 Mile Run/Walk
DESCRIPTION:Frosty 1 Mile Overall Results\n\nFrosty 5K Age Group Results\n\nFrosty 5K Overall Results
URL:https://www.racetime.info/event/frosty-5k-runwalk-merry-miler/
LOCATION:Wayne & Helen Fox Community Center\, 306 Main Street\, West Chicago\, IL\, 60185\, United States
CATEGORIES:2015-12 Results (December)
ORGANIZER;CN="Mary Agnes Zellmer":MAILTO:maz@chicagoracemanagement.com
GEO:41.882472;-88.202673
X-APPLE-STRUCTURED-LOCATION;VALUE=URI;X-ADDRESS=Wayne & Helen Fox Community Center 306 Main Street West Chicago IL 60185 United States;X-APPLE-RADIUS=500;X-TITLE=306 Main Street:geo:-88.202673,41.882472
END:VEVENT
BEGIN:VEVENT
DTSTART;TZID=America/Chicago:20151205T100000
DTEND;TZID=America/Chicago:20151205T120000
DTSTAMP:20260423T195146
CREATED:20151028T004950Z
LAST-MODIFIED:20151208T123933Z
UID:10000465-1449309600-1449316800@www.racetime.info
SUMMARY:8th Annual Santa Run 5K and 1 Mile Walk
DESCRIPTION:Rotary Santa Run 5K Age Group Results\n\nRotary Santa Run 5K Overall Results
URL:https://www.racetime.info/event/8th-annual-santa-run-5k-and-1-mile-walk/
LOCATION:Metropolis Performing Arts Centre\, 111 West Campbell Street\, Arlington Heights\, IL\, 60004\, United States
CATEGORIES:2015-12 Results (December)
GEO:42.0826171;-87.9847672
X-APPLE-STRUCTURED-LOCATION;VALUE=URI;X-ADDRESS=Metropolis Performing Arts Centre 111 West Campbell Street Arlington Heights IL 60004 United States;X-APPLE-RADIUS=500;X-TITLE=111 West Campbell Street:geo:-87.9847672,42.0826171
END:VEVENT
BEGIN:VEVENT
DTSTART;TZID=America/Chicago:20151205T090000
DTEND;TZID=America/Chicago:20151205T110000
DTSTAMP:20260423T195146
CREATED:20150825T021732Z
LAST-MODIFIED:20151205T180908Z
UID:10000356-1449306000-1449313200@www.racetime.info
SUMMARY:Jingle Bell 5K Run/Walk
DESCRIPTION:Jingle Bell 5K Run Age Group Results\n\nJingle Bell 5K Run Overall Results\n\nJingle Bell 5K Walk Overall Results
URL:https://www.racetime.info/event/jingle-bell-5k-runwalk/
LOCATION:Prairie Bluff Golf Course\, 19433 Renwick Road\, Crest Hill\, IL\, United States
CATEGORIES:2015-12 Results (December)
ORGANIZER;CN="Amy Rauen":MAILTO:arauen@lockportpark.org
GEO:41.5942836;-88.0906993
X-APPLE-STRUCTURED-LOCATION;VALUE=URI;X-ADDRESS=Prairie Bluff Golf Course 19433 Renwick Road Crest Hill IL United States;X-APPLE-RADIUS=500;X-TITLE=19433 Renwick Road:geo:-88.0906993,41.5942836
END:VEVENT
END:VCALENDAR