BEGIN:VCALENDAR
VERSION:2.0
PRODID:-//Race Time - ECPv6.15.13//NONSGML v1.0//EN
CALSCALE:GREGORIAN
METHOD:PUBLISH
X-WR-CALNAME:Race Time
X-ORIGINAL-URL:https://www.racetime.info
X-WR-CALDESC:Events for Race Time
REFRESH-INTERVAL;VALUE=DURATION:PT1H
X-Robots-Tag:noindex
X-PUBLISHED-TTL:PT1H
BEGIN:VTIMEZONE
TZID:America/Chicago
BEGIN:DAYLIGHT
TZOFFSETFROM:-0600
TZOFFSETTO:-0500
TZNAME:CDT
DTSTART:20150308T080000
END:DAYLIGHT
BEGIN:STANDARD
TZOFFSETFROM:-0500
TZOFFSETTO:-0600
TZNAME:CST
DTSTART:20151101T070000
END:STANDARD
BEGIN:DAYLIGHT
TZOFFSETFROM:-0600
TZOFFSETTO:-0500
TZNAME:CDT
DTSTART:20160313T080000
END:DAYLIGHT
BEGIN:STANDARD
TZOFFSETFROM:-0500
TZOFFSETTO:-0600
TZNAME:CST
DTSTART:20161106T070000
END:STANDARD
BEGIN:DAYLIGHT
TZOFFSETFROM:-0600
TZOFFSETTO:-0500
TZNAME:CDT
DTSTART:20170312T080000
END:DAYLIGHT
BEGIN:STANDARD
TZOFFSETFROM:-0500
TZOFFSETTO:-0600
TZNAME:CST
DTSTART:20171105T070000
END:STANDARD
END:VTIMEZONE
BEGIN:VEVENT
DTSTART;TZID=America/Chicago:20160731T080000
DTEND;TZID=America/Chicago:20160731T110000
DTSTAMP:20260423T210757
CREATED:20160426T191803Z
LAST-MODIFIED:20160731T171855Z
UID:10000624-1469952000-1469962800@www.racetime.info
SUMMARY:Algonquin Founders Day Runs: 1 Mile\, 5K & 10K
DESCRIPTION:Founders Day 1 Mile Youth Run\n\nFounders Day 5K Age Group Results\n\nFounders Day 5K Overall Results\n\nFounders Day 10K Age Group Results\n\nFounders Day 10K Overall Results
URL:https://www.racetime.info/event/algonquin-founders-day-runs-1-mile-5k-10k/
LOCATION:Algonquin Middle School\, 520 Longwood Drive\, Algonquin\, IL\, 60102\, United States
CATEGORIES:2016-07 Results (July)
ORGANIZER;CN="Cheryl Hagen":MAILTO:foundersrun1@yahoo.com
GEO:42.1583261;-88.2831554
X-APPLE-STRUCTURED-LOCATION;VALUE=URI;X-ADDRESS=Algonquin Middle School 520 Longwood Drive Algonquin IL 60102 United States;X-APPLE-RADIUS=500;X-TITLE=520 Longwood Drive:geo:-88.2831554,42.1583261
END:VEVENT
BEGIN:VEVENT
DTSTART;TZID=America/Chicago:20160731T073000
DTEND;TZID=America/Chicago:20160731T100000
DTSTAMP:20260423T210757
CREATED:20160411T213328Z
LAST-MODIFIED:20160731T150337Z
UID:10000614-1469950200-1469959200@www.racetime.info
SUMMARY:Bob Leonard 5K River Run & 1K Color Run
DESCRIPTION:Bob Leonard 5K  Age Group Results\n\nBob Leonard 5K Overall Results
URL:https://www.racetime.info/event/bob-leonard-5k-river-run-1k-color-run/
LOCATION:Pottawatomi Park\, 8 North Avenue\, St. Charles\, IL\, 60174\, United States
CATEGORIES:2016-07 Results (July)
ORGANIZER;CN="Mary Zellmer":MAILTO:maz@chicagoracemanagement.com
GEO:41.9210527;-88.3158804
X-APPLE-STRUCTURED-LOCATION;VALUE=URI;X-ADDRESS=Pottawatomi Park 8 North Avenue St. Charles IL 60174 United States;X-APPLE-RADIUS=500;X-TITLE=8 North Avenue:geo:-88.3158804,41.9210527
END:VEVENT
BEGIN:VEVENT
DTSTART;TZID=America/Chicago:20160730T073000
DTEND;TZID=America/Chicago:20160730T100000
DTSTAMP:20260423T210757
CREATED:20160220T132517Z
LAST-MODIFIED:20160730T162242Z
UID:10000201-1469863800-1469872800@www.racetime.info
SUMMARY:MorningStar Mission - Mission: Possible 5K Run/Walk
DESCRIPTION:Mission Possible 5K Age Group Results\n\nMission Possible 5K Overall Results
URL:https://www.racetime.info/event/morningstar-mission-mission-possible-5k-runwalk/
LOCATION:MorningStar Mission\, 360 East Washington Street\, Joliet\, IL\, 60433\, United States
CATEGORIES:2016-07 Results (July)
ORGANIZER;CN="Eloise Crabb":MAILTO:directorofdevelopment@morningstarmission.org
GEO:41.5240005;-88.0725366
X-APPLE-STRUCTURED-LOCATION;VALUE=URI;X-ADDRESS=MorningStar Mission 360 East Washington Street Joliet IL 60433 United States;X-APPLE-RADIUS=500;X-TITLE=360 East Washington Street:geo:-88.0725366,41.5240005
END:VEVENT
BEGIN:VEVENT
DTSTART;TZID=America/Chicago:20160730T073000
DTEND;TZID=America/Chicago:20160730T090000
DTSTAMP:20260423T210757
CREATED:20160504T180015Z
LAST-MODIFIED:20160730T145950Z
UID:10000643-1469863800-1469869200@www.racetime.info
SUMMARY:Corn Boil 5K & 10K Run/Walk
DESCRIPTION:Corn Boil 5K Age Group Results\n\nCorn Boil 5K Overall Results
URL:https://www.racetime.info/event/corn-boil-5k-10k-runwalk/
LOCATION:Sugar Grove Park District\, 61 Main St.\, Sugar Grove\, IL\, 60554\, United States
CATEGORIES:2016-07 Results (July)
ORGANIZER;CN="Blake Mayerle":MAILTO:bmayerle@sgparks.org
GEO:41.7632516;-88.4442141
X-APPLE-STRUCTURED-LOCATION;VALUE=URI;X-ADDRESS=Sugar Grove Park District 61 Main St. Sugar Grove IL 60554 United States;X-APPLE-RADIUS=500;X-TITLE=61 Main St.:geo:-88.4442141,41.7632516
END:VEVENT
BEGIN:VEVENT
DTSTART;TZID=America/Chicago:20160724T080000
DTEND;TZID=America/Chicago:20160724T110000
DTSTAMP:20260423T210757
CREATED:20160602T104905Z
LAST-MODIFIED:20160724T170357Z
UID:10000256-1469347200-1469358000@www.racetime.info
SUMMARY:Get Your Rear In Gear 5K Run/Walk
DESCRIPTION:Get Your Rear In Gear 5K Age Group Results\n\nGet Your Rear In Gear 5K Survivor Overall Results\n\nGet Your Rear In Gear 5K Overall Results
URL:https://www.racetime.info/event/get-your-rear-in-gear-5k-runwalk/
LOCATION:Community Park\, 8105 W. 171st Street\, Tinley Park\, IL\, 60477\, United States
CATEGORIES:2016-07 Results (July)
ORGANIZER;CN="Christie Lockhart":MAILTO:christielockhart@coloncancercoalition.org
GEO:41.5800197;-87.8160163
X-APPLE-STRUCTURED-LOCATION;VALUE=URI;X-ADDRESS=Community Park 8105 W. 171st Street Tinley Park IL 60477 United States;X-APPLE-RADIUS=500;X-TITLE=8105 W. 171st Street:geo:-87.8160163,41.5800197
END:VEVENT
BEGIN:VEVENT
DTSTART;TZID=America/Chicago:20160724T080000
DTEND;TZID=America/Chicago:20160724T100000
DTSTAMP:20260423T210757
CREATED:20160724T170225Z
LAST-MODIFIED:20160724T170225Z
UID:10000727-1469347200-1469354400@www.racetime.info
SUMMARY:CDW 5K (Private Event)
DESCRIPTION:CDW 5K Age Group Results\n\nCDW 5K Overall Results
URL:https://www.racetime.info/event/cdw-5k-private-event/
LOCATION:CDW\, 26125 N. Riverwoods Road\, Mettawa\, IL\, 60045\, United States
CATEGORIES:2016-07 Results (July)
GEO:42.2004908;-87.9060797
X-APPLE-STRUCTURED-LOCATION;VALUE=URI;X-ADDRESS=CDW 26125 N. Riverwoods Road Mettawa IL 60045 United States;X-APPLE-RADIUS=500;X-TITLE=26125 N. Riverwoods Road:geo:-87.9060797,42.2004908
END:VEVENT
BEGIN:VEVENT
DTSTART;TZID=America/Chicago:20160723T083000
DTEND;TZID=America/Chicago:20160723T110000
DTSTAMP:20260423T210757
CREATED:20160722T024849Z
LAST-MODIFIED:20160723T162614Z
UID:10000721-1469262600-1469271600@www.racetime.info
SUMMARY:Splashes\, Dashes and Spokes Youth Triathlon
DESCRIPTION:Splashes\, Dashes & Spokes Age Group Results
URL:https://www.racetime.info/event/splashes-dashes-and-spokes-youth-triathlon/
LOCATION:James O’Breen Community Park\, Campton Hills Road & Peck Road\, St. Charles\, IL\, 60174\, United States
CATEGORIES:2016-07 Results (July)
ORGANIZER;CN="Melissa Caine":MAILTO:mcaine@stcparks.org
GEO:41.9135899;-88.3601517
X-APPLE-STRUCTURED-LOCATION;VALUE=URI;X-ADDRESS=James O’Breen Community Park Campton Hills Road & Peck Road St. Charles IL 60174 United States;X-APPLE-RADIUS=500;X-TITLE=Campton Hills Road & Peck Road:geo:-88.3601517,41.9135899
END:VEVENT
BEGIN:VEVENT
DTSTART;TZID=America/Chicago:20160723T073000
DTEND;TZID=America/Chicago:20160723T100000
DTSTAMP:20260423T210757
CREATED:20160512T003916Z
LAST-MODIFIED:20160726T113604Z
UID:10000654-1469259000-1469268000@www.racetime.info
SUMMARY:Guns N' Hoses 5K Run/Walk & 1K Youth Fun Run
DESCRIPTION:Guns & Hoses 5K Age Group Results\n\nGuns & Hoses 5K Overall Results
URL:https://www.racetime.info/event/guns-n-hoses-5k-runwalk-1k-youth-fun-run/
LOCATION:Christ The King Church\, 9235 S. Hamilton Avenue\, Chicago\, IL\, United States
CATEGORIES:2016-07 Results (July)
ORGANIZER;CN="Mary Agnes Zellmer":MAILTO:maz@chicagoracemanagement.com
GEO:41.7255292;-87.6761179
X-APPLE-STRUCTURED-LOCATION;VALUE=URI;X-ADDRESS=Christ The King Church 9235 S. Hamilton Avenue Chicago IL United States;X-APPLE-RADIUS=500;X-TITLE=9235 S. Hamilton Avenue:geo:-87.6761179,41.7255292
END:VEVENT
BEGIN:VEVENT
DTSTART;TZID=America/Chicago:20160716T080000
DTEND;TZID=America/Chicago:20160716T110000
DTSTAMP:20260423T210757
CREATED:20160225T015349Z
LAST-MODIFIED:20160823T054108Z
UID:10000545-1468656000-1468666800@www.racetime.info
SUMMARY:St. John's Run For Life 5K Run/Walk & Youth Dash
DESCRIPTION:St. John’s Run For Life 5K Age Group Results\n\nSt. John’s Run For Life 5K Overall Results\n\nSt. John’s Run For Life 5K Team Results
URL:https://www.racetime.info/event/st-johns-run-for-life-5k-runwalk-youth-dash/
LOCATION:St. John the Baptist Church\, 0S233 Church Street\, Winfield\, IL\, 60190\, United States
CATEGORIES:2016-07 Results (July)
ORGANIZER;CN="Jennipher Graf":MAILTO:trillium92016@yahoo.com
GEO:41.8685708;-88.1569357
X-APPLE-STRUCTURED-LOCATION;VALUE=URI;X-ADDRESS=St. John the Baptist Church 0S233 Church Street Winfield IL 60190 United States;X-APPLE-RADIUS=500;X-TITLE=0S233 Church Street:geo:-88.1569357,41.8685708
END:VEVENT
BEGIN:VEVENT
DTSTART;TZID=America/Chicago:20160716T073000
DTEND;TZID=America/Chicago:20160716T090000
DTSTAMP:20260423T210757
CREATED:20160611T102645Z
LAST-MODIFIED:20160717T001657Z
UID:10000677-1468654200-1468659600@www.racetime.info
SUMMARY:Crystal Lake Open Water Swim Race
DESCRIPTION:CL Open Swim Race 1 Mile Age Group Results\n\nCL Open Swim Race 1 Mile Overall Results\n\nCL Open Swim Race 2 Mile Age Group Results\n\nCL Open Swim Race 2 Mile Overall Results\n\nCL Open Swim Race 1 & 2 Mile Clydesdale-Athena Overall Results
URL:https://www.racetime.info/event/crystal-lake-open-water-swim-race/
LOCATION:Main Street Beach\, 300 Lakeshore Drive\, Crystal Lake\, IL\, 60014\, United States
CATEGORIES:2016-07 Results (July)
ORGANIZER;CN="Joe Davison":MAILTO:jdavison@crystallakeparks.org
GEO:42.2323333;-88.3443238
X-APPLE-STRUCTURED-LOCATION;VALUE=URI;X-ADDRESS=Main Street Beach 300 Lakeshore Drive Crystal Lake IL 60014 United States;X-APPLE-RADIUS=500;X-TITLE=300 Lakeshore Drive:geo:-88.3443238,42.2323333
END:VEVENT
BEGIN:VEVENT
DTSTART;TZID=America/Chicago:20160710T073000
DTEND;TZID=America/Chicago:20160710T090000
DTSTAMP:20260423T210757
CREATED:20160401T154715Z
LAST-MODIFIED:20160710T145844Z
UID:10000600-1468135800-1468141200@www.racetime.info
SUMMARY:Dash N' Splash 5K Run/Walk
DESCRIPTION:Dash N’ Splash 5K Age Group Results\n\nDash N’ Splash 5K Overall Results
URL:https://www.racetime.info/event/dash-n-splash-5k-runwalk/
LOCATION:Greenbrook Elementary School\, 5208 Arlington Circle\, Hanover Park\, IL\, 60188\, United States
CATEGORIES:2016-07 Results (July)
ORGANIZER;CN="Heczen Gomez":MAILTO:h.gomez@hpparks.org
GEO:41.9679903;-88.1387323
X-APPLE-STRUCTURED-LOCATION;VALUE=URI;X-ADDRESS=Greenbrook Elementary School 5208 Arlington Circle Hanover Park IL 60188 United States;X-APPLE-RADIUS=500;X-TITLE=5208 Arlington Circle:geo:-88.1387323,41.9679903
END:VEVENT
BEGIN:VEVENT
DTSTART;TZID=America/Chicago:20160709T090000
DTEND;TZID=America/Chicago:20160709T110000
DTSTAMP:20260423T210757
CREATED:20160505T183445Z
LAST-MODIFIED:20160709T164855Z
UID:10000645-1468054800-1468062000@www.racetime.info
SUMMARY:MS Run The US - Chicago Area 5K Run/Walk
DESCRIPTION:MS 5K Age Group Results\n\nMS 5K Overall Results
URL:https://www.racetime.info/event/ms-run-the-us-chicago-area-5k-runwalk/
LOCATION:Plainfield East High School\, 12001 S Naperville Rd\, Plainfield\, IL\, United States
CATEGORIES:2016-07 Results (July)
ORGANIZER;CN="Justin Koszarek":MAILTO:jkoszarek1982@gmail.com
GEO:41.6649235;-88.1739219
X-APPLE-STRUCTURED-LOCATION;VALUE=URI;X-ADDRESS=Plainfield East High School 12001 S Naperville Rd Plainfield IL United States;X-APPLE-RADIUS=500;X-TITLE=12001 S Naperville Rd:geo:-88.1739219,41.6649235
END:VEVENT
BEGIN:VEVENT
DTSTART;TZID=America/Chicago:20160709T083000
DTEND;TZID=America/Chicago:20160709T100000
DTSTAMP:20260423T210757
CREATED:20160225T012024Z
LAST-MODIFIED:20160709T165231Z
UID:10000541-1468053000-1468058400@www.racetime.info
SUMMARY:Seth Egger Memorial 5K Run/Walk
DESCRIPTION:Seth Egger 5K Age Group Results\n\nSeth Egger 5K Overall Results
URL:https://www.racetime.info/event/seth-egger-memorial-5k-runwalk/
LOCATION:Phillips Park\, 1000 Ray Moses Drive\, Aurora\, IL\, 60505\, United States
CATEGORIES:2016-07 Results (July)
ORGANIZER;CN="Raquel Thomas":MAILTO:sethegger5k@yahoo.com
GEO:41.7365152;-88.2948701
X-APPLE-STRUCTURED-LOCATION;VALUE=URI;X-ADDRESS=Phillips Park 1000 Ray Moses Drive Aurora IL 60505 United States;X-APPLE-RADIUS=500;X-TITLE=1000 Ray Moses Drive:geo:-88.2948701,41.7365152
END:VEVENT
BEGIN:VEVENT
DTSTART;TZID=America/Chicago:20160709T080000
DTEND;TZID=America/Chicago:20160709T100000
DTSTAMP:20260423T210757
CREATED:20160706T005215Z
LAST-MODIFIED:20160709T165120Z
UID:10000284-1468051200-1468058400@www.racetime.info
SUMMARY:Run For Hope 5K Run/Walk & Youth Fun Run
DESCRIPTION:Run For Hope 5K Age Group Results\n\nRun For Hope 5K Overall Results
URL:https://www.racetime.info/event/run-for-hope-5k-runwalk-youth-fun-run/
LOCATION:Grace Lutheran Church\, 1300 Kishawukee Valley Road\, Woodstock\, IL\, 60098\, United States
CATEGORIES:2016-07 Results (July)
ORGANIZER;CN="Lynn Fuller":MAILTO:runforhope@live.com
GEO:42.3183719;-88.4704838
X-APPLE-STRUCTURED-LOCATION;VALUE=URI;X-ADDRESS=Grace Lutheran Church 1300 Kishawukee Valley Road Woodstock IL 60098 United States;X-APPLE-RADIUS=500;X-TITLE=1300 Kishawukee Valley Road:geo:-88.4704838,42.3183719
END:VEVENT
BEGIN:VEVENT
DTSTART;TZID=America/Chicago:20160709T073000
DTEND;TZID=America/Chicago:20160709T090000
DTSTAMP:20260423T210757
CREATED:20160310T130430Z
LAST-MODIFIED:20160709T165012Z
UID:10000575-1468049400-1468054800@www.racetime.info
SUMMARY:Michael Browning Memorial 5K Run/Walk
DESCRIPTION:Michael Browning Memorial 5K Age Group Results\n\nMichael Browning Memorial 5K Overall Results
URL:https://www.racetime.info/event/michael-browning-memorial-5k-runwalk/
LOCATION:West Chicago Park District Arc Center\, 201 W National Street\, West Chicago\, IL\, 60185\, United States
CATEGORIES:2016-07 Results (July)
ORGANIZER;CN="Robbi Peterson":MAILTO:michaelbrowningmemorialfund@gmail.com
GEO:41.8928158;-88.2068855
X-APPLE-STRUCTURED-LOCATION;VALUE=URI;X-ADDRESS=West Chicago Park District Arc Center 201 W National Street West Chicago IL 60185 United States;X-APPLE-RADIUS=500;X-TITLE=201 W National Street:geo:-88.2068855,41.8928158
END:VEVENT
BEGIN:VEVENT
DTSTART;TZID=America/Chicago:20160704T080000
DTEND;TZID=America/Chicago:20160704T220000
DTSTAMP:20260423T210757
CREATED:20160505T232659Z
LAST-MODIFIED:20160707T040938Z
UID:10000650-1467619200-1467669600@www.racetime.info
SUMMARY:Deerfield Family Days 5K & 10K
DESCRIPTION:Deerfield Rotary 5K Age Group Results\n\nDeerfield Rotary 5K Overall Results\n\nDeerfield Rotary 10K Age Group Results\n\nDeerfield Rotary 10K Overall Results
URL:https://www.racetime.info/event/deerfield-family-days-5k-10k/
LOCATION:Walden School\, 630 Essex Court\, Deerfield\, IL\, 60015\, United States
CATEGORIES:2016-07 Results (July)
ORGANIZER;CN="Janice Becker":MAILTO:jbecker@deerfieldbank.com
GEO:42.1769861;-87.8438887
X-APPLE-STRUCTURED-LOCATION;VALUE=URI;X-ADDRESS=Walden School 630 Essex Court Deerfield IL 60015 United States;X-APPLE-RADIUS=500;X-TITLE=630 Essex Court:geo:-87.8438887,42.1769861
END:VEVENT
BEGIN:VEVENT
DTSTART;TZID=America/Chicago:20160704T080000
DTEND;TZID=America/Chicago:20160704T110000
DTSTAMP:20260423T210757
CREATED:20160304T041448Z
LAST-MODIFIED:20160705T001931Z
UID:10000564-1467619200-1467630000@www.racetime.info
SUMMARY:Pokanoka's 8 Mile Run & 1.8 Mile Trail Walk
DESCRIPTION:Pokanoka’s 1.8 Mile Overall Results\n\nPokanoka’s 8 Mile Age Group Results\n\nPokanoka’s 8 Mile Overall Results
URL:https://www.racetime.info/event/pokanokas-8-mile-run-1-8-mile-trail-walk/
LOCATION:Shabbona Lake State Park\, 100 E. Preserve Road\, Shabbona\, IL\, 60550\, United States
CATEGORIES:2016-07 Results (July)
ORGANIZER;CN="Denny Sands":MAILTO:san8dn@aol.com
GEO:41.759148;-88.8699532
X-APPLE-STRUCTURED-LOCATION;VALUE=URI;X-ADDRESS=Shabbona Lake State Park 100 E. Preserve Road Shabbona IL 60550 United States;X-APPLE-RADIUS=500;X-TITLE=100 E. Preserve Road:geo:-88.8699532,41.759148
END:VEVENT
BEGIN:VEVENT
DTSTART;TZID=America/Chicago:20160704T073000
DTEND;TZID=America/Chicago:20160704T100000
DTSTAMP:20260423T210757
CREATED:20160129T013525Z
LAST-MODIFIED:20160705T002349Z
UID:10000521-1467617400-1467626400@www.racetime.info
SUMMARY:Liberty Loop 5K Run/Walk
DESCRIPTION:Liberty Loop 5K Age Group Results\n\nLiberty Loop 5K Overall Results
URL:https://www.racetime.info/event/liberty-loop-5k-runwalk/
LOCATION:Techny Prairie Activity Center\, 180 Anets Drive\, Northbrook\, IL\, 60062\, United States
CATEGORIES:2016-07 Results (July)
ORGANIZER;CN="John Wilhelm":MAILTO:jwilhelm@nbparks.org
GEO:42.1275267;-87.8289548
X-APPLE-STRUCTURED-LOCATION;VALUE=URI;X-ADDRESS=Techny Prairie Activity Center 180 Anets Drive Northbrook IL 60062 United States;X-APPLE-RADIUS=500;X-TITLE=180 Anets Drive:geo:-87.8289548,42.1275267
END:VEVENT
BEGIN:VEVENT
DTSTART;TZID=America/Chicago:20160704T071500
DTEND;TZID=America/Chicago:20160704T100000
DTSTAMP:20260423T210757
CREATED:20160603T180437Z
LAST-MODIFIED:20160705T001730Z
UID:10000259-1467616500-1467626400@www.racetime.info
SUMMARY:Advocate Good Shepherd Hospital Family Fitness Run 5K/10K
DESCRIPTION:Good Shepherd Family 5K Age Group Results\n\nGood Shepherd Family 5K Overall Results\n\nGood Shepherd Family 10K Age Group Results\n\nGood Shepherd Family 10K Overall Results
URL:https://www.racetime.info/event/advocate-good-shepherd-hospital-family-fitness-run-5k10k/
LOCATION:Downtown Barrington\, Park Avenue (Commuter Lot)\, Barrington\, IL\, 60010\, United States
CATEGORIES:2016-07 Results (July)
ORGANIZER;CN="Rick Gerwin":MAILTO:richard.gerwin@advocatehealth.com
GEO:42.1526661;-88.133274
X-APPLE-STRUCTURED-LOCATION;VALUE=URI;X-ADDRESS=Downtown Barrington Park Avenue (Commuter Lot) Barrington IL 60010 United States;X-APPLE-RADIUS=500;X-TITLE=Park Avenue (Commuter Lot):geo:-88.133274,42.1526661
END:VEVENT
BEGIN:VEVENT
DTSTART;TZID=America/Chicago:20160704T071500
DTEND;TZID=America/Chicago:20160704T090000
DTSTAMP:20260423T210757
CREATED:20160612T102356Z
LAST-MODIFIED:20160705T005450Z
UID:10000681-1467616500-1467622800@www.racetime.info
SUMMARY:4 on the 4th (4 Mile Race)
DESCRIPTION:4 on the 4th (4 Mile Race) Results
URL:https://www.racetime.info/event/4-on-the-4th-4-mile-race/
LOCATION:Elmhurst College\, 190 Prospect Avenue\, Elmhurst\, IL\, 60126\, United States
CATEGORIES:2016-07 Results (July)
ORGANIZER;CN="Bob Richards":MAILTO:bobnanrun@sbcglobal.net
GEO:41.8963081;-87.9461686
X-APPLE-STRUCTURED-LOCATION;VALUE=URI;X-ADDRESS=Elmhurst College 190 Prospect Avenue Elmhurst IL 60126 United States;X-APPLE-RADIUS=500;X-TITLE=190 Prospect Avenue:geo:-87.9461686,41.8963081
END:VEVENT
BEGIN:VEVENT
DTSTART;TZID=America/Chicago:20160703T080000
DTEND;TZID=America/Chicago:20160703T110000
DTSTAMP:20260423T210757
CREATED:20160322T024837Z
LAST-MODIFIED:20160703T181407Z
UID:10000212-1467532800-1467543600@www.racetime.info
SUMMARY:Wilmette 4 Mile Run; 2 Mile Walk & Youth Runs
DESCRIPTION:Wilmette Independence Day Youth Runs\n\nWilmette Independence Day 2 Mile Overall Results\n\nWilmette Independence Day 4 Mile Age Group Results\n\nWilmette Independence Day 4 Mile Overall Results
URL:https://www.racetime.info/event/wilmette-5k-runwalk-youth-runs/
LOCATION:Gillson Beach\, 800 Gillson Park Drive\, Wilmette\, IL\, 60091\, United States
CATEGORIES:2016-07 Results (July)
ORGANIZER;CN="Tim Johnson":MAILTO:tjohnson@wilpark.org
GEO:42.0804297;-87.6887941
X-APPLE-STRUCTURED-LOCATION;VALUE=URI;X-ADDRESS=Gillson Beach 800 Gillson Park Drive Wilmette IL 60091 United States;X-APPLE-RADIUS=500;X-TITLE=800 Gillson Park Drive:geo:-87.6887941,42.0804297
END:VEVENT
BEGIN:VEVENT
DTSTART;TZID=America/Chicago:20160703T080000
DTEND;TZID=America/Chicago:20160703T100000
DTSTAMP:20260423T210757
CREATED:20160609T115433Z
LAST-MODIFIED:20160703T181142Z
UID:10000673-1467532800-1467540000@www.racetime.info
SUMMARY:Firecracker 5K Run & 2 Mile Walk
DESCRIPTION:Highland Park’s Firecracker 2 Mile Walk Overall Results\n\nHighland Park’s Firecracker 5K Age Group Results\n\nHighland Park’s Firecracker 5K Overall Results
URL:https://www.racetime.info/event/firecracker-5k-run-2-mile-walk-2/
LOCATION:Sunset Woods Park\, 1801 Sunset Road\, Highland Park\, IL\, 60035\, United States
CATEGORIES:2016-07 Results (July)
ORGANIZER;CN="Mitch Carr":MAILTO:mcarr@pdhp.org
GEO:42.184132;-87.808067
X-APPLE-STRUCTURED-LOCATION;VALUE=URI;X-ADDRESS=Sunset Woods Park 1801 Sunset Road Highland Park IL 60035 United States;X-APPLE-RADIUS=500;X-TITLE=1801 Sunset Road:geo:-87.808067,42.184132
END:VEVENT
BEGIN:VEVENT
DTSTART;TZID=America/Chicago:20160702T090000
DTEND;TZID=America/Chicago:20160702T110000
DTSTAMP:20260423T210757
CREATED:20160521T020211Z
LAST-MODIFIED:20160702T205200Z
UID:10000263-1467450000-1467457200@www.racetime.info
SUMMARY:Firecracker 5K Run/Walk
DESCRIPTION:Galena’s Firecracker 5K Age Group Results\n\nGalena’s Firecracker 5K Overall Results
URL:https://www.racetime.info/event/firecracker-5k-runwalk/
LOCATION:Eagle Ridge Resort & Spa\, 444 Eagle Ridge Drive\, Galena\, IL\, 61036\, United States
CATEGORIES:2016-07 Results (July)
ORGANIZER;CN="Kolbe Holdren":MAILTO:kholdren@eagleridge.com
GEO:42.4054927;-90.338314
X-APPLE-STRUCTURED-LOCATION;VALUE=URI;X-ADDRESS=Eagle Ridge Resort & Spa 444 Eagle Ridge Drive Galena IL 61036 United States;X-APPLE-RADIUS=500;X-TITLE=444 Eagle Ridge Drive:geo:-90.338314,42.4054927
END:VEVENT
BEGIN:VEVENT
DTSTART;TZID=America/Chicago:20160702T080000
DTEND;TZID=America/Chicago:20160702T220000
DTSTAMP:20260423T210757
CREATED:20160702T205111Z
LAST-MODIFIED:20160702T205111Z
UID:10000282-1467446400-1467496800@www.racetime.info
SUMMARY:Attica's Sesquincentennial Run
DESCRIPTION:Attica’s Sesquincentennial 5K Overall Results
URL:https://www.racetime.info/event/atticas-sesquincentennial-run/
LOCATION:Attica High School\, 211 Sycamore Street\, Attica\, IN\, 47918\, United States
CATEGORIES:2016-07 Results (July)
ORGANIZER;CN="Jeff Crane":MAILTO:atticaturkeytrot@yahoo.com
GEO:40.277395;-87.250629
X-APPLE-STRUCTURED-LOCATION;VALUE=URI;X-ADDRESS=Attica High School 211 Sycamore Street Attica IN 47918 United States;X-APPLE-RADIUS=500;X-TITLE=211 Sycamore Street:geo:-87.250629,40.277395
END:VEVENT
END:VCALENDAR