BEGIN:VCALENDAR
VERSION:2.0
PRODID:-//Race Time - ECPv6.15.13//NONSGML v1.0//EN
CALSCALE:GREGORIAN
METHOD:PUBLISH
X-WR-CALNAME:Race Time
X-ORIGINAL-URL:https://www.racetime.info
X-WR-CALDESC:Events for Race Time
REFRESH-INTERVAL;VALUE=DURATION:PT1H
X-Robots-Tag:noindex
X-PUBLISHED-TTL:PT1H
BEGIN:VTIMEZONE
TZID:America/Chicago
BEGIN:DAYLIGHT
TZOFFSETFROM:-0600
TZOFFSETTO:-0500
TZNAME:CDT
DTSTART:20150308T080000
END:DAYLIGHT
BEGIN:STANDARD
TZOFFSETFROM:-0500
TZOFFSETTO:-0600
TZNAME:CST
DTSTART:20151101T070000
END:STANDARD
BEGIN:DAYLIGHT
TZOFFSETFROM:-0600
TZOFFSETTO:-0500
TZNAME:CDT
DTSTART:20160313T080000
END:DAYLIGHT
BEGIN:STANDARD
TZOFFSETFROM:-0500
TZOFFSETTO:-0600
TZNAME:CST
DTSTART:20161106T070000
END:STANDARD
BEGIN:DAYLIGHT
TZOFFSETFROM:-0600
TZOFFSETTO:-0500
TZNAME:CDT
DTSTART:20170312T080000
END:DAYLIGHT
BEGIN:STANDARD
TZOFFSETFROM:-0500
TZOFFSETTO:-0600
TZNAME:CST
DTSTART:20171105T070000
END:STANDARD
END:VTIMEZONE
BEGIN:VEVENT
DTSTART;TZID=America/Chicago:20161030T083000
DTEND;TZID=America/Chicago:20161030T103000
DTSTAMP:20260423T224131
CREATED:20161019T010842Z
LAST-MODIFIED:20161030T172546Z
UID:10000859-1477816200-1477823400@www.racetime.info
SUMMARY:Be A Hero For Hope 5K\, 10K & 1K Youth Run
DESCRIPTION:Be A Hero For Hope 5K Age Group Results\n\nBe A Hero For Hope 5K Overall Results\n\nBe A Hero For Hope 10K Age Group Results\n\nBe A Hero For Hope 10K Overall Results
URL:https://www.racetime.info/event/be-a-hero-for-hope-5k-10k-1k-youth-run/
LOCATION:Midwestern University Campus\, 555 31st Street\, Downers Grove\, IL\, 60515\, United States
CATEGORIES:2016-10 Results (October)
ORGANIZER;CN="Karen Walsh":MAILTO:karenw@familyshelterservice.net
GEO:41.8280448;-87.9991089
X-APPLE-STRUCTURED-LOCATION;VALUE=URI;X-ADDRESS=Midwestern University Campus 555 31st Street Downers Grove IL 60515 United States;X-APPLE-RADIUS=500;X-TITLE=555 31st Street:geo:-87.9991089,41.8280448
END:VEVENT
BEGIN:VEVENT
DTSTART;TZID=America/Chicago:20161029T090000
DTEND;TZID=America/Chicago:20161029T110000
DTSTAMP:20260423T224131
CREATED:20160723T232037Z
LAST-MODIFIED:20161029T195919Z
UID:10000725-1477731600-1477738800@www.racetime.info
SUMMARY:Race to Cure Sarcoma 5K Run/Walk
DESCRIPTION:Sarcoma 5K Age Group Results\n\nSarcoma 5K Overall Results
URL:https://www.racetime.info/event/race-to-cure-sarcoma-5k-runwalk/
LOCATION:Independence Grove Forest Preserve\, 16400 Buckley Road\, Libertyville\, IL\, 60045\, United States
CATEGORIES:2016-10 Results (October)
ORGANIZER;CN="Michaela Mueller":MAILTO:mmueller@curesarcoma.org
GEO:42.3118463;-87.9529568
X-APPLE-STRUCTURED-LOCATION;VALUE=URI;X-ADDRESS=Independence Grove Forest Preserve 16400 Buckley Road Libertyville IL 60045 United States;X-APPLE-RADIUS=500;X-TITLE=16400 Buckley Road:geo:-87.9529568,42.3118463
END:VEVENT
BEGIN:VEVENT
DTSTART;TZID=America/Chicago:20161029T083000
DTEND;TZID=America/Chicago:20161029T100000
DTSTAMP:20260423T224131
CREATED:20160824T105540Z
LAST-MODIFIED:20161030T183729Z
UID:10000770-1477729800-1477735200@www.racetime.info
SUMMARY:Run For Your Life! 5K Run/Walk
DESCRIPTION:Run For Your Life! 5K Age Group Results\n\nRun For Your Life! 5K Overall Results\n\nRun For Your Life! D118 Overall Results
URL:https://www.racetime.info/event/run-for-your-life-5k-runwalk/
LOCATION:Matthews Middle School\, 3500 Darrell Road\, Island Lake\, IL\, 60042\, United States
CATEGORIES:2016-10 Results (October)
ORGANIZER;CN="Jennifer Vogler":MAILTO:voglerhouse@aol.com
GEO:42.2806237;-88.1811081
X-APPLE-STRUCTURED-LOCATION;VALUE=URI;X-ADDRESS=Matthews Middle School 3500 Darrell Road Island Lake IL 60042 United States;X-APPLE-RADIUS=500;X-TITLE=3500 Darrell Road:geo:-88.1811081,42.2806237
END:VEVENT
BEGIN:VEVENT
DTSTART;TZID=America/Chicago:20161029T080000
DTEND;TZID=America/Chicago:20161029T100000
DTSTAMP:20260423T224131
CREATED:20160805T113400Z
LAST-MODIFIED:20161029T195521Z
UID:10000302-1477728000-1477735200@www.racetime.info
SUMMARY:Schaumburg Christian School 5K Run/Walk & 1K Youth Run
DESCRIPTION:Schaumburg Christian 1K Grade Level Results\n\nSchaumburg Christian 1K Overall Results\n\nSchaumburg Christian 5K Age Group Results\n\nSchaumburg Christian 5K Overall Results
URL:https://www.racetime.info/event/schaumburg-christian-school-5k-runwalk-1k-youth-run/
LOCATION:Schaumburg Christian School\, 200 North Roselle Road\, Schaumburg\, IL\, 60194\, United States
CATEGORIES:2016-10 Results (October)
ORGANIZER;CN="Josh Washburn":MAILTO:joshwashburn@bethelministries.org
GEO:42.0322042;-88.0809195
X-APPLE-STRUCTURED-LOCATION;VALUE=URI;X-ADDRESS=Schaumburg Christian School 200 North Roselle Road Schaumburg IL 60194 United States;X-APPLE-RADIUS=500;X-TITLE=200 North Roselle Road:geo:-88.0809195,42.0322042
END:VEVENT
BEGIN:VEVENT
DTSTART;TZID=America/Chicago:20161023T100000
DTEND;TZID=America/Chicago:20161023T120000
DTSTAMP:20260423T224131
CREATED:20160809T011705Z
LAST-MODIFIED:20161023T211729Z
UID:10000303-1477216800-1477224000@www.racetime.info
SUMMARY:Jones College Prep Eagle 5K Run/Walk
DESCRIPTION:Eagle 5K Overall Results by Division\n\nEagle 5K Overall Results
URL:https://www.racetime.info/event/jones-college-prep-eagle-5k-runwalk/
LOCATION:Washington Park\, Pool & Russell Drive\, Chicago\, IL\, United States
CATEGORIES:2016-10 Results (October)
ORGANIZER;CN="Sarah Renz":MAILTO:sarah.renz@friendsofjones.org
GEO:41.7929062;-87.6134155
X-APPLE-STRUCTURED-LOCATION;VALUE=URI;X-ADDRESS=Washington Park Pool & Russell Drive Chicago IL United States;X-APPLE-RADIUS=500;X-TITLE=Pool & Russell Drive:geo:-87.6134155,41.7929062
END:VEVENT
BEGIN:VEVENT
DTSTART;TZID=America/Chicago:20161023T080000
DTEND;TZID=America/Chicago:20161023T100000
DTSTAMP:20260423T224131
CREATED:20161011T172038Z
LAST-MODIFIED:20161023T162425Z
UID:10000849-1477209600-1477216800@www.racetime.info
SUMMARY:Resurrection Mary 5K Run/Walk
DESCRIPTION:Resurrection Mary 5K Age Group Results\n\nResurrection Mary 5K Overall Results
URL:https://www.racetime.info/event/resurrection-mary-5k-runwalk-2/
LOCATION:Commissioners Park\, 7747 S. Oak Grove Avenue\, Justice\, IL\, 60458\, United States
CATEGORIES:2016-10 Results (October)
ORGANIZER;CN="Angela Krejci":MAILTO:akrejci@isd209.org
GEO:41.7500343;-87.8403006
X-APPLE-STRUCTURED-LOCATION;VALUE=URI;X-ADDRESS=Commissioners Park 7747 S. Oak Grove Avenue Justice IL 60458 United States;X-APPLE-RADIUS=500;X-TITLE=7747 S. Oak Grove Avenue:geo:-87.8403006,41.7500343
END:VEVENT
BEGIN:VEVENT
DTSTART;TZID=America/Chicago:20161022T093000
DTEND;TZID=America/Chicago:20161022T100000
DTSTAMP:20260423T224131
CREATED:20160708T113351Z
LAST-MODIFIED:20161022T211427Z
UID:10000285-1477128600-1477130400@www.racetime.info
SUMMARY:Elgin Zombie Run
DESCRIPTION:Zombie 5K Age Group Results\n\nZombie 5K Overall Results\n\nZombie Walk
URL:https://www.racetime.info/event/elgin-zombie-run/
LOCATION:Downtown Elgin\, Kimball Street & Grove\, Elgin\, IL\, 60124\, United States
CATEGORIES:2016-10 Results (October)
ORGANIZER;CN="Tim Williams":MAILTO:wiley5krun@gmail.com
GEO:42.0416694;-88.2868417
X-APPLE-STRUCTURED-LOCATION;VALUE=URI;X-ADDRESS=Downtown Elgin Kimball Street & Grove Elgin IL 60124 United States;X-APPLE-RADIUS=500;X-TITLE=Kimball Street & Grove:geo:-88.2868417,42.0416694
END:VEVENT
BEGIN:VEVENT
DTSTART;TZID=America/Chicago:20161022T090000
DTEND;TZID=America/Chicago:20161022T110000
DTSTAMP:20260423T224131
CREATED:20160822T234305Z
LAST-MODIFIED:20161022T210955Z
UID:10000763-1477126800-1477134000@www.racetime.info
SUMMARY:Howl Through The Hills 5K Run/Walk & Kids Dash
DESCRIPTION:Howl Through The Hills 5K Age Group Results\n\nHowl Through The Hills 5K Overall Results
URL:https://www.racetime.info/event/howl-through-the-hills-5k-runwalk-kids-dash/
LOCATION:Hickory Hills City Hall\, 8652 West 95th Street\, Hickory Hills\, IL\, 60457\, United States
CATEGORIES:2016-10 Results (October)
ORGANIZER;CN="Mary Esposito":MAILTO:mesposito@hickoryhillsil.org
GEO:41.7185263;-87.8344458
X-APPLE-STRUCTURED-LOCATION;VALUE=URI;X-ADDRESS=Hickory Hills City Hall 8652 West 95th Street Hickory Hills IL 60457 United States;X-APPLE-RADIUS=500;X-TITLE=8652 West 95th Street:geo:-87.8344458,41.7185263
END:VEVENT
BEGIN:VEVENT
DTSTART;TZID=America/Chicago:20161022T090000
DTEND;TZID=America/Chicago:20161022T110000
DTSTAMP:20260423T224131
CREATED:20160426T173621Z
LAST-MODIFIED:20161022T212444Z
UID:10000621-1477126800-1477134000@www.racetime.info
SUMMARY:Batfest 5K Run/Walk; 10K Run & Kids Fun Run
DESCRIPTION:5K Results:  http://www.itsyourrace.com/results.aspx?id=8402 \n\n10K Results: http://www.itsyourrace.com/Results.aspx?&id=8402&y=0&eid=41597&g=A&amin=0&amax=99&s=&srch=
URL:https://www.racetime.info/event/batfest-5k-runwalk-10k-run-kids-fun-run/
LOCATION:Downtown Batavia\, N. River Street\, Batavia\, IL\, 60510\, United States
CATEGORIES:2016-10 Results (October)
ORGANIZER;CN="Melinda Kintz":MAILTO:info@bataviaunitedway.org
GEO:41.850673;-88.3060173
X-APPLE-STRUCTURED-LOCATION;VALUE=URI;X-ADDRESS=Downtown Batavia N. River Street Batavia IL 60510 United States;X-APPLE-RADIUS=500;X-TITLE=N. River Street:geo:-88.3060173,41.850673
END:VEVENT
BEGIN:VEVENT
DTSTART;TZID=America/Chicago:20161022T083000
DTEND;TZID=America/Chicago:20161022T110000
DTSTAMP:20260423T224131
CREATED:20160802T195820Z
LAST-MODIFIED:20161022T212134Z
UID:10000749-1477125000-1477134000@www.racetime.info
SUMMARY:St. Bede Halloween Hustle: 1M; 5K & 10K
DESCRIPTION:Halloween Hustle Youth Run\n\nHalloween Hustle 5K Age Group Results\n\nHalloween Hustle 5K Overall Results\n\nHalloween Hustle 10K Age Group Results\n\nHalloween Hustle 10K Overall Results\n\nHalloween Hustle Puppy Results
URL:https://www.racetime.info/event/st-bede-halloween-hustle-1m-5k-10k/
LOCATION:Grant Woods Forest Preserve\, 25405 West Monaville Road\, Ingleside\, IL\, 60041\, United States
CATEGORIES:2016-10 Results (October)
ORGANIZER;CN="Tina Lutzke":MAILTO:tinalutzke@hotmail.com
GEO:42.399051;-88.128126
X-APPLE-STRUCTURED-LOCATION;VALUE=URI;X-ADDRESS=Grant Woods Forest Preserve 25405 West Monaville Road Ingleside IL 60041 United States;X-APPLE-RADIUS=500;X-TITLE=25405 West Monaville Road:geo:-88.128126,42.399051
END:VEVENT
BEGIN:VEVENT
DTSTART;TZID=America/Chicago:20161022T080000
DTEND;TZID=America/Chicago:20161022T100000
DTSTAMP:20260423T224131
CREATED:20160615T010003Z
LAST-MODIFIED:20161022T211619Z
UID:10000689-1477123200-1477130400@www.racetime.info
SUMMARY:Compass to Care's 5K Run/Walk
DESCRIPTION:Compass to Care 5K Age Group Results\n\nCompass to Care 5K Overall Results
URL:https://www.racetime.info/event/compass-to-cares-5k-runwalk/
LOCATION:Hodge Park\, 101 Courtland Avenue\, Park Ridge\, IL\, 60068\, United States
CATEGORIES:2016-10 Results (October)
ORGANIZER;CN="Anna Polyak":MAILTO:info@compasstocare.org
GEO:42.0093129;-87.831126
X-APPLE-STRUCTURED-LOCATION;VALUE=URI;X-ADDRESS=Hodge Park 101 Courtland Avenue Park Ridge IL 60068 United States;X-APPLE-RADIUS=500;X-TITLE=101 Courtland Avenue:geo:-87.831126,42.0093129
END:VEVENT
BEGIN:VEVENT
DTSTART;TZID=America/Chicago:20161019T173000
DTEND;TZID=America/Chicago:20161019T190000
DTSTAMP:20260423T224131
CREATED:20161020T014022Z
LAST-MODIFIED:20161020T153748Z
UID:10000865-1476898200-1476903600@www.racetime.info
SUMMARY:Schaumburg Wellness 5K Run/Walk (Private)
DESCRIPTION:Schaumburg Wellness 5K Run and Walk Overall Results
URL:https://www.racetime.info/event/schaumburg-wellness-5k-runwalk-private/
LOCATION:Schaumburg Park District\, 1411 W. Irving Park Road\, Schaumburg\, IL\, 60193\, United States
CATEGORIES:2016-10 Results (October)
ORGANIZER;CN="Julie McArthur":MAILTO:jumcarthur@parkfun.con
GEO:42.0045162;-88.1400764
X-APPLE-STRUCTURED-LOCATION;VALUE=URI;X-ADDRESS=Schaumburg Park District 1411 W. Irving Park Road Schaumburg IL 60193 United States;X-APPLE-RADIUS=500;X-TITLE=1411 W. Irving Park Road:geo:-88.1400764,42.0045162
END:VEVENT
BEGIN:VEVENT
DTSTART;TZID=America/Chicago:20161016T100000
DTEND;TZID=America/Chicago:20161016T120000
DTSTAMP:20260423T224131
CREATED:20160809T115837Z
LAST-MODIFIED:20161016T165717Z
UID:10000294-1476612000-1476619200@www.racetime.info
SUMMARY:Hairy Buzz 10K Run
DESCRIPTION:Hairy Buzz 10K Age Group Results\n\nHairy Buzz 10K Overall Results\n\nHairy Buzz 10K Relay Results
URL:https://www.racetime.info/event/hairy-buzz-10k-run-2/
LOCATION:Studio 404 Salon\, 112 E. Fellows\, Dixon\, IL\, 61021\, United States
CATEGORIES:2016-10 Results (October)
ORGANIZER;CN="Stacia Staples":MAILTO:stylist404@hotmail.com
GEO:41.8493243;-89.4845399
X-APPLE-STRUCTURED-LOCATION;VALUE=URI;X-ADDRESS=Studio 404 Salon 112 E. Fellows Dixon IL 61021 United States;X-APPLE-RADIUS=500;X-TITLE=112 E. Fellows:geo:-89.4845399,41.8493243
END:VEVENT
BEGIN:VEVENT
DTSTART;TZID=America/Chicago:20161016T100000
DTEND;TZID=America/Chicago:20161016T120000
DTSTAMP:20260423T224131
CREATED:20160701T011407Z
LAST-MODIFIED:20161016T181005Z
UID:10000280-1476612000-1476619200@www.racetime.info
SUMMARY:Duncan Dash 5K & Youth Run
DESCRIPTION:Duncan Dash 5K Age Group Results\n\nDuncan Dash 5K Overall Results
URL:https://www.racetime.info/event/duncan-dash-5k-youth-run/
LOCATION:YMCA Camp Duncan\, 32405 N. HIghway 12\, Volo\, IL\, 60041\, United States
CATEGORIES:2016-10 Results (October)
ORGANIZER;CN="Danielle Kiessel":MAILTO:dkiessel@ymcachicago.org
GEO:42.3388339;-88.1584637
X-APPLE-STRUCTURED-LOCATION;VALUE=URI;X-ADDRESS=YMCA Camp Duncan 32405 N. HIghway 12 Volo IL 60041 United States;X-APPLE-RADIUS=500;X-TITLE=32405 N. HIghway 12:geo:-88.1584637,42.3388339
END:VEVENT
BEGIN:VEVENT
DTSTART;TZID=America/Chicago:20161016T090000
DTEND;TZID=America/Chicago:20161016T110000
DTSTAMP:20260423T224131
CREATED:20160725T004041Z
LAST-MODIFIED:20161016T163524Z
UID:10000729-1476608400-1476615600@www.racetime.info
SUMMARY:Cardinal Chase 5K Run/Walk & 1 Mile Youth Run
DESCRIPTION:5K:  http://www.itsyourrace.com/Results.aspx?&id=8361&y=0&eid=41323&g=A&amin=0&amax=99&s=&srch=\n\n1K:  http://www.itsyourrace.com/Results.aspx?&id=8361&y=0&eid=41324&g=A&amin=0&amax=99&s=&srch=
URL:https://www.racetime.info/event/cardinal-chase-5k-runwalk-1-mile-youth-run/
LOCATION:Moraine Valley Community College\, 9000 W. College Pkwy\, Palos Hills\, IL\, 60465\, United States
CATEGORIES:2016-10 Results (October)
ORGANIZER;CN="Karen McLean":MAILTO:karenmclean64@gmail.com
GEO:41.6932523;-87.8354241
X-APPLE-STRUCTURED-LOCATION;VALUE=URI;X-ADDRESS=Moraine Valley Community College 9000 W. College Pkwy Palos Hills IL 60465 United States;X-APPLE-RADIUS=500;X-TITLE=9000 W. College Pkwy:geo:-87.8354241,41.6932523
END:VEVENT
BEGIN:VEVENT
DTSTART;TZID=America/Chicago:20161016T080000
DTEND;TZID=America/Chicago:20161016T100000
DTSTAMP:20260423T224131
CREATED:20160903T025036Z
LAST-MODIFIED:20161016T155229Z
UID:10000809-1476604800-1476612000@www.racetime.info
SUMMARY:D211 Fun"d" 5K Run/Walk
DESCRIPTION:D211 FunD 5K Age Groups Results\n\nD211 FunD 5K Overall Results\n\nD211 FunD 5K Team Results
URL:https://www.racetime.info/event/d211-fund-5k-runwalk/
LOCATION:Palatine High School\, 1111 Rohlwing Road\, Palatine\, IL\, 60074\, United States
CATEGORIES:2016-10 Results (October)
ORGANIZER;CN="Lisa Czepiel":MAILTO:lczepiel.ad@comcast.net
GEO:42.1334251;-88.0240434
X-APPLE-STRUCTURED-LOCATION;VALUE=URI;X-ADDRESS=Palatine High School 1111 Rohlwing Road Palatine IL 60074 United States;X-APPLE-RADIUS=500;X-TITLE=1111 Rohlwing Road:geo:-88.0240434,42.1334251
END:VEVENT
BEGIN:VEVENT
DTSTART;TZID=America/Chicago:20161015T093000
DTEND;TZID=America/Chicago:20161015T113000
DTSTAMP:20260423T224131
CREATED:20160728T003443Z
LAST-MODIFIED:20161015T210645Z
UID:10000742-1476523800-1476531000@www.racetime.info
SUMMARY:Spooky Sprint 5K Run
DESCRIPTION:Spooky Sprint 5K Age Group Results\n\nSpooky Sprint 5K Overall Results
URL:https://www.racetime.info/event/spooky-sprint-5k-run/
LOCATION:St. George School\, 6700 W. 176th Street\, Tinley Park\, IL\, 60477\, United States
CATEGORIES:2016-10 Results (October)
ORGANIZER;CN="Marie Lewis":MAILTO:marieradtke@yahoo.com
GEO:41.5722754;-87.7821722
X-APPLE-STRUCTURED-LOCATION;VALUE=URI;X-ADDRESS=St. George School 6700 W. 176th Street Tinley Park IL 60477 United States;X-APPLE-RADIUS=500;X-TITLE=6700 W. 176th Street:geo:-87.7821722,41.5722754
END:VEVENT
BEGIN:VEVENT
DTSTART;TZID=America/Chicago:20161015T090000
DTEND;TZID=America/Chicago:20161015T110000
DTSTAMP:20260423T224131
CREATED:20160831T234108Z
LAST-MODIFIED:20161015T213216Z
UID:10000786-1476522000-1476529200@www.racetime.info
SUMMARY:Fall Classic 5K Run & 2K Walk
DESCRIPTION:2K Overall Results\n\n5K Age Group Results\n\n5K Overall Results
URL:https://www.racetime.info/event/fall-classic-5k-run-2k-walk/
LOCATION:LeRoy Oakes Forest Preserve\, 37W584 Dean Street\, St. Charles\, IL\, 60175\, United States
CATEGORIES:2016-10 Results (October)
ORGANIZER;CN="MIke Dorrance":MAILTO:racetime21@hotmail.com
GEO:41.929212;-88.352091
X-APPLE-STRUCTURED-LOCATION;VALUE=URI;X-ADDRESS=LeRoy Oakes Forest Preserve 37W584 Dean Street St. Charles IL 60175 United States;X-APPLE-RADIUS=500;X-TITLE=37W584 Dean Street:geo:-88.352091,41.929212
END:VEVENT
BEGIN:VEVENT
DTSTART;TZID=America/Chicago:20161015T083000
DTEND;TZID=America/Chicago:20161015T110000
DTSTAMP:20260423T224131
CREATED:20160910T003136Z
LAST-MODIFIED:20161015T233117Z
UID:10000338-1476520200-1476529200@www.racetime.info
SUMMARY:Grand Prairie Run For Your Life! 5K and Dash With The Cats 1 Mile Run
DESCRIPTION:Dash with the Cats 1 Mile Age Group Results\n\nDash with the Cats 1 Mile Overall Results\n\nGrand Prairie 5K Age Group Results\n\nGrand Prairie 5K Overall Results
URL:https://www.racetime.info/event/grand-prairie-run-for-your-life-5k-and-dash-with-the-cats-1-mile-run/
LOCATION:Grand Prairie Elementary School\, 3100 Caton Farm Road\, Joliet\, IL\, 60431\, United States
CATEGORIES:2016-10 Results (October)
ORGANIZER;CN="Linda Salkas":MAILTO:grandprairie5k@gmail.com
GEO:41.5654379;-88.1643594
X-APPLE-STRUCTURED-LOCATION;VALUE=URI;X-ADDRESS=Grand Prairie Elementary School 3100 Caton Farm Road Joliet IL 60431 United States;X-APPLE-RADIUS=500;X-TITLE=3100 Caton Farm Road:geo:-88.1643594,41.5654379
END:VEVENT
BEGIN:VEVENT
DTSTART;TZID=America/Chicago:20161015T083000
DTEND;TZID=America/Chicago:20161015T100000
DTSTAMP:20260423T224131
CREATED:20160903T163305Z
LAST-MODIFIED:20161015T213334Z
UID:10000332-1476520200-1476525600@www.racetime.info
SUMMARY:The St. Chris 5K Run/Walk
DESCRIPTION:St. Chris 5K Overall Results
URL:https://www.racetime.info/event/the-st-chris-5k-runwalk-2/
LOCATION:St. Christopher School\, 4130 W. 147th Street\, Midlothian\, IL\, 60445\, United States
CATEGORIES:2016-10 Results (October)
ORGANIZER;CN="Joe Alfano":MAILTO:info@stchrisschool.org
GEO:41.6257534;-87.7221261
X-APPLE-STRUCTURED-LOCATION;VALUE=URI;X-ADDRESS=St. Christopher School 4130 W. 147th Street Midlothian IL 60445 United States;X-APPLE-RADIUS=500;X-TITLE=4130 W. 147th Street:geo:-87.7221261,41.6257534
END:VEVENT
BEGIN:VEVENT
DTSTART;TZID=America/Chicago:20161008T100000
DTEND;TZID=America/Chicago:20161008T120000
DTSTAMP:20260423T224131
CREATED:20160815T120213Z
LAST-MODIFIED:20161008T200811Z
UID:10000752-1475920800-1475928000@www.racetime.info
SUMMARY:Oktoberfest 5K Run/Walk
DESCRIPTION:Oktoberfest 5K Age Group Results\n\nOktoberfest 5K Overall Results
URL:https://www.racetime.info/event/oktoberfest-5k-runwalk/
LOCATION:Comprehensive Pain and Wellness\, 3525 N. State Route 47\, Morris\, IL\, 60450\, United States
CATEGORIES:2016-10 Results (October)
ORGANIZER;CN="Kelly Lesemann":MAILTO:comprehensivepainandwellness@gmail.com
GEO:41.3362483;-88.4218618
X-APPLE-STRUCTURED-LOCATION;VALUE=URI;X-ADDRESS=Comprehensive Pain and Wellness 3525 N. State Route 47 Morris IL 60450 United States;X-APPLE-RADIUS=500;X-TITLE=3525 N. State Route 47:geo:-88.4218618,41.3362483
END:VEVENT
BEGIN:VEVENT
DTSTART;TZID=America/Chicago:20161008T090000
DTEND;TZID=America/Chicago:20161008T110000
DTSTAMP:20260423T224131
CREATED:20160906T031840Z
LAST-MODIFIED:20161008T200321Z
UID:10000336-1475917200-1475924400@www.racetime.info
SUMMARY:D91 5K Fun Run
DESCRIPTION:D91 Age Group Results\n\nD91 Overall Results
URL:https://www.racetime.info/event/d91-5k-fun-run/
LOCATION:Kelvin Grove School\, 808 Adams Street\, Lockport\, IL\, 60441\, United States
CATEGORIES:2016-10 Results (October)
ORGANIZER;CN="Lia Ditter":MAILTO:lditter@d91.et
GEO:41.5879962;-88.0412931
X-APPLE-STRUCTURED-LOCATION;VALUE=URI;X-ADDRESS=Kelvin Grove School 808 Adams Street Lockport IL 60441 United States;X-APPLE-RADIUS=500;X-TITLE=808 Adams Street:geo:-88.0412931,41.5879962
END:VEVENT
BEGIN:VEVENT
DTSTART;TZID=America/Chicago:20161002T090000
DTEND;TZID=America/Chicago:20161002T110000
DTSTAMP:20260423T224131
CREATED:20160902T120043Z
LAST-MODIFIED:20161002T181001Z
UID:10000798-1475398800-1475406000@www.racetime.info
SUMMARY:Fox Chase 5K Run/Walk & 1 Mile Youth Run
DESCRIPTION:Fox Chase 1 Mile Youth Age Group Results\n\nFox Chase 1 Mile Youth Overall Results\n\nFox Chase 5K Age Group Results\n\nFox Chase 5K Overall Results\n\nFox Chase Team Results
URL:https://www.racetime.info/event/fox-chase-5k-runwalk-1-mile-youth-run/
LOCATION:Stanger Park\, 257 Lexington Road\, Fox River Grove\, IL\, 60021\, United States
CATEGORIES:2016-10 Results (October)
ORGANIZER;CN="Sheri Sepeczi":MAILTO:sepeczi@ameritech.net
GEO:42.1958967;-88.2116426
X-APPLE-STRUCTURED-LOCATION;VALUE=URI;X-ADDRESS=Stanger Park 257 Lexington Road Fox River Grove IL 60021 United States;X-APPLE-RADIUS=500;X-TITLE=257 Lexington Road:geo:-88.2116426,42.1958967
END:VEVENT
BEGIN:VEVENT
DTSTART;TZID=America/Chicago:20161002T090000
DTEND;TZID=America/Chicago:20161002T110000
DTSTAMP:20260423T224131
CREATED:20160124T025322Z
LAST-MODIFIED:20161004T003109Z
UID:10000174-1475398800-1475406000@www.racetime.info
SUMMARY:Histio Heroes 5K Run/Walk
DESCRIPTION:Histio Heroes Fun Run\n\nHistio Heroes 5K Histio Warriors\n\nHistio Heroes 5K Age Group Results\n\nHistio Heroes 5K Overall Results
URL:https://www.racetime.info/event/histio-heroes-5k-runwalk-2/
LOCATION:Downtown Batavia\, 21 North Water River Street\, Batavia\, IL\, 60510\, United States
CATEGORIES:2016-10 Results (October)
ORGANIZER;CN="Pamela Kurtz":MAILTO:histioheroes@yahoo.com
GEO:41.853407;-88.3092422
X-APPLE-STRUCTURED-LOCATION;VALUE=URI;X-ADDRESS=Downtown Batavia 21 North Water River Street Batavia IL 60510 United States;X-APPLE-RADIUS=500;X-TITLE=21 North Water River Street:geo:-88.3092422,41.853407
END:VEVENT
BEGIN:VEVENT
DTSTART;TZID=America/Chicago:20161002T080000
DTEND;TZID=America/Chicago:20161002T110000
DTSTAMP:20260423T224131
CREATED:20160217T195555Z
LAST-MODIFIED:20161002T175936Z
UID:10000207-1475395200-1475406000@www.racetime.info
SUMMARY:Mane In Heaven Trot A Thon 5K Run/Walk & 1 Mile Fun Run/Walk
DESCRIPTION:Trot a Thon 5K Age Group Results\n\nTrot a Thon 5K Overall Results
URL:https://www.racetime.info/event/mane-in-heaven-trot-a-thon-5k-runwalk/
LOCATION:Silver Lining Equestrian\, 1109 Pyott Road\, Lake In The Hills\, IL\, 60156\, United States
CATEGORIES:2016-10 Results (October)
ORGANIZER;CN="Mane In Heaven Board of Directors":MAILTO:events@maneinheaven.org
GEO:42.1862141;-88.3061036
X-APPLE-STRUCTURED-LOCATION;VALUE=URI;X-ADDRESS=Silver Lining Equestrian 1109 Pyott Road Lake In The Hills IL 60156 United States;X-APPLE-RADIUS=500;X-TITLE=1109 Pyott Road:geo:-88.3061036,42.1862141
END:VEVENT
BEGIN:VEVENT
DTSTART;TZID=America/Chicago:20161002T080000
DTEND;TZID=America/Chicago:20161002T100000
DTSTAMP:20260423T224131
CREATED:20160401T015329Z
LAST-MODIFIED:20161002T175411Z
UID:10000598-1475395200-1475402400@www.racetime.info
SUMMARY:Alexandra's Ambition Foundation 5K Run/Walk
DESCRIPTION:Alex’s Ambition 5K Age Group Results\n\nAlex’s Ambition 5K Overall Results
URL:https://www.racetime.info/event/alexandras-ambition-foundation-5k-runwalk/
LOCATION:Konow’s Corn Maze\, 16849 S. Cedar Road\, Homer Glen\, IL\, 60491\, United States
CATEGORIES:2016-10 Results (October)
ORGANIZER;CN="Sheila Hughes":MAILTO:sej327@aol.com
GEO:41.5814457;-87.9776741
X-APPLE-STRUCTURED-LOCATION;VALUE=URI;X-ADDRESS=Konow’s Corn Maze 16849 S. Cedar Road Homer Glen IL 60491 United States;X-APPLE-RADIUS=500;X-TITLE=16849 S. Cedar Road:geo:-87.9776741,41.5814457
END:VEVENT
BEGIN:VEVENT
DTSTART;TZID=America/Chicago:20161001T093000
DTEND;TZID=America/Chicago:20161001T120000
DTSTAMP:20260423T224131
CREATED:20161001T203707Z
LAST-MODIFIED:20161004T171920Z
UID:10000845-1475314200-1475323200@www.racetime.info
SUMMARY:River Trails Challenge 2K Youth Obstacle
DESCRIPTION:River Trails Challenge Youth Obstacle 2K
URL:https://www.racetime.info/event/river-trails-challenge-2k-youth-obstacle/
LOCATION:Weiss Community Center\, 1500 E. Euclid Avenue\, Mt. Prospect\, IL\, United States
CATEGORIES:2016-10 Results (October)
GEO:42.0881263;-87.9103874
X-APPLE-STRUCTURED-LOCATION;VALUE=URI;X-ADDRESS=Weiss Community Center 1500 E. Euclid Avenue Mt. Prospect IL United States;X-APPLE-RADIUS=500;X-TITLE=1500 E. Euclid Avenue:geo:-87.9103874,42.0881263
END:VEVENT
BEGIN:VEVENT
DTSTART;TZID=America/Chicago:20161001T093000
DTEND;TZID=America/Chicago:20161001T110000
DTSTAMP:20260423T224131
CREATED:20160902T012939Z
LAST-MODIFIED:20161001T220008Z
UID:10000791-1475314200-1475319600@www.racetime.info
SUMMARY:Old Plank Road Trail 5K Run & Walk
DESCRIPTION:Old Plank Road 5K Run Age Group Results\n\nOld Plank Road 5K Run Overall Results\n\nOld Plank Road 5K Walk Age Group Results\n\nOld Plank Road 5K Walk Overall Results
URL:https://www.racetime.info/event/old-plank-road-trail-5k-run-walk/
LOCATION:Breidert Green Park\, 432 W. Nebraska\, Frankfort\, IL\, 60423\, United States
CATEGORIES:2016-10 Results (October)
ORGANIZER;CN="Susan Lynchey":MAILTO:slynchey@vofil.com
GEO:41.4974227;-87.8607917
X-APPLE-STRUCTURED-LOCATION;VALUE=URI;X-ADDRESS=Breidert Green Park 432 W. Nebraska Frankfort IL 60423 United States;X-APPLE-RADIUS=500;X-TITLE=432 W. Nebraska:geo:-87.8607917,41.4974227
END:VEVENT
BEGIN:VEVENT
DTSTART;TZID=America/Chicago:20161001T090000
DTEND;TZID=America/Chicago:20161001T110000
DTSTAMP:20260423T224131
CREATED:20160902T012607Z
LAST-MODIFIED:20161003T114035Z
UID:10000789-1475312400-1475319600@www.racetime.info
SUMMARY:Head for Safety (Miles For James) 5K Run/Walk
DESCRIPTION:MFJ: Head for Safety 5K Age Group Results\n\nMFJ: Head for Safety 5K Overall Results
URL:https://www.racetime.info/event/head-for-safety-miles-for-james-5k-runwalk/
LOCATION:Family Harvest Church\, 18500 92nd Avenue\, Tinley Park\, IL\, 60487\, United States
CATEGORIES:2016-10 Results (October)
ORGANIZER;CN="Joni Javier":MAILTO:info@milesforjames.com
GEO:41.5543733;-87.8430733
X-APPLE-STRUCTURED-LOCATION;VALUE=URI;X-ADDRESS=Family Harvest Church 18500 92nd Avenue Tinley Park IL 60487 United States;X-APPLE-RADIUS=500;X-TITLE=18500 92nd Avenue:geo:-87.8430733,41.5543733
END:VEVENT
BEGIN:VEVENT
DTSTART;TZID=America/Chicago:20161001T090000
DTEND;TZID=America/Chicago:20161001T110000
DTSTAMP:20260423T224131
CREATED:20160901T114927Z
LAST-MODIFIED:20161001T220247Z
UID:10000787-1475312400-1475319600@www.racetime.info
SUMMARY:NAMI Run For Mental Health 5K Run/Walk
DESCRIPTION:NAMI 5K Age Group Results\n\nNAMI 5K Overall Results
URL:https://www.racetime.info/event/nami-5k-runwalk/
LOCATION:Peg Bond Center\, 151 N. Island Avenue\, Batavia\, IL\, 60510\, United States
CATEGORIES:2016-10 Results (October)
ORGANIZER;CN="Michelle McNish":MAILTO:nami5kinfo@gmail.com
GEO:41.853407;-88.3092422
X-APPLE-STRUCTURED-LOCATION;VALUE=URI;X-ADDRESS=Peg Bond Center 151 N. Island Avenue Batavia IL 60510 United States;X-APPLE-RADIUS=500;X-TITLE=151 N. Island Avenue:geo:-88.3092422,41.853407
END:VEVENT
END:VCALENDAR