BEGIN:VCALENDAR
VERSION:2.0
PRODID:-//Race Time - ECPv6.15.13//NONSGML v1.0//EN
CALSCALE:GREGORIAN
METHOD:PUBLISH
X-ORIGINAL-URL:https://www.racetime.info
X-WR-CALDESC:Events for Race Time
REFRESH-INTERVAL;VALUE=DURATION:PT1H
X-Robots-Tag:noindex
X-PUBLISHED-TTL:PT1H
BEGIN:VTIMEZONE
TZID:America/Chicago
BEGIN:DAYLIGHT
TZOFFSETFROM:-0600
TZOFFSETTO:-0500
TZNAME:CDT
DTSTART:20160313T080000
END:DAYLIGHT
BEGIN:STANDARD
TZOFFSETFROM:-0500
TZOFFSETTO:-0600
TZNAME:CST
DTSTART:20161106T070000
END:STANDARD
BEGIN:DAYLIGHT
TZOFFSETFROM:-0600
TZOFFSETTO:-0500
TZNAME:CDT
DTSTART:20170312T080000
END:DAYLIGHT
BEGIN:STANDARD
TZOFFSETFROM:-0500
TZOFFSETTO:-0600
TZNAME:CST
DTSTART:20171105T070000
END:STANDARD
BEGIN:DAYLIGHT
TZOFFSETFROM:-0600
TZOFFSETTO:-0500
TZNAME:CDT
DTSTART:20180311T080000
END:DAYLIGHT
BEGIN:STANDARD
TZOFFSETFROM:-0500
TZOFFSETTO:-0600
TZNAME:CST
DTSTART:20181104T070000
END:STANDARD
END:VTIMEZONE
BEGIN:VEVENT
DTSTART;TZID=America/Chicago:20170430T093000
DTEND;TZID=America/Chicago:20170430T110000
DTSTAMP:20260424T011825
CREATED:20170423T130617Z
LAST-MODIFIED:20170430T174805Z
UID:10001333-1493544600-1493550000@www.racetime.info
SUMMARY:Helen Keller 5K Run/Walk
DESCRIPTION:Helen Keller 5K Age Group Results\n\nHelen Keller 5K Overall Results
URL:https://www.racetime.info/event/helen-keller-5k-runwalk-2/
LOCATION:Richards High School\, 10601 Central Avenue\, Oak Lawn\, IL\, 60453\, United States
CATEGORIES:2017-04 Results (April)
ORGANIZER;CN="Chris Coleman":MAILTO:coleman5726@comcast.net
GEO:41.6990522;-87.7577097
X-APPLE-STRUCTURED-LOCATION;VALUE=URI;X-ADDRESS=Richards High School 10601 Central Avenue Oak Lawn IL 60453 United States;X-APPLE-RADIUS=500;X-TITLE=10601 Central Avenue:geo:-87.7577097,41.6990522
END:VEVENT
BEGIN:VEVENT
DTSTART;TZID=America/Chicago:20170430T080000
DTEND;TZID=America/Chicago:20170430T100000
DTSTAMP:20260424T011825
CREATED:20170206T064622Z
LAST-MODIFIED:20170430T172321Z
UID:10000387-1493539200-1493546400@www.racetime.info
SUMMARY:Run For Lights 5K Run/Walk; 10K Run & Kids Fun Run
DESCRIPTION:Run For Lights 5K Age Group Results\n\nRun For Lights 5K Overall Results\n\nRun For Lights 10K Age Group Results\n\nRun For Lights 10K Overall Results
URL:https://www.racetime.info/event/run-for-lights-5k-runwalk/
LOCATION:South Elgin High School\, 760 E. Main Street\, Elgin\, IL\, 60177\, United States
CATEGORIES:2017-04 Results (April)
ORGANIZER;CN="Christine Kmiec":MAILTO:ckmiec@yahoo.com
GEO:42.0009176;-88.2836443
X-APPLE-STRUCTURED-LOCATION;VALUE=URI;X-ADDRESS=South Elgin High School 760 E. Main Street Elgin IL 60177 United States;X-APPLE-RADIUS=500;X-TITLE=760 E. Main Street:geo:-88.2836443,42.0009176
END:VEVENT
BEGIN:VEVENT
DTSTART;TZID=America/Chicago:20170430T080000
DTEND;TZID=America/Chicago:20170430T100000
DTSTAMP:20260424T011825
CREATED:20170206T063944Z
LAST-MODIFIED:20170430T172117Z
UID:10000386-1493539200-1493546400@www.racetime.info
SUMMARY:Whistle While you Walk/Run 5K
DESCRIPTION:Whistle While You Walk Run For Emilio 5K
URL:https://www.racetime.info/event/whistle-while-you-walkrun-5k-2/
LOCATION:Willowbrook High School\, 1250 South Ardmore Avenue\, Villa Park\, IL\, 60181\, United States
CATEGORIES:2017-04 Results (April)
ORGANIZER;CN="Al & Lauren Perez":MAILTO:lauren438@comcast.net
GEO:41.8897519;-87.9889543
X-APPLE-STRUCTURED-LOCATION;VALUE=URI;X-ADDRESS=Willowbrook High School 1250 South Ardmore Avenue Villa Park IL 60181 United States;X-APPLE-RADIUS=500;X-TITLE=1250 South Ardmore Avenue:geo:-87.9889543,41.8897519
END:VEVENT
BEGIN:VEVENT
DTSTART;TZID=America/Chicago:20170429T090000
DTEND;TZID=America/Chicago:20170429T110000
DTSTAMP:20260424T011825
CREATED:20170222T130519Z
LAST-MODIFIED:20170430T163213Z
UID:10000428-1493456400-1493463600@www.racetime.info
SUMMARY:Shelter 5K Run/Walk 4 Kidz
DESCRIPTION:Run4Kids 5K Age Group Results\n\nRun4Kids 5K Overall Results\n\nRun4Kids 5K Clydesdale Division Overall Results\n\nRun4Kids Team Results
URL:https://www.racetime.info/event/shelter-5k-runwalk-4-kidz/
LOCATION:Busse Woods\, Groves 5-16\, Higgins Road & S. Arlington Heights Rd\, Elk Grove Village\, IL\, 60007\, United States
CATEGORIES:2017-04 Results (April)
ORGANIZER;CN="Barb Mazursky":MAILTO:bmazursky@shelter-inc.org
GEO:42.0126908;-87.9982495
X-APPLE-STRUCTURED-LOCATION;VALUE=URI;X-ADDRESS=Busse Woods Groves 5-16 Higgins Road & S. Arlington Heights Rd Elk Grove Village IL 60007 United States;X-APPLE-RADIUS=500;X-TITLE=Higgins Road & S. Arlington Heights Rd:geo:-87.9982495,42.0126908
END:VEVENT
BEGIN:VEVENT
DTSTART;TZID=America/Chicago:20170429T090000
DTEND;TZID=America/Chicago:20170429T110000
DTSTAMP:20260424T011825
CREATED:20170215T234309Z
LAST-MODIFIED:20170430T162752Z
UID:10001034-1493456400-1493463600@www.racetime.info
SUMMARY:Stagg Charger 5K Run/Walk & Color Blast Zone!
DESCRIPTION:Stagg Charger 5K Age Group Results\n\nStagg Charger 5K Overall Results\n\nStagg Charger 5K Oak Ridge Overall Results
URL:https://www.racetime.info/event/stagg-charger-5k-runwalk-color-blast-zone/
LOCATION:Amos Alonzo Stagg High School\, 8015 W. 111th Street\, Palos Hills\, IL\, 60463\, United States
CATEGORIES:2017-04 Results (April)
ORGANIZER;CN="Dan Carrier":MAILTO:dcarrier@d230.org
GEO:41.6879265;-87.8185761
X-APPLE-STRUCTURED-LOCATION;VALUE=URI;X-ADDRESS=Amos Alonzo Stagg High School 8015 W. 111th Street Palos Hills IL 60463 United States;X-APPLE-RADIUS=500;X-TITLE=8015 W. 111th Street:geo:-87.8185761,41.6879265
END:VEVENT
BEGIN:VEVENT
DTSTART;TZID=America/Chicago:20170429T090000
DTEND;TZID=America/Chicago:20170429T110000
DTSTAMP:20260424T011825
CREATED:20170214T124544Z
LAST-MODIFIED:20170430T173130Z
UID:10000415-1493456400-1493463600@www.racetime.info
SUMMARY:OHS Leukemia Lymphoma Society 5K Run/Walk
DESCRIPTION:OHS 5K Age Group Results\n\nOHS 5K Overall Results
URL:https://www.racetime.info/event/ohs-leukemia-lymphoma-society-5k-runwalk/
LOCATION:Prairie Point Park\, 4120 Plainfield Road\, Oswego\, IL\, 60543\, United States
CATEGORIES:2017-04 Results (April)
ORGANIZER;CN="Stacey Baker":MAILTO:sbaker@sd308.org
GEO:41.673332;-88.3435388
X-APPLE-STRUCTURED-LOCATION;VALUE=URI;X-ADDRESS=Prairie Point Park 4120 Plainfield Road Oswego IL 60543 United States;X-APPLE-RADIUS=500;X-TITLE=4120 Plainfield Road:geo:-88.3435388,41.673332
END:VEVENT
BEGIN:VEVENT
DTSTART;TZID=America/Chicago:20170429T090000
DTEND;TZID=America/Chicago:20170429T110000
DTSTAMP:20260424T011825
CREATED:20170209T125640Z
LAST-MODIFIED:20170430T162419Z
UID:10001006-1493456400-1493463600@www.racetime.info
SUMMARY:The Germazing Race 5K Run/Walk & Kids' Dash Obstacle Course
DESCRIPTION:Germazing 5K Age Group Results\n\nGermazing 5K Overall Results
URL:https://www.racetime.info/event/the-germazing-race-5k-runwalk-kids-dash-obstacle-course/
LOCATION:St. Germaine Parish\, 9711 S. Kolin\, Oak Lawn\, IL\, 60453\, United States
CATEGORIES:2017-04 Results (April)
ORGANIZER;CN="Jodie O'Shea":MAILTO:germazingrace@hotmail.com
GEO:41.7151965;-87.7292777
X-APPLE-STRUCTURED-LOCATION;VALUE=URI;X-ADDRESS=St. Germaine Parish 9711 S. Kolin Oak Lawn IL 60453 United States;X-APPLE-RADIUS=500;X-TITLE=9711 S. Kolin:geo:-87.7292777,41.7151965
END:VEVENT
BEGIN:VEVENT
DTSTART;TZID=America/Chicago:20170429T090000
DTEND;TZID=America/Chicago:20170429T110000
DTSTAMP:20260424T011825
CREATED:20170206T061747Z
LAST-MODIFIED:20170430T162300Z
UID:10000383-1493456400-1493463600@www.racetime.info
SUMMARY:Loop The Lakes 5K Run/Walk
DESCRIPTION:Loop The Lakes 5K Age Group Results\n\nLoop The Lake 5K Overall Results
URL:https://www.racetime.info/event/loop-the-lakes-5k-runwalk-2/
LOCATION:Century Park North Pavilion\, 1401 Indianwood Drive\, Vernon Hills\, IL\, 60061\, United States
CATEGORIES:2017-04 Results (April)
ORGANIZER;CN="Jack Scherer":MAILTO:jacks@vhparkdistrict.org
GEO:42.2374557;-87.9695504
X-APPLE-STRUCTURED-LOCATION;VALUE=URI;X-ADDRESS=Century Park North Pavilion 1401 Indianwood Drive Vernon Hills IL 60061 United States;X-APPLE-RADIUS=500;X-TITLE=1401 Indianwood Drive:geo:-87.9695504,42.2374557
END:VEVENT
BEGIN:VEVENT
DTSTART;TZID=America/Chicago:20170429T083000
DTEND;TZID=America/Chicago:20170429T100000
DTSTAMP:20260424T011825
CREATED:20170420T050023Z
LAST-MODIFIED:20170430T204023Z
UID:10000555-1493454600-1493460000@www.racetime.info
SUMMARY:Run For Rett 5K & 1 Mile Run/Walk
DESCRIPTION:Run 4 Rett 5K Age Group Results\n\nRun 4 Rett 5K Overall Results\n\nRun 4 Rett 1 Mile Overall Results
URL:https://www.racetime.info/event/run-for-rett-5k-1-mile-runwalk-2/
LOCATION:Busse Woods South\, Grove 20\, S. Arlington Heights Rd\, Elk Grove\, IL\, 60004\, United States
CATEGORIES:2017-04 Results (April)
ORGANIZER;CN="Diane Ross":MAILTO:diross62@aol.com
GEO:42.0126908;-87.9982495
X-APPLE-STRUCTURED-LOCATION;VALUE=URI;X-ADDRESS=Busse Woods South Grove 20 S. Arlington Heights Rd Elk Grove IL 60004 United States;X-APPLE-RADIUS=500;X-TITLE=S. Arlington Heights Rd:geo:-87.9982495,42.0126908
END:VEVENT
BEGIN:VEVENT
DTSTART;TZID=America/Chicago:20170429T070000
DTEND;TZID=America/Chicago:20170429T120000
DTSTAMP:20260424T011825
CREATED:20170103T203554Z
LAST-MODIFIED:20170430T185658Z
UID:10000351-1493449200-1493467200@www.racetime.info
SUMMARY:Lincoln-Way Half Marathon
DESCRIPTION:Lincoln-Way Half Marathon Age Group Results\n\nLincoln-Way Half Marathon Overall Results
URL:https://www.racetime.info/event/lincoln-way-half-marathon/
LOCATION:Breidert Green Park\, 432 W. Nebraska\, Frankfort\, IL\, 60423\, United States
CATEGORIES:2017-04 Results (April)
ORGANIZER;CN="Stacie McGlone":MAILTO:stacie.mcglone@lw210.org
GEO:41.4974227;-87.8607917
X-APPLE-STRUCTURED-LOCATION;VALUE=URI;X-ADDRESS=Breidert Green Park 432 W. Nebraska Frankfort IL 60423 United States;X-APPLE-RADIUS=500;X-TITLE=432 W. Nebraska:geo:-87.8607917,41.4974227
END:VEVENT
BEGIN:VEVENT
DTSTART;TZID=America/Chicago:20170427T100000
DTEND;TZID=America/Chicago:20170427T110000
DTSTAMP:20260424T011825
CREATED:20170427T175747Z
LAST-MODIFIED:20170427T175747Z
UID:10001356-1493287200-1493290800@www.racetime.info
SUMMARY:Youth Lawndale Police 3K Run
DESCRIPTION:Youth Police Lawndale 3K Grade Level Results\n\nYouth Police Lawndale 3K Overall Results By School\n\nYouth Police Lawndale 3K Overall Results
URL:https://www.racetime.info/event/youth-lawndale-police-3k-run/
LOCATION:Douglas Park\, 1700 S. Farrar Drive\, Chicago\, IL\, United States
CATEGORIES:2017-04 Results (April)
GEO:41.8612036;-87.696863
X-APPLE-STRUCTURED-LOCATION;VALUE=URI;X-ADDRESS=Douglas Park 1700 S. Farrar Drive Chicago IL United States;X-APPLE-RADIUS=500;X-TITLE=1700 S. Farrar Drive:geo:-87.696863,41.8612036
END:VEVENT
BEGIN:VEVENT
DTSTART;TZID=America/Chicago:20170422T100000
DTEND;TZID=America/Chicago:20170422T113000
DTSTAMP:20260424T011825
CREATED:20170420T224727Z
LAST-MODIFIED:20170422T183415Z
UID:10000548-1492855200-1492860600@www.racetime.info
SUMMARY:Race NIjUdicata 5K Run/Walk
DESCRIPTION:Race NIjUdicata 5K Age Groups Results\n\nRace NIjUdicata 5K Overall Results\n\nRace NIjUdicata 5K Overall Results by Class\n\nRace NIjUdicata Team Results
URL:https://www.racetime.info/event/race-nijudicata-5k-runwalk/
LOCATION:NIU Campus\, College of Law\, Swen Parson Hall\, DeKalb\, IL\, United States
CATEGORIES:2017-04 Results (April)
ORGANIZER;CN="Melody Mitchell":MAILTO:mmitchell@niu.edu
GEO:41.9343468;-88.7652571
X-APPLE-STRUCTURED-LOCATION;VALUE=URI;X-ADDRESS=NIU Campus College of Law Swen Parson Hall DeKalb IL United States;X-APPLE-RADIUS=500;X-TITLE=Swen Parson Hall:geo:-88.7652571,41.9343468
END:VEVENT
BEGIN:VEVENT
DTSTART;TZID=America/Chicago:20170422T080000
DTEND;TZID=America/Chicago:20170422T110000
DTSTAMP:20260424T011825
CREATED:20170206T060301Z
LAST-MODIFIED:20170422T172334Z
UID:10000392-1492848000-1492858800@www.racetime.info
SUMMARY:SVF Friars 5K\, Fun Run & Sr. Shuffle
DESCRIPTION:SVF Friars 1 Mile Overall Results\n\nSVF Friars 5k Overall Results
URL:https://www.racetime.info/event/svf-friars-5k-fun-run-sr-shuffle/
LOCATION:St. Vincent Ferrer Parish School\, 1515 N. Lathrop\, River Forest\, IL\, 60305\, United States
CATEGORIES:2017-04 Results (April)
ORGANIZER;CN="Erin Purta":MAILTO:epsvf5k@gmail.com
GEO:41.9073627;-87.8148828
X-APPLE-STRUCTURED-LOCATION;VALUE=URI;X-ADDRESS=St. Vincent Ferrer Parish School 1515 N. Lathrop River Forest IL 60305 United States;X-APPLE-RADIUS=500;X-TITLE=1515 N. Lathrop:geo:-87.8148828,41.9073627
END:VEVENT
BEGIN:VEVENT
DTSTART;TZID=America/Chicago:20170422T080000
DTEND;TZID=America/Chicago:20170422T110000
DTSTAMP:20260424T011825
CREATED:20170206T054923Z
LAST-MODIFIED:20170422T172622Z
UID:10000950-1492848000-1492858800@www.racetime.info
SUMMARY:Just Move It! Challenge 5K Run/Walk & 1 Mile Youth Run/Walk
DESCRIPTION:Just Move It! 5K Age Group Results\n\nJust Move It! 5K Overall Results\n\nJust Move It! 5K Overall Results by School\n\nJust Move It! 5K Team Results\n\nJust Move It! 1 Mile Age Group Results\n\nJust Move It! 1 Mile Overall Results\n\nJust Move It! 1 Mile Overall Results by School
URL:https://www.racetime.info/event/just-move-it-challenge-5k-runwalk-1-mile-youth-runwalk/
LOCATION:South Middle School\, 400 S. Highland\, Arlington Heights\, IL\, 60005\, United States
CATEGORIES:2017-04 Results (April)
ORGANIZER;CN="Angie Thanopoulos":MAILTO:abc25challenge@gmail.com
GEO:42.0770175;-87.9860022
X-APPLE-STRUCTURED-LOCATION;VALUE=URI;X-ADDRESS=South Middle School 400 S. Highland Arlington Heights IL 60005 United States;X-APPLE-RADIUS=500;X-TITLE=400 S. Highland:geo:-87.9860022,42.0770175
END:VEVENT
BEGIN:VEVENT
DTSTART;TZID=America/Chicago:20170422T080000
DTEND;TZID=America/Chicago:20170422T100000
DTSTAMP:20260424T011825
CREATED:20170206T061329Z
LAST-MODIFIED:20170422T172159Z
UID:10000381-1492848000-1492855200@www.racetime.info
SUMMARY:Lions Raceway 5K Run/Walk
DESCRIPTION:Lions Raceway 5K Age Group Results\n\nLions Raceway 5K Overall Results
URL:https://www.racetime.info/event/lions-raceway-5k-runwalk/
LOCATION:Raceway Wood Forest Preserve\, State Route 31\, Carpentersville\, IL\, 60110\, United States
CATEGORIES:2017-04 Results (April)
ORGANIZER;CN="Edward Bates":MAILTO:lionsheritagefest5k@gmail.com
GEO:42.1157273;-88.2966772
X-APPLE-STRUCTURED-LOCATION;VALUE=URI;X-ADDRESS=Raceway Wood Forest Preserve State Route 31 Carpentersville IL 60110 United States;X-APPLE-RADIUS=500;X-TITLE=State Route 31:geo:-88.2966772,42.1157273
END:VEVENT
BEGIN:VEVENT
DTSTART;TZID=America/Chicago:20170415T160000
DTEND;TZID=America/Chicago:20170415T190000
DTSTAMP:20260424T011825
CREATED:20170214T192039Z
LAST-MODIFIED:20170416T002056Z
UID:10000416-1492272000-1492282800@www.racetime.info
SUMMARY:Saw Wee Kee Spring Trail Run 5K
DESCRIPTION:Saw Wee Kee Trail Run Overall By Gender\n\nSaw Wee Kee Trail Run Overall
URL:https://www.racetime.info/event/saw-wee-kee-spring-trail-run-5k/
LOCATION:Saw Wee Kee Park\, 7100 Sundown Lane\, Yorkville\, IL\, 60560\, United States
CATEGORIES:2017-04 Results (April)
ORGANIZER;CN="Zack Donati":MAILTO:zdonati@oswegolandpd.org
GEO:41.6669959;-88.4011599
X-APPLE-STRUCTURED-LOCATION;VALUE=URI;X-ADDRESS=Saw Wee Kee Park 7100 Sundown Lane Yorkville IL 60560 United States;X-APPLE-RADIUS=500;X-TITLE=7100 Sundown Lane:geo:-88.4011599,41.6669959
END:VEVENT
BEGIN:VEVENT
DTSTART;TZID=America/Chicago:20170415T090000
DTEND;TZID=America/Chicago:20170415T110000
DTSTAMP:20260424T011825
CREATED:20170109T132139Z
LAST-MODIFIED:20170415T170010Z
UID:10000353-1492246800-1492254000@www.racetime.info
SUMMARY:The Superhero Sprint 5K Run/Walk
DESCRIPTION:The Superhero Sprint 5K Age Group Results\n\nThe Superhero Sprint 5K Overall Results
URL:https://www.racetime.info/event/the-superhero-sprint-5k-runwalk/
LOCATION:Doty Park\, 365 W. Locust Street\, Belvidere\, IL\, 61008\, United States
CATEGORIES:2017-04 Results (April)
ORGANIZER;CN="Jamie Dornink":MAILTO:info@superherocenterforautism.org
GEO:42.256882;-88.844297
X-APPLE-STRUCTURED-LOCATION;VALUE=URI;X-ADDRESS=Doty Park 365 W. Locust Street Belvidere IL 61008 United States;X-APPLE-RADIUS=500;X-TITLE=365 W. Locust Street:geo:-88.844297,42.256882
END:VEVENT
BEGIN:VEVENT
DTSTART;TZID=America/Chicago:20170409T090000
DTEND;TZID=America/Chicago:20170409T110000
DTSTAMP:20260424T011825
CREATED:20170209T023023Z
LAST-MODIFIED:20170409T183046Z
UID:10000989-1491728400-1491735600@www.racetime.info
SUMMARY:Mustang Trot 5K Run/Walk
DESCRIPTION:Mustang Trot 5K Age Group Results\n\nMustang Trot 5K Overall Results\n\nMustang Trot Team Results
URL:https://www.racetime.info/event/mustang-trot-5k-runwalk-2/
LOCATION:Downers Grove South High School\, 1436 Norfolk Street\, Downers Grove\, IL\, 60515\, United States
CATEGORIES:2017-04 Results (April)
ORGANIZER;CN="Amy Klug":MAILTO:aklug@csd99.org
GEO:41.771175;-88.020645
X-APPLE-STRUCTURED-LOCATION;VALUE=URI;X-ADDRESS=Downers Grove South High School 1436 Norfolk Street Downers Grove IL 60515 United States;X-APPLE-RADIUS=500;X-TITLE=1436 Norfolk Street:geo:-88.020645,41.771175
END:VEVENT
BEGIN:VEVENT
DTSTART;TZID=America/Chicago:20170409T083000
DTEND;TZID=America/Chicago:20170409T103000
DTSTAMP:20260424T011825
CREATED:20170207T131711Z
LAST-MODIFIED:20170409T171208Z
UID:10000960-1491726600-1491733800@www.racetime.info
SUMMARY:Dewey Dash 1 Mile & 5K Run/Walk
DESCRIPTION:Dewey Dash 1 Mile Age Group Results\n\nDewey Dash 1 Mile Overall Results\n\nDewey Dash 5K Age Group Results\n\nDewey Dash 5K Overall Results
URL:https://www.racetime.info/event/dewey-dash-1-mile-5k-runwalk/
LOCATION:Town & Country Library\, 320 E. North Street\, Elburn\, IL\, 60119\, United States
CATEGORIES:2017-04 Results (April)
ORGANIZER;CN="Glenn Kahmann":MAILTO:library@elburn.lib.il.us
GEO:41.8925037;-88.4686008
X-APPLE-STRUCTURED-LOCATION;VALUE=URI;X-ADDRESS=Town & Country Library 320 E. North Street Elburn IL 60119 United States;X-APPLE-RADIUS=500;X-TITLE=320 E. North Street:geo:-88.4686008,41.8925037
END:VEVENT
BEGIN:VEVENT
DTSTART;TZID=America/Chicago:20170408T100000
DTEND;TZID=America/Chicago:20170408T120000
DTSTAMP:20260424T011825
CREATED:20170206T052253Z
LAST-MODIFIED:20170408T182013Z
UID:10000925-1491645600-1491652800@www.racetime.info
SUMMARY:Russell Hustle 5K Trail Run & 2K Fun Run
DESCRIPTION:Russell Hustle 2K Overall Results\n\nRussell Hustle 5K Overall Results
URL:https://www.racetime.info/event/russell-hustle-5k-trail-run-2k-fun-run/
LOCATION:Russell Woods Forest Preserve\, 980 Park Avenue\, Genoa\, IL\, 60135\, United States
CATEGORIES:2017-04 Results (April)
ORGANIZER;CN="Guy Herrmann":MAILTO:gherrmann@stmarysycamore.org
GEO:42.094333;-88.717443
X-APPLE-STRUCTURED-LOCATION;VALUE=URI;X-ADDRESS=Russell Woods Forest Preserve 980 Park Avenue Genoa IL 60135 United States;X-APPLE-RADIUS=500;X-TITLE=980 Park Avenue:geo:-88.717443,42.094333
END:VEVENT
BEGIN:VEVENT
DTSTART;TZID=America/Chicago:20170408T090000
DTEND;TZID=America/Chicago:20170408T110000
DTSTAMP:20260424T011825
CREATED:20170220T202216Z
LAST-MODIFIED:20170408T174716Z
UID:10001050-1491642000-1491649200@www.racetime.info
SUMMARY:Shake It Off 5K Run/Walk
DESCRIPTION:Shake It Off 5K Age Group Results\n\nShake It Off 5K Overall Results
URL:https://www.racetime.info/event/shake-it-off-5k-runwalk-3/
LOCATION:Bolingbrook High School\, 365 Raider Way\, Bolingbrook\, IL\, 60440\, United States
CATEGORIES:2017-04 Results (April)
ORGANIZER;CN="Jimmy Choi":MAILTO:jimmy@shakeitoff5k.com
GEO:41.6892533;-88.0890328
X-APPLE-STRUCTURED-LOCATION;VALUE=URI;X-ADDRESS=Bolingbrook High School 365 Raider Way Bolingbrook IL 60440 United States;X-APPLE-RADIUS=500;X-TITLE=365 Raider Way:geo:-88.0890328,41.6892533
END:VEVENT
BEGIN:VEVENT
DTSTART;TZID=America/Chicago:20170408T080000
DTEND;TZID=America/Chicago:20170408T110000
DTSTAMP:20260424T011825
CREATED:20170301T211633Z
LAST-MODIFIED:20170408T174600Z
UID:10001094-1491638400-1491649200@www.racetime.info
SUMMARY:Tiger Trot 5K Run/Walk & Kids Dash
DESCRIPTION:Tiger Trot 5K Age Group Results\n\nTiger Trot 5K Overall Results
URL:https://www.racetime.info/event/tiger-5k-runwalk-kids-dash/
LOCATION:Lions Park\, 27W636 Beecer Street\, Winfield\, IL\, 60190\, United States
CATEGORIES:2017-04 Results (April)
ORGANIZER;CN="Amanda Kammes":MAILTO:akammes108@gmail.com
END:VEVENT
BEGIN:VEVENT
DTSTART;TZID=America/Chicago:20170408T080000
DTEND;TZID=America/Chicago:20170408T100000
DTSTAMP:20260424T011825
CREATED:20170219T132510Z
LAST-MODIFIED:20170408T174439Z
UID:10001046-1491638400-1491645600@www.racetime.info
SUMMARY:Run The Course 5K Run/Walk
DESCRIPTION:Run The Course 5K Age Group Results\n\nRun The Course 5K Overall Results
URL:https://www.racetime.info/event/run-the-course-5k-runwalk/
LOCATION:Lake Bluff Golf Club\, 365 W. Washington Avenue\, Lake Bluff\, IL\, 60044\, United States
CATEGORIES:2017-04 Results (April)
ORGANIZER;CN="Ed Heiser":MAILTO:eheiser@lakebluffparkdistrict.org
GEO:42.2827648;-87.8562152
X-APPLE-STRUCTURED-LOCATION;VALUE=URI;X-ADDRESS=Lake Bluff Golf Club 365 W. Washington Avenue Lake Bluff IL 60044 United States;X-APPLE-RADIUS=500;X-TITLE=365 W. Washington Avenue:geo:-87.8562152,42.2827648
END:VEVENT
BEGIN:VEVENT
DTSTART;TZID=America/Chicago:20170408T080000
DTEND;TZID=America/Chicago:20170408T100000
DTSTAMP:20260424T011825
CREATED:20170206T053734Z
LAST-MODIFIED:20170408T174322Z
UID:10000940-1491638400-1491645600@www.racetime.info
SUMMARY:Fast & Furriest 5K Run/Walk
DESCRIPTION:Fast & Furriest 5K Age Group Results\n\nFast & Furriest 5K Overall Results
URL:https://www.racetime.info/event/ivvc-sports-medicine-5k-runwalk/
LOCATION:Indian Valley Vocational Center\, 600 Lions Road\, Sandwich\, IL\, 60548\, United States
CATEGORIES:2017-04 Results (April)
ORGANIZER;CN="Bridget Kreiger":MAILTO:bkreiter@kidsroe.org
GEO:41.637407;-88.613423
X-APPLE-STRUCTURED-LOCATION;VALUE=URI;X-ADDRESS=Indian Valley Vocational Center 600 Lions Road Sandwich IL 60548 United States;X-APPLE-RADIUS=500;X-TITLE=600 Lions Road:geo:-88.613423,41.637407
END:VEVENT
BEGIN:VEVENT
DTSTART;TZID=America/Chicago:20170408T080000
DTEND;TZID=America/Chicago:20170408T100000
DTSTAMP:20260424T011825
CREATED:20170206T053141Z
LAST-MODIFIED:20170408T174206Z
UID:10000934-1491638400-1491645600@www.racetime.info
SUMMARY:Beat The Eagle 5K Run/Walk and 1 Mile Fun Run
DESCRIPTION:Beat The Eagle 1 Mile Youth Run Age Group Results\n\nBeat The Eagle 1 Mile Youth Run Overall Results\n\nBeat The Eagle 5K Age Group Results\n\nBeat The Eagle 5K Overall Results
URL:https://www.racetime.info/event/beat-the-eagle-5k-runwalk-and-1-mile-fun-run/
LOCATION:St. John’s School\, 220 S. Lincoln Avenue\, Lombard\, IL\, 60148\, United States
CATEGORIES:2017-04 Results (April)
ORGANIZER;CN="Bob Morris":MAILTO:morris23@comcast.net
GEO:41.883223;-88.02152
X-APPLE-STRUCTURED-LOCATION;VALUE=URI;X-ADDRESS=St. John’s School 220 S. Lincoln Avenue Lombard IL 60148 United States;X-APPLE-RADIUS=500;X-TITLE=220 S. Lincoln Avenue:geo:-88.02152,41.883223
END:VEVENT
BEGIN:VEVENT
DTSTART;TZID=America/Chicago:20170401T083000
DTEND;TZID=America/Chicago:20170401T110000
DTSTAMP:20260424T011825
CREATED:20170126T134746Z
LAST-MODIFIED:20170401T165633Z
UID:10000881-1491035400-1491044400@www.racetime.info
SUMMARY:No Foolin' 5K Run/Walk & Little Fools 1 Mile Fun Run
DESCRIPTION:No Foolin’ 5K Age Group Results\n\nNo Foolin’ 5K Overall Results
URL:https://www.racetime.info/event/no-foolin-5k-runwalk-little-fools-1-mile-fun-run/
LOCATION:Brent Hassert Park\, 19623 Renwick Road\, Lockport\, IL\, 60441\, United States
CATEGORIES:2017-04 Results (April)
ORGANIZER;CN="Andy Remley":MAILTO:dnaathletics@yahoo.com
GEO:41.5950488;-88.0950799
X-APPLE-STRUCTURED-LOCATION;VALUE=URI;X-ADDRESS=Brent Hassert Park 19623 Renwick Road Lockport IL 60441 United States;X-APPLE-RADIUS=500;X-TITLE=19623 Renwick Road:geo:-88.0950799,41.5950488
END:VEVENT
BEGIN:VEVENT
DTSTART;TZID=America/Chicago:20170401T080000
DTEND;TZID=America/Chicago:20170401T100000
DTSTAMP:20260424T011825
CREATED:20170401T165910Z
LAST-MODIFIED:20170401T165910Z
UID:10000524-1491033600-1491040800@www.racetime.info
SUMMARY:Run Walk Crawl 5K & 10K
DESCRIPTION:Run Walk Crawl 5K Age Group Results\n\nRun Walk Crawl 5K Overall Results\n\nRun Walk Crawl 10K Age Group Results\n\nRun Walk Crawl 10K Overall Results
URL:https://www.racetime.info/event/run-walk-crawl-5k-10k/
LOCATION:Mike’s Park\, Paris\, United States
CATEGORIES:2017-04 Results (April)
GEO:33.6609389;-95.555513
END:VEVENT
END:VCALENDAR