BEGIN:VCALENDAR
VERSION:2.0
PRODID:-//Race Time - ECPv6.15.13//NONSGML v1.0//EN
CALSCALE:GREGORIAN
METHOD:PUBLISH
X-WR-CALNAME:Race Time
X-ORIGINAL-URL:https://www.racetime.info
X-WR-CALDESC:Events for Race Time
REFRESH-INTERVAL;VALUE=DURATION:PT1H
X-Robots-Tag:noindex
X-PUBLISHED-TTL:PT1H
BEGIN:VTIMEZONE
TZID:America/Chicago
BEGIN:DAYLIGHT
TZOFFSETFROM:-0600
TZOFFSETTO:-0500
TZNAME:CDT
DTSTART:20160313T080000
END:DAYLIGHT
BEGIN:STANDARD
TZOFFSETFROM:-0500
TZOFFSETTO:-0600
TZNAME:CST
DTSTART:20161106T070000
END:STANDARD
BEGIN:DAYLIGHT
TZOFFSETFROM:-0600
TZOFFSETTO:-0500
TZNAME:CDT
DTSTART:20170312T080000
END:DAYLIGHT
BEGIN:STANDARD
TZOFFSETFROM:-0500
TZOFFSETTO:-0600
TZNAME:CST
DTSTART:20171105T070000
END:STANDARD
BEGIN:DAYLIGHT
TZOFFSETFROM:-0600
TZOFFSETTO:-0500
TZNAME:CDT
DTSTART:20180311T080000
END:DAYLIGHT
BEGIN:STANDARD
TZOFFSETFROM:-0500
TZOFFSETTO:-0600
TZNAME:CST
DTSTART:20181104T070000
END:STANDARD
END:VTIMEZONE
BEGIN:VTIMEZONE
TZID:America/Indiana/Indianapolis
BEGIN:DAYLIGHT
TZOFFSETFROM:-0500
TZOFFSETTO:-0400
TZNAME:EDT
DTSTART:20160313T070000
END:DAYLIGHT
BEGIN:STANDARD
TZOFFSETFROM:-0400
TZOFFSETTO:-0500
TZNAME:EST
DTSTART:20161106T060000
END:STANDARD
BEGIN:DAYLIGHT
TZOFFSETFROM:-0500
TZOFFSETTO:-0400
TZNAME:EDT
DTSTART:20170312T070000
END:DAYLIGHT
BEGIN:STANDARD
TZOFFSETFROM:-0400
TZOFFSETTO:-0500
TZNAME:EST
DTSTART:20171105T060000
END:STANDARD
BEGIN:DAYLIGHT
TZOFFSETFROM:-0500
TZOFFSETTO:-0400
TZNAME:EDT
DTSTART:20180311T070000
END:DAYLIGHT
BEGIN:STANDARD
TZOFFSETFROM:-0400
TZOFFSETTO:-0500
TZNAME:EST
DTSTART:20181104T060000
END:STANDARD
END:VTIMEZONE
BEGIN:VEVENT
DTSTART;TZID=America/Chicago:20170625T080000
DTEND;TZID=America/Chicago:20170625T100000
DTSTAMP:20260424T012359
CREATED:20170317T120706Z
LAST-MODIFIED:20170625T191250Z
UID:10001253-1498377600-1498384800@www.racetime.info
SUMMARY:Hyatt's Gambol Through The Grove 5K Run/Walk
DESCRIPTION:Hyatt’s Gambol Through The Grove 5K Age Group Results\n\nHyatt’s Gambol Through The Grove 5K Overall Results
URL:https://www.racetime.info/event/hyatts-gambol-through-the-grove-5k-runwalk/
LOCATION:Independence Grove Forest Preserve\, 16400 Buckley Road\, Libertyville\, IL\, 60045\, United States
CATEGORIES:2017-06 Results (June)
ORGANIZER;CN="Doug Fleegle":MAILTO:doug.fleegle@gmail.com
GEO:42.3118463;-87.9529568
X-APPLE-STRUCTURED-LOCATION;VALUE=URI;X-ADDRESS=Independence Grove Forest Preserve 16400 Buckley Road Libertyville IL 60045 United States;X-APPLE-RADIUS=500;X-TITLE=16400 Buckley Road:geo:-87.9529568,42.3118463
END:VEVENT
BEGIN:VEVENT
DTSTART;TZID=America/Chicago:20170624T080000
DTEND;TZID=America/Chicago:20170624T100000
DTSTAMP:20260424T012359
CREATED:20170625T191837Z
LAST-MODIFIED:20170625T191837Z
UID:10001506-1498291200-1498298400@www.racetime.info
SUMMARY:Uganda Run Fast 5K Run/Walk
DESCRIPTION:Basic Dignities 5K Overall Order of Finish
URL:https://www.racetime.info/event/uganda-run-fast-5k-runwalk/
LOCATION:Crystal Lake Park\, 206 W. Park Street\, Urbana\, IL\, 61802\, United States
CATEGORIES:2017-06 Results (June)
ORGANIZER;CN="Brittany Sterling":MAILTO:brittany@basicdignities.org
GEO:40.1174327;-88.2091308
X-APPLE-STRUCTURED-LOCATION;VALUE=URI;X-ADDRESS=Crystal Lake Park 206 W. Park Street Urbana IL 61802 United States;X-APPLE-RADIUS=500;X-TITLE=206 W. Park Street:geo:-88.2091308,40.1174327
END:VEVENT
BEGIN:VEVENT
DTSTART;TZID=America/Chicago:20170618T080000
DTEND;TZID=America/Chicago:20170618T170000
DTSTAMP:20260424T012359
CREATED:20170608T105302Z
LAST-MODIFIED:20170618T182006Z
UID:10000619-1497772800-1497805200@www.racetime.info
SUMMARY:Waucondafest Challenge: 1 Mile; 5K & 10K Run
DESCRIPTION:Waucondafest 1 Mile Results\n\nWaucondafest 5K Age Group Results\n\nWaucondafest 5K Overall Results\n\nWaucondafest 10K Age Group Results\n\nWaucondafest 10K Overall Results
URL:https://www.racetime.info/event/waucondafest-challenge-1-mile-5k-10k-run/
LOCATION:Wauconda Fest Grounds\, 600 N. Main Street\, Wauconda\, IL\, 60084\, United States
CATEGORIES:2017-06 Results (June)
ORGANIZER;CN="Tim Staton":MAILTO:tstaton@waucondaparks.com
GEO:42.2687042;-88.1441097
X-APPLE-STRUCTURED-LOCATION;VALUE=URI;X-ADDRESS=Wauconda Fest Grounds 600 N. Main Street Wauconda IL 60084 United States;X-APPLE-RADIUS=500;X-TITLE=600 N. Main Street:geo:-88.1441097,42.2687042
END:VEVENT
BEGIN:VEVENT
DTSTART;TZID=America/Chicago:20170618T080000
DTEND;TZID=America/Chicago:20170618T100000
DTSTAMP:20260424T012359
CREATED:20170521T112709Z
LAST-MODIFIED:20170618T181808Z
UID:10001410-1497772800-1497780000@www.racetime.info
SUMMARY:Father's Day Kickin' Grass 5K Run/Walk
DESCRIPTION:Father’s Day Kickin’ Grass 5K Age Group Results\n\nFather’s Day Kickin’ Grass 5K Overall Results
URL:https://www.racetime.info/event/fathers-day-kickin-grass-5k-runwalk/
LOCATION:Maine East High School\, 2601 W. Dempster Street\, Park Ridge\, IL\, 60068\, United States
CATEGORIES:2017-06 Results (June)
ORGANIZER;CN="Chris Peters":MAILTO:cpeters@maine207.org
GEO:42.0377133;-87.8570946
X-APPLE-STRUCTURED-LOCATION;VALUE=URI;X-ADDRESS=Maine East High School 2601 W. Dempster Street Park Ridge IL 60068 United States;X-APPLE-RADIUS=500;X-TITLE=2601 W. Dempster Street:geo:-87.8570946,42.0377133
END:VEVENT
BEGIN:VEVENT
DTSTART;TZID=America/Chicago:20170618T080000
DTEND;TZID=America/Chicago:20170618T100000
DTSTAMP:20260424T012359
CREATED:20170317T115948Z
LAST-MODIFIED:20170620T113318Z
UID:10001240-1497772800-1497780000@www.racetime.info
SUMMARY:Daisy Dash 5K Run/Walk & 1K Kids Dash
DESCRIPTION:Daisy Dash 1K Age Group Results\n\nDaisy Dash 1K Overall Results\n\nDaisy Dash 5K Age Group Results\n\nDaisy Dash 5K Overall Results
URL:https://www.racetime.info/event/daisy-dash-5k-runwalk-1k-kids-dash/
LOCATION:Downtown Clarendon Hills\, IL\, South Prospect Avenue\, Clarendon Hills\, IL\, 60514\, United States
CATEGORIES:2017-06 Results (June)
ORGANIZER;CN="Greg Foster":MAILTO:daisydash@comcast.net
GEO:41.7930315;-87.9521828
X-APPLE-STRUCTURED-LOCATION;VALUE=URI;X-ADDRESS=Downtown Clarendon Hills IL South Prospect Avenue Clarendon Hills IL 60514 United States;X-APPLE-RADIUS=500;X-TITLE=South Prospect Avenue:geo:-87.9521828,41.7930315
END:VEVENT
BEGIN:VEVENT
DTSTART;TZID=America/Chicago:20170617T183000
DTEND;TZID=America/Chicago:20170617T200000
DTSTAMP:20260424T012359
CREATED:20170605T164906Z
LAST-MODIFIED:20170618T015333Z
UID:10000610-1497724200-1497729600@www.racetime.info
SUMMARY:The PR Mile
DESCRIPTION:The PR Mile Overall Results by Age Group
URL:https://www.racetime.info/event/pr-mile/
LOCATION:Cass Avenue 1/2 Mile South Of I55\, United States
CATEGORIES:2017-06 Results (June)
GEO:37.09024;-95.712891
END:VEVENT
BEGIN:VEVENT
DTSTART;TZID=America/Chicago:20170617T090000
DTEND;TZID=America/Chicago:20170617T110000
DTSTAMP:20260424T012359
CREATED:20170317T113716Z
LAST-MODIFIED:20170619T110941Z
UID:10000518-1497690000-1497697200@www.racetime.info
SUMMARY:Remembering Lauren 5K Run/Walk
DESCRIPTION:Remembering Lauren 5K Age Group Results\n\nRemembering Lauren 5K Overall Results
URL:https://www.racetime.info/event/remembering-lauren-5k-runwalk-2/
LOCATION:Willowbrook High School\, 1250 South Ardmore Avenue\, Villa Park\, IL\, 60181\, United States
CATEGORIES:2017-06 Results (June)
ORGANIZER;CN="Jan Keifer":MAILTO:jkiefer@dupage88.net
GEO:41.8897519;-87.9889543
X-APPLE-STRUCTURED-LOCATION;VALUE=URI;X-ADDRESS=Willowbrook High School 1250 South Ardmore Avenue Villa Park IL 60181 United States;X-APPLE-RADIUS=500;X-TITLE=1250 South Ardmore Avenue:geo:-87.9889543,41.8897519
END:VEVENT
BEGIN:VEVENT
DTSTART;TZID=America/Chicago:20170617T090000
DTEND;TZID=America/Chicago:20170617T110000
DTSTAMP:20260424T012359
CREATED:20170202T230240Z
LAST-MODIFIED:20170617T165816Z
UID:10000369-1497690000-1497697200@www.racetime.info
SUMMARY:Economic Growth Initiative Thrive: It Takes A Village 5K Run/Walk
DESCRIPTION:It Takes A Village 5K Age Group Results\n\nIt Takes A Village 5K Overall Results
URL:https://www.racetime.info/event/economic-growth-initiative-thrive-it-takes-a-village-5k-runwalk/
LOCATION:Miller Meadows Forest Preserve\, 2199 S. First Avenue\, Maywood\, IL\, 60153\, United States
CATEGORIES:2017-06 Results (June)
ORGANIZER;CN="Bridgette Lewis":MAILTO:info@egithrive.org
GEO:41.8614488;-87.8314632
X-APPLE-STRUCTURED-LOCATION;VALUE=URI;X-ADDRESS=Miller Meadows Forest Preserve 2199 S. First Avenue Maywood IL 60153 United States;X-APPLE-RADIUS=500;X-TITLE=2199 S. First Avenue:geo:-87.8314632,41.8614488
END:VEVENT
BEGIN:VEVENT
DTSTART;TZID=America/Chicago:20170617T080000
DTEND;TZID=America/Chicago:20170617T170000
DTSTAMP:20260424T012359
CREATED:20170317T114929Z
LAST-MODIFIED:20170617T163515Z
UID:10001236-1497686400-1497718800@www.racetime.info
SUMMARY:Reunion Run 5K
DESCRIPTION:Reunion Run 5K Age Group Results\n\nReunion Run 5K Overall Results
URL:https://www.racetime.info/event/reunion-run-5k/
LOCATION:Runner’s High & Tri\, 121 W. Campbell Street\, Arlington Heights\, IL\, 60004\, United States
CATEGORIES:2017-06 Results (June)
ORGANIZER;CN="Colin Mason":MAILTO:colin@reunionruns.com
GEO:42.082671;-87.985119
X-APPLE-STRUCTURED-LOCATION;VALUE=URI;X-ADDRESS=Runner’s High & Tri 121 W. Campbell Street Arlington Heights IL 60004 United States;X-APPLE-RADIUS=500;X-TITLE=121 W. Campbell Street:geo:-87.985119,42.082671
END:VEVENT
BEGIN:VEVENT
DTSTART;TZID=America/Chicago:20170617T080000
DTEND;TZID=America/Chicago:20170617T100000
DTSTAMP:20260424T012359
CREATED:20170124T202720Z
LAST-MODIFIED:20170617T155303Z
UID:10000345-1497686400-1497693600@www.racetime.info
SUMMARY:Superhero 5K Run/Walk
DESCRIPTION:JOURNEYS Superhero 1 Mile Overall Results\n\nJOURNEYS Superhero 5K Age Group Results\n\nJOURNEYS Superhero 5K Overall Results
URL:https://www.racetime.info/event/superhero-5k-runwalk/
LOCATION:Palatine Towne Square\, Smith Street and Colfax Street\, Palatine\, IL\, 60074\, United States
CATEGORIES:2017-06 Results (June)
ORGANIZER;CN="Paige Jacob":MAILTO:p.jacob@journeystheroadhome.org
GEO:42.114824;-88.0485573
X-APPLE-STRUCTURED-LOCATION;VALUE=URI;X-ADDRESS=Palatine Towne Square Smith Street and Colfax Street Palatine IL 60074 United States;X-APPLE-RADIUS=500;X-TITLE=Smith Street and Colfax Street:geo:-88.0485573,42.114824
END:VEVENT
BEGIN:VEVENT
DTSTART;TZID=America/Chicago:20170611T080000
DTEND;TZID=America/Chicago:20170611T110000
DTSTAMP:20260424T012359
CREATED:20170406T133031Z
LAST-MODIFIED:20170611T170047Z
UID:10000528-1497168000-1497178800@www.racetime.info
SUMMARY:The Randall Oaks 5K & Kids Fun Runs
DESCRIPTION:Randall Oaks 5K Age Group Results\n\nRandall Oaks 5K Overall Results\n\nRandall Oaks 1 Mile Youth Run\n\nRandall Oaks Half Mile Youth Run
URL:https://www.racetime.info/event/the-randall-oaks-5k-kids-fun-runs/
LOCATION:Randall Oaks Recreation Center\, 500 North Randall Road\, West Dundee\, IL\, 60118\, United States
CATEGORIES:2017-06 Results (June)
ORGANIZER;CN="Bill Hepperle":MAILTO:bhepperle@dtpd.org
GEO:42.109152;-88.3362828
X-APPLE-STRUCTURED-LOCATION;VALUE=URI;X-ADDRESS=Randall Oaks Recreation Center 500 North Randall Road West Dundee IL 60118 United States;X-APPLE-RADIUS=500;X-TITLE=500 North Randall Road:geo:-88.3362828,42.109152
END:VEVENT
BEGIN:VEVENT
DTSTART;TZID=America/Chicago:20170610T080000
DTEND;TZID=America/Chicago:20170610T100000
DTSTAMP:20260424T012359
CREATED:20170610T164302Z
LAST-MODIFIED:20170610T164302Z
UID:10000631-1497081600-1497088800@www.racetime.info
SUMMARY:Hike for Life 5K Run/Walk
DESCRIPTION:Hike For Life 5K Overall Results
URL:https://www.racetime.info/event/hike-for-life-5k-runwalk/
LOCATION:Peace Community Church\, 21300 S. LaGrange Road\, Frankfort\, IL\, 60423\, United States
CATEGORIES:2017-06 Results (June)
ORGANIZER;CN="Tim Dilbeck":MAILTO:tim@passhelps.org
GEO:41.4930226;-87.8672145
X-APPLE-STRUCTURED-LOCATION;VALUE=URI;X-ADDRESS=Peace Community Church 21300 S. LaGrange Road Frankfort IL 60423 United States;X-APPLE-RADIUS=500;X-TITLE=21300 S. LaGrange Road:geo:-87.8672145,41.4930226
END:VEVENT
BEGIN:VEVENT
DTSTART;TZID=America/Chicago:20170610T080000
DTEND;TZID=America/Chicago:20170610T100000
DTSTAMP:20260424T012359
CREATED:20170317T051002Z
LAST-MODIFIED:20170610T164028Z
UID:10000511-1497081600-1497088800@www.racetime.info
SUMMARY:Block Party 5K Run/Walk & Kids Dash
DESCRIPTION:Block Party 5K Age Group Results\n\nBlock Party 5K Overall Results\n\nBlock Party Team Danny Did Results
URL:https://www.racetime.info/event/block-party-5k-runwalk-kids-dash/
LOCATION:St. Norbert Parking Lot (next To Metra Train Station)\, Walters Avenue and Lorenz Drive\, Northbrook\, IL\, 60062\, United States
CATEGORIES:2017-06 Results (June)
ORGANIZER;CN="Bill Davis":MAILTO:stnorbert5k@gmail.com
GEO:42.1275267;-87.8289548
X-APPLE-STRUCTURED-LOCATION;VALUE=URI;X-ADDRESS=St. Norbert Parking Lot (next To Metra Train Station) Walters Avenue and Lorenz Drive Northbrook IL 60062 United States;X-APPLE-RADIUS=500;X-TITLE=Walters Avenue and Lorenz Drive:geo:-87.8289548,42.1275267
END:VEVENT
BEGIN:VEVENT
DTSTART;TZID=America/Chicago:20170604T080000
DTEND;TZID=America/Chicago:20170604T110000
DTSTAMP:20260424T012359
CREATED:20170203T152502Z
LAST-MODIFIED:20170604T175212Z
UID:10000373-1496563200-1496574000@www.racetime.info
SUMMARY:Mighty Kids' Triathlon
DESCRIPTION:Vernon Hills Mighty Kids Triathlon
URL:https://www.racetime.info/event/mighty-kids-triathlon-2/
LOCATION:Vernon Hills Park District\, 700 Lakeview Parkway\, Vernon Hills\, IL\, 60061\, United States
CATEGORIES:2017-06 Results (June)
ORGANIZER;CN="Lacy  Velasquez":MAILTO:lacyv@vhparkdistrict.org
GEO:42.236739;-87.957314
X-APPLE-STRUCTURED-LOCATION;VALUE=URI;X-ADDRESS=Vernon Hills Park District 700 Lakeview Parkway Vernon Hills IL 60061 United States;X-APPLE-RADIUS=500;X-TITLE=700 Lakeview Parkway:geo:-87.957314,42.236739
END:VEVENT
BEGIN:VEVENT
DTSTART;TZID=America/Chicago:20170604T080000
DTEND;TZID=America/Chicago:20170604T100000
DTSTAMP:20260424T012359
CREATED:20170604T171307Z
LAST-MODIFIED:20170604T171307Z
UID:10001427-1496563200-1496570400@www.racetime.info
SUMMARY:Run With The Nuns 5K Run/Walk
DESCRIPTION:Run With The Nuns 5K Age Group Results\n\nRun With The Nuns 5K Overall Results
URL:https://www.racetime.info/event/run-with-the-nuns-5k-runwalk-2/
LOCATION:Mt. Assisi Academy\, 13860 Main Street\, Lemont\, IL\, 60439\, United States
CATEGORIES:2017-06 Results (June)
ORGANIZER;CN="Carrie Peters":MAILTO:carriepeters2@sbcglobal.net
GEO:41.685218;-87.981291
X-APPLE-STRUCTURED-LOCATION;VALUE=URI;X-ADDRESS=Mt. Assisi Academy 13860 Main Street Lemont IL 60439 United States;X-APPLE-RADIUS=500;X-TITLE=13860 Main Street:geo:-87.981291,41.685218
END:VEVENT
BEGIN:VEVENT
DTSTART;TZID=America/Chicago:20170603T090000
DTEND;TZID=America/Chicago:20170603T110000
DTSTAMP:20260424T012359
CREATED:20170318T141312Z
LAST-MODIFIED:20170606T211522Z
UID:10001259-1496480400-1496487600@www.racetime.info
SUMMARY:Rockford Fire 3K
DESCRIPTION:Rockford 911 3K Age Group Results\n\nRockford 911 3K Overall Results
URL:https://www.racetime.info/event/rockford-fire-3k/
LOCATION:Rockford Fire\, 391 N. Trainer Road\, Rockford\, IL\, 61101\, United States
CATEGORIES:2017-06 Results (June)
ORGANIZER;CN="Leigh Sterrenberg":MAILTO:leigh.sterrenberg@rockfordil.gov
GEO:42.2722816;-88.9898061
X-APPLE-STRUCTURED-LOCATION;VALUE=URI;X-ADDRESS=Rockford Fire 391 N. Trainer Road Rockford IL 61101 United States;X-APPLE-RADIUS=500;X-TITLE=391 N. Trainer Road:geo:-88.9898061,42.2722816
END:VEVENT
BEGIN:VEVENT
DTSTART;TZID=America/Chicago:20170603T080000
DTEND;TZID=America/Chicago:20170603T110000
DTSTAMP:20260424T012359
CREATED:20170317T044707Z
LAST-MODIFIED:20170606T210505Z
UID:10001230-1496476800-1496487600@www.racetime.info
SUMMARY:Cougars 5K Run/Walk & Youth Dash: Honoring First Responders!
DESCRIPTION:Kane County Cougars 5K Age Group Results\n\nKane County Cougars 5K Overall Results
URL:https://www.racetime.info/event/cougars-5k-runwalk-youth-dash-honoring-first-responders/
LOCATION:Northwestern Medicine Field\, 34W002 Cherry Lane\, Geneva\, IL\, 60134\, United States
CATEGORIES:2017-06 Results (June)
ORGANIZER;CN="Curtis Haug":MAILTO:chaug@kanecountycougars.com
GEO:40.6331249;-89.3985283
X-APPLE-STRUCTURED-LOCATION;VALUE=URI;X-ADDRESS=Northwestern Medicine Field 34W002 Cherry Lane Geneva IL 60134 United States;X-APPLE-RADIUS=500;X-TITLE=34W002 Cherry Lane:geo:-89.3985283,40.6331249
END:VEVENT
BEGIN:VEVENT
DTSTART;TZID=America/Indiana/Indianapolis:20170603T080000
DTEND;TZID=America/Indiana/Indianapolis:20170603T100000
DTSTAMP:20260424T012359
CREATED:20170317T045916Z
LAST-MODIFIED:20170603T181705Z
UID:10000509-1496476800-1496484000@www.racetime.info
SUMMARY:Covington 5K Run/Walk
DESCRIPTION:Covington 5K Age Group Results\n\nCovington 5K Overall Results
URL:https://www.racetime.info/event/covington-5k-runwalk-2/
LOCATION:Covington City Park\, 1 Park Avenue\, Covington\, IN\, 47932\, United States
CATEGORIES:2017-06 Results (June)
ORGANIZER;CN="Beth Mason":MAILTO:mason.beth@hotmail.com
GEO:40.1466435;-87.3990699
X-APPLE-STRUCTURED-LOCATION;VALUE=URI;X-ADDRESS=Covington City Park 1 Park Avenue Covington IN 47932 United States;X-APPLE-RADIUS=500;X-TITLE=1 Park Avenue:geo:-87.3990699,40.1466435
END:VEVENT
BEGIN:VEVENT
DTSTART;TZID=America/Chicago:20170603T080000
DTEND;TZID=America/Chicago:20170603T100000
DTSTAMP:20260424T012359
CREATED:20170304T122916Z
LAST-MODIFIED:20170603T181517Z
UID:10001123-1496476800-1496484000@www.racetime.info
SUMMARY:Making Strides for Education 5K Run/Walk
DESCRIPTION:Making Strides for Education 5K Overall Results
URL:https://www.racetime.info/event/making-strides-for-education-5k-runwalk/
LOCATION:Carthage College\, 2001 Alford Park Drive\, Kenosha\, WI\, 53140\, United States
CATEGORIES:2017-06 Results (June)
ORGANIZER;CN="Matt Winans":MAILTO:mwinans@comportho.com
GEO:42.6226966;-87.8211267
X-APPLE-STRUCTURED-LOCATION;VALUE=URI;X-ADDRESS=Carthage College 2001 Alford Park Drive Kenosha WI 53140 United States;X-APPLE-RADIUS=500;X-TITLE=2001 Alford Park Drive:geo:-87.8211267,42.6226966
END:VEVENT
BEGIN:VEVENT
DTSTART;TZID=America/Chicago:20170603T080000
DTEND;TZID=America/Chicago:20170603T100000
DTSTAMP:20260424T012359
CREATED:20170206T051335Z
LAST-MODIFIED:20170603T181322Z
UID:10000365-1496476800-1496484000@www.racetime.info
SUMMARY:Run The Ridge 5K Run/Walk & 1K Youth Run
DESCRIPTION:Run The Ridge 1K Overall Results\n\nRun The Ridge 5K Age Group Results\n\nRun The Ridge 5K Overall Results
URL:https://www.racetime.info/event/run-the-ridge-5k-runwalk-1k-youth-run/
LOCATION:Burr Ridge Shopping Center\, 150 Burr Ridge Parkway\, Burr Ridge\, IL\, 60527\, United States
CATEGORIES:2017-06 Results (June)
ORGANIZER;CN="Suzanne Gray":MAILTO:suzanne@right-fit.com
GEO:41.7489203;-87.9183919
X-APPLE-STRUCTURED-LOCATION;VALUE=URI;X-ADDRESS=Burr Ridge Shopping Center 150 Burr Ridge Parkway Burr Ridge IL 60527 United States;X-APPLE-RADIUS=500;X-TITLE=150 Burr Ridge Parkway:geo:-87.9183919,41.7489203
END:VEVENT
BEGIN:VEVENT
DTSTART;TZID=America/Chicago:20170603T073000
DTEND;TZID=America/Chicago:20170603T090000
DTSTAMP:20260424T012359
CREATED:20170214T224228Z
LAST-MODIFIED:20170603T181412Z
UID:10001012-1496475000-1496480400@www.racetime.info
SUMMARY:Race To Market 5K Run/Walk
DESCRIPTION:Race To Market 5K Age Group Results\n\nRace To Market 5K Overall Results
URL:https://www.racetime.info/event/race-to-market-5k-runwalk/
LOCATION:Downtown Batavia\, 21 North Water River Street\, Batavia\, IL\, 60510\, United States
CATEGORIES:2017-06 Results (June)
ORGANIZER;CN="Cathy McNally":MAILTO:info@downtownbatavia.com
GEO:41.853407;-88.3092422
X-APPLE-STRUCTURED-LOCATION;VALUE=URI;X-ADDRESS=Downtown Batavia 21 North Water River Street Batavia IL 60510 United States;X-APPLE-RADIUS=500;X-TITLE=21 North Water River Street:geo:-88.3092422,41.853407
END:VEVENT
END:VCALENDAR