BEGIN:VCALENDAR
VERSION:2.0
PRODID:-//Race Time - ECPv6.15.13//NONSGML v1.0//EN
CALSCALE:GREGORIAN
METHOD:PUBLISH
X-ORIGINAL-URL:https://www.racetime.info
X-WR-CALDESC:Events for Race Time
REFRESH-INTERVAL;VALUE=DURATION:PT1H
X-Robots-Tag:noindex
X-PUBLISHED-TTL:PT1H
BEGIN:VTIMEZONE
TZID:America/Chicago
BEGIN:DAYLIGHT
TZOFFSETFROM:-0600
TZOFFSETTO:-0500
TZNAME:CDT
DTSTART:20160313T080000
END:DAYLIGHT
BEGIN:STANDARD
TZOFFSETFROM:-0500
TZOFFSETTO:-0600
TZNAME:CST
DTSTART:20161106T070000
END:STANDARD
BEGIN:DAYLIGHT
TZOFFSETFROM:-0600
TZOFFSETTO:-0500
TZNAME:CDT
DTSTART:20170312T080000
END:DAYLIGHT
BEGIN:STANDARD
TZOFFSETFROM:-0500
TZOFFSETTO:-0600
TZNAME:CST
DTSTART:20171105T070000
END:STANDARD
BEGIN:DAYLIGHT
TZOFFSETFROM:-0600
TZOFFSETTO:-0500
TZNAME:CDT
DTSTART:20180311T080000
END:DAYLIGHT
BEGIN:STANDARD
TZOFFSETFROM:-0500
TZOFFSETTO:-0600
TZNAME:CST
DTSTART:20181104T070000
END:STANDARD
END:VTIMEZONE
BEGIN:VEVENT
DTSTART;TZID=America/Chicago:20170827T090000
DTEND;TZID=America/Chicago:20170827T110000
DTSTAMP:20260424T000538
CREATED:20170410T122303Z
LAST-MODIFIED:20170827T165054Z
UID:10001304-1503824400-1503831600@www.racetime.info
SUMMARY:Prairie State Road Runners & DNA Athletics:  FREE 5K Run/Walk!
DESCRIPTION:PSRR/DNA Athletics 5K Age Group Results\n\nPSRR/DNA Athletics 5K Overall Results
URL:https://www.racetime.info/event/prairie-state-road-runners-dna-athletics-free-5k-runwalk/
LOCATION:Prairie Bluff Golf Course\, 19433 Renwick Road\, Crest Hill\, IL\, United States
CATEGORIES:2017-08 Results (August)
ORGANIZER;CN="Steve Koven":MAILTO:stevekoven@psrr.org
GEO:41.5942836;-88.0906993
X-APPLE-STRUCTURED-LOCATION;VALUE=URI;X-ADDRESS=Prairie Bluff Golf Course 19433 Renwick Road Crest Hill IL United States;X-APPLE-RADIUS=500;X-TITLE=19433 Renwick Road:geo:-88.0906993,41.5942836
END:VEVENT
BEGIN:VEVENT
DTSTART;TZID=America/Chicago:20170827T080000
DTEND;TZID=America/Chicago:20170827T100000
DTSTAMP:20260424T000538
CREATED:20170801T110636Z
LAST-MODIFIED:20170908T171240Z
UID:10001562-1503820800-1503828000@www.racetime.info
SUMMARY:Kindness 5K Run/Walk
DESCRIPTION:Kindness 5K Run Walk Overall Results
URL:https://www.racetime.info/event/kindness-5k-runwalk/
LOCATION:Willowbrook High School\, 1250 South Ardmore Avenue\, Villa Park\, IL\, 60181\, United States
CATEGORIES:2017-08 Results (August)
ORGANIZER;CN="Paige Craig":MAILTO:alumni@cuchicago.edu
GEO:41.8897519;-87.9889543
X-APPLE-STRUCTURED-LOCATION;VALUE=URI;X-ADDRESS=Willowbrook High School 1250 South Ardmore Avenue Villa Park IL 60181 United States;X-APPLE-RADIUS=500;X-TITLE=1250 South Ardmore Avenue:geo:-87.9889543,41.8897519
END:VEVENT
BEGIN:VEVENT
DTSTART;TZID=America/Chicago:20170826T100000
DTEND;TZID=America/Chicago:20170826T100000
DTSTAMP:20260424T000538
CREATED:20170609T210521Z
LAST-MODIFIED:20170826T182152Z
UID:10000634-1503741600-1503741600@www.racetime.info
SUMMARY:Uskana 5K Run/Walk
DESCRIPTION:Uskana 5K Age Group Results\n\nUskana 5K Overall Results
URL:https://www.racetime.info/event/uskana-5k-runwalk/
LOCATION:Danada Forest Preserve\, 3S580 Naperville Road\, Wheaton\, IL\, 60187\, United States
CATEGORIES:2017-08 Results (August)
ORGANIZER;CN="Florim Zendeli":MAILTO:florim.zendeli@gmail.com
GEO:41.819072;-88.1124109
X-APPLE-STRUCTURED-LOCATION;VALUE=URI;X-ADDRESS=Danada Forest Preserve 3S580 Naperville Road Wheaton IL 60187 United States;X-APPLE-RADIUS=500;X-TITLE=3S580 Naperville Road:geo:-88.1124109,41.819072
END:VEVENT
BEGIN:VEVENT
DTSTART;TZID=America/Chicago:20170826T080000
DTEND;TZID=America/Chicago:20170826T100000
DTSTAMP:20260424T000538
CREATED:20170501T172355Z
LAST-MODIFIED:20170826T182036Z
UID:10001359-1503734400-1503741600@www.racetime.info
SUMMARY:Kids Against Hunger 5K Run/Walk
DESCRIPTION:Race Against Hunger 5K Age Group Results\n\nRace Against Hunger 5K Overall Results
URL:https://www.racetime.info/event/kids-against-hunger-5k-runwalk/
LOCATION:Kids Against Hunger-Fox Valley Satellite\, 400 E. Irving Park Road\, Roselle\, IL\, 60172\, United States
CATEGORIES:2017-08 Results (August)
ORGANIZER;CN="Nancy Thiemann":MAILTO:racetostophunger@gmail.com
GEO:41.9834419;-88.0704541
X-APPLE-STRUCTURED-LOCATION;VALUE=URI;X-ADDRESS=Kids Against Hunger-Fox Valley Satellite 400 E. Irving Park Road Roselle IL 60172 United States;X-APPLE-RADIUS=500;X-TITLE=400 E. Irving Park Road:geo:-88.0704541,41.9834419
END:VEVENT
BEGIN:VEVENT
DTSTART;TZID=America/Chicago:20170826T080000
DTEND;TZID=America/Chicago:20170826T100000
DTSTAMP:20260424T000538
CREATED:20170303T132225Z
LAST-MODIFIED:20170826T181914Z
UID:10000455-1503734400-1503741600@www.racetime.info
SUMMARY:Calahan Foundation Annual RUN4LIFE 5K Run/Walk
DESCRIPTION:Run4Life 5K Overall Results\n\nRun4Life 5K Team Results
URL:https://www.racetime.info/event/calahan-foundation-annual-run4life-5k-runwalk/
LOCATION:Jackson Park\, 5700 E. Hayes Drive\, Grove 19A\, Chicago\, IL\, 60649\, United States
CATEGORIES:2017-08 Results (August)
ORGANIZER;CN="Erica Bell":MAILTO:hands4u@calahanfoundation.org
GEO:41.7906088;-87.5830586
X-APPLE-STRUCTURED-LOCATION;VALUE=URI;X-ADDRESS=Jackson Park 5700 E. Hayes Drive Grove 19A Chicago IL 60649 United States;X-APPLE-RADIUS=500;X-TITLE=5700 E. Hayes Drive\, Grove 19A:geo:-87.5830586,41.7906088
END:VEVENT
BEGIN:VEVENT
DTSTART;TZID=America/Chicago:20170820T083000
DTEND;TZID=America/Chicago:20170820T100000
DTSTAMP:20260424T000538
CREATED:20170504T113548Z
LAST-MODIFIED:20170820T165254Z
UID:10000571-1503217800-1503223200@www.racetime.info
SUMMARY:Super Rockin' Run 5K Run/Walk
DESCRIPTION:Super Rockin’ 5K Age Group Results\n\nSuper Rockin’ 5K Overall Results
URL:https://www.racetime.info/event/super-rockin-run-5k-runwalk/
LOCATION:Plano Fire Department\, 5 East North Street\, Plano\, IL\, 60545\, United States
CATEGORIES:2017-08 Results (August)
ORGANIZER;CN="Ralph Torres":MAILTO:torres_post395@comcast.net
GEO:41.6635499;-88.5375932
X-APPLE-STRUCTURED-LOCATION;VALUE=URI;X-ADDRESS=Plano Fire Department 5 East North Street Plano IL 60545 United States;X-APPLE-RADIUS=500;X-TITLE=5 East North Street:geo:-88.5375932,41.6635499
END:VEVENT
BEGIN:VEVENT
DTSTART;TZID=America/Chicago:20170820T080000
DTEND;TZID=America/Chicago:20170820T100000
DTSTAMP:20260424T000538
CREATED:20170404T132314Z
LAST-MODIFIED:20170822T190005Z
UID:10000526-1503216000-1503223200@www.racetime.info
SUMMARY:Windrunner 10K Run
DESCRIPTION:Windrunner’s 10K Age Group Results\n\nWindrunner’s 10K Overall Results
URL:https://www.racetime.info/event/windrunner-10k-run-2/
LOCATION:Danada Forest Preserve\, 3S580 Naperville Road\, Wheaton\, IL\, 60187\, United States
CATEGORIES:2017-08 Results (August)
ORGANIZER;CN="Bill Bollinger":MAILTO:windrunner.race.director@gmail.com
GEO:41.819072;-88.1124109
X-APPLE-STRUCTURED-LOCATION;VALUE=URI;X-ADDRESS=Danada Forest Preserve 3S580 Naperville Road Wheaton IL 60187 United States;X-APPLE-RADIUS=500;X-TITLE=3S580 Naperville Road:geo:-88.1124109,41.819072
END:VEVENT
BEGIN:VEVENT
DTSTART;TZID=America/Chicago:20170819T090000
DTEND;TZID=America/Chicago:20170819T110000
DTSTAMP:20260424T000538
CREATED:20170723T000844Z
LAST-MODIFIED:20170819T183735Z
UID:10000723-1503133200-1503140400@www.racetime.info
SUMMARY:MWPHGL-IL 5K Prostate Cancer Run/Walk/Bike
DESCRIPTION:MWPHGL IL Prostate 5K Overall Results
URL:https://www.racetime.info/event/mwphgl-il-5k-prostate-cancer-runwalkbike/
LOCATION:Prince Hall Grand Lodge of Illinois\, 809 E. 42nd Place\, Chicago\, IL\, 60653\, United States
CATEGORIES:2017-08 Results (August)
ORGANIZER;CN="Michelle Stewart":MAILTO:mjs2125@yahoo.com
GEO:41.8177864;-87.6062914
X-APPLE-STRUCTURED-LOCATION;VALUE=URI;X-ADDRESS=Prince Hall Grand Lodge of Illinois 809 E. 42nd Place Chicago IL 60653 United States;X-APPLE-RADIUS=500;X-TITLE=809 E. 42nd Place:geo:-87.6062914,41.8177864
END:VEVENT
BEGIN:VEVENT
DTSTART;TZID=America/Chicago:20170819T090000
DTEND;TZID=America/Chicago:20170819T110000
DTSTAMP:20260424T000538
CREATED:20170609T225928Z
LAST-MODIFIED:20170819T170548Z
UID:10000636-1503133200-1503140400@www.racetime.info
SUMMARY:Big Heart 5K Run/Walk
DESCRIPTION:Big Heart 3 Mile Age Group Results\n\nBig Heart 3 Mile Overall Results\n\nBig Heart Memorial Meet Girls Overall Results\n\nBig Heart Memorial Meet Girls Team Results\n\nBig Heart Memorial Meet Boys Overall Results\n\nBig Heart Memorial Meet Boys Team Results
URL:https://www.racetime.info/event/big-heart-5k-runwalk/
LOCATION:LeRoy Oakes Forest Preserve\, 37W584 Dean Street\, St. Charles\, IL\, 60175\, United States
CATEGORIES:2017-08 Results (August)
ORGANIZER;CN="Tormod Larsen":MAILTO:kristofferbigheart@gmail.com
GEO:41.929212;-88.352091
X-APPLE-STRUCTURED-LOCATION;VALUE=URI;X-ADDRESS=LeRoy Oakes Forest Preserve 37W584 Dean Street St. Charles IL 60175 United States;X-APPLE-RADIUS=500;X-TITLE=37W584 Dean Street:geo:-88.352091,41.929212
END:VEVENT
BEGIN:VEVENT
DTSTART;TZID=America/Chicago:20170819T080000
DTEND;TZID=America/Chicago:20170819T100000
DTSTAMP:20260424T000538
CREATED:20170609T175801Z
LAST-MODIFIED:20170819T170700Z
UID:10001441-1503129600-1503136800@www.racetime.info
SUMMARY:Charge On! 5K Run/Walk
DESCRIPTION:Charge On! 5K Age Group Results\n\nCharge On! 5K Overall Results
URL:https://www.racetime.info/event/charge-on-5k-runwalk-3/
LOCATION:Lawn Manor Park\, 108th Street & Kostner Avenue\, Oak Lawn\, IL\, 60453\, United States
CATEGORIES:2017-08 Results (August)
ORGANIZER;CN="Donna Marie Ivers":MAILTO:dmivers@sbcglobal.net
GEO:41.6952028;-87.7301904
X-APPLE-STRUCTURED-LOCATION;VALUE=URI;X-ADDRESS=Lawn Manor Park 108th Street & Kostner Avenue Oak Lawn IL 60453 United States;X-APPLE-RADIUS=500;X-TITLE=108th Street & Kostner Avenue:geo:-87.7301904,41.6952028
END:VEVENT
BEGIN:VEVENT
DTSTART;TZID=America/Chicago:20170819T080000
DTEND;TZID=America/Chicago:20170819T100000
DTSTAMP:20260424T000538
CREATED:20170609T172647Z
LAST-MODIFIED:20170819T183612Z
UID:10001435-1503129600-1503136800@www.racetime.info
SUMMARY:BHRA Blue Devil Dash 5K Run/Walk
DESCRIPTION:Blue Devil 5K Age Group Results\n\nBlue Devil 5K Overall Results\n\nBlue Devil 5K Alumni Overall Results
URL:https://www.racetime.info/event/bhra-blue-devil-dash-5k-runwalk/
LOCATION:Bismarck-Henning-Rossville-Alvin Co-Op High School\, 17268 E. 2750 N. Road\, Bismarck\, IL\, 61814\, United States
CATEGORIES:2017-08 Results (August)
ORGANIZER;CN="Susan Kentner":MAILTO:skentner@bismarck.k12.il.us
GEO:40.2637141;-87.6200579
X-APPLE-STRUCTURED-LOCATION;VALUE=URI;X-ADDRESS=Bismarck-Henning-Rossville-Alvin Co-Op High School 17268 E. 2750 N. Road Bismarck IL 61814 United States;X-APPLE-RADIUS=500;X-TITLE=17268 E. 2750 N. Road:geo:-87.6200579,40.2637141
END:VEVENT
BEGIN:VEVENT
DTSTART;TZID=America/Chicago:20170819T073000
DTEND;TZID=America/Chicago:20170819T100000
DTSTAMP:20260424T000538
CREATED:20170328T003049Z
LAST-MODIFIED:20170824T001518Z
UID:10001279-1503127800-1503136800@www.racetime.info
SUMMARY:MorningStar Mission:  Possible 5K Run/Walk
DESCRIPTION:Mission Possible 5K Age Group Results\n\nMission Possible 5K Overall Results
URL:https://www.racetime.info/event/morningstar-mission-possible-5k-runwalk/
LOCATION:MorningStar Mission\, 360 East Washington Street\, Joliet\, IL\, 60433\, United States
CATEGORIES:2017-08 Results (August)
ORGANIZER;CN="Eloise Crabb":MAILTO:directorofdevelopment@morningstarmission.org
GEO:41.5240005;-88.0725366
X-APPLE-STRUCTURED-LOCATION;VALUE=URI;X-ADDRESS=MorningStar Mission 360 East Washington Street Joliet IL 60433 United States;X-APPLE-RADIUS=500;X-TITLE=360 East Washington Street:geo:-88.0725366,41.5240005
END:VEVENT
BEGIN:VEVENT
DTSTART;TZID=America/Chicago:20170813T081500
DTEND;TZID=America/Chicago:20170813T110000
DTSTAMP:20260424T000538
CREATED:20170628T202419Z
LAST-MODIFIED:20170818T115652Z
UID:10001515-1502612100-1502622000@www.racetime.info
SUMMARY:Barrington Honor Ride and Trail Run
DESCRIPTION:Honor Run 5K+ Overall Results
URL:https://www.racetime.info/event/barrington-honor-ride-and-trail-run/
LOCATION:Barrington Hills Park District\, 361 Bateman Road\, Barrington Hills\, IL\, 60010\, United States
CATEGORIES:2017-08 Results (August)
ORGANIZER;CN="Colleen Konicek":MAILTO:honorrideinfo@ride2recovery.com
GEO:42.1360088;-88.22191
X-APPLE-STRUCTURED-LOCATION;VALUE=URI;X-ADDRESS=Barrington Hills Park District 361 Bateman Road Barrington Hills IL 60010 United States;X-APPLE-RADIUS=500;X-TITLE=361 Bateman Road:geo:-88.22191,42.1360088
END:VEVENT
BEGIN:VEVENT
DTSTART;TZID=America/Chicago:20170812T174500
DTEND;TZID=America/Chicago:20170812T210000
DTSTAMP:20260424T000538
CREATED:20170303T144838Z
LAST-MODIFIED:20170813T015856Z
UID:10001106-1502559900-1502571600@www.racetime.info
SUMMARY:Shopping Cart Shuffle 5K Run/Walk & Kids Dash
DESCRIPTION:Shopping Cart Shuffle 5K Age Group Results\n\nShopping Cart Shuffle 5K Overall Results\n\nShopping Cart Shuffle Team Results
URL:https://www.racetime.info/event/shopping-cart-shuffle-5k-runwalk-kids-dash/
LOCATION:Mallard Lake Forest Preserve\, Schick Road & Mallard Lane\, Bloomingdae\, IL\, 60172\, United States
CATEGORIES:2017-08 Results (August)
GEO:41.9527902;-88.1282465
X-APPLE-STRUCTURED-LOCATION;VALUE=URI;X-ADDRESS=Mallard Lake Forest Preserve Schick Road & Mallard Lane Bloomingdae IL 60172 United States;X-APPLE-RADIUS=500;X-TITLE=Schick Road & Mallard Lane:geo:-88.1282465,41.9527902
END:VEVENT
BEGIN:VEVENT
DTSTART;TZID=America/Chicago:20170812T090000
DTEND;TZID=America/Chicago:20170812T110000
DTSTAMP:20260424T000538
CREATED:20170708T093336Z
LAST-MODIFIED:20170812T174524Z
UID:10001517-1502528400-1502535600@www.racetime.info
SUMMARY:We Fight For Bubba 5K Run/Walk & 1 Mile Fun Run
DESCRIPTION:We Fight For Bubba 1 Mile Overall Results\n\nWe Fight For Bubba 5K Age Group Results\n\nWe Fight For Bubba 5K Overall Results
URL:https://www.racetime.info/event/we-fight-for-bubba-5k-runwalk-1-mile-fun-run/
LOCATION:Wasco Old Towne Pub & Eatery\, 40W290 LaFox Road\, St. Charles\, IL\, 60175\, United States
CATEGORIES:2017-08 Results (August)
ORGANIZER;CN="Kim Weiss":MAILTO:wefightforbubba@gmail.com
GEO:41.9362169;-88.4004982
X-APPLE-STRUCTURED-LOCATION;VALUE=URI;X-ADDRESS=Wasco Old Towne Pub & Eatery 40W290 LaFox Road St. Charles IL 60175 United States;X-APPLE-RADIUS=500;X-TITLE=40W290 LaFox Road:geo:-88.4004982,41.9362169
END:VEVENT
BEGIN:VEVENT
DTSTART;TZID=America/Chicago:20170812T084500
DTEND;TZID=America/Chicago:20170812T103000
DTSTAMP:20260424T000538
CREATED:20170220T175917Z
LAST-MODIFIED:20170812T174248Z
UID:10001047-1502527500-1502533800@www.racetime.info
SUMMARY:ECFA's 5K4Kids Run/Walk & Kids 1/2 Mile Fun Run
DESCRIPTION:ECFA’s Run4Kids 5K Age Group Results\n\nECFA’s Run4Kids 5K Overall Results
URL:https://www.racetime.info/event/ecfas-5k4kids-runwalk-kids-12-mile-fun-run/
LOCATION:Danada Forest Preserve\, 3S580 Naperville Road\, Wheaton\, IL\, 60187\, United States
CATEGORIES:2017-08 Results (August)
ORGANIZER;CN="Odette Navarro":MAILTO:5k4kids@evancfa.org
GEO:41.819072;-88.1124109
X-APPLE-STRUCTURED-LOCATION;VALUE=URI;X-ADDRESS=Danada Forest Preserve 3S580 Naperville Road Wheaton IL 60187 United States;X-APPLE-RADIUS=500;X-TITLE=3S580 Naperville Road:geo:-88.1124109,41.819072
END:VEVENT
BEGIN:VEVENT
DTSTART;TZID=America/Chicago:20170812T083000
DTEND;TZID=America/Chicago:20170812T100000
DTSTAMP:20260424T000538
CREATED:20170216T232531Z
LAST-MODIFIED:20170812T174122Z
UID:10001039-1502526600-1502532000@www.racetime.info
SUMMARY:Rotolo 5K Run/Walk
DESCRIPTION:Rotolo 5K Age Group Results\n\nRotolo 5K Overall Results
URL:https://www.racetime.info/event/rotolo-5k-runwalk-2/
LOCATION:Peg Bond Center\, 151 N. Island Avenue\, Batavia\, IL\, 60510\, United States
CATEGORIES:2017-08 Results (August)
ORGANIZER;CN="Jeff Thomas":MAILTO:jeffrey.thomas@bps101.net
GEO:41.853407;-88.3092422
X-APPLE-STRUCTURED-LOCATION;VALUE=URI;X-ADDRESS=Peg Bond Center 151 N. Island Avenue Batavia IL 60510 United States;X-APPLE-RADIUS=500;X-TITLE=151 N. Island Avenue:geo:-88.3092422,41.853407
END:VEVENT
BEGIN:VEVENT
DTSTART;TZID=America/Chicago:20170812T080000
DTEND;TZID=America/Chicago:20170812T110000
DTSTAMP:20260424T000538
CREATED:20170712T103930Z
LAST-MODIFIED:20170813T193214Z
UID:10001519-1502524800-1502535600@www.racetime.info
SUMMARY:10th Annual Mendota CornaPalooza 5K & 10K
DESCRIPTION:Cornapalooza 5K Age Group Results\n\nCornapalooza 5K Overall Results\n\nCornapalooza 10K Age Group Results\n\nCornapalooza 10K Overall Results
URL:https://www.racetime.info/event/10th-annual-mendota-cornapalooza-5k-10k/
LOCATION:Lake Mendota\, Route 251/52 & Tom Merwin Drive\, Mendota\, IL\, 61342\, United States
CATEGORIES:2017-08 Results (August)
ORGANIZER;CN="JoEllyn Gahan":MAILTO:joellyn.gahan@osfhealthcare.org
GEO:41.5578777;-89.1277915
X-APPLE-STRUCTURED-LOCATION;VALUE=URI;X-ADDRESS=Lake Mendota Route 251/52 & Tom Merwin Drive Mendota IL 61342 United States;X-APPLE-RADIUS=500;X-TITLE=Route 251/52 & Tom Merwin Drive:geo:-89.1277915,41.5578777
END:VEVENT
BEGIN:VEVENT
DTSTART;TZID=America/Chicago:20170808T183000
DTEND;TZID=America/Chicago:20170808T203000
DTSTAMP:20260424T000538
CREATED:20170621T204124Z
LAST-MODIFIED:20170809T103718Z
UID:10001497-1502217000-1502224200@www.racetime.info
SUMMARY:Homestretch for Heroes 5K Run/Walk
DESCRIPTION:Homestretch for Heroes 5K Overall Results\n\nHomestretch for Heroes Team Results
URL:https://www.racetime.info/event/homestretch-for-heroes-5k-runwalk-2/
LOCATION:Arlington International Racecourse\, 2200 W. Euclid Avenue\, Arlington Heights\, IL\, 60004\, United States
CATEGORIES:2017-08 Results (August)
ORGANIZER;CN="Sue Hussey":MAILTO:sue@saluteinc.org
GEO:42.088754;-87.955779
X-APPLE-STRUCTURED-LOCATION;VALUE=URI;X-ADDRESS=Arlington International Racecourse 2200 W. Euclid Avenue Arlington Heights IL 60004 United States;X-APPLE-RADIUS=500;X-TITLE=2200 W. Euclid Avenue:geo:-87.955779,42.088754
END:VEVENT
BEGIN:VEVENT
DTSTART;TZID=America/Chicago:20170806T080000
DTEND;TZID=America/Chicago:20170806T100000
DTSTAMP:20260424T000538
CREATED:20170621T203157Z
LAST-MODIFIED:20170806T170833Z
UID:10001495-1502006400-1502013600@www.racetime.info
SUMMARY:I Tried a Tri Sprint Triathlon
DESCRIPTION:I Tried A Tri Sprint Triathlon Age Group Results\n\nI Tried A Tri Sprint Triathlon Overall Results
URL:https://www.racetime.info/event/i-tried-a-tri-2017/
LOCATION:Oswegoland Park District Civic Center\, 5 Ashlawn Avenue\, Montgomery\, IL\, 60538\, United States
CATEGORIES:2017-08 Results (August)
ORGANIZER;CN="Zack Donati":MAILTO:zdonati@oswegolandpd.org
GEO:41.702849;-88.3445277
X-APPLE-STRUCTURED-LOCATION;VALUE=URI;X-ADDRESS=Oswegoland Park District Civic Center 5 Ashlawn Avenue Montgomery IL 60538 United States;X-APPLE-RADIUS=500;X-TITLE=5 Ashlawn Avenue:geo:-88.3445277,41.702849
END:VEVENT
BEGIN:VEVENT
DTSTART;TZID=America/Chicago:20170805T090000
DTEND;TZID=America/Chicago:20170805T110000
DTSTAMP:20260424T000538
CREATED:20170621T202443Z
LAST-MODIFIED:20170805T190525Z
UID:10000663-1501923600-1501930800@www.racetime.info
SUMMARY:GEPD Kids 2K17 Fun Run
DESCRIPTION:GEPD 2K17 Youth Obstacle Results
URL:https://www.racetime.info/event/gepd-kids-2k17-fun-run/
LOCATION:Newton Park\, 707 Fairview Avenue\, Glen Ellyn\, IL\, 60137\, United States
CATEGORIES:2017-08 Results (August)
ORGANIZER;CN="Stacey Lim":MAILTO:slim@geparks.org
GEO:41.8644276;-88.0577808
X-APPLE-STRUCTURED-LOCATION;VALUE=URI;X-ADDRESS=Newton Park 707 Fairview Avenue Glen Ellyn IL 60137 United States;X-APPLE-RADIUS=500;X-TITLE=707 Fairview Avenue:geo:-88.0577808,41.8644276
END:VEVENT
BEGIN:VEVENT
DTSTART;TZID=America/Chicago:20170805T090000
DTEND;TZID=America/Chicago:20170805T110000
DTSTAMP:20260424T000538
CREATED:20170615T155738Z
LAST-MODIFIED:20170805T190424Z
UID:10001488-1501923600-1501930800@www.racetime.info
SUMMARY:HaRUNbee 5K Run/Walk for Healthy Birth Outcomes
DESCRIPTION:HaRUNbee 5K Run Overall Results\n\nHaRUNbee 5K Walk Overall Results\n\nHaRUNbee 5K Wheel Overall Results\n\nHaRUNBee Team Results
URL:https://www.racetime.info/event/harunbee-5k-runwalk-for-healthy-birth-outcomes/
LOCATION:Downtown Milwaukee\, North Avenue & Dr. Martin Luther King\, Jr.\, Drive\, Milwaukee\, WI\, 53212\, United States
CATEGORIES:2017-08 Results (August)
ORGANIZER;CN="Marcia Blackman":MAILTO:mblackman@unitedwaygmwc.org
GEO:43.068014;-87.9140436
X-APPLE-STRUCTURED-LOCATION;VALUE=URI;X-ADDRESS=Downtown Milwaukee North Avenue & Dr. Martin Luther King Jr. Drive Milwaukee WI 53212 United States;X-APPLE-RADIUS=500;X-TITLE=North Avenue & Dr. Martin Luther King\, Jr.\, Drive:geo:-87.9140436,43.068014
END:VEVENT
BEGIN:VEVENT
DTSTART;TZID=America/Chicago:20170805T080000
DTEND;TZID=America/Chicago:20170805T110000
DTSTAMP:20260424T000538
CREATED:20170621T203410Z
LAST-MODIFIED:20170805T190654Z
UID:10001496-1501920000-1501930800@www.racetime.info
SUMMARY:Northbrook Youth Triathlon
DESCRIPTION:Northbrook Youth Triathlon
URL:https://www.racetime.info/event/northbrook-youth-triathlon-3/
LOCATION:IL
CATEGORIES:2017-08 Results (August)
END:VEVENT
BEGIN:VEVENT
DTSTART;TZID=America/Chicago:20170805T080000
DTEND;TZID=America/Chicago:20170805T100000
DTSTAMP:20260424T000538
CREATED:20170605T213035Z
LAST-MODIFIED:20170805T192203Z
UID:10000617-1501920000-1501927200@www.racetime.info
SUMMARY:Tiskilwa Pow Wow Days 5K Run/Walk
DESCRIPTION:Tiskilwa Pow Wow 5K Age Group Results\n\nTiskilwa Pow Wow 5K Overall Results\n\nTiskilwa Pow Wow 5K Alumni Overall Results
URL:https://www.racetime.info/event/tiskilwa-pow-wow-days-5k-runwalk/
LOCATION:East Park\, East First Street\, Tiskilwa\, IL\, United States
CATEGORIES:2017-08 Results (August)
ORGANIZER;CN="Jenine Proffitt":MAILTO:jproffitt95@gmail.com
GEO:41.2902846;-89.4968968
X-APPLE-STRUCTURED-LOCATION;VALUE=URI;X-ADDRESS=East Park East First Street Tiskilwa IL United States;X-APPLE-RADIUS=500;X-TITLE=East First Street:geo:-89.4968968,41.2902846
END:VEVENT
BEGIN:VEVENT
DTSTART;TZID=America/Chicago:20170805T080000
DTEND;TZID=America/Chicago:20170805T100000
DTSTAMP:20260424T000538
CREATED:20170406T215129Z
LAST-MODIFIED:20170805T190015Z
UID:10001292-1501920000-1501927200@www.racetime.info
SUMMARY:St. John's Run For Life 5K & Kids Fun Run
DESCRIPTION:St. John’s Run For Life 5K Age Group Results\n\nSt. John’s Run For Life 5K Overall Results
URL:https://www.racetime.info/event/st-johns-run-for-life-5k-kids-fun-run/
LOCATION:St. John the Baptist Church\, 0S233 Church Street\, Winfield\, IL\, 60190\, United States
CATEGORIES:2017-08 Results (August)
ORGANIZER;CN="Jennipher Graf":MAILTO:trillium92016@yahoo.com
GEO:41.8685708;-88.1569357
X-APPLE-STRUCTURED-LOCATION;VALUE=URI;X-ADDRESS=St. John the Baptist Church 0S233 Church Street Winfield IL 60190 United States;X-APPLE-RADIUS=500;X-TITLE=0S233 Church Street:geo:-88.1569357,41.8685708
END:VEVENT
END:VCALENDAR