BEGIN:VCALENDAR
VERSION:2.0
PRODID:-//Race Time - ECPv6.15.13//NONSGML v1.0//EN
CALSCALE:GREGORIAN
METHOD:PUBLISH
X-ORIGINAL-URL:https://www.racetime.info
X-WR-CALDESC:Events for Race Time
REFRESH-INTERVAL;VALUE=DURATION:PT1H
X-Robots-Tag:noindex
X-PUBLISHED-TTL:PT1H
BEGIN:VTIMEZONE
TZID:America/Chicago
BEGIN:DAYLIGHT
TZOFFSETFROM:-0600
TZOFFSETTO:-0500
TZNAME:CDT
DTSTART:20160313T080000
END:DAYLIGHT
BEGIN:STANDARD
TZOFFSETFROM:-0500
TZOFFSETTO:-0600
TZNAME:CST
DTSTART:20161106T070000
END:STANDARD
BEGIN:DAYLIGHT
TZOFFSETFROM:-0600
TZOFFSETTO:-0500
TZNAME:CDT
DTSTART:20170312T080000
END:DAYLIGHT
BEGIN:STANDARD
TZOFFSETFROM:-0500
TZOFFSETTO:-0600
TZNAME:CST
DTSTART:20171105T070000
END:STANDARD
BEGIN:DAYLIGHT
TZOFFSETFROM:-0600
TZOFFSETTO:-0500
TZNAME:CDT
DTSTART:20180311T080000
END:DAYLIGHT
BEGIN:STANDARD
TZOFFSETFROM:-0500
TZOFFSETTO:-0600
TZNAME:CST
DTSTART:20181104T070000
END:STANDARD
END:VTIMEZONE
BEGIN:VEVENT
DTSTART;TZID=America/Chicago:20170930T130000
DTEND;TZID=America/Chicago:20170930T170000
DTSTAMP:20260424T000535
CREATED:20171001T022128Z
LAST-MODIFIED:20171001T022128Z
UID:10001684-1506776400-1506790800@www.racetime.info
SUMMARY:Nate Hoffman Melanoma Memorial Adventure Race
DESCRIPTION:Melanoma Adventure Run Overall Results
URL:https://www.racetime.info/event/nate-hoffman-melanoma-memorial-adventure-race/
LOCATION:Lake Eureka\, Eureka\, IL\, United States
CATEGORIES:2017-09 Results (September)
ORGANIZER;CN="Jennifer Hoffman":MAILTO:jenatem@msn.com
GEO:40.7214251;-89.2728627
END:VEVENT
BEGIN:VEVENT
DTSTART;TZID=America/Chicago:20170930T090000
DTEND;TZID=America/Chicago:20170930T110000
DTSTAMP:20260424T000535
CREATED:20170829T185620Z
LAST-MODIFIED:20171005T113306Z
UID:10001610-1506762000-1506769200@www.racetime.info
SUMMARY:Head for Safety (Miles for James) 5K Run/Walk and Kids Dash
DESCRIPTION:Head for Safety 5K Age Group Results\n\nHead for Safety 5K Overall Results
URL:https://www.racetime.info/event/head-for-safety-miles-for-james-5k-runwalk-and-kids-dash/
LOCATION:Family Harvest Church\, 18500 92nd Avenue\, Tinley Park\, IL\, 60487\, United States
CATEGORIES:2017-09 Results (September)
ORGANIZER;CN="Joni Javier":MAILTO:info@milesforjames.com
GEO:41.5543733;-87.8430733
X-APPLE-STRUCTURED-LOCATION;VALUE=URI;X-ADDRESS=Family Harvest Church 18500 92nd Avenue Tinley Park IL 60487 United States;X-APPLE-RADIUS=500;X-TITLE=18500 92nd Avenue:geo:-87.8430733,41.5543733
END:VEVENT
BEGIN:VEVENT
DTSTART;TZID=America/Chicago:20170930T090000
DTEND;TZID=America/Chicago:20170930T110000
DTSTAMP:20260424T000535
CREATED:20170829T184956Z
LAST-MODIFIED:20171003T102351Z
UID:10001602-1506762000-1506769200@www.racetime.info
SUMMARY:Corn Fest 5K Run/Walk and Tot Trot
DESCRIPTION:Morris Corn Fest 5K Age Group Results\n\nMorris Corn Fest 5K Overall Results
URL:https://www.racetime.info/event/corn-fest-5k-runwalk-and-tot-trot/
LOCATION:Morris Elementary School\, 2001 DuPont Avenue\, Morris\, IL\, 60450\, United States
CATEGORIES:2017-09 Results (September)
ORGANIZER;CN="Rebecca Evola":MAILTO:revola@morrishospital.org
GEO:41.3666063;-88.4509794
X-APPLE-STRUCTURED-LOCATION;VALUE=URI;X-ADDRESS=Morris Elementary School 2001 DuPont Avenue Morris IL 60450 United States;X-APPLE-RADIUS=500;X-TITLE=2001 DuPont Avenue:geo:-88.4509794,41.3666063
END:VEVENT
BEGIN:VEVENT
DTSTART;TZID=America/Chicago:20170930T090000
DTEND;TZID=America/Chicago:20170930T110000
DTSTAMP:20260424T000535
CREATED:20170829T182113Z
LAST-MODIFIED:20170930T190242Z
UID:10000769-1506762000-1506769200@www.racetime.info
SUMMARY:Jogging for St. Joe's 5K Run/Walk & Kids Dash
DESCRIPTION:Jogging for St. Joe’s 5K Age Group Results\n\nJogging for St. Joe’s 5K Overall Results
URL:https://www.racetime.info/event/jogging-for-st-joes-5k-runwalk-kids-dash-2/
LOCATION:St. Joseph School\, 510 S. Jefferson\, Lockport\, IL\, 60441\, United States
CATEGORIES:2017-09 Results (September)
ORGANIZER;CN="Maribeth Leyva":MAILTO:joggingforjoes@hotmail.com
GEO:41.5919577;-88.0512084
X-APPLE-STRUCTURED-LOCATION;VALUE=URI;X-ADDRESS=St. Joseph School 510 S. Jefferson Lockport IL 60441 United States;X-APPLE-RADIUS=500;X-TITLE=510 S. Jefferson:geo:-88.0512084,41.5919577
END:VEVENT
BEGIN:VEVENT
DTSTART;TZID=America/Chicago:20170930T090000
DTEND;TZID=America/Chicago:20170930T110000
DTSTAMP:20260424T000535
CREATED:20170829T181451Z
LAST-MODIFIED:20171002T113150Z
UID:10000782-1506762000-1506769200@www.racetime.info
SUMMARY:District 91 Education Foundation 5K Run/Walk
DESCRIPTION:D91 5K Age Group Results\n\nD91 5K Overall Results
URL:https://www.racetime.info/event/district-91-5k-run/
LOCATION:Kelvin Grove School\, 808 Adams Street\, Lockport\, IL\, 60441\, United States
CATEGORIES:2017-09 Results (September)
ORGANIZER;CN="Lia Ditter":MAILTO:lditter@d91.et
GEO:41.5879962;-88.0412931
X-APPLE-STRUCTURED-LOCATION;VALUE=URI;X-ADDRESS=Kelvin Grove School 808 Adams Street Lockport IL 60441 United States;X-APPLE-RADIUS=500;X-TITLE=808 Adams Street:geo:-88.0412931,41.5879962
END:VEVENT
BEGIN:VEVENT
DTSTART;TZID=America/Chicago:20170930T083000
DTEND;TZID=America/Chicago:20170930T110000
DTSTAMP:20260424T000535
CREATED:20170624T113529Z
LAST-MODIFIED:20171001T021827Z
UID:10000682-1506760200-1506769200@www.racetime.info
SUMMARY:One Stride at a Time 5K & 1K Run/Walk
DESCRIPTION:One Stride At A Time 5K Age Group Results\n\nOne Stride At A Time 5K Overall Results
URL:https://www.racetime.info/event/one-stride-at-a-time-5k-1k-runwalk/
LOCATION:Hastings Lake Forest Preserve\, 21155 W. Gelden Road\, Lake Villa\, IL\, 60046\, United States
CATEGORIES:2017-09 Results (September)
ORGANIZER;CN="Kelsey Jacobs":MAILTO:kxjacobs@gatewayfoundation.org
GEO:42.43165;-88.045445
X-APPLE-STRUCTURED-LOCATION;VALUE=URI;X-ADDRESS=Hastings Lake Forest Preserve 21155 W. Gelden Road Lake Villa IL 60046 United States;X-APPLE-RADIUS=500;X-TITLE=21155 W. Gelden Road:geo:-88.045445,42.43165
END:VEVENT
BEGIN:VEVENT
DTSTART;TZID=America/Chicago:20170930T083000
DTEND;TZID=America/Chicago:20170930T103000
DTSTAMP:20260424T000535
CREATED:20170609T205207Z
LAST-MODIFIED:20170930T185957Z
UID:10001452-1506760200-1506767400@www.racetime.info
SUMMARY:St. Richard Rocket Run 5K
DESCRIPTION:Rocket Run 5K Overall Results
URL:https://www.racetime.info/event/st-richard-rocket-run-5k/
LOCATION:St. RIchard Parish and School\, 5030 South Kostner\, Chicago\, IL\, 60632\, United States
CATEGORIES:2017-09 Results (September)
ORGANIZER;CN="Teresa Jimenez":MAILTO:strichardrocketrun@gmail.com
GEO:41.8015121;-87.7335089
X-APPLE-STRUCTURED-LOCATION;VALUE=URI;X-ADDRESS=St. RIchard Parish and School 5030 South Kostner Chicago IL 60632 United States;X-APPLE-RADIUS=500;X-TITLE=5030 South Kostner:geo:-87.7335089,41.8015121
END:VEVENT
BEGIN:VEVENT
DTSTART;TZID=America/Chicago:20170930T083000
DTEND;TZID=America/Chicago:20170930T100000
DTSTAMP:20260424T000535
CREATED:20170322T123609Z
LAST-MODIFIED:20170930T192800Z
UID:10001261-1506760200-1506765600@www.racetime.info
SUMMARY:Run Wild-Race for Open Space 5K
DESCRIPTION:Run Wild 5K Age Group Results\n\nRun Wild 5K Overall Results
URL:https://www.racetime.info/event/run-wild-race-for-open-space-5k/
LOCATION:Hickory Grove Conservation Area\, 500 Hickory Nut Grove Lane\, Cary\, IL\, 60013\, United States
CATEGORIES:2017-09 Results (September)
ORGANIZER;CN="Samantha Shaw":MAILTO:education@mccdistrict.org
GEO:42.2343947;-88.2032916
X-APPLE-STRUCTURED-LOCATION;VALUE=URI;X-ADDRESS=Hickory Grove Conservation Area 500 Hickory Nut Grove Lane Cary IL 60013 United States;X-APPLE-RADIUS=500;X-TITLE=500 Hickory Nut Grove Lane:geo:-88.2032916,42.2343947
END:VEVENT
BEGIN:VEVENT
DTSTART;TZID=America/Chicago:20170930T080000
DTEND;TZID=America/Chicago:20170930T170000
DTSTAMP:20260424T000535
CREATED:20170829T191922Z
LAST-MODIFIED:20170930T185607Z
UID:10001615-1506758400-1506790800@www.racetime.info
SUMMARY:Compass To Care 5K Run/Walk & 1 Mile Walk
DESCRIPTION:Compass To Care 5K Age Group Results\n\nCompass to Care 5K Overall Results
URL:https://www.racetime.info/event/compass-to-care-5k-runwalk-1-mile-walk/
LOCATION:Hodge Park\, 101 Courtland Avenue\, Park Ridge\, IL\, 60068\, United States
CATEGORIES:2017-09 Results (September)
ORGANIZER;CN="Anna Polyak":MAILTO:info@compasstocare.org
GEO:42.0093129;-87.831126
X-APPLE-STRUCTURED-LOCATION;VALUE=URI;X-ADDRESS=Hodge Park 101 Courtland Avenue Park Ridge IL 60068 United States;X-APPLE-RADIUS=500;X-TITLE=101 Courtland Avenue:geo:-87.831126,42.0093129
END:VEVENT
BEGIN:VEVENT
DTSTART;TZID=America/Chicago:20170930T080000
DTEND;TZID=America/Chicago:20170930T100000
DTSTAMP:20260424T000535
CREATED:20170503T095721Z
LAST-MODIFIED:20171001T010142Z
UID:10000567-1506758400-1506765600@www.racetime.info
SUMMARY:Run for the Way 5K Run/Walk
DESCRIPTION:Run For The Way 5K Age Group Results\n\nRun For The Way 5K Overall Results\n\nRun For The Way Team Results
URL:https://www.racetime.info/event/run-for-the-way-5k-runwalk/
LOCATION:Timber Creek Golf Course\, 729 Timber Creek Road\, Dixon\, IL\, 61021\, United States
CATEGORIES:2017-09 Results (September)
ORGANIZER;CN="Jenny Koch":MAILTO:unitedwayofleecounty@comcast.net
GEO:41.8735879;-89.4906969
X-APPLE-STRUCTURED-LOCATION;VALUE=URI;X-ADDRESS=Timber Creek Golf Course 729 Timber Creek Road Dixon IL 61021 United States;X-APPLE-RADIUS=500;X-TITLE=729 Timber Creek Road:geo:-89.4906969,41.8735879
END:VEVENT
BEGIN:VEVENT
DTSTART;TZID=America/Chicago:20170924T110000
DTEND;TZID=America/Chicago:20170924T140000
DTSTAMP:20260424T000535
CREATED:20170727T115040Z
LAST-MODIFIED:20170926T211422Z
UID:10000730-1506250800-1506261600@www.racetime.info
SUMMARY:Oswego Youth Triathlon
DESCRIPTION:Oswego Youth Tri Team Results\n\nOswego Youth Tri Individual Results
URL:https://www.racetime.info/event/kids-triathlon/
LOCATION:Oswego East High School\, 1525 Harvey Road\, Oswego\, IL\, 60543\, United States
CATEGORIES:2017-09 Results (September)
ORGANIZER;CN="Zack Donati":MAILTO:zdonati@oswegolandpd.org
GEO:41.6995606;-88.2806611
X-APPLE-STRUCTURED-LOCATION;VALUE=URI;X-ADDRESS=Oswego East High School 1525 Harvey Road Oswego IL 60543 United States;X-APPLE-RADIUS=500;X-TITLE=1525 Harvey Road:geo:-88.2806611,41.6995606
END:VEVENT
BEGIN:VEVENT
DTSTART;TZID=America/Chicago:20170924T110000
DTEND;TZID=America/Chicago:20170924T130000
DTSTAMP:20260424T000535
CREATED:20170712T104951Z
LAST-MODIFIED:20170924T204330Z
UID:10000692-1506250800-1506258000@www.racetime.info
SUMMARY:PANDAS Dash 5K Run/Walk & 100 Yard Youth Dash
DESCRIPTION:Panda 5K Age Group Results\n\nPanda 5K Overall Results
URL:https://www.racetime.info/event/pandas-dash-5k-runwalk-100-yard-youth-dash/
LOCATION:Willowbrook High School\, 1250 South Ardmore Avenue\, Villa Park\, IL\, 60181\, United States
CATEGORIES:2017-09 Results (September)
ORGANIZER;CN="Kate Drury":MAILTO:events@pas.care
GEO:41.8897519;-87.9889543
X-APPLE-STRUCTURED-LOCATION;VALUE=URI;X-ADDRESS=Willowbrook High School 1250 South Ardmore Avenue Villa Park IL 60181 United States;X-APPLE-RADIUS=500;X-TITLE=1250 South Ardmore Avenue:geo:-87.9889543,41.8897519
END:VEVENT
BEGIN:VEVENT
DTSTART;TZID=America/Chicago:20170924T090000
DTEND;TZID=America/Chicago:20170924T110000
DTSTAMP:20260424T000535
CREATED:20170509T210412Z
LAST-MODIFIED:20170924T204215Z
UID:10001382-1506243600-1506250800@www.racetime.info
SUMMARY:Fox Chase 5K & Youth Mile
DESCRIPTION:Fox Chase Youth 1 Mile Age Group Results\n\nFox Chase Youth 1 Mile Overall Results\n\nFox Chase 5K Age Group Results\n\nFox Chase 5K Overall Results
URL:https://www.racetime.info/event/fox-chase-5k-youth-mile/
LOCATION:Stanger Park\, 257 Lexington Road\, Fox River Grove\, IL\, 60021\, United States
CATEGORIES:2017-09 Results (September)
ORGANIZER;CN="Sheri Sepeczi":MAILTO:sepeczi@ameritech.net
GEO:42.1958967;-88.2116426
X-APPLE-STRUCTURED-LOCATION;VALUE=URI;X-ADDRESS=Stanger Park 257 Lexington Road Fox River Grove IL 60021 United States;X-APPLE-RADIUS=500;X-TITLE=257 Lexington Road:geo:-88.2116426,42.1958967
END:VEVENT
BEGIN:VEVENT
DTSTART;TZID=America/Chicago:20170924T083000
DTEND;TZID=America/Chicago:20170924T100000
DTSTAMP:20260424T000535
CREATED:20170420T223116Z
LAST-MODIFIED:20170925T173018Z
UID:10000546-1506241800-1506247200@www.racetime.info
SUMMARY:Fall Into Fitness 5K Run/Walk
DESCRIPTION:Fall Into Fitness 5K Age Group Results\n\nFall Into Fitness 5K Overall Results\n\nFall Into Fitness Team Results
URL:https://www.racetime.info/event/fall-into-fitness-5k-runwalk-2/
LOCATION:Portage Park\, 4100 Long Avenue\, Chicago\, IL\, 60641\, United States
CATEGORIES:2017-09 Results (September)
ORGANIZER;CN="Sara McAuliff":MAILTO:smcauliff@cfmedicalcenter.com
GEO:41.955369;-87.7635893
X-APPLE-STRUCTURED-LOCATION;VALUE=URI;X-ADDRESS=Portage Park 4100 Long Avenue Chicago IL 60641 United States;X-APPLE-RADIUS=500;X-TITLE=4100 Long Avenue:geo:-87.7635893,41.955369
END:VEVENT
BEGIN:VEVENT
DTSTART;TZID=America/Chicago:20170924T080000
DTEND;TZID=America/Chicago:20170924T100000
DTSTAMP:20260424T000535
CREATED:20170308T123621Z
LAST-MODIFIED:20170924T204018Z
UID:10000464-1506240000-1506247200@www.racetime.info
SUMMARY:I Support Community: Represent 5K Run/Walk & Kids Dash
DESCRIPTION:Represent 5K Age Group Results\n\nRepresent 5K Overall Results\n\nRepresent 5K Team Results
URL:https://www.racetime.info/event/i-support-community-represent-5k-runwalk-kids-dash/
LOCATION:Danada Forest Preserve\, 3S580 Naperville Road\, Wheaton\, IL\, 60187\, United States
CATEGORIES:2017-09 Results (September)
ORGANIZER;CN="Marion Ruthig":MAILTO:marion@isupportcommunity.org
GEO:41.819072;-88.1124109
X-APPLE-STRUCTURED-LOCATION;VALUE=URI;X-ADDRESS=Danada Forest Preserve 3S580 Naperville Road Wheaton IL 60187 United States;X-APPLE-RADIUS=500;X-TITLE=3S580 Naperville Road:geo:-88.1124109,41.819072
END:VEVENT
BEGIN:VEVENT
DTSTART;TZID=America/Chicago:20170923T090000
DTEND;TZID=America/Chicago:20170923T110000
DTSTAMP:20260424T000535
CREATED:20170727T161210Z
LAST-MODIFIED:20170923T184849Z
UID:10000732-1506157200-1506164400@www.racetime.info
SUMMARY:Community Fun Run 5K; 3K & 1 Mile
DESCRIPTION:Community 3K Run Overall Results\n\nCommunity 5K Run Overall Results
URL:https://www.racetime.info/event/community-fun-run-5k-3k-1-mile/
LOCATION:North Park\, 10040 Addison\, Franklin Park\, IL\, 60131\, United States
CATEGORIES:2017-09 Results (September)
GEO:41.9438347;-87.8769876
X-APPLE-STRUCTURED-LOCATION;VALUE=URI;X-ADDRESS=North Park 10040 Addison Franklin Park IL 60131 United States;X-APPLE-RADIUS=500;X-TITLE=10040 Addison:geo:-87.8769876,41.9438347
END:VEVENT
BEGIN:VEVENT
DTSTART;TZID=America/Chicago:20170923T083000
DTEND;TZID=America/Chicago:20170923T110000
DTSTAMP:20260424T000535
CREATED:20170514T094841Z
LAST-MODIFIED:20170923T184612Z
UID:10001408-1506155400-1506164400@www.racetime.info
SUMMARY:Run For Learning 5K\, 1K & Youth Dash
DESCRIPTION:Run For Learning Youth 1K Overall Results\n\nRun For Learning 5K Age Group Results\n\nRun For Learning 5K Overall Results
URL:https://www.racetime.info/event/run-for-learning-5k-1k-youth-dash/
LOCATION:Downtown Grayslake\, Whitney Street and Center Street\, Grayslake\, IL\, 60030\, United States
CATEGORIES:2017-09 Results (September)
ORGANIZER;CN="Holly Ness":MAILTO:runforlearning@gmail.com
GEO:42.3443252;-88.0402633
X-APPLE-STRUCTURED-LOCATION;VALUE=URI;X-ADDRESS=Downtown Grayslake Whitney Street and Center Street Grayslake IL 60030 United States;X-APPLE-RADIUS=500;X-TITLE=Whitney Street and Center Street:geo:-88.0402633,42.3443252
END:VEVENT
BEGIN:VEVENT
DTSTART;TZID=America/Chicago:20170923T080000
DTEND;TZID=America/Chicago:20170923T110000
DTSTAMP:20260424T000535
CREATED:20170521T112115Z
LAST-MODIFIED:20170923T184715Z
UID:10000593-1506153600-1506164400@www.racetime.info
SUMMARY:Hyde Park Breast Cancer 5K Run/Walk
DESCRIPTION:Beyond a Mammogram 5K Age Group Results\n\nBeyond a Mammogram 5K Overall Results
URL:https://www.racetime.info/event/hyde-park-breast-cancer-5k-runwalk/
LOCATION:Hyde Park\, 5200 S. Hyde Park Blvd\, Chicago\, IL\, United States
CATEGORIES:2017-09 Results (September)
ORGANIZER;CN="Ontisar Freelain":MAILTO:ofreelain@hydepark5k.org
GEO:41.8008885;-87.5850354
X-APPLE-STRUCTURED-LOCATION;VALUE=URI;X-ADDRESS=Hyde Park 5200 S. Hyde Park Blvd Chicago IL United States;X-APPLE-RADIUS=500;X-TITLE=5200 S. Hyde Park Blvd:geo:-87.5850354,41.8008885
END:VEVENT
BEGIN:VEVENT
DTSTART;TZID=America/Chicago:20170917T090000
DTEND;TZID=America/Chicago:20170917T110000
DTSTAMP:20260424T000535
CREATED:20170718T184017Z
LAST-MODIFIED:20170917T172115Z
UID:10000719-1505638800-1505646000@www.racetime.info
SUMMARY:Cary Shuffle 5K Run/Walk
DESCRIPTION:Cary Shuffle 5K Age Group Results\n\nCary Shuffle 5K Overall Results
URL:https://www.racetime.info/event/cary-shuffle-5k-runwalk/
LOCATION:Downtown Cary\, 100 W. Main Street\, Cary\, IL\, 60013\, United States
CATEGORIES:2017-09 Results (September)
ORGANIZER;CN="Kurt Kaiser":MAILTO:kurtkaiser.us@gmail.com
GEO:42.2090181;-88.2414987
X-APPLE-STRUCTURED-LOCATION;VALUE=URI;X-ADDRESS=Downtown Cary 100 W. Main Street Cary IL 60013 United States;X-APPLE-RADIUS=500;X-TITLE=100 W. Main Street:geo:-88.2414987,42.2090181
END:VEVENT
BEGIN:VEVENT
DTSTART;TZID=America/Chicago:20170917T080000
DTEND;TZID=America/Chicago:20170917T110000
DTSTAMP:20260424T000535
CREATED:20170804T123347Z
LAST-MODIFIED:20170917T171956Z
UID:10001574-1505635200-1505646000@www.racetime.info
SUMMARY:Willow House Run For Hope 5K & 1 Mile Walk to Remember
DESCRIPTION:Run For Hope 5K Age Group Results\n\nRun For Hope 5K Overall Results
URL:https://www.racetime.info/event/willow-house-run-for-hope-5k-1-mile-walk-to-remember/
LOCATION:Independence Grove Forest Preserve\, 16400 Buckley Road\, Libertyville\, IL\, 60045\, United States
CATEGORIES:2017-09 Results (September)
ORGANIZER;CN="Denise O'Handley":MAILTO:deniseohandley@willowhouse.org
GEO:42.3118463;-87.9529568
X-APPLE-STRUCTURED-LOCATION;VALUE=URI;X-ADDRESS=Independence Grove Forest Preserve 16400 Buckley Road Libertyville IL 60045 United States;X-APPLE-RADIUS=500;X-TITLE=16400 Buckley Road:geo:-87.9529568,42.3118463
END:VEVENT
BEGIN:VEVENT
DTSTART;TZID=America/Chicago:20170916T100000
DTEND;TZID=America/Chicago:20170916T120000
DTSTAMP:20260424T000535
CREATED:20170726T114918Z
LAST-MODIFIED:20170916T204420Z
UID:10001558-1505556000-1505563200@www.racetime.info
SUMMARY:Dead Last 5K & 1 Mile Run/Walk
DESCRIPTION:Dead Last 5K Age Group Results\n\nDead Last 5K Overall Results
URL:https://www.racetime.info/event/dead-last-5k-1-mile-runwalk/
LOCATION:College of Lake County\, 19351 W. Washington Street\, Grayslake\, IL\, 60030\, United States
CATEGORIES:2017-09 Results (September)
ORGANIZER;CN="Greg Henkin":MAILTO:deadlast5k@gmail.com
GEO:42.3542742;-88.0121625
X-APPLE-STRUCTURED-LOCATION;VALUE=URI;X-ADDRESS=College of Lake County 19351 W. Washington Street Grayslake IL 60030 United States;X-APPLE-RADIUS=500;X-TITLE=19351 W. Washington Street:geo:-88.0121625,42.3542742
END:VEVENT
BEGIN:VEVENT
DTSTART;TZID=America/Chicago:20170916T100000
DTEND;TZID=America/Chicago:20170916T120000
DTSTAMP:20260424T000535
CREATED:20170715T100943Z
LAST-MODIFIED:20170916T204146Z
UID:10001540-1505556000-1505563200@www.racetime.info
SUMMARY:Oktoberfest 5K Run/Walk
DESCRIPTION:Oktoberfest 5K Age Group Results\n\nOktoberfest 5K Overall Results
URL:https://www.racetime.info/event/oktoberfest-5k-runwalk-2/
LOCATION:Comprehensive Pain and Wellness\, 3525 N. State Route 47\, Morris\, IL\, 60450\, United States
CATEGORIES:2017-09 Results (September)
ORGANIZER;CN="Kelly Lesemann":MAILTO:comprehensivepainandwellness@gmail.com
GEO:41.3362483;-88.4218618
X-APPLE-STRUCTURED-LOCATION;VALUE=URI;X-ADDRESS=Comprehensive Pain and Wellness 3525 N. State Route 47 Morris IL 60450 United States;X-APPLE-RADIUS=500;X-TITLE=3525 N. State Route 47:geo:-88.4218618,41.3362483
END:VEVENT
BEGIN:VEVENT
DTSTART;TZID=America/Chicago:20170916T090000
DTEND;TZID=America/Chicago:20170916T110000
DTSTAMP:20260424T000535
CREATED:20170726T115546Z
LAST-MODIFIED:20170917T175432Z
UID:10000736-1505552400-1505559600@www.racetime.info
SUMMARY:St. Stephen's 5K Run/Walk To Help Those In Need
DESCRIPTION:St. Stephen’s Run To Help Those In Need 5K Age Group Results\n\nSt. Stephen’s Run To Help Those In Need 5K Overall Results
URL:https://www.racetime.info/event/st-stephens-5k-runwalk-to-help-those-in-need/
LOCATION:St. Stephen’s Deacon & Martyr Catholic Church\, 17500 South 84th Avenue\, Tinley Park\, IL\, 60487\, United States
CATEGORIES:2017-09 Results (September)
ORGANIZER;CN="Eamon Allbee":MAILTO:ststephen25year5k@gmail.com
GEO:41.572114;-87.8232614
X-APPLE-STRUCTURED-LOCATION;VALUE=URI;X-ADDRESS=St. Stephen’s Deacon & Martyr Catholic Church 17500 South 84th Avenue Tinley Park IL 60487 United States;X-APPLE-RADIUS=500;X-TITLE=17500 South 84th Avenue:geo:-87.8232614,41.572114
END:VEVENT
BEGIN:VEVENT
DTSTART;TZID=America/Chicago:20170916T090000
DTEND;TZID=America/Chicago:20170916T110000
DTSTAMP:20260424T000535
CREATED:20170713T212010Z
LAST-MODIFIED:20170916T210349Z
UID:10000694-1505552400-1505559600@www.racetime.info
SUMMARY:The Great Mud Run (Youth Obstacle Course)
DESCRIPTION:Mudd Run Age Groups Results
URL:https://www.racetime.info/event/the-great-mud-run-youth-obstacle-course/
LOCATION:Watts Park\, 305 Randolph Street\, Glencoe\, IL\, 60022\, United States
CATEGORIES:2017-09 Results (September)
ORGANIZER;CN="Liz Visteen":MAILTO:evisteen@glencoeparkdistrict.com
GEO:42.1241081;-87.753278
X-APPLE-STRUCTURED-LOCATION;VALUE=URI;X-ADDRESS=Watts Park 305 Randolph Street Glencoe IL 60022 United States;X-APPLE-RADIUS=500;X-TITLE=305 Randolph Street:geo:-87.753278,42.1241081
END:VEVENT
BEGIN:VEVENT
DTSTART;TZID=America/Chicago:20170916T083000
DTEND;TZID=America/Chicago:20170916T110000
DTSTAMP:20260424T000535
CREATED:20170318T135538Z
LAST-MODIFIED:20170917T111029Z
UID:10001257-1505550600-1505559600@www.racetime.info
SUMMARY:Grand Prairie Run For Your Life 5K & Dash With The Cats 1 Mile Youth Run
DESCRIPTION:Grand Prairie’s Run For Your Life! 5K Age Group Results\n\nGrand Prairie’s Run For Your Life! 5K Overall Results\n\nGrand Prairie’s Dash With The Cats 1 Mile Age Group Results\n\nGrand Prairie’s Dash With The Cats 1 Mile Overall Results
URL:https://www.racetime.info/event/grand-prairie-run-for-your-life-5k-dash-with-the-cats-1-mile-youth-run/
LOCATION:Grand Prairie Elementary School\, 3100 Caton Farm Road\, Joliet\, IL\, 60431\, United States
CATEGORIES:2017-09 Results (September)
ORGANIZER;CN="Linda Salkas":MAILTO:grandprairie5k@gmail.com
GEO:41.5654379;-88.1643594
X-APPLE-STRUCTURED-LOCATION;VALUE=URI;X-ADDRESS=Grand Prairie Elementary School 3100 Caton Farm Road Joliet IL 60431 United States;X-APPLE-RADIUS=500;X-TITLE=3100 Caton Farm Road:geo:-88.1643594,41.5654379
END:VEVENT
BEGIN:VEVENT
DTSTART;TZID=America/Chicago:20170916T080000
DTEND;TZID=America/Chicago:20170916T100000
DTSTAMP:20260424T000535
CREATED:20170715T100118Z
LAST-MODIFIED:20170916T203649Z
UID:10001536-1505548800-1505556000@www.racetime.info
SUMMARY:Makin' Tracks 5K Run/Walk
DESCRIPTION:Makin Tracks 5K Run Age Group Results\n\nMakin Tracks 5K Run Overall Results\n\nMakin Tracks 5K Wheel Overall Results
URL:https://www.racetime.info/event/makin-tracks-5k-runwalk-2/
LOCATION:Concordia University Chicago\, 7400 Augusta Street\, River Forest\, IL\, 60305\, United States
CATEGORIES:2017-09 Results (September)
ORGANIZER;CN="Karen Stille":MAILTO:kstille@rfparks.com 
GEO:41.8982348;-87.8095144
X-APPLE-STRUCTURED-LOCATION;VALUE=URI;X-ADDRESS=Concordia University Chicago 7400 Augusta Street River Forest IL 60305 United States;X-APPLE-RADIUS=500;X-TITLE=7400 Augusta Street:geo:-87.8095144,41.8982348
END:VEVENT
BEGIN:VEVENT
DTSTART;TZID=America/Chicago:20170916T080000
DTEND;TZID=America/Chicago:20170916T100000
DTSTAMP:20260424T000535
CREATED:20170224T132836Z
LAST-MODIFIED:20170916T203515Z
UID:10001069-1505548800-1505556000@www.racetime.info
SUMMARY:Run The Shores at Lake Barrington 5K & 1 Mile
DESCRIPTION:Run The Shores 1 Mile Overall Results\n\nRun The Shores 5K Age Group Results\n\nRun The Shores 5K Overall Results
URL:https://www.racetime.info/event/run-the-shores-at-lake-barrinton-5k-1-mile/
LOCATION:Lake Barrington Shores\, 5035 Shoreline Road\, Lake Barrington\, IL\, 60010\, United States
CATEGORIES:2017-09 Results (September)
ORGANIZER;CN="Jamie Scheppman":MAILTO:jscheppman@fsresidential.com
GEO:42.2275301;-88.1459508
X-APPLE-STRUCTURED-LOCATION;VALUE=URI;X-ADDRESS=Lake Barrington Shores 5035 Shoreline Road Lake Barrington IL 60010 United States;X-APPLE-RADIUS=500;X-TITLE=5035 Shoreline Road:geo:-88.1459508,42.2275301
END:VEVENT
BEGIN:VEVENT
DTSTART;TZID=America/Chicago:20170916T073000
DTEND;TZID=America/Chicago:20170916T113000
DTSTAMP:20260424T000535
CREATED:20170822T121606Z
LAST-MODIFIED:20170916T203315Z
UID:10001584-1505547000-1505561400@www.racetime.info
SUMMARY:Heritage Haul: 5K; 10K; 1/2 Marathon & 15 Mile Bike
DESCRIPTION:Heritage Haul 15 Mile Bike Age Group Results\n\nHeritage Haul 15 Mile Bike Overall Results\n\nHeritage Haul Half Marathon Age Group Results\n\nHeritage Haul Half Marathon Overall Results\n\nHeritage Haul 10K Run Age Group Results\n\nHeritage Haul 10K Run Overall Results\n\nHeritage Haul 5K Run Age Group Results\n\nHeritage Haul 5K Run Overall Results\n\nHeritage Haul 5K Walk Age Group Results\n\nHeritage Haul 5K Walk Overall Results
URL:https://www.racetime.info/event/heritage-haul-5k-10k-12-marathon-15-mile-bike/
LOCATION:Veterans Memorial Park\, 520 E. 160th Place\, South Holland\, IL\, 60444\, United States
CATEGORIES:2017-09 Results (September)
ORGANIZER;CN="Will Neibert":MAILTO:wneibert@southholland.org
GEO:41.6042926;-87.6034342
X-APPLE-STRUCTURED-LOCATION;VALUE=URI;X-ADDRESS=Veterans Memorial Park 520 E. 160th Place South Holland IL 60444 United States;X-APPLE-RADIUS=500;X-TITLE=520 E. 160th Place:geo:-87.6034342,41.6042926
END:VEVENT
BEGIN:VEVENT
DTSTART;TZID=America/Chicago:20170910T100000
DTEND;TZID=America/Chicago:20170910T120000
DTSTAMP:20260424T000535
CREATED:20170714T122247Z
LAST-MODIFIED:20170910T195305Z
UID:10001534-1505037600-1505044800@www.racetime.info
SUMMARY:El Grito 5K Run/Walk
DESCRIPTION:El Grito 5K Age Group Results\n\nEl Grito 5K Overall Results
URL:https://www.racetime.info/event/el-grito-5k-runwalk-3/
LOCATION:Mexican Independence Day Parade Route\, 26th Street & Kostner Avenue\, Chicago\, IL\, United States
CATEGORIES:2017-09 Results (September)
ORGANIZER;CN="Jackie Covarrubias":MAILTO:jackie@beyondtheball.org
GEO:41.844106;-87.7342806
X-APPLE-STRUCTURED-LOCATION;VALUE=URI;X-ADDRESS=Mexican Independence Day Parade Route 26th Street & Kostner Avenue Chicago IL United States;X-APPLE-RADIUS=500;X-TITLE=26th Street & Kostner Avenue:geo:-87.7342806,41.844106
END:VEVENT
BEGIN:VEVENT
DTSTART;TZID=America/Chicago:20170910T100000
DTEND;TZID=America/Chicago:20170910T120000
DTSTAMP:20260424T000535
CREATED:20170305T201656Z
LAST-MODIFIED:20170910T195146Z
UID:10001127-1505037600-1505044800@www.racetime.info
SUMMARY:Rockin' It Run -5K (2 Mile) & Kids Dashes
DESCRIPTION:DSDN Rockin It -5K Age Group Results\n\nDSDN Rockin It -5K Overall Results
URL:https://www.racetime.info/event/rockin-it-run-5k-kids-dashes/
LOCATION:Busse Woods\, Groves 5-16\, Higgins Road & S. Arlington Heights Rd\, Elk Grove Village\, IL\, 60007\, United States
CATEGORIES:2017-09 Results (September)
ORGANIZER;CN="Beth Swanson":MAILTO:giving@dsdiagnosisnetwork.org
GEO:42.0126908;-87.9982495
X-APPLE-STRUCTURED-LOCATION;VALUE=URI;X-ADDRESS=Busse Woods Groves 5-16 Higgins Road & S. Arlington Heights Rd Elk Grove Village IL 60007 United States;X-APPLE-RADIUS=500;X-TITLE=Higgins Road & S. Arlington Heights Rd:geo:-87.9982495,42.0126908
END:VEVENT
END:VCALENDAR