BEGIN:VCALENDAR
VERSION:2.0
PRODID:-//Race Time - ECPv6.15.13//NONSGML v1.0//EN
CALSCALE:GREGORIAN
METHOD:PUBLISH
X-ORIGINAL-URL:https://www.racetime.info
X-WR-CALDESC:Events for Race Time
REFRESH-INTERVAL;VALUE=DURATION:PT1H
X-Robots-Tag:noindex
X-PUBLISHED-TTL:PT1H
BEGIN:VTIMEZONE
TZID:America/Chicago
BEGIN:DAYLIGHT
TZOFFSETFROM:-0600
TZOFFSETTO:-0500
TZNAME:CDT
DTSTART:20160313T080000
END:DAYLIGHT
BEGIN:STANDARD
TZOFFSETFROM:-0500
TZOFFSETTO:-0600
TZNAME:CST
DTSTART:20161106T070000
END:STANDARD
BEGIN:DAYLIGHT
TZOFFSETFROM:-0600
TZOFFSETTO:-0500
TZNAME:CDT
DTSTART:20170312T080000
END:DAYLIGHT
BEGIN:STANDARD
TZOFFSETFROM:-0500
TZOFFSETTO:-0600
TZNAME:CST
DTSTART:20171105T070000
END:STANDARD
BEGIN:DAYLIGHT
TZOFFSETFROM:-0600
TZOFFSETTO:-0500
TZNAME:CDT
DTSTART:20180311T080000
END:DAYLIGHT
BEGIN:STANDARD
TZOFFSETFROM:-0500
TZOFFSETTO:-0600
TZNAME:CST
DTSTART:20181104T070000
END:STANDARD
END:VTIMEZONE
BEGIN:VEVENT
DTSTART;TZID=America/Chicago:20171029T090000
DTEND;TZID=America/Chicago:20171029T112500
DTSTAMP:20260423T224210
CREATED:20170902T183553Z
LAST-MODIFIED:20171029T215933Z
UID:10001661-1509267600-1509276300@www.racetime.info
SUMMARY:Free to Fly 5K Run/Walk & 10K Run
DESCRIPTION:Free To Fly 5K Age Group Results\n\nFree To Fly 5K Overall Results\n\nFree to Fly 10K Age Group Results\n\nFree To Fly 10K Overall Results
URL:https://www.racetime.info/event/free-to-fly-5k-runwalk-10k-run/
LOCATION:Midwestern University Campus\, 555 31st Street\, Downers Grove\, IL\, 60515\, United States
CATEGORIES:2017-10 Results (October)
ORGANIZER;CN="Katie Peterson":MAILTO:kpeterson@familyshelterservice.org
GEO:41.8280448;-87.9991089
X-APPLE-STRUCTURED-LOCATION;VALUE=URI;X-ADDRESS=Midwestern University Campus 555 31st Street Downers Grove IL 60515 United States;X-APPLE-RADIUS=500;X-TITLE=555 31st Street:geo:-87.9991089,41.8280448
END:VEVENT
BEGIN:VEVENT
DTSTART;TZID=America/Chicago:20171029T090000
DTEND;TZID=America/Chicago:20171029T110000
DTSTAMP:20260423T224210
CREATED:20170818T031434Z
LAST-MODIFIED:20171029T215139Z
UID:10001582-1509267600-1509274800@www.racetime.info
SUMMARY:Costume and Candy Family Fun Run 5K and Kids Run
DESCRIPTION:Costume & Candy 5K Age Group Results\n\nCostume & Candy 5K Overall Results
URL:https://www.racetime.info/event/costume-and-candy-family-fun-run-5k-and-kids-run/
LOCATION:Paulus Park\, 200 S. Rand Road\, Lake Zurich\, IL\, 60047\, United States
CATEGORIES:2017-10 Results (October)
ORGANIZER;CN="Colin Mason":MAILTO:colin@reunionruns.com
GEO:42.1943058;-88.1079197
X-APPLE-STRUCTURED-LOCATION;VALUE=URI;X-ADDRESS=Paulus Park 200 S. Rand Road Lake Zurich IL 60047 United States;X-APPLE-RADIUS=500;X-TITLE=200 S. Rand Road:geo:-88.1079197,42.1943058
END:VEVENT
BEGIN:VEVENT
DTSTART;TZID=America/Chicago:20171028T100000
DTEND;TZID=America/Chicago:20171028T120000
DTSTAMP:20260423T224210
CREATED:20171028T194357Z
LAST-MODIFIED:20171028T194719Z
UID:10001688-1509184800-1509192000@www.racetime.info
SUMMARY:Run The Beat 5K Run/Walk
DESCRIPTION:Run The Beat 5K Age Group Results\n\nRun The Beat 5K Overall Results
URL:https://www.racetime.info/event/run-the-beat-5k-runwalk-2/
LOCATION:Goold Park\, 998 Lisbon\, Morris\, IL\, 60450\, United States
CATEGORIES:2017-10 Results (October)
ORGANIZER;CN="Kelly Thompson":MAILTO:specialconnections1@gmail.com
GEO:41.3646196;-88.4268352
X-APPLE-STRUCTURED-LOCATION;VALUE=URI;X-ADDRESS=Goold Park 998 Lisbon Morris IL 60450 United States;X-APPLE-RADIUS=500;X-TITLE=998 Lisbon:geo:-88.4268352,41.3646196
END:VEVENT
BEGIN:VEVENT
DTSTART;TZID=America/Chicago:20171028T083000
DTEND;TZID=America/Chicago:20171028T103000
DTSTAMP:20260423T224210
CREATED:20170901T123020Z
LAST-MODIFIED:20171103T164100Z
UID:10000827-1509179400-1509186600@www.racetime.info
SUMMARY:Batavia's United Way Batfest Run: 5K Walk/Run and 10K Run
DESCRIPTION:Batavia United Way 5K Age Group Results\n\nBatavia United Way 5K Overall Results\n\nBatavia United Way 10K Age Group Results\n\nBatavia United Way 10K Overall Results
URL:https://www.racetime.info/event/batavias-united-way-batfest-run-5k-walkrun-and-10k-run/
LOCATION:Peg Bond Center\, 151 N. Island Avenue\, Batavia\, IL\, 60510\, United States
CATEGORIES:2017-10 Results (October)
ORGANIZER;CN="Melinda Kintz":MAILTO:info@bataviaunitedway.org
GEO:41.853407;-88.3092422
X-APPLE-STRUCTURED-LOCATION;VALUE=URI;X-ADDRESS=Peg Bond Center 151 N. Island Avenue Batavia IL 60510 United States;X-APPLE-RADIUS=500;X-TITLE=151 N. Island Avenue:geo:-88.3092422,41.853407
END:VEVENT
BEGIN:VEVENT
DTSTART;TZID=America/Chicago:20171028T083000
DTEND;TZID=America/Chicago:20171028T103000
DTSTAMP:20260423T224210
CREATED:20170614T112821Z
LAST-MODIFIED:20171028T194033Z
UID:10001487-1509179400-1509186600@www.racetime.info
SUMMARY:Run For Your Life! 5K Run/Walk
DESCRIPTION:Run For Your Life! 5K Age Group Results\n\nRun For Your Life! 5K Overall Results\n\nRun For Your Life! 5K District #118 Staff Overall Results
URL:https://www.racetime.info/event/run-for-your-life-5k-runwalk-2/
LOCATION:Wauconda Middle School\, 215 Slocum Lake Road\, Wauconda\, IL\, 60084\, United States
CATEGORIES:2017-10 Results (October)
ORGANIZER;CN="Carolyn Eisenhart":MAILTO:cmeisenhart@gmail.com
GEO:42.261247;-88.1465112
X-APPLE-STRUCTURED-LOCATION;VALUE=URI;X-ADDRESS=Wauconda Middle School 215 Slocum Lake Road Wauconda IL 60084 United States;X-APPLE-RADIUS=500;X-TITLE=215 Slocum Lake Road:geo:-88.1465112,42.261247
END:VEVENT
BEGIN:VEVENT
DTSTART;TZID=America/Chicago:20171028T080000
DTEND;TZID=America/Chicago:20171028T100000
DTSTAMP:20260423T224210
CREATED:20170909T122056Z
LAST-MODIFIED:20171031T160818Z
UID:10001663-1509177600-1509184800@www.racetime.info
SUMMARY:SNS Dia de Los Muertos - Day Of The Dead 5K Run/Walk & Youth Dash
DESCRIPTION:Day of the Dead 5K Age Group Results\n\nDay Of The Dead 5K Overall Results
URL:https://www.racetime.info/event/sns-dia-de-los-muertos-day-of-the-dead-5k-runwalk-youth-dash/
LOCATION:St. Nicholas of Tolentine\, 3741 W. 62nd Street\, Chicago\, IL\, 60629\, United States
CATEGORIES:2017-10 Results (October)
ORGANIZER;CN="Dr. Mariagnes Menden":MAILTO:mmenden@stnicksschool.com
GEO:41.7802475;-87.7171847
X-APPLE-STRUCTURED-LOCATION;VALUE=URI;X-ADDRESS=St. Nicholas of Tolentine 3741 W. 62nd Street Chicago IL 60629 United States;X-APPLE-RADIUS=500;X-TITLE=3741 W. 62nd Street:geo:-87.7171847,41.7802475
END:VEVENT
BEGIN:VEVENT
DTSTART;TZID=America/Chicago:20171021T170000
DTEND;TZID=America/Chicago:20171021T200000
DTSTAMP:20260423T224210
CREATED:20170525T102518Z
LAST-MODIFIED:20171022T000641Z
UID:10001414-1508605200-1508616000@www.racetime.info
SUMMARY:The Warehouse Project & Gallery 5K Run/Walk
DESCRIPTION:The Warehouse Project & Gallery 5K Age Group Results\n\nThe Warehouse Project & Gallery 5K Overall Results
URL:https://www.racetime.info/event/the-warehouse-project-gallery-5k-runwalk/
LOCATION:Bedford Park District\, 6652 S. 78th Avenue\, Bedford Park\, IL\, 60501\, United States
CATEGORIES:2017-10 Results (October)
ORGANIZER;CN="Edith Crawford":MAILTO:twpg5k@gmail.com
GEO:41.7705967;-87.8152533
X-APPLE-STRUCTURED-LOCATION;VALUE=URI;X-ADDRESS=Bedford Park District 6652 S. 78th Avenue Bedford Park IL 60501 United States;X-APPLE-RADIUS=500;X-TITLE=6652 S. 78th Avenue:geo:-87.8152533,41.7705967
END:VEVENT
BEGIN:VEVENT
DTSTART;TZID=America/Chicago:20171021T100000
DTEND;TZID=America/Chicago:20171021T120000
DTSTAMP:20260423T224210
CREATED:20170918T115722Z
LAST-MODIFIED:20171021T195909Z
UID:10001671-1508580000-1508587200@www.racetime.info
SUMMARY:Resurrection Mary 5K Run/Walk
DESCRIPTION:Resurrection Mary 5K Age Group Results\n\nResurrection Mary 5K Overall Results
URL:https://www.racetime.info/event/resurrection-mary-5k-runwalk-3/
LOCATION:Commissioners Park\, 7747 S. Oak Grove Avenue\, Justice\, IL\, 60458\, United States
CATEGORIES:2017-10 Results (October)
ORGANIZER;CN="Angela Krejci":MAILTO:akrejci@isd209.org
GEO:41.7500343;-87.8403006
X-APPLE-STRUCTURED-LOCATION;VALUE=URI;X-ADDRESS=Commissioners Park 7747 S. Oak Grove Avenue Justice IL 60458 United States;X-APPLE-RADIUS=500;X-TITLE=7747 S. Oak Grove Avenue:geo:-87.8403006,41.7500343
END:VEVENT
BEGIN:VEVENT
DTSTART;TZID=America/Chicago:20171021T090000
DTEND;TZID=America/Chicago:20171021T110000
DTSTAMP:20260423T224210
CREATED:20170818T030451Z
LAST-MODIFIED:20171021T195738Z
UID:10000759-1508576400-1508583600@www.racetime.info
SUMMARY:Howl Through The Hills 5K Run/Walk & Kids Fun Run
DESCRIPTION:Howl Through The Hills 5K Age Group Results\n\nHowl Through The Hills 5K Overall Results
URL:https://www.racetime.info/event/howl-through-the-hills-5k-runwalk-kids-fun-run/
LOCATION:Hickory Hills City Hall\, 8652 West 95th Street\, Hickory Hills\, IL\, 60457\, United States
CATEGORIES:2017-10 Results (October)
ORGANIZER;CN="Mary Esposito":MAILTO:mesposito@hickoryhillsil.org
GEO:41.7185263;-87.8344458
X-APPLE-STRUCTURED-LOCATION;VALUE=URI;X-ADDRESS=Hickory Hills City Hall 8652 West 95th Street Hickory Hills IL 60457 United States;X-APPLE-RADIUS=500;X-TITLE=8652 West 95th Street:geo:-87.8344458,41.7185263
END:VEVENT
BEGIN:VEVENT
DTSTART;TZID=America/Chicago:20171021T083000
DTEND;TZID=America/Chicago:20171021T230000
DTSTAMP:20260423T224210
CREATED:20170723T101133Z
LAST-MODIFIED:20171021T195629Z
UID:10001541-1508574600-1508626800@www.racetime.info
SUMMARY:St. Bede Halloween Hustle: 10K Run\, 5K &1 Mile Run/Walk
DESCRIPTION:St. Bede Halloween Hustle 1 Mile Youth Overall Results\n\nSt. Bede Halloween Hustle 5K Age Group Results\n\nSt. Bede Halloween Hustle 5K Overall Results\n\nSt. Bede Halloween Hustle 10K Age Group Results\n\nSt. Bede Halloween Hustle 10K Overall Results\n\nSt. Bede Halloween Hustle Overall Puppy Results
URL:https://www.racetime.info/event/st-bede-halloween-hustle-10k-run-5k-1-mile-runwalk/
LOCATION:Grant Woods Forest Preserve\, 25405 West Monaville Road\, Ingleside\, IL\, 60041\, United States
CATEGORIES:2017-10 Results (October)
ORGANIZER;CN="Tina Lutzke":MAILTO:tinalutzke@hotmail.com
GEO:42.399051;-88.128126
X-APPLE-STRUCTURED-LOCATION;VALUE=URI;X-ADDRESS=Grant Woods Forest Preserve 25405 West Monaville Road Ingleside IL 60041 United States;X-APPLE-RADIUS=500;X-TITLE=25405 West Monaville Road:geo:-88.128126,42.399051
END:VEVENT
BEGIN:VEVENT
DTSTART;TZID=America/Chicago:20171021T074500
DTEND;TZID=America/Chicago:20171021T100000
DTSTAMP:20260423T224210
CREATED:20170609T205943Z
LAST-MODIFIED:20171021T195428Z
UID:10000632-1508571900-1508580000@www.racetime.info
SUMMARY:St. Cletus Choose Kindness 5K Run/Walk\, 1 Mile Run and 100 Yard Dash
DESCRIPTION:Choose Kindness 5K Age Group Results\n\nChoose Kindness 5K Overall Results
URL:https://www.racetime.info/event/st-cletus-choose-kindness-5k-runwalk-1-mile-run-and-100-yard-dash/
LOCATION:St. Cletus School\, 700 W. 55th Street\, LaGrange\, IL\, 60525\, United States
CATEGORIES:2017-10 Results (October)
ORGANIZER;CN="Eileen Dorchinecz":MAILTO:eileendorch@gmail.com
GEO:41.7912408;-87.8763937
X-APPLE-STRUCTURED-LOCATION;VALUE=URI;X-ADDRESS=St. Cletus School 700 W. 55th Street LaGrange IL 60525 United States;X-APPLE-RADIUS=500;X-TITLE=700 W. 55th Street:geo:-87.8763937,41.7912408
END:VEVENT
BEGIN:VEVENT
DTSTART;TZID=America/Chicago:20171015T100000
DTEND;TZID=America/Chicago:20171015T120000
DTSTAMP:20260423T224210
CREATED:20170731T175633Z
LAST-MODIFIED:20171015T193729Z
UID:10001563-1508061600-1508068800@www.racetime.info
SUMMARY:Duncan Dash 5K Run/Walk
DESCRIPTION:Duncan Dash 5K Age Group Results\n\nDuncan Dash 5K Overall Results
URL:https://www.racetime.info/event/duncan-dash-5k-runwalk-1-mile-youth-fun-run/
LOCATION:YMCA Camp Duncan\, 32405 N. HIghway 12\, Volo\, IL\, 60041\, United States
CATEGORIES:2017-10 Results (October)
ORGANIZER;CN="Danielle Kiessel":MAILTO:dkiessel@ymcachicago.org
GEO:42.3388339;-88.1584637
X-APPLE-STRUCTURED-LOCATION;VALUE=URI;X-ADDRESS=YMCA Camp Duncan 32405 N. HIghway 12 Volo IL 60041 United States;X-APPLE-RADIUS=500;X-TITLE=32405 N. HIghway 12:geo:-88.1584637,42.3388339
END:VEVENT
BEGIN:VEVENT
DTSTART;TZID=America/Chicago:20171015T090000
DTEND;TZID=America/Chicago:20171015T110000
DTSTAMP:20260423T224210
CREATED:20170530T112828Z
LAST-MODIFIED:20171015T193550Z
UID:10001416-1508058000-1508065200@www.racetime.info
SUMMARY:BStrong 5K & 1 Mile Run/Walk
DESCRIPTION:BStrong 5K Age Group Results\n\nBStrong 5K Overall Results\n\nBStrong 1 Mile Age Group Results\n\nBStrong 1 Mile Overall Results
URL:https://www.racetime.info/event/feets-of-strength-5k-1-mile-runwalk/
LOCATION:Citizens Park\, 511 Lake Zurich Road\, Barrington\, IL\, 60010\, United States
CATEGORIES:2017-10 Results (October)
ORGANIZER;CN="Susie Savage":MAILTO:ssavage@barrington220.org
GEO:42.1628694;-88.1244873
X-APPLE-STRUCTURED-LOCATION;VALUE=URI;X-ADDRESS=Citizens Park 511 Lake Zurich Road Barrington IL 60010 United States;X-APPLE-RADIUS=500;X-TITLE=511 Lake Zurich Road:geo:-88.1244873,42.1628694
END:VEVENT
BEGIN:VEVENT
DTSTART;TZID=America/Chicago:20171015T090000
DTEND;TZID=America/Chicago:20171015T110000
DTSTAMP:20260423T224210
CREATED:20170330T210536Z
LAST-MODIFIED:20171015T193406Z
UID:10000522-1508058000-1508065200@www.racetime.info
SUMMARY:Hairy Buzz 10K Run
DESCRIPTION:Hairy Buzz 10K Age Group Results\n\nHairy Buzz 10K Overall Results
URL:https://www.racetime.info/event/hairy-buzz-10k-run-3/
LOCATION:Studio 404 Salon\, 112 E. Fellows\, Dixon\, IL\, 61021\, United States
CATEGORIES:2017-10 Results (October)
ORGANIZER;CN="Stacia Staples":MAILTO:stylist404@hotmail.com
GEO:41.8493243;-89.4845399
X-APPLE-STRUCTURED-LOCATION;VALUE=URI;X-ADDRESS=Studio 404 Salon 112 E. Fellows Dixon IL 61021 United States;X-APPLE-RADIUS=500;X-TITLE=112 E. Fellows:geo:-89.4845399,41.8493243
END:VEVENT
BEGIN:VEVENT
DTSTART;TZID=America/Chicago:20171014T093000
DTEND;TZID=America/Chicago:20171014T110000
DTSTAMP:20260423T224210
CREATED:20170514T095614Z
LAST-MODIFIED:20171014T190904Z
UID:10001409-1507973400-1507978800@www.racetime.info
SUMMARY:St. George Spooky Sprint 5K
DESCRIPTION:Spooky Sprint 5K Age Group Results\n\nSpooky Sprint 5K Overall Results
URL:https://www.racetime.info/event/st-george-spooky-sprint-5k/
LOCATION:St. George School\, 6700 W. 176th Street\, Tinley Park\, IL\, 60477\, United States
CATEGORIES:2017-10 Results (October)
ORGANIZER;CN="Marie Lewis":MAILTO:marieradtke@yahoo.com
GEO:41.5722754;-87.7821722
X-APPLE-STRUCTURED-LOCATION;VALUE=URI;X-ADDRESS=St. George School 6700 W. 176th Street Tinley Park IL 60477 United States;X-APPLE-RADIUS=500;X-TITLE=6700 W. 176th Street:geo:-87.7821722,41.5722754
END:VEVENT
BEGIN:VEVENT
DTSTART;TZID=America/Chicago:20171014T083000
DTEND;TZID=America/Chicago:20171014T110000
DTSTAMP:20260423T224210
CREATED:20170822T201414Z
LAST-MODIFIED:20171014T191205Z
UID:10001592-1507969800-1507978800@www.racetime.info
SUMMARY:ECHO Family 5K Run/Walk & Kids Dash
DESCRIPTION:ECHO 5K Age Group Results\n\nECHO 5K Overall Results
URL:https://www.racetime.info/event/echo-family-5k-runwalk-kids-dash/
LOCATION:E.C.H.O. Special Education\, 350 W. 154th Street\, S. Holland\, IL\, 60473\, United States
CATEGORIES:2017-10 Results (October)
ORGANIZER;CN="Diane Barnes-Maguire":MAILTO:diane.barnes-maguire@echoja.org
GEO:41.6154108;-87.6240676
X-APPLE-STRUCTURED-LOCATION;VALUE=URI;X-ADDRESS=E.C.H.O. Special Education 350 W. 154th Street S. Holland IL 60473 United States;X-APPLE-RADIUS=500;X-TITLE=350 W. 154th Street:geo:-87.6240676,41.6154108
END:VEVENT
BEGIN:VEVENT
DTSTART;TZID=America/Chicago:20171014T083000
DTEND;TZID=America/Chicago:20171014T103000
DTSTAMP:20260423T224210
CREATED:20170902T182915Z
LAST-MODIFIED:20171014T204152Z
UID:10001654-1507969800-1507977000@www.racetime.info
SUMMARY:St. Christopher 5K Run/Walk
DESCRIPTION:St. Christopher 5K Age Group Results\n\nSt. Christopher 5K Overall Results
URL:https://www.racetime.info/event/the-st-chris-5k-runwalk-3/
LOCATION:St. Christopher School\, 4130 W. 147th Street\, Midlothian\, IL\, 60445\, United States
CATEGORIES:2017-10 Results (October)
ORGANIZER;CN="Joe Alfano":MAILTO:info@stchrisschool.org
GEO:41.6257534;-87.7221261
X-APPLE-STRUCTURED-LOCATION;VALUE=URI;X-ADDRESS=St. Christopher School 4130 W. 147th Street Midlothian IL 60445 United States;X-APPLE-RADIUS=500;X-TITLE=4130 W. 147th Street:geo:-87.7221261,41.6257534
END:VEVENT
BEGIN:VEVENT
DTSTART;TZID=America/Chicago:20171014T080000
DTEND;TZID=America/Chicago:20171014T100000
DTSTAMP:20260423T224210
CREATED:20170901T120954Z
LAST-MODIFIED:20171014T190653Z
UID:10001648-1507968000-1507975200@www.racetime.info
SUMMARY:Damian Dash 5K\, 1 Mile Youth Run and Little Lancer Dash
DESCRIPTION:Damian Dash 5K Age Group Results\n\nDamian Dash 5K Overall Results
URL:https://www.racetime.info/event/damian-dash-5k-1-mile-youth-run-and-little-lancer-dash/
LOCATION:St. Damian Church
CATEGORIES:2017-10 Results (October)
ORGANIZER;CN="Christina Lim":MAILTO:limchristina@sbcglobal.net
END:VEVENT
BEGIN:VEVENT
DTSTART;TZID=America/Chicago:20171008T100000
DTEND;TZID=America/Chicago:20171008T120000
DTSTAMP:20260423T224210
CREATED:20170830T215008Z
LAST-MODIFIED:20171008T180631Z
UID:10001631-1507456800-1507464000@www.racetime.info
SUMMARY:Wilmot Mountain Fall 5K
DESCRIPTION:Wilmot 5K Age Group Results\n\nWilmot 5K Overall Results
URL:https://www.racetime.info/event/wilmot-mountain-fall-5k/
LOCATION:Wilmot Mounain Resort\, 11931 Fox River Road\, Wilmot\, WI\, 53192\, United States
CATEGORIES:2017-10 Results (October)
ORGANIZER;CN="Rachael Muhlenbeck Miskie":MAILTO:muhlenbeck3@yahoo.com
GEO:42.5001244;-88.190056
X-APPLE-STRUCTURED-LOCATION;VALUE=URI;X-ADDRESS=Wilmot Mounain Resort 11931 Fox River Road Wilmot WI 53192 United States;X-APPLE-RADIUS=500;X-TITLE=11931 Fox River Road:geo:-88.190056,42.5001244
END:VEVENT
BEGIN:VEVENT
DTSTART;TZID=America/Chicago:20171007T094500
DTEND;TZID=America/Chicago:20171007T123000
DTSTAMP:20260423T224210
CREATED:20170530T132928Z
LAST-MODIFIED:20171007T210323Z
UID:10001421-1507369500-1507379400@www.racetime.info
SUMMARY:The Colonel Madden Cross-Town Mad Dash: 3 Mile Cross Country Style Race
DESCRIPTION:Colonel Madden Cross Town 3 Mile Results by Age Group\n\nColonel Madden Cross Town 3 Mile Results Overall
URL:https://www.racetime.info/event/the-colonel-madden-cross-town-mad-dash-3-mile-cross-country-style-race/
LOCATION:Oak Forest High School\, 15201 S. Central Avenue\, Oak Forest\, IL\, United States
CATEGORIES:2017-10 Results (October)
ORGANIZER;CN="Scott Priestman":MAILTO:spriestman@bhsd228.com
GEO:41.6158151;-87.7538819
X-APPLE-STRUCTURED-LOCATION;VALUE=URI;X-ADDRESS=Oak Forest High School 15201 S. Central Avenue Oak Forest IL United States;X-APPLE-RADIUS=500;X-TITLE=15201 S. Central Avenue:geo:-87.7538819,41.6158151
END:VEVENT
BEGIN:VEVENT
DTSTART;TZID=America/Chicago:20171007T093000
DTEND;TZID=America/Chicago:20171007T120000
DTSTAMP:20260423T224210
CREATED:20170830T121954Z
LAST-MODIFIED:20171007T210450Z
UID:10000795-1507368600-1507377600@www.racetime.info
SUMMARY:The Trails Challenge Youth 2K OCR Race (Youth Adventure Race)
DESCRIPTION:River Trails OCR Results\n\nRiver Trails OCR Results Combined
URL:https://www.racetime.info/event/the-trails-challenge-youth-2k-ocr-race-youth-adventure-race/
LOCATION:Woodlands Trails Park\, 1500 E. Euclid\, Mount Prospect\, IL\, 60056\, United States
CATEGORIES:2017-10 Results (October)
ORGANIZER;CN="Geralyn Konsewicz":MAILTO:gkonsewicz@rtpd.org
GEO:42.0887554;-87.9134118
X-APPLE-STRUCTURED-LOCATION;VALUE=URI;X-ADDRESS=Woodlands Trails Park 1500 E. Euclid Mount Prospect IL 60056 United States;X-APPLE-RADIUS=500;X-TITLE=1500 E. Euclid:geo:-87.9134118,42.0887554
END:VEVENT
BEGIN:VEVENT
DTSTART;TZID=America/Chicago:20171007T093000
DTEND;TZID=America/Chicago:20171007T110000
DTSTAMP:20260423T224210
CREATED:20170731T174625Z
LAST-MODIFIED:20171007T210136Z
UID:10000734-1507368600-1507374000@www.racetime.info
SUMMARY:Old Plank Trail 5K Run/Walk
DESCRIPTION:Old Plank Trail 5K Run Age Group Results\n\nOld Plank Trail 5K Walk Age Group Results\n\nOld Plank Trail 5K Run and Walk Overall Results
URL:https://www.racetime.info/event/old-plank-trail-5k-runwalk/
LOCATION:Breidert Green Park\, 432 W. Nebraska\, Frankfort\, IL\, 60423\, United States
CATEGORIES:2017-10 Results (October)
ORGANIZER;CN="Susan Lynchey":MAILTO:slynchey@vofil.com
GEO:41.4974227;-87.8607917
X-APPLE-STRUCTURED-LOCATION;VALUE=URI;X-ADDRESS=Breidert Green Park 432 W. Nebraska Frankfort IL 60423 United States;X-APPLE-RADIUS=500;X-TITLE=432 W. Nebraska:geo:-87.8607917,41.4974227
END:VEVENT
BEGIN:VEVENT
DTSTART;TZID=America/Chicago:20171007T090000
DTEND;TZID=America/Chicago:20171007T110000
DTSTAMP:20260423T224210
CREATED:20170822T115009Z
LAST-MODIFIED:20171007T210004Z
UID:10001583-1507366800-1507374000@www.racetime.info
SUMMARY:Sabre Sprint 5K Run/Walk
DESCRIPTION:Sabre Sprint 5K Age Group Results\n\nSabre Sprint 5K Overall Results
URL:https://www.racetime.info/event/sabre-sprint-5k-runwalk/
LOCATION:St. Albert The Great School\, 5535 West State Road\, Burbank\, IL\, 60459\, United States
CATEGORIES:2017-10 Results (October)
ORGANIZER;CN="Rozanne Rosas":MAILTO:rtagle77@hotmail.com
GEO:41.7470334;-87.7590577
X-APPLE-STRUCTURED-LOCATION;VALUE=URI;X-ADDRESS=St. Albert The Great School 5535 West State Road Burbank IL 60459 United States;X-APPLE-RADIUS=500;X-TITLE=5535 West State Road:geo:-87.7590577,41.7470334
END:VEVENT
BEGIN:VEVENT
DTSTART;TZID=America/Chicago:20171007T090000
DTEND;TZID=America/Chicago:20171007T110000
DTSTAMP:20260423T224210
CREATED:20170506T102337Z
LAST-MODIFIED:20171008T000123Z
UID:10000574-1507366800-1507374000@www.racetime.info
SUMMARY:Montgomery River Run 5K & 10K
DESCRIPTION:Montgomery River Run 5K Age Group Results\n\nMontgomery River Run 5K Overall Results\n\nMontgomery River Run 10K Age Group Results\n\nMontgomery River Run 10K Overall Results
URL:https://www.racetime.info/event/montgomery-river-run-5k-10k-2/
LOCATION:Village of Montgomery\, 200 North River Street\, Montgomery\, IL\, 60538\, United States
CATEGORIES:2017-10 Results (October)
ORGANIZER;CN="Rosie Boeing":MAILTO:riverrun@eeiweb.com
GEO:41.7295362;-88.3416114
X-APPLE-STRUCTURED-LOCATION;VALUE=URI;X-ADDRESS=Village of Montgomery 200 North River Street Montgomery IL 60538 United States;X-APPLE-RADIUS=500;X-TITLE=200 North River Street:geo:-88.3416114,41.7295362
END:VEVENT
BEGIN:VEVENT
DTSTART;TZID=America/Chicago:20171007T083000
DTEND;TZID=America/Chicago:20171007T130000
DTSTAMP:20260423T224210
CREATED:20170830T212530Z
LAST-MODIFIED:20171007T232102Z
UID:10001627-1507365000-1507381200@www.racetime.info
SUMMARY:Moraine Hills Run For The Hills 5K\, 10K & Half Marathon
DESCRIPTION:Run For The Hills 5K Age Group Results\n\nRun For The Hills 5K Overall Results\n\nRun For The Hills 10K Age Group Results\n\nRun For The Hills 10K Overall Results\n\nRun For The Hills Half Marathon Age Group Results\n\nRun For The Hills Half Marathon Overall Results
URL:https://www.racetime.info/event/moraine-hills-run-for-the-hills-5k-10k-half-marathon/
LOCATION:Moraine Hills State Park\, 1510 S. River Road\, McHenry\, IL\, 60051\, United States
CATEGORIES:2017-10 Results (October)
ORGANIZER;CN="Doug Foland":MAILTO:dpfoland@sbcglobal.net
GEO:42.3097539;-88.2276231
X-APPLE-STRUCTURED-LOCATION;VALUE=URI;X-ADDRESS=Moraine Hills State Park 1510 S. River Road McHenry IL 60051 United States;X-APPLE-RADIUS=500;X-TITLE=1510 S. River Road:geo:-88.2276231,42.3097539
END:VEVENT
BEGIN:VEVENT
DTSTART;TZID=America/Chicago:20171007T083000
DTEND;TZID=America/Chicago:20171007T103000
DTSTAMP:20260423T224210
CREATED:20170628T112818Z
LAST-MODIFIED:20171007T205827Z
UID:10001507-1507365000-1507372200@www.racetime.info
SUMMARY:Knights Challenge 5K Run/ Walk
DESCRIPTION:Knights Challenge 5K Age Group Results\n\nKnights Challenge 5K Overall Results
URL:https://www.racetime.info/event/knights-challenge-5k-run-walk/
LOCATION:St. John The Evangelist Parish Center\, 502 S. Park Blvd\, Streamwood\, IL\, 60107\, United States
CATEGORIES:2017-10 Results (October)
ORGANIZER;CN="Bill Henderson":MAILTO:info@kofc12801.org
GEO:42.021154;-88.1678742
X-APPLE-STRUCTURED-LOCATION;VALUE=URI;X-ADDRESS=St. John The Evangelist Parish Center 502 S. Park Blvd Streamwood IL 60107 United States;X-APPLE-RADIUS=500;X-TITLE=502 S. Park Blvd:geo:-88.1678742,42.021154
END:VEVENT
BEGIN:VEVENT
DTSTART;TZID=America/Chicago:20171001T090000
DTEND;TZID=America/Chicago:20171001T110000
DTSTAMP:20260423T224210
CREATED:20170830T115937Z
LAST-MODIFIED:20171001T182351Z
UID:10001617-1506848400-1506855600@www.racetime.info
SUMMARY:Run For Kelli 3 Mile Run; 1 Mile Walk & Kids Dash (Cross Country Style Event)
DESCRIPTION:Run For Kelli Age Group Results\n\nRun For Kelli Overall Results
URL:https://www.racetime.info/event/run-for-kelli-5k-run-1-mile-walk-kids-dash-cross-country-style-event/
LOCATION:Lyons Township High School – South Campus\, 100 S. Brainard Avenue\, LaGrange\, IL\, 60525\, United States
CATEGORIES:2017-10 Results (October)
ORGANIZER;CN="John O'Laughlin":MAILTO:john.olaughlin@comcast.net
GEO:41.8113188;-87.8801418
X-APPLE-STRUCTURED-LOCATION;VALUE=URI;X-ADDRESS=Lyons Township High School – South Campus 100 S. Brainard Avenue LaGrange IL 60525 United States;X-APPLE-RADIUS=500;X-TITLE=100 S. Brainard Avenue:geo:-87.8801418,41.8113188
END:VEVENT
BEGIN:VEVENT
DTSTART;TZID=America/Chicago:20171001T090000
DTEND;TZID=America/Chicago:20171001T110000
DTSTAMP:20260423T224210
CREATED:20170418T121133Z
LAST-MODIFIED:20171001T181520Z
UID:10000553-1506848400-1506855600@www.racetime.info
SUMMARY:Histio Heroes 5K Run/Walk\, 1 Mile Fun Run/Walk & Little Heroes Hop
DESCRIPTION:Histio Heroes 5K Age Group Results\n\nHistio Heroes 5K Overall Results
URL:https://www.racetime.info/event/histio-heroes-5k-runwalk-1-mile-fun-runwalk-little-heroes-hop/
LOCATION:Peg Bond Center\, 151 N. Island Avenue\, Batavia\, IL\, 60510\, United States
CATEGORIES:2017-10 Results (October)
ORGANIZER;CN="Pamela Kurtz":MAILTO:histioheroes@yahoo.com
GEO:41.853407;-88.3092422
X-APPLE-STRUCTURED-LOCATION;VALUE=URI;X-ADDRESS=Peg Bond Center 151 N. Island Avenue Batavia IL 60510 United States;X-APPLE-RADIUS=500;X-TITLE=151 N. Island Avenue:geo:-88.3092422,41.853407
END:VEVENT
BEGIN:VEVENT
DTSTART;TZID=America/Chicago:20171001T090000
DTEND;TZID=America/Chicago:20171001T110000
DTSTAMP:20260423T224210
CREATED:20170212T135612Z
LAST-MODIFIED:20171002T100516Z
UID:10000414-1506848400-1506855600@www.racetime.info
SUMMARY:Stars & Stripes 5K Shuffle
DESCRIPTION:Stars and Stripes 5K Age Group Results\n\nStars and Stripes 5K Overall Results
URL:https://www.racetime.info/event/stars-stripes-5k-shuffle/
LOCATION:Carol Stream Park District\, 391 Illini Drive\, Carol Stream\, IL\, 60188\, United States
CATEGORIES:2017-10 Results (October)
ORGANIZER;CN="Juli Murray":MAILTO:workout@csparks.org
GEO:41.9163814;-88.1319702
X-APPLE-STRUCTURED-LOCATION;VALUE=URI;X-ADDRESS=Carol Stream Park District 391 Illini Drive Carol Stream IL 60188 United States;X-APPLE-RADIUS=500;X-TITLE=391 Illini Drive:geo:-88.1319702,41.9163814
END:VEVENT
BEGIN:VEVENT
DTSTART;TZID=America/Chicago:20171001T080000
DTEND;TZID=America/Chicago:20171001T140000
DTSTAMP:20260423T224210
CREATED:20170830T120523Z
LAST-MODIFIED:20171002T025124Z
UID:10000797-1506844800-1506866400@www.racetime.info
SUMMARY:Chicago Voyagers Challenge Run/Canoe Event
DESCRIPTION:Adventure Challenge Overall Results by Group Start\n\nAdventure Challenge Team Results
URL:https://www.racetime.info/event/chicago-voyagars-challenge-runcanoe-event/
LOCATION:Busse Woods South\, Grove 20\, S. Arlington Heights Rd\, Elk Grove\, IL\, 60004\, United States
CATEGORIES:2017-10 Results (October)
ORGANIZER;CN="Jory Fitzgerald":MAILTO:jory@chicagovoyagers.org
GEO:42.0126908;-87.9982495
X-APPLE-STRUCTURED-LOCATION;VALUE=URI;X-ADDRESS=Busse Woods South Grove 20 S. Arlington Heights Rd Elk Grove IL 60004 United States;X-APPLE-RADIUS=500;X-TITLE=S. Arlington Heights Rd:geo:-87.9982495,42.0126908
END:VEVENT
END:VCALENDAR