BEGIN:VCALENDAR
VERSION:2.0
PRODID:-//Race Time - ECPv6.15.13//NONSGML v1.0//EN
CALSCALE:GREGORIAN
METHOD:PUBLISH
X-ORIGINAL-URL:https://www.racetime.info
X-WR-CALDESC:Events for Race Time
REFRESH-INTERVAL;VALUE=DURATION:PT1H
X-Robots-Tag:noindex
X-PUBLISHED-TTL:PT1H
BEGIN:VTIMEZONE
TZID:America/Chicago
BEGIN:DAYLIGHT
TZOFFSETFROM:-0600
TZOFFSETTO:-0500
TZNAME:CDT
DTSTART:20170312T080000
END:DAYLIGHT
BEGIN:STANDARD
TZOFFSETFROM:-0500
TZOFFSETTO:-0600
TZNAME:CST
DTSTART:20171105T070000
END:STANDARD
BEGIN:DAYLIGHT
TZOFFSETFROM:-0600
TZOFFSETTO:-0500
TZNAME:CDT
DTSTART:20180311T080000
END:DAYLIGHT
BEGIN:STANDARD
TZOFFSETFROM:-0500
TZOFFSETTO:-0600
TZNAME:CST
DTSTART:20181104T070000
END:STANDARD
BEGIN:DAYLIGHT
TZOFFSETFROM:-0600
TZOFFSETTO:-0500
TZNAME:CDT
DTSTART:20190310T080000
END:DAYLIGHT
BEGIN:STANDARD
TZOFFSETFROM:-0500
TZOFFSETTO:-0600
TZNAME:CST
DTSTART:20191103T070000
END:STANDARD
END:VTIMEZONE
BEGIN:VTIMEZONE
TZID:America/Indiana/Indianapolis
BEGIN:DAYLIGHT
TZOFFSETFROM:-0500
TZOFFSETTO:-0400
TZNAME:EDT
DTSTART:20170312T070000
END:DAYLIGHT
BEGIN:STANDARD
TZOFFSETFROM:-0400
TZOFFSETTO:-0500
TZNAME:EST
DTSTART:20171105T060000
END:STANDARD
BEGIN:DAYLIGHT
TZOFFSETFROM:-0500
TZOFFSETTO:-0400
TZNAME:EDT
DTSTART:20180311T070000
END:DAYLIGHT
BEGIN:STANDARD
TZOFFSETFROM:-0400
TZOFFSETTO:-0500
TZNAME:EST
DTSTART:20181104T060000
END:STANDARD
BEGIN:DAYLIGHT
TZOFFSETFROM:-0500
TZOFFSETTO:-0400
TZNAME:EDT
DTSTART:20190310T070000
END:DAYLIGHT
BEGIN:STANDARD
TZOFFSETFROM:-0400
TZOFFSETTO:-0500
TZNAME:EST
DTSTART:20191103T060000
END:STANDARD
END:VTIMEZONE
BEGIN:VEVENT
DTSTART;TZID=America/Chicago:20180527T080000
DTEND;TZID=America/Chicago:20180527T100000
DTSTAMP:20260423T194407
CREATED:20171207T021419Z
LAST-MODIFIED:20180605T140214Z
UID:10001703-1527408000-1527415200@www.racetime.info
SUMMARY:Salute\, Inc. 5K & 10K Run; 5K Walk; 5K & 10K Adaptive Run/Walk
DESCRIPTION:Salute Run 5K Adaptive Results\n\nSalute Run 5K Age Group Results\n\nSalute Run 5K Overall Results\n\nSalute Run 10K Adaptive Results\n\nSalute Run 10K Age Group Results\n\nSalute Run 10K Overall Results
URL:https://www.racetime.info/event/salute-inc-5k-5k-walk-5k-10k-adaptive-run-walk/
LOCATION:Recreation Park\, 500 East Miner Street\, Arlington Heights\, IL\, 60004\, United States
CATEGORIES:2018-05 Results (May)
ORGANIZER;CN="Sue Hussey":MAILTO:sue@saluteinc.org
GEO:42.0846102;-87.9767831
X-APPLE-STRUCTURED-LOCATION;VALUE=URI;X-ADDRESS=Recreation Park 500 East Miner Street Arlington Heights IL 60004 United States;X-APPLE-RADIUS=500;X-TITLE=500 East Miner Street:geo:-87.9767831,42.0846102
END:VEVENT
BEGIN:VEVENT
DTSTART;TZID=America/Chicago:20180526T103000
DTEND;TZID=America/Chicago:20180526T120000
DTSTAMP:20260423T194407
CREATED:20180526T013540Z
LAST-MODIFIED:20180526T180705Z
UID:10001794-1527330600-1527336000@www.racetime.info
SUMMARY:Hot Dog Hustle 5K\, 1 Mile and Toddler Trot
DESCRIPTION:Hot Dog Hustle 1 Mile Results\n\nHot Dog Hustle 5K Results
URL:https://www.racetime.info/event/hot-dog-hustle-5k-1-mile-and-toddler-trot/
LOCATION:Katherine Legge Memorial Park\, 5901 S. County Line Road\, Hinsdale\, IL\, 60521\, United States
CATEGORIES:2018-05 Results (May)
ORGANIZER;CN="Kelly":MAILTO:projecthomecf@gmail.com
GEO:41.78209;-87.914902
X-APPLE-STRUCTURED-LOCATION;VALUE=URI;X-ADDRESS=Katherine Legge Memorial Park 5901 S. County Line Road Hinsdale IL 60521 United States;X-APPLE-RADIUS=500;X-TITLE=5901 S. County Line Road:geo:-87.914902,41.78209
END:VEVENT
BEGIN:VEVENT
DTSTART;TZID=America/Chicago:20180520T100000
DTEND;TZID=America/Chicago:20180520T120000
DTSTAMP:20260423T194407
CREATED:20170315T184919Z
LAST-MODIFIED:20180520T183141Z
UID:10001191-1526810400-1526817600@www.racetime.info
SUMMARY:Vets 5K Run\, Walk\, Woof & Roll!
DESCRIPTION:Vets Run 5K Overall Results
URL:https://www.racetime.info/event/vets-5k-run-walk-woof-roll-3/
LOCATION:Phillips Park\, 1000 Ray Moses Drive\, Aurora\, IL\, 60505\, United States
CATEGORIES:2018-05 Results (May)
ORGANIZER;CN="Lisa Garcia":MAILTO:LisaG@rcwegman.com
GEO:41.7365152;-88.2948701
X-APPLE-STRUCTURED-LOCATION;VALUE=URI;X-ADDRESS=Phillips Park 1000 Ray Moses Drive Aurora IL 60505 United States;X-APPLE-RADIUS=500;X-TITLE=1000 Ray Moses Drive:geo:-88.2948701,41.7365152
END:VEVENT
BEGIN:VEVENT
DTSTART;TZID=America/Chicago:20180520T090000
DTEND;TZID=America/Chicago:20180520T110000
DTSTAMP:20260423T194407
CREATED:20170315T205509Z
LAST-MODIFIED:20180520T183009Z
UID:10001213-1526806800-1526814000@www.racetime.info
SUMMARY:Roads Scholar 5K Run/Walk
DESCRIPTION:Roads Scholar 5K Age Group Results\n\nRoads Scholar 5K Overall Results
URL:https://www.racetime.info/event/roads-scholar-5k-run-walk/
LOCATION:Rosary High School\, 901 N. Edgelawn Drive\, Aurora\, IL\, 60506\, United States
CATEGORIES:2018-05 Results (May)
ORGANIZER;CN="Sandra Galindo":MAILTO:sgalindo@rosaryhs.com
GEO:41.7746413;-88.3567841
X-APPLE-STRUCTURED-LOCATION;VALUE=URI;X-ADDRESS=Rosary High School 901 N. Edgelawn Drive Aurora IL 60506 United States;X-APPLE-RADIUS=500;X-TITLE=901 N. Edgelawn Drive:geo:-88.3567841,41.7746413
END:VEVENT
BEGIN:VEVENT
DTSTART;TZID=America/Chicago:20180520T090000
DTEND;TZID=America/Chicago:20180520T110000
DTSTAMP:20260423T194407
CREATED:20170313T124135Z
LAST-MODIFIED:20180520T182424Z
UID:10000478-1526806800-1526814000@www.racetime.info
SUMMARY:Willard 5K Run/Walk & Kids 1 Mile Fun Run
DESCRIPTION:Willard 5K Age Group Results\n\nWillard 5K Overall Results\n\nWillard Youth 1 Mile Age Group Results\n\nWillard Youth 1 Mile Overall Results
URL:https://www.racetime.info/event/willard-5k-run-walk-kids-1-mile-fun-run/
LOCATION:Clark Street Beach\, 1811 Sheridan Road\, Evanston\, IL\, United States
CATEGORIES:2018-05 Results (May)
ORGANIZER;CN="Kerri Machut":MAILTO:kerrimachut@gmail.com
GEO:42.0486042;-87.6744771
X-APPLE-STRUCTURED-LOCATION;VALUE=URI;X-ADDRESS=Clark Street Beach 1811 Sheridan Road Evanston IL United States;X-APPLE-RADIUS=500;X-TITLE=1811 Sheridan Road:geo:-87.6744771,42.0486042
END:VEVENT
BEGIN:VEVENT
DTSTART;TZID=America/Chicago:20180520T083000
DTEND;TZID=America/Chicago:20180520T110000
DTSTAMP:20260423T194407
CREATED:20170303T130530Z
LAST-MODIFIED:20180520T181844Z
UID:10000453-1526805000-1526814000@www.racetime.info
SUMMARY:School's Out: Andrew High School 5K Run/Walk
DESCRIPTION:School’s Out 5K Overall Results
URL:https://www.racetime.info/event/schools-out-andrew-high-school-5k-run-walk/
LOCATION:Andrew High School\, 9001 W. 171st Street\, Tinley Park\, IL\, 60477\, United States
CATEGORIES:2018-05 Results (May)
ORGANIZER;CN="Cindy LaPrairie":MAILTO:claprairie@d230.org
GEO:41.5787165;-87.8390927
X-APPLE-STRUCTURED-LOCATION;VALUE=URI;X-ADDRESS=Andrew High School 9001 W. 171st Street Tinley Park IL 60477 United States;X-APPLE-RADIUS=500;X-TITLE=9001 W. 171st Street:geo:-87.8390927,41.5787165
END:VEVENT
BEGIN:VEVENT
DTSTART;TZID=America/Chicago:20180520T080000
DTEND;TZID=America/Chicago:20180520T100000
DTSTAMP:20260423T194407
CREATED:20170315T212512Z
LAST-MODIFIED:20180520T181627Z
UID:10001229-1526803200-1526810400@www.racetime.info
SUMMARY:Break For The Lake 5K Run/Walk
DESCRIPTION:Break For The Lake 5K Age Group Results\n\nBreak For The Lake 5K Overall Results
URL:https://www.racetime.info/event/break-for-the-lake-5k-run-walk/
LOCATION:Lake Katherine Nature Center\, 7402 W. Lake Katherine Drive\, Palos Heights\, IL\, 60453\, United States
CATEGORIES:2018-05 Results (May)
ORGANIZER;CN="Gareth Blakesley":MAILTO:gareth.blakesley@lakekatherine.org
GEO:41.6772702;-87.8009918
X-APPLE-STRUCTURED-LOCATION;VALUE=URI;X-ADDRESS=Lake Katherine Nature Center 7402 W. Lake Katherine Drive Palos Heights IL 60453 United States;X-APPLE-RADIUS=500;X-TITLE=7402 W. Lake Katherine Drive:geo:-87.8009918,41.6772702
END:VEVENT
BEGIN:VEVENT
DTSTART;TZID=America/Indiana/Indianapolis:20180519T090000
DTEND;TZID=America/Indiana/Indianapolis:20180519T230000
DTSTAMP:20260423T194407
CREATED:20170315T203715Z
LAST-MODIFIED:20180519T201733Z
UID:10001210-1526720400-1526770800@www.racetime.info
SUMMARY:Doggie Dash & Dawdle 5K & 1 Mile Run/Walk
DESCRIPTION:Doggie Dash 5K Age Group Results\n\nDoggie Dash 5K Overall Results
URL:https://www.racetime.info/event/doggie-dash-dawdle-5k-1-mile-run-walk/
LOCATION:Attica Elementary School\, 500 E. Washington Street\, Attica\, IL\, 47918\, United States
CATEGORIES:2018-05 Results (May)
ORGANIZER;CN="Patricia Hargan":MAILTO:phargan19@gmail.com
GEO:40.2901968;-87.2433914
X-APPLE-STRUCTURED-LOCATION;VALUE=URI;X-ADDRESS=Attica Elementary School 500 E. Washington Street Attica IL 47918 United States;X-APPLE-RADIUS=500;X-TITLE=500 E. Washington Street:geo:-87.2433914,40.2901968
END:VEVENT
BEGIN:VEVENT
DTSTART;TZID=America/Chicago:20180519T090000
DTEND;TZID=America/Chicago:20180519T110000
DTSTAMP:20260423T194407
CREATED:20180516T121635Z
LAST-MODIFIED:20180519T181151Z
UID:10000977-1526720400-1526727600@www.racetime.info
SUMMARY:Whitewater 5K Run/Walk
DESCRIPTION:Whitewater 5K Age Group Results\n\nWhitewater 5K Overall Results\n\nWhitewater Team Results
URL:https://www.racetime.info/event/whitewater-5k-run-walk/
LOCATION:Kettle Moraine Southern Unit Nordic Trails\, N9084 County Hwy H\, Whitewater\, WI\, 53190\, United States
CATEGORIES:2018-05 Results (May)
ORGANIZER;CN="Lisa Henke":MAILTO:lhenke@co.walworth.wi.us
GEO:42.8275432;-88.7538167
X-APPLE-STRUCTURED-LOCATION;VALUE=URI;X-ADDRESS=Kettle Moraine Southern Unit Nordic Trails N9084 County Hwy H Whitewater WI 53190 United States;X-APPLE-RADIUS=500;X-TITLE=N9084 County Hwy H:geo:-88.7538167,42.8275432
END:VEVENT
BEGIN:VEVENT
DTSTART;TZID=America/Chicago:20180519T090000
DTEND;TZID=America/Chicago:20180519T110000
DTSTAMP:20260423T194407
CREATED:20170130T143346Z
LAST-MODIFIED:20180519T172633Z
UID:10000886-1526720400-1526727600@www.racetime.info
SUMMARY:Elim Eagles' Wings 5K Run/Walk/Roll
DESCRIPTION:Elim 5K Age Group Results\n\nElim 5K Overall Results
URL:https://www.racetime.info/event/elim-eagles-wings-5k-run-walk-roll/
LOCATION:Elim Christian Center\, 13020 S. Central Avenue\, Palos Heights\, IL\, United States
CATEGORIES:2018-05 Results (May)
ORGANIZER;CN="Lori Kuehl":MAILTO:lori.kuehl@elimcs.org
GEO:41.6557065;-87.7588161
X-APPLE-STRUCTURED-LOCATION;VALUE=URI;X-ADDRESS=Elim Christian Center 13020 S. Central Avenue Palos Heights IL United States;X-APPLE-RADIUS=500;X-TITLE=13020 S. Central Avenue:geo:-87.7588161,41.6557065
END:VEVENT
BEGIN:VEVENT
DTSTART;TZID=America/Chicago:20180519T090000
DTEND;TZID=America/Chicago:20180519T103000
DTSTAMP:20260423T194407
CREATED:20180516T120738Z
LAST-MODIFIED:20180519T172516Z
UID:10000974-1526720400-1526725800@www.racetime.info
SUMMARY:JACH FAMILY 5K RUN/WALK
DESCRIPTION:JACH 5K Age Group Results\n\nJACH 5K Overall Results
URL:https://www.racetime.info/event/jach-family-5k-run-walk/
LOCATION:New Lenox Community Park\, 1 Veterans Parkway\, New Lenox\, IL\, 60451\, United States
CATEGORIES:2018-05 Results (May)
ORGANIZER;CN="Laureen Crotteau":MAILTO:lcrotteau@joliethospice.org
GEO:41.5133268;-87.9804481
X-APPLE-STRUCTURED-LOCATION;VALUE=URI;X-ADDRESS=New Lenox Community Park 1 Veterans Parkway New Lenox IL 60451 United States;X-APPLE-RADIUS=500;X-TITLE=1 Veterans Parkway:geo:-87.9804481,41.5133268
END:VEVENT
BEGIN:VEVENT
DTSTART;TZID=America/Chicago:20180519T083000
DTEND;TZID=America/Chicago:20180519T110000
DTSTAMP:20260423T194407
CREATED:20170303T141445Z
LAST-MODIFIED:20180519T172401Z
UID:10001104-1526718600-1526727600@www.racetime.info
SUMMARY:Arbor Park PTO Color Run
DESCRIPTION:Arbor Park Youth 1 Mile Run\n\nArbor Park 5K Age Group Results\n\nArbor Park 5K Overall Results
URL:https://www.racetime.info/event/arbor-park-pto-color-run-2/
LOCATION:Arbor Park Middle School\, 17303 Central Avenue\, Oak Forest\, IL\, 60452\, United States
CATEGORIES:2018-05 Results (May)
ORGANIZER;CN="Liz Novak":MAILTO:arborparkpto5k@yahoo.com
GEO:41.5764317;-87.7551344
X-APPLE-STRUCTURED-LOCATION;VALUE=URI;X-ADDRESS=Arbor Park Middle School 17303 Central Avenue Oak Forest IL 60452 United States;X-APPLE-RADIUS=500;X-TITLE=17303 Central Avenue:geo:-87.7551344,41.5764317
END:VEVENT
BEGIN:VEVENT
DTSTART;TZID=America/Chicago:20180519T080000
DTEND;TZID=America/Chicago:20180519T110000
DTSTAMP:20260423T194407
CREATED:20170317T044707Z
LAST-MODIFIED:20180519T201920Z
UID:10000502-1526716800-1526727600@www.racetime.info
SUMMARY:Cougars 5K Run/Walk & Youth Dash
DESCRIPTION:Cougars 5K Age Group Results\n\nCougars 5K Overall Results
URL:https://www.racetime.info/event/cougars-5k-run-walk-youth-dash-honoring-first-responders/
LOCATION:Northwestern Medicine Field\, 34W002 Cherry Lane\, Geneva\, IL\, 60134\, United States
CATEGORIES:2018-05 Results (May)
ORGANIZER;CN="Curtis Haug":MAILTO:chaug@kanecountycougars.com
GEO:40.6331249;-89.3985283
X-APPLE-STRUCTURED-LOCATION;VALUE=URI;X-ADDRESS=Northwestern Medicine Field 34W002 Cherry Lane Geneva IL 60134 United States;X-APPLE-RADIUS=500;X-TITLE=34W002 Cherry Lane:geo:-89.3985283,40.6331249
END:VEVENT
BEGIN:VEVENT
DTSTART;TZID=America/Chicago:20180519T080000
DTEND;TZID=America/Chicago:20180519T100000
DTSTAMP:20260423T194407
CREATED:20170306T224708Z
LAST-MODIFIED:20180519T161031Z
UID:10001129-1526716800-1526724000@www.racetime.info
SUMMARY:Mutt Strutt 5K Run & 1 Mile Walk
DESCRIPTION:Lilac Mutt Strut 1 Mile Puppy Path Walk\n\nLilac Mutt Strut 5K Age Group Results\n\nLilac Mutt Strut 5K Overall Results\n\nLilac Mutt Strut 5K with Puppies Overall Order of Finish
URL:https://www.racetime.info/event/mutt-strutt-5k-run-1-mile-walk-2/
LOCATION:Lombard Park District Administration Building\, 227 W. Parkside Avenue\, Lombard\, IL\, 60148\, United States
CATEGORIES:2018-05 Results (May)
ORGANIZER;CN="Brad Herrmann":MAILTO:bherrmann@lombardparks.com
GEO:41.8848577;-88.022429
X-APPLE-STRUCTURED-LOCATION;VALUE=URI;X-ADDRESS=Lombard Park District Administration Building 227 W. Parkside Avenue Lombard IL 60148 United States;X-APPLE-RADIUS=500;X-TITLE=227 W. Parkside Avenue:geo:-88.022429,41.8848577
END:VEVENT
BEGIN:VEVENT
DTSTART;TZID=America/Chicago:20180519T080000
DTEND;TZID=America/Chicago:20180519T100000
DTSTAMP:20260423T194407
CREATED:20170220T232736Z
LAST-MODIFIED:20180519T160838Z
UID:10000436-1526716800-1526724000@www.racetime.info
SUMMARY:Y Run 5K & Super Kids Fun Run
DESCRIPTION:Y Run 5K Age Group Results\n\nY Run 5K Overall Results\n\nY Super Kids 1 Mile Run
URL:https://www.racetime.info/event/y-run-5k-super-kids-fun-run-2/
LOCATION:Downtown Glen Ellyn\, Hillside and Main Street\, Glen Ellyn\, IL\, 60137\, United States
CATEGORIES:2018-05 Results (May)
ORGANIZER;CN="Kelly Coffey":MAILTO:kcoffey@ryallymca.org
GEO:41.8740406;-88.0666676
X-APPLE-STRUCTURED-LOCATION;VALUE=URI;X-ADDRESS=Downtown Glen Ellyn Hillside and Main Street Glen Ellyn IL 60137 United States;X-APPLE-RADIUS=500;X-TITLE=Hillside and Main Street:geo:-88.0666676,41.8740406
END:VEVENT
BEGIN:VEVENT
DTSTART;TZID=America/Chicago:20180519T080000
DTEND;TZID=America/Chicago:20180519T100000
DTSTAMP:20260423T194407
CREATED:20170131T220242Z
LAST-MODIFIED:20180519T160656Z
UID:10000903-1526716800-1526724000@www.racetime.info
SUMMARY:Let It Be Us 5K Run/Walk
DESCRIPTION:Let It Be Us 5K Overall Results
URL:https://www.racetime.info/event/let-it-be-us-5k-run-walk/
LOCATION:Citizens Park\, 511 Lake Zurich Road\, Barrington\, IL\, 60010\, United States
CATEGORIES:2018-05 Results (May)
ORGANIZER;CN="Jennifer McAndrews":MAILTO:jennifermcandrews@letitbeus.org
GEO:42.1628694;-88.1244873
X-APPLE-STRUCTURED-LOCATION;VALUE=URI;X-ADDRESS=Citizens Park 511 Lake Zurich Road Barrington IL 60010 United States;X-APPLE-RADIUS=500;X-TITLE=511 Lake Zurich Road:geo:-88.1244873,42.1628694
END:VEVENT
BEGIN:VEVENT
DTSTART;TZID=America/Chicago:20180513T080000
DTEND;TZID=America/Chicago:20180513T100000
DTSTAMP:20260423T194407
CREATED:20180309T180433Z
LAST-MODIFIED:20180513T164141Z
UID:10001754-1526198400-1526205600@www.racetime.info
SUMMARY:Run For Our Sons Mother's Day 5K Run/Walk
DESCRIPTION:Run For Our Sons 5K Overall Results
URL:https://www.racetime.info/event/run-for-our-sons-5k-run-walk/
LOCATION:Danada Forest Preserve\, 3S580 Naperville Road\, Wheaton\, IL\, 60187\, United States
CATEGORIES:2018-05 Results (May)
ORGANIZER;CN="Louise Crow Arnold":MAILTO:louieusa2015@gmail.com
GEO:41.819072;-88.1124109
X-APPLE-STRUCTURED-LOCATION;VALUE=URI;X-ADDRESS=Danada Forest Preserve 3S580 Naperville Road Wheaton IL 60187 United States;X-APPLE-RADIUS=500;X-TITLE=3S580 Naperville Road:geo:-88.1124109,41.819072
END:VEVENT
BEGIN:VEVENT
DTSTART;TZID=America/Chicago:20180512T090000
DTEND;TZID=America/Chicago:20180512T110000
DTSTAMP:20260423T194407
CREATED:20180512T192229Z
LAST-MODIFIED:20180512T192327Z
UID:10001785-1526115600-1526122800@www.racetime.info
SUMMARY:Groovin' In The Grove 5K & Youth Runs
DESCRIPTION:Groovin In The Grove Youth Runs\n\nGroovin’ In The Grove 5K Age Group Results\n\nGroovin’ In The Grove 5K Overall Results\n\nGroovin’ In The Grove 5K Moms
URL:https://www.racetime.info/event/groovin-in-the-grove-5k-youth-runs/
LOCATION:Midwestern University Campus\, 555 31st Street\, Downers Grove\, IL\, 60515\, United States
CATEGORIES:2018-05 Results (May)
ORGANIZER;CN="Don Evans":MAILTO:devans@midwestern.edu
GEO:41.8280448;-87.9991089
X-APPLE-STRUCTURED-LOCATION;VALUE=URI;X-ADDRESS=Midwestern University Campus 555 31st Street Downers Grove IL 60515 United States;X-APPLE-RADIUS=500;X-TITLE=555 31st Street:geo:-87.9991089,41.8280448
END:VEVENT
BEGIN:VEVENT
DTSTART;TZID=America/Chicago:20180512T090000
DTEND;TZID=America/Chicago:20180512T110000
DTSTAMP:20260423T194407
CREATED:20180219T210614Z
LAST-MODIFIED:20180514T120400Z
UID:10000918-1526115600-1526122800@www.racetime.info
SUMMARY:The Foodie 5K Run/Walk
DESCRIPTION:Foodie 5K Age Group Report Libertyville\n\nFoodie 5K Overall Report Libertyville
URL:https://www.racetime.info/event/the-foodie-5k-run-walk-2/
LOCATION:Independence Grove Forest Preserve\, 16400 Buckley Road\, Libertyville\, IL\, 60045\, United States
CATEGORIES:2018-05 Results (May)
GEO:42.3118463;-87.9529568
X-APPLE-STRUCTURED-LOCATION;VALUE=URI;X-ADDRESS=Independence Grove Forest Preserve 16400 Buckley Road Libertyville IL 60045 United States;X-APPLE-RADIUS=500;X-TITLE=16400 Buckley Road:geo:-87.9529568,42.3118463
END:VEVENT
BEGIN:VEVENT
DTSTART;TZID=America/Chicago:20180512T090000
DTEND;TZID=America/Chicago:20180512T103000
DTSTAMP:20260423T194407
CREATED:20180125T024633Z
LAST-MODIFIED:20180512T191842Z
UID:10001727-1526115600-1526121000@www.racetime.info
SUMMARY:JFK 5K Run/Walk and 1K Youth Run
DESCRIPTION:JFK Youth Run\n\nJFK 5K Age Group Results\n\nJFK 5K Overall Results
URL:https://www.racetime.info/event/jfk-5k-run-walk-and-1k-youth-run/
LOCATION:John F. Kennedy Middle School\, 12350 Essington Road\, Plainfield\, IL\, 60585\, United States
CATEGORIES:2018-05 Results (May)
ORGANIZER;CN="Mary Alexander Basta":MAILTO:jfk.pta@hotmail.com
GEO:41.6586899;-88.1669456
X-APPLE-STRUCTURED-LOCATION;VALUE=URI;X-ADDRESS=John F. Kennedy Middle School 12350 Essington Road Plainfield IL 60585 United States;X-APPLE-RADIUS=500;X-TITLE=12350 Essington Road:geo:-88.1669456,41.6586899
END:VEVENT
BEGIN:VEVENT
DTSTART;TZID=America/Chicago:20180512T083000
DTEND;TZID=America/Chicago:20180512T110000
DTSTAMP:20260423T194407
CREATED:20180121T141402Z
LAST-MODIFIED:20180512T191659Z
UID:10000891-1526113800-1526122800@www.racetime.info
SUMMARY:Dyslexia 5K Run/Walk
DESCRIPTION:Dyslexia 5K Age Group Results\n\nDyslexia 5K Overall Results
URL:https://www.racetime.info/event/dyslexia-5k-run-walk/
LOCATION:Scottish Rite Cathedral\, 383 E. Lake Street\, Bloomingdale\, IL\, 60108\, United States
CATEGORIES:2018-05 Results (May)
ORGANIZER;CN="Bob Kogut":MAILTO:bkogut326@gmail.com
END:VEVENT
BEGIN:VEVENT
DTSTART;TZID=America/Chicago:20180512T083000
DTEND;TZID=America/Chicago:20180512T110000
DTSTAMP:20260423T194407
CREATED:20170315T202816Z
LAST-MODIFIED:20180512T191536Z
UID:10001192-1526113800-1526122800@www.racetime.info
SUMMARY:Hope For Haitians 5K Run/Walk
DESCRIPTION:Hope For Haitians Run For Education 5K Age Group Results\n\nHope For Haitians Run For Education 5K Overall Results
URL:https://www.racetime.info/event/hope-for-haitians-5k-run-walk/
LOCATION:Geneva Government Center\, 3rd Street\, Geneva\, IL\, 60134\, United States
CATEGORIES:2018-05 Results (May)
ORGANIZER;CN="Bill Knotts":MAILTO:knotts14@comcast.net
GEO:41.8900089;-88.3073605
X-APPLE-STRUCTURED-LOCATION;VALUE=URI;X-ADDRESS=Geneva Government Center 3rd Street Geneva IL 60134 United States;X-APPLE-RADIUS=500;X-TITLE=3rd Street:geo:-88.3073605,41.8900089
END:VEVENT
BEGIN:VEVENT
DTSTART;TZID=America/Chicago:20180512T083000
DTEND;TZID=America/Chicago:20180512T100000
DTSTAMP:20260423T194407
CREATED:20170315T195619Z
LAST-MODIFIED:20180514T120151Z
UID:10000482-1526113800-1526119200@www.racetime.info
SUMMARY:Run For The Bear 1 Mile Run
DESCRIPTION:Run For The Bear 1 Mile Age Group Results\n\ntarget=”_blank”Run For The Bear 1 Mile Overall Results
URL:https://www.racetime.info/event/run-for-the-bear-1-mile-run-2/
LOCATION:Eastview Elementary School\, 540 Longwood Drive\, Algonquin\, IL\, 60102\, United States
CATEGORIES:2018-05 Results (May)
ORGANIZER;CN="Jim Zursin":MAILTO:jzursin@yahoo.com
GEO:42.1582493;-88.2820707
X-APPLE-STRUCTURED-LOCATION;VALUE=URI;X-ADDRESS=Eastview Elementary School 540 Longwood Drive Algonquin IL 60102 United States;X-APPLE-RADIUS=500;X-TITLE=540 Longwood Drive:geo:-88.2820707,42.1582493
END:VEVENT
BEGIN:VEVENT
DTSTART;TZID=America/Chicago:20180512T080000
DTEND;TZID=America/Chicago:20180512T100000
DTSTAMP:20260423T194407
CREATED:20170315T192225Z
LAST-MODIFIED:20180512T191213Z
UID:10000496-1526112000-1526119200@www.racetime.info
SUMMARY:PepperRUNi Push For The Path 5K Run/Walk
DESCRIPTION:PeppeRUNi 5K Age Group Results\n\nPeppeRUNi 5K Overall Results
URL:https://www.racetime.info/event/pepperruni-push-for-the-path-5k-run-walk/
LOCATION:Yorkville Rosati’s Pizza\, 1985 Marketview Drive\, Yorkville\, IL\, 60560\, United States
CATEGORIES:2018-05 Results (May)
ORGANIZER;CN="Tyler Nelson":MAILTO:tnelson@yorkville.il.us
GEO:41.6662102;-88.4408775
X-APPLE-STRUCTURED-LOCATION;VALUE=URI;X-ADDRESS=Yorkville Rosati’s Pizza 1985 Marketview Drive Yorkville IL 60560 United States;X-APPLE-RADIUS=500;X-TITLE=1985 Marketview Drive:geo:-88.4408775,41.6662102
END:VEVENT
BEGIN:VEVENT
DTSTART;TZID=America/Chicago:20180512T080000
DTEND;TZID=America/Chicago:20180512T100000
DTSTAMP:20260423T194407
CREATED:20170131T222639Z
LAST-MODIFIED:20180512T191047Z
UID:10000907-1526112000-1526119200@www.racetime.info
SUMMARY:Apple Blossom 5K Run/Walk & Stroller Roller & 10K Run
DESCRIPTION:Apple Blossom 5K Age Group Results\n\nApple Blossom 5K Overall Results\n\nApple Blossom 5K Stroller Rollers\n\nApple Blossom 10K Age Group Results\n\nApple Blossom 10K Overall Results
URL:https://www.racetime.info/event/apple-blossom-5k-run-walk-stroller-roller-10k-run/
LOCATION:Bartlett Park District LIFECENTER\, 700 S. Bartlett Road\, Bartlett\, IL\, 60103\, United States
CATEGORIES:2018-05 Results (May)
ORGANIZER;CN="Johnny Pacheco":MAILTO:jpacheco@bartlettparks.org
GEO:41.9776353;-88.1877815
X-APPLE-STRUCTURED-LOCATION;VALUE=URI;X-ADDRESS=Bartlett Park District LIFECENTER 700 S. Bartlett Road Bartlett IL 60103 United States;X-APPLE-RADIUS=500;X-TITLE=700 S. Bartlett Road:geo:-88.1877815,41.9776353
END:VEVENT
BEGIN:VEVENT
DTSTART;TZID=America/Chicago:20180510T173000
DTEND;TZID=America/Chicago:20180510T193000
DTSTAMP:20260423T194407
CREATED:20170207T132944Z
LAST-MODIFIED:20180511T021715Z
UID:10000966-1525973400-1525980600@www.racetime.info
SUMMARY:St. Alexander's Raider Run 5K & Kids Dash
DESCRIPTION:St. A’s Raider Run 5K Overall Results
URL:https://www.racetime.info/event/st-alexanders-raider-run-5k-kids-dash/
LOCATION:St. Alexander School\, 126th & 71st Ave\, Palos Heights\, IL\, 60463\, United States
CATEGORIES:2018-05 Results (May)
ORGANIZER;CN="Kelley Enright":MAILTO:kelley_enright@sbcglobal.net
GEO:41.6625297;-87.7956361
X-APPLE-STRUCTURED-LOCATION;VALUE=URI;X-ADDRESS=St. Alexander School 126th & 71st Ave Palos Heights IL 60463 United States;X-APPLE-RADIUS=500;X-TITLE=126th & 71st Ave:geo:-87.7956361,41.6625297
END:VEVENT
BEGIN:VEVENT
DTSTART;TZID=America/Chicago:20180506T090000
DTEND;TZID=America/Chicago:20180506T110000
DTSTAMP:20260423T194407
CREATED:20180116T153621Z
LAST-MODIFIED:20180506T190916Z
UID:10001716-1525597200-1525604400@www.racetime.info
SUMMARY:The Five-0 5K Run/Walk
DESCRIPTION:The Five-O 5K Overall Results
URL:https://www.racetime.info/event/the-five-0-5k-run-walk/
LOCATION:Independence Grove Forest Preserve\, 16400 Buckley Road\, Libertyville\, IL\, 60045\, United States
CATEGORIES:2018-05 Results (May)
ORGANIZER;CN="Mandi Florip":MAILTO:mflorip@lakecountyleague.org
GEO:42.3118463;-87.9529568
X-APPLE-STRUCTURED-LOCATION;VALUE=URI;X-ADDRESS=Independence Grove Forest Preserve 16400 Buckley Road Libertyville IL 60045 United States;X-APPLE-RADIUS=500;X-TITLE=16400 Buckley Road:geo:-87.9529568,42.3118463
END:VEVENT
BEGIN:VEVENT
DTSTART;TZID=America/Chicago:20180506T090000
DTEND;TZID=America/Chicago:20180506T110000
DTSTAMP:20260423T194407
CREATED:20170206T200358Z
LAST-MODIFIED:20180506T190810Z
UID:10000390-1525597200-1525604400@www.racetime.info
SUMMARY:Willowbrook Spring Fling 5K Run/Walk & Youth 1K Fun Run
DESCRIPTION:Willowbrook’s Spring Fling 1 Mile Overall Results\n\nWillowbrook’s Spring Fling 5K Overall Results
URL:https://www.racetime.info/event/willowbrook-spring-fling-5k-run-walk-youth-1k-fun-run/
LOCATION:Willowbrook Community Park / Borse Park\, 208 Midway Drive\, Willowbrook\, IL\, 60527\, United States
CATEGORIES:2018-05 Results (May)
ORGANIZER;CN="John Fenske":MAILTO:jfenske@willowbrook.il.us
GEO:41.748123;-87.948754
X-APPLE-STRUCTURED-LOCATION;VALUE=URI;X-ADDRESS=Willowbrook Community Park / Borse Park 208 Midway Drive Willowbrook IL 60527 United States;X-APPLE-RADIUS=500;X-TITLE=208 Midway Drive:geo:-87.948754,41.748123
END:VEVENT
BEGIN:VEVENT
DTSTART;TZID=America/Chicago:20180506T083000
DTEND;TZID=America/Chicago:20180506T110000
DTSTAMP:20260423T194407
CREATED:20170202T225240Z
LAST-MODIFIED:20180506T190652Z
UID:10000916-1525595400-1525604400@www.racetime.info
SUMMARY:Run For Your Life Safety 5K Run/Walk & 1K Kids Dash!
DESCRIPTION:Run For Your Life Safety 5K Age Group Results\n\nRun For Your Life Safety 5K Overall Results\n\nRun For Your Life Safety 1K Youth Run
URL:https://www.racetime.info/event/run-for-your-life-safety-5k-run-walk-1k-kids-dash/
LOCATION:80th Avenue Train Station\, 18001 80th Avenue\, Tinley Park\, IL\, 60477\, United States
CATEGORIES:2018-05 Results (May)
ORGANIZER;CN="Robert Buttala":MAILTO:rbuttala@tinleypark.org
GEO:41.5654913;-87.8123758
X-APPLE-STRUCTURED-LOCATION;VALUE=URI;X-ADDRESS=80th Avenue Train Station 18001 80th Avenue Tinley Park IL 60477 United States;X-APPLE-RADIUS=500;X-TITLE=18001 80th Avenue:geo:-87.8123758,41.5654913
END:VEVENT
BEGIN:VEVENT
DTSTART;TZID=America/Chicago:20180506T083000
DTEND;TZID=America/Chicago:20180506T103000
DTSTAMP:20260423T194407
CREATED:20170315T125401Z
LAST-MODIFIED:20180506T190513Z
UID:10001158-1525595400-1525602600@www.racetime.info
SUMMARY:Run With The Wolves 5K Run/Walk
DESCRIPTION:Run With The Wolves 5K Age Group Results\n\nRun With The Wolves 5K Overall Results
URL:https://www.racetime.info/event/run-with-the-wolves-5k-run-walk/
LOCATION:Park Campus School\, 400 West Townline Road\, Round Lake\, IL\, 60073\, United States
CATEGORIES:2018-05 Results (May)
ORGANIZER;CN="Rachal Swiderski":MAILTO:parkwolves@gmail.com
GEO:42.3293245;-88.0923064
X-APPLE-STRUCTURED-LOCATION;VALUE=URI;X-ADDRESS=Park Campus School 400 West Townline Road Round Lake IL 60073 United States;X-APPLE-RADIUS=500;X-TITLE=400 West Townline Road:geo:-88.0923064,42.3293245
END:VEVENT
END:VCALENDAR