BEGIN:VCALENDAR
VERSION:2.0
PRODID:-//Race Time - ECPv6.15.13//NONSGML v1.0//EN
CALSCALE:GREGORIAN
METHOD:PUBLISH
X-WR-CALNAME:Race Time
X-ORIGINAL-URL:https://www.racetime.info
X-WR-CALDESC:Events for Race Time
REFRESH-INTERVAL;VALUE=DURATION:PT1H
X-Robots-Tag:noindex
X-PUBLISHED-TTL:PT1H
BEGIN:VTIMEZONE
TZID:America/Chicago
BEGIN:DAYLIGHT
TZOFFSETFROM:-0600
TZOFFSETTO:-0500
TZNAME:CDT
DTSTART:20170312T080000
END:DAYLIGHT
BEGIN:STANDARD
TZOFFSETFROM:-0500
TZOFFSETTO:-0600
TZNAME:CST
DTSTART:20171105T070000
END:STANDARD
BEGIN:DAYLIGHT
TZOFFSETFROM:-0600
TZOFFSETTO:-0500
TZNAME:CDT
DTSTART:20180311T080000
END:DAYLIGHT
BEGIN:STANDARD
TZOFFSETFROM:-0500
TZOFFSETTO:-0600
TZNAME:CST
DTSTART:20181104T070000
END:STANDARD
BEGIN:DAYLIGHT
TZOFFSETFROM:-0600
TZOFFSETTO:-0500
TZNAME:CDT
DTSTART:20190310T080000
END:DAYLIGHT
BEGIN:STANDARD
TZOFFSETFROM:-0500
TZOFFSETTO:-0600
TZNAME:CST
DTSTART:20191103T070000
END:STANDARD
END:VTIMEZONE
BEGIN:VEVENT
DTSTART;TZID=America/Chicago:20180930T170000
DTEND;TZID=America/Chicago:20180930T190000
DTSTAMP:20260423T224954
CREATED:20180824T161600Z
LAST-MODIFIED:20181001T011453Z
UID:10001828-1538326800-1538334000@www.racetime.info
SUMMARY:Light The Way 5K Run/Walk
DESCRIPTION:Light The Way Short Run\n\nLight The Way 5K Age Group Results\n\nLight The Way 5K Overall Results
URL:https://www.racetime.info/event/light-the-way-5k-run-walk/
LOCATION:Phillips Park\, 1000 Ray Moses Drive\, Aurora\, IL\, 60505\, United States
CATEGORIES:2018-09 Results (September)
ORGANIZER;CN="Ralph Torres":MAILTO:torres_post395@comcast.net
GEO:41.7365152;-88.2948701
X-APPLE-STRUCTURED-LOCATION;VALUE=URI;X-ADDRESS=Phillips Park 1000 Ray Moses Drive Aurora IL 60505 United States;X-APPLE-RADIUS=500;X-TITLE=1000 Ray Moses Drive:geo:-88.2948701,41.7365152
END:VEVENT
BEGIN:VEVENT
DTSTART;TZID=America/Chicago:20180930T090000
DTEND;TZID=America/Chicago:20180930T110000
DTSTAMP:20260423T224954
CREATED:20170830T115937Z
LAST-MODIFIED:20181002T125059Z
UID:10001618-1538298000-1538305200@www.racetime.info
SUMMARY:Run For Kelli 5K Run; 1 Mile Walk & Kids Dash (Cross Country Style Event)
DESCRIPTION:Run For Kelli 5K Age Group Results\n\nRun For Kelli 5K Overall Results
URL:https://www.racetime.info/event/run-for-kelli-3-mile-run-1-mile-walk-kids-dash-cross-country-style-event/
LOCATION:Lyons Township High School – South Campus\, 100 S. Brainard Avenue\, LaGrange\, IL\, 60525\, United States
CATEGORIES:2018-09 Results (September)
ORGANIZER;CN="John O'Laughlin":MAILTO:john.olaughlin@comcast.net
GEO:41.8113188;-87.8801418
X-APPLE-STRUCTURED-LOCATION;VALUE=URI;X-ADDRESS=Lyons Township High School – South Campus 100 S. Brainard Avenue LaGrange IL 60525 United States;X-APPLE-RADIUS=500;X-TITLE=100 S. Brainard Avenue:geo:-87.8801418,41.8113188
END:VEVENT
BEGIN:VEVENT
DTSTART;TZID=America/Chicago:20180930T090000
DTEND;TZID=America/Chicago:20180930T110000
DTSTAMP:20260423T224954
CREATED:20170509T210412Z
LAST-MODIFIED:20181005T134429Z
UID:10001384-1538298000-1538305200@www.racetime.info
SUMMARY:Fox Chase 5K & Youth Mile
DESCRIPTION:Fox Chase 1 Mile Age Group Results\n\nFox Chase 1 Mile Overall\n\nFox Chase 5K Age Group Results\n\nFox Chase 5K Overall Results
URL:https://www.racetime.info/event/fox-chase-5k-youth-mile-3/
LOCATION:Stanger Park\, 257 Lexington Road\, Fox River Grove\, IL\, 60021\, United States
CATEGORIES:2018-09 Results (September)
ORGANIZER;CN="Sheri Sepeczi":MAILTO:sepeczi@ameritech.net
GEO:42.1958967;-88.2116426
X-APPLE-STRUCTURED-LOCATION;VALUE=URI;X-ADDRESS=Stanger Park 257 Lexington Road Fox River Grove IL 60021 United States;X-APPLE-RADIUS=500;X-TITLE=257 Lexington Road:geo:-88.2116426,42.1958967
END:VEVENT
BEGIN:VEVENT
DTSTART;TZID=America/Chicago:20180930T080000
DTEND;TZID=America/Chicago:20180930T100000
DTSTAMP:20260423T224954
CREATED:20170609T173628Z
LAST-MODIFIED:20180930T174739Z
UID:10001437-1538294400-1538301600@www.racetime.info
SUMMARY:Alexandra's Ambition 5K Run/Walk
DESCRIPTION:Alexandra’s Ambition 5K Age Group Results\n\nAlexandra’s Ambition 5K Overall Results
URL:https://www.racetime.info/event/alexandras-ambition-5k-race-to-walk-2/
LOCATION:Konow’s Corn Maze\, 16849 S. Cedar Road\, Homer Glen\, IL\, 60491\, United States
CATEGORIES:2018-09 Results (September)
ORGANIZER;CN="Sheila Hughes":MAILTO:sej327@aol.com
GEO:41.5814457;-87.9776741
X-APPLE-STRUCTURED-LOCATION;VALUE=URI;X-ADDRESS=Konow’s Corn Maze 16849 S. Cedar Road Homer Glen IL 60491 United States;X-APPLE-RADIUS=500;X-TITLE=16849 S. Cedar Road:geo:-87.9776741,41.5814457
END:VEVENT
BEGIN:VEVENT
DTSTART;TZID=America/Chicago:20180930T080000
DTEND;TZID=America/Chicago:20180930T100000
DTSTAMP:20260423T224954
CREATED:20170308T123621Z
LAST-MODIFIED:20181001T120907Z
UID:10000466-1538294400-1538301600@www.racetime.info
SUMMARY:Inside Out Club 5K Run/Walk
DESCRIPTION:Inside Out Club 5K Age Group Results\n\nInside Out Club 5K Overall Results\n\nInside Out Club Team Results
URL:https://www.racetime.info/event/i-support-community-represent-5k-run-walk-kids-dash/
LOCATION:Danada Forest Preserve\, 3S580 Naperville Road\, Wheaton\, IL\, 60187\, United States
CATEGORIES:2018-09 Results (September)
ORGANIZER;CN="Marion Ruthig":MAILTO:marion@isupportcommunity.org
GEO:41.819072;-88.1124109
X-APPLE-STRUCTURED-LOCATION;VALUE=URI;X-ADDRESS=Danada Forest Preserve 3S580 Naperville Road Wheaton IL 60187 United States;X-APPLE-RADIUS=500;X-TITLE=3S580 Naperville Road:geo:-88.1124109,41.819072
END:VEVENT
BEGIN:VEVENT
DTSTART;TZID=America/Chicago:20180930T070000
DTEND;TZID=America/Chicago:20180930T083000
DTSTAMP:20260423T224954
CREATED:20180730T113500Z
LAST-MODIFIED:20180930T174402Z
UID:10001818-1538290800-1538296200@www.racetime.info
SUMMARY:Close The Loop 5K Run/Walk
DESCRIPTION:Close The Loop 5K Age Group Results\n\nClose The Loop 5K Overall Results
URL:https://www.racetime.info/event/close-the-loop/
LOCATION:Lincoln Park Chicago\, Stockton & LaSalle\, Chicago\, IL\, 60614\, United States
CATEGORIES:2018-09 Results (September)
ORGANIZER;CN="Julie Morrone":MAILTO:jmorrone@plasticsurgery.org
GEO:41.913775;-87.631695
X-APPLE-STRUCTURED-LOCATION;VALUE=URI;X-ADDRESS=Lincoln Park Chicago Stockton & LaSalle Chicago IL 60614 United States;X-APPLE-RADIUS=500;X-TITLE=Stockton & LaSalle:geo:-87.631695,41.913775
END:VEVENT
BEGIN:VEVENT
DTSTART;TZID=America/Chicago:20180929T093000
DTEND;TZID=America/Chicago:20180929T133000
DTSTAMP:20260423T224954
CREATED:20170830T120523Z
LAST-MODIFIED:20180929T204741Z
UID:10000799-1538213400-1538227800@www.racetime.info
SUMMARY:Chicago Voyagers Challenge Run/Canoe Event
DESCRIPTION:Chicago Voyagers Adventure Challenge
URL:https://www.racetime.info/event/chicago-voyagers-challenge-run-canoe-event/
LOCATION:Busse Woods South\, Grove 20\, S. Arlington Heights Rd\, Elk Grove\, IL\, 60004\, United States
CATEGORIES:2018-09 Results (September)
ORGANIZER;CN="Jory Fitzgerald":MAILTO:jory@chicagovoyagers.org
GEO:42.0126908;-87.9982495
X-APPLE-STRUCTURED-LOCATION;VALUE=URI;X-ADDRESS=Busse Woods South Grove 20 S. Arlington Heights Rd Elk Grove IL 60004 United States;X-APPLE-RADIUS=500;X-TITLE=S. Arlington Heights Rd:geo:-87.9982495,42.0126908
END:VEVENT
BEGIN:VEVENT
DTSTART;TZID=America/Chicago:20180929T093000
DTEND;TZID=America/Chicago:20180929T113000
DTSTAMP:20260423T224954
CREATED:20180724T000919Z
LAST-MODIFIED:20180929T204626Z
UID:10001815-1538213400-1538220600@www.racetime.info
SUMMARY:2018 Friends of the Poor 5K Run/Walk
DESCRIPTION:Friends of the Poor 5K Age Group Results\n\nFriends of the Poor 5K Overall Results
URL:https://www.racetime.info/event/2018-friends-of-the-poor-5k-run-walk/
LOCATION:Parkside Pub\, 11721 E. Main Street\, Huntley\, IL\, 60142\, United States
CATEGORIES:2018-09 Results (September)
ORGANIZER;CN="Tom Mindak":MAILTO:runwalk5kforpoorsvdp@yahoo.com
GEO:42.168177;-88.4261324
X-APPLE-STRUCTURED-LOCATION;VALUE=URI;X-ADDRESS=Parkside Pub 11721 E. Main Street Huntley IL 60142 United States;X-APPLE-RADIUS=500;X-TITLE=11721 E. Main Street:geo:-88.4261324,42.168177
END:VEVENT
BEGIN:VEVENT
DTSTART;TZID=America/Chicago:20180929T093000
DTEND;TZID=America/Chicago:20180929T110000
DTSTAMP:20260423T224954
CREATED:20170514T095614Z
LAST-MODIFIED:20180929T234207Z
UID:10000580-1538213400-1538218800@www.racetime.info
SUMMARY:St. George Spooky Sprint 5K
DESCRIPTION:Spooky Sprint 5K Age Group Results\n\nSpooky Sprint 5K Overall Results
URL:https://www.racetime.info/event/st-george-spooky-sprint-5k-2/
LOCATION:St. George School\, 6700 W. 176th Street\, Tinley Park\, IL\, 60477\, United States
CATEGORIES:2018-09 Results (September)
ORGANIZER;CN="Marie Lewis":MAILTO:marieradtke@yahoo.com
GEO:41.5722754;-87.7821722
X-APPLE-STRUCTURED-LOCATION;VALUE=URI;X-ADDRESS=St. George School 6700 W. 176th Street Tinley Park IL 60477 United States;X-APPLE-RADIUS=500;X-TITLE=6700 W. 176th Street:geo:-87.7821722,41.5722754
END:VEVENT
BEGIN:VEVENT
DTSTART;TZID=America/Chicago:20180929T090000
DTEND;TZID=America/Chicago:20180929T110000
DTSTAMP:20260423T224954
CREATED:20180711T174611Z
LAST-MODIFIED:20181003T003249Z
UID:10001810-1538211600-1538218800@www.racetime.info
SUMMARY:Cancer Schmancer 5K Run/Walk
DESCRIPTION:Cancer Schmancer 5K Overall Results
URL:https://www.racetime.info/event/cancer-schmancer-5k-run-walk/
LOCATION:Rollins Savanna\, 20160 W. Washington Street\, Grayslake\, IL\, 60030\, United States
CATEGORIES:2018-09 Results (September)
ORGANIZER;CN="Megan Leider":MAILTO:megan@martileiderfound.org
GEO:42.3603267;-88.0266379
X-APPLE-STRUCTURED-LOCATION;VALUE=URI;X-ADDRESS=Rollins Savanna 20160 W. Washington Street Grayslake IL 60030 United States;X-APPLE-RADIUS=500;X-TITLE=20160 W. Washington Street:geo:-88.0266379,42.3603267
END:VEVENT
BEGIN:VEVENT
DTSTART;TZID=America/Chicago:20180929T090000
DTEND;TZID=America/Chicago:20180929T110000
DTSTAMP:20260423T224954
CREATED:20170902T093129Z
LAST-MODIFIED:20180929T204458Z
UID:10001652-1538211600-1538218800@www.racetime.info
SUMMARY:Paws for a Cause 5K Run/Walk
DESCRIPTION:Paws for a Cause 5K Overall Results
URL:https://www.racetime.info/event/paws-for-a-cause-5k-run-walk/
LOCATION:Northwestern College\, 7725 S. Harlem Avenue\, Bridgeview\, IL\, 60455\, United States
CATEGORIES:2018-09 Results (September)
ORGANIZER;CN="Maysoon Vargas":MAILTO:mnasir-vargas@nc.edu
GEO:41.7516073;-87.7973848
X-APPLE-STRUCTURED-LOCATION;VALUE=URI;X-ADDRESS=Northwestern College 7725 S. Harlem Avenue Bridgeview IL 60455 United States;X-APPLE-RADIUS=500;X-TITLE=7725 S. Harlem Avenue:geo:-87.7973848,41.7516073
END:VEVENT
BEGIN:VEVENT
DTSTART;TZID=America/Chicago:20180929T090000
DTEND;TZID=America/Chicago:20180929T110000
DTSTAMP:20260423T224954
CREATED:20170829T184956Z
LAST-MODIFIED:20181003T150940Z
UID:10001603-1538211600-1538218800@www.racetime.info
SUMMARY:Morris Corn Fest 5K Run/Walk and Tot Trot
DESCRIPTION:Morris Corn Fest 5K Age Group Results\n\nMorris Corn Fest 5K Overall Results
URL:https://www.racetime.info/event/morris-corn-fest-5k-run-walk-and-tot-trot/
LOCATION:Morris Elementary School\, 2001 DuPont Avenue\, Morris\, IL\, 60450\, United States
CATEGORIES:2018-09 Results (September)
ORGANIZER;CN="Rebecca Evola":MAILTO:revola@morrishospital.org
GEO:41.3666063;-88.4509794
X-APPLE-STRUCTURED-LOCATION;VALUE=URI;X-ADDRESS=Morris Elementary School 2001 DuPont Avenue Morris IL 60450 United States;X-APPLE-RADIUS=500;X-TITLE=2001 DuPont Avenue:geo:-88.4509794,41.3666063
END:VEVENT
BEGIN:VEVENT
DTSTART;TZID=America/Chicago:20180929T090000
DTEND;TZID=America/Chicago:20180929T110000
DTSTAMP:20260423T224954
CREATED:20170829T182113Z
LAST-MODIFIED:20180930T022517Z
UID:10000771-1538211600-1538218800@www.racetime.info
SUMMARY:Jogging for St. Joe's 5K Run/Walk & Kids Dash
DESCRIPTION:Jogging for St. Joe’s 5K Age Group Results\n\nJogging for St. Joe’s 5K Overall Results
URL:https://www.racetime.info/event/jogging-for-st-joes-5k-run-walk-kids-dash/
LOCATION:St. Joseph School\, 510 S. Jefferson\, Lockport\, IL\, 60441\, United States
CATEGORIES:2018-09 Results (September)
ORGANIZER;CN="Maribeth Leyva":MAILTO:joggingforjoes@hotmail.com
GEO:41.5919577;-88.0512084
X-APPLE-STRUCTURED-LOCATION;VALUE=URI;X-ADDRESS=St. Joseph School 510 S. Jefferson Lockport IL 60441 United States;X-APPLE-RADIUS=500;X-TITLE=510 S. Jefferson:geo:-88.0512084,41.5919577
END:VEVENT
BEGIN:VEVENT
DTSTART;TZID=America/Chicago:20180929T083000
DTEND;TZID=America/Chicago:20180929T103000
DTSTAMP:20260423T224954
CREATED:20180427T155830Z
LAST-MODIFIED:20180929T203710Z
UID:10001768-1538209800-1538217000@www.racetime.info
SUMMARY:Stop\, Drop and Run 5K Run/Walk
DESCRIPTION:Stop\, Drop & Roll 5K Age Group Results\n\nStop\, Drop & Roll 5K Overall Results
URL:https://www.racetime.info/event/stop-drop-and-run-5k-run-walk/
LOCATION:Naperville Public Safety Campus\, 1320 Aurora Avenue\, Naperville\, IL\, 60540\, United States
CATEGORIES:2018-09 Results (September)
ORGANIZER;CN="Soraya McLaughlin":MAILTO:soraya.mclaughlin@naperville.il.us
GEO:41.7665143;-88.1749917
X-APPLE-STRUCTURED-LOCATION;VALUE=URI;X-ADDRESS=Naperville Public Safety Campus 1320 Aurora Avenue Naperville IL 60540 United States;X-APPLE-RADIUS=500;X-TITLE=1320 Aurora Avenue:geo:-88.1749917,41.7665143
END:VEVENT
BEGIN:VEVENT
DTSTART;TZID=America/Chicago:20180929T083000
DTEND;TZID=America/Chicago:20180929T100000
DTSTAMP:20260423T224954
CREATED:20170322T123609Z
LAST-MODIFIED:20180929T203519Z
UID:10001265-1538209800-1538215200@www.racetime.info
SUMMARY:Run Wild-Race for Open Space 5K
DESCRIPTION:Run Wild 5K Age Group Results\n\nRun Wild 5K Overall Results
URL:https://www.racetime.info/event/run-wild-race-for-open-space-5k-2/
LOCATION:Hickory Grove Conservation Area\, 500 Hickory Nut Grove Lane\, Cary\, IL\, 60013\, United States
CATEGORIES:2018-09 Results (September)
ORGANIZER;CN="Samantha Shaw":MAILTO:education@mccdistrict.org
GEO:42.2343947;-88.2032916
X-APPLE-STRUCTURED-LOCATION;VALUE=URI;X-ADDRESS=Hickory Grove Conservation Area 500 Hickory Nut Grove Lane Cary IL 60013 United States;X-APPLE-RADIUS=500;X-TITLE=500 Hickory Nut Grove Lane:geo:-88.2032916,42.2343947
END:VEVENT
BEGIN:VEVENT
DTSTART;TZID=America/Chicago:20180924T190000
DTEND;TZID=America/Chicago:20180924T203000
DTSTAMP:20260423T224954
CREATED:20180821T020824Z
LAST-MODIFIED:20180926T030037Z
UID:10001824-1537815600-1537821000@www.racetime.info
SUMMARY:Chase The Moon 5K Run/Walk
DESCRIPTION:Chase The Moon 5K Overall Results
URL:https://www.racetime.info/event/chase-the-moon-5k-run-walk/
LOCATION:Steeple Chase Golf Club\, 200 N. LaVista Drive\, Mundelein\, IL\, 60060\, United States
CATEGORIES:2018-09 Results (September)
ORGANIZER;CN="Matt LaPorte":MAILTO:mlaporte@mundeleinparks.org
GEO:42.2637514;-88.0543047
X-APPLE-STRUCTURED-LOCATION;VALUE=URI;X-ADDRESS=Steeple Chase Golf Club 200 N. LaVista Drive Mundelein IL 60060 United States;X-APPLE-RADIUS=500;X-TITLE=200 N. LaVista Drive:geo:-88.0543047,42.2637514
END:VEVENT
BEGIN:VEVENT
DTSTART;TZID=America/Chicago:20180922T093000
DTEND;TZID=America/Chicago:20180922T120000
DTSTAMP:20260423T224954
CREATED:20180830T190607Z
LAST-MODIFIED:20180922T185140Z
UID:10001834-1537608600-1537617600@www.racetime.info
SUMMARY:Salt Creek Kids Obstacle Race
DESCRIPTION:Salt Creek’s Kids’ Obstacle Age Group Results\n\nSalt Creek’s Kids’ Obstacle Overall Results
URL:https://www.racetime.info/event/salt-creek-kids-obstacle-race/
LOCATION:Twin Lakes Golf Course & Recreation Center\, 1200 E. Twin Lakes Drive\, Palatine\, IL\, 60074\, United States
CATEGORIES:2018-09 Results (September)
ORGANIZER;CN="Jody Dodson":MAILTO:jdodson@saltcreekpd.com
GEO:42.1048792;-88.0145113
X-APPLE-STRUCTURED-LOCATION;VALUE=URI;X-ADDRESS=Twin Lakes Golf Course & Recreation Center 1200 E. Twin Lakes Drive Palatine IL 60074 United States;X-APPLE-RADIUS=500;X-TITLE=1200 E. Twin Lakes Drive:geo:-88.0145113,42.1048792
END:VEVENT
BEGIN:VEVENT
DTSTART;TZID=America/Chicago:20180922T090000
DTEND;TZID=America/Chicago:20180922T120000
DTSTAMP:20260423T224954
CREATED:20180328T195531Z
LAST-MODIFIED:20180922T181821Z
UID:10001758-1537606800-1537617600@www.racetime.info
SUMMARY:Respond Now 5K Run For Hunger
DESCRIPTION:Respond Now Run For Hunger 5K Age Group Results\n\nRespond Now Run For Hunger 5K Overall Results
URL:https://www.racetime.info/event/respond-now-5k-run-for-hunger/
LOCATION:Bicentennial Park\, 3401 203rd Street\, Olympia Fields\, IL\, 60461\, United States
CATEGORIES:2018-09 Results (September)
ORGANIZER;CN="Carl Wolf":MAILTO:cwolf@respondnow.org
GEO:41.5207063;-87.6986587
X-APPLE-STRUCTURED-LOCATION;VALUE=URI;X-ADDRESS=Bicentennial Park 3401 203rd Street Olympia Fields IL 60461 United States;X-APPLE-RADIUS=500;X-TITLE=3401 203rd Street:geo:-87.6986587,41.5207063
END:VEVENT
BEGIN:VEVENT
DTSTART;TZID=America/Chicago:20180922T090000
DTEND;TZID=America/Chicago:20180922T110000
DTSTAMP:20260423T224954
CREATED:20180207T132954Z
LAST-MODIFIED:20180922T181558Z
UID:10001733-1537606800-1537614000@www.racetime.info
SUMMARY:Mesothelioma Race for Justice 5K Run/Walk
DESCRIPTION:Run For Justice 5K Age Group Results\n\nRun For Justice 5K Overall Results
URL:https://www.racetime.info/event/mesothelioma-race-for-justice-5k-run-walk/
LOCATION:Half Day Forest Preserve of Lake County\, 24255 N. Highway 22\, Vernon Hills\, IL\, 60061\, United States
CATEGORIES:2018-09 Results (September)
ORGANIZER;CN="Sasha Shapsis":MAILTO:sshapsis@vogelzanglaw.com
GEO:42.1959154;-87.9592353
X-APPLE-STRUCTURED-LOCATION;VALUE=URI;X-ADDRESS=Half Day Forest Preserve of Lake County 24255 N. Highway 22 Vernon Hills IL 60061 United States;X-APPLE-RADIUS=500;X-TITLE=24255 N. Highway 22:geo:-87.9592353,42.1959154
END:VEVENT
BEGIN:VEVENT
DTSTART;TZID=America/Chicago:20180922T090000
DTEND;TZID=America/Chicago:20180922T110000
DTSTAMP:20260423T224954
CREATED:20170829T185620Z
LAST-MODIFIED:20180926T022923Z
UID:10001611-1537606800-1537614000@www.racetime.info
SUMMARY:Miles For James: Head for Safety 5K Run/Walk and Kids Dash
DESCRIPTION:MFJ Head For Safety 5K Age Group Results\n\nMFJ Head For Safety 5K Overall Results\n\nMFJ Head For Safety Team Results
URL:https://www.racetime.info/event/head-for-safety-miles-for-james-5k-run-walk-and-kids-dash/
LOCATION:Family Harvest Church\, 18500 92nd Avenue\, Tinley Park\, IL\, 60487\, United States
CATEGORIES:2018-09 Results (September)
ORGANIZER;CN="Joni Javier":MAILTO:info@milesforjames.com
GEO:41.5543733;-87.8430733
X-APPLE-STRUCTURED-LOCATION;VALUE=URI;X-ADDRESS=Family Harvest Church 18500 92nd Avenue Tinley Park IL 60487 United States;X-APPLE-RADIUS=500;X-TITLE=18500 92nd Avenue:geo:-87.8430733,41.5543733
END:VEVENT
BEGIN:VEVENT
DTSTART;TZID=America/Chicago:20180922T083000
DTEND;TZID=America/Chicago:20180922T130000
DTSTAMP:20260423T224954
CREATED:20170830T212530Z
LAST-MODIFIED:20180922T223728Z
UID:10001628-1537605000-1537621200@www.racetime.info
SUMMARY:Moraine Hills Run For The Hills 5K\, 10K & Half Marathon
DESCRIPTION:Run For The Hills 5K Age Group Results\n\nRun For The Hills 5K Overall Results\n\nRun For The Hills 10K Age Group Results\n\nRun For The Hills 10K Overall Results\n\nRun For The Hills Half Marathon Age Group Results\n\nRun For The Hills Half Marathon Overall Results
URL:https://www.racetime.info/event/moraine-hills-run-for-the-hills-5k-10k-half-marathon-2/
LOCATION:Moraine Hills State Park\, 1510 S. River Road\, McHenry\, IL\, 60051\, United States
CATEGORIES:2018-09 Results (September)
ORGANIZER;CN="Doug Foland":MAILTO:dpfoland@sbcglobal.net
GEO:42.3097539;-88.2276231
X-APPLE-STRUCTURED-LOCATION;VALUE=URI;X-ADDRESS=Moraine Hills State Park 1510 S. River Road McHenry IL 60051 United States;X-APPLE-RADIUS=500;X-TITLE=1510 S. River Road:geo:-88.2276231,42.3097539
END:VEVENT
BEGIN:VEVENT
DTSTART;TZID=America/Chicago:20180922T080000
DTEND;TZID=America/Chicago:20180922T110000
DTSTAMP:20260423T224954
CREATED:20170521T112115Z
LAST-MODIFIED:20180922T180905Z
UID:10000595-1537603200-1537614000@www.racetime.info
SUMMARY:Hyde Park Breast Cancer 5K Run/Walk
DESCRIPTION:Hyde Park 5K Age Group Results\n\nHyde Park 5K Overall Results
URL:https://www.racetime.info/event/hyde-park-breast-cancer-5k-run-walk/
LOCATION:Hyde Park\, 5200 S. Hyde Park Blvd\, Chicago\, IL\, United States
CATEGORIES:2018-09 Results (September)
ORGANIZER;CN="Ontisar Freelain":MAILTO:ofreelain@hydepark5k.org
GEO:41.8008885;-87.5850354
X-APPLE-STRUCTURED-LOCATION;VALUE=URI;X-ADDRESS=Hyde Park 5200 S. Hyde Park Blvd Chicago IL United States;X-APPLE-RADIUS=500;X-TITLE=5200 S. Hyde Park Blvd:geo:-87.5850354,41.8008885
END:VEVENT
BEGIN:VEVENT
DTSTART;TZID=America/Chicago:20180916T090000
DTEND;TZID=America/Chicago:20180916T110000
DTSTAMP:20260423T224954
CREATED:20170718T184017Z
LAST-MODIFIED:20180916T220505Z
UID:10000722-1537088400-1537095600@www.racetime.info
SUMMARY:Cary Shuffle 5K Run/Walk
DESCRIPTION:Cary Shuffle 5K Age Group Results\n\nCary Shuffle 5K Overall Results
URL:https://www.racetime.info/event/cary-shuffle-5k-run-walk/
LOCATION:Downtown Cary\, 100 W. Main Street\, Cary\, IL\, 60013\, United States
CATEGORIES:2018-09 Results (September)
ORGANIZER;CN="Kurt Kaiser":MAILTO:kurtkaiser.us@gmail.com
GEO:42.2090181;-88.2414987
X-APPLE-STRUCTURED-LOCATION;VALUE=URI;X-ADDRESS=Downtown Cary 100 W. Main Street Cary IL 60013 United States;X-APPLE-RADIUS=500;X-TITLE=100 W. Main Street:geo:-88.2414987,42.2090181
END:VEVENT
BEGIN:VEVENT
DTSTART;TZID=America/Chicago:20180916T083000
DTEND;TZID=America/Chicago:20180916T100000
DTSTAMP:20260423T224954
CREATED:20180823T172421Z
LAST-MODIFIED:20180916T160941Z
UID:10001826-1537086600-1537092000@www.racetime.info
SUMMARY:Halfway to St. Paddy's Day 5K & Kids Dash
DESCRIPTION:Halfway to St. Paddy’s Day 5K Age Group Results\n\nHalfway to St. Paddy’s Day 5K Overall Results
URL:https://www.racetime.info/event/halfway-to-st-paddys-day-5k-kids-dash/
LOCATION:Community Center\, 3705 Pheasant Drive\, Rolling Meadows\, 60008\, United States
CATEGORIES:2018-09 Results (September)
ORGANIZER;CN="Will Lieb":MAILTO:wlieb@rmparks.org
GEO:42.0709017;-88.0202574
X-APPLE-STRUCTURED-LOCATION;VALUE=URI;X-ADDRESS=Community Center 3705 Pheasant Drive Rolling Meadows 60008 United States;X-APPLE-RADIUS=500;X-TITLE=3705 Pheasant Drive:geo:-88.0202574,42.0709017
END:VEVENT
BEGIN:VEVENT
DTSTART;TZID=America/Chicago:20180915T090000
DTEND;TZID=America/Chicago:20180915T230000
DTSTAMP:20260423T224954
CREATED:20180307T181307Z
LAST-MODIFIED:20180915T183544Z
UID:10001746-1537002000-1537052400@www.racetime.info
SUMMARY:Semblex 5K (Private Event)
DESCRIPTION:Please contact the race director for results.
URL:https://www.racetime.info/event/semblex-5k-private-event/
LOCATION:Cantigny Park\, 1S151 Winfield Road\, Wheaton\, IL\, 60187\, United States
CATEGORIES:2018-09 Results (September)
ORGANIZER;CN="Karla Chirinos":MAILTO:kchirinos@semblex.com
GEO:41.8549443;-88.1559782
X-APPLE-STRUCTURED-LOCATION;VALUE=URI;X-ADDRESS=Cantigny Park 1S151 Winfield Road Wheaton IL 60187 United States;X-APPLE-RADIUS=500;X-TITLE=1S151 Winfield Road:geo:-88.1559782,41.8549443
END:VEVENT
BEGIN:VEVENT
DTSTART;TZID=America/Chicago:20180915T090000
DTEND;TZID=America/Chicago:20180915T110000
DTSTAMP:20260423T224954
CREATED:20180219T210614Z
LAST-MODIFIED:20180918T104945Z
UID:10000919-1537002000-1537009200@www.racetime.info
SUMMARY:The Foodie 5K Run/Walk
DESCRIPTION:Foodies 5K Joliet Age Group Results\n\nFoodies 5K Joliet Overall Results
URL:https://www.racetime.info/event/the-foodie-5k-run-walk-3/
LOCATION:Lewis University\, 1 University Parkway\, Romeoville\, IL\, 60446\, United States
CATEGORIES:2018-09 Results (September)
GEO:41.6047245;-88.0813334
X-APPLE-STRUCTURED-LOCATION;VALUE=URI;X-ADDRESS=Lewis University 1 University Parkway Romeoville IL 60446 United States;X-APPLE-RADIUS=500;X-TITLE=1 University Parkway:geo:-88.0813334,41.6047245
END:VEVENT
BEGIN:VEVENT
DTSTART;TZID=America/Chicago:20180915T080000
DTEND;TZID=America/Chicago:20180915T170000
DTSTAMP:20260423T224954
CREATED:20180503T115514Z
LAST-MODIFIED:20180917T020052Z
UID:10000959-1536998400-1537030800@www.racetime.info
SUMMARY:Lions Heritage Fest 5K Run & 1.6 Mile Walk
DESCRIPTION:Lions Heritage Fest 1.6 Mile Overall Results\n\nLions Heritage Fest 5K Age Group Results\n\nLions Heritage Fest 5K Overall Results
URL:https://www.racetime.info/event/lions-heritage-fest-5k-run-1-6-mile-walk/
LOCATION:Downtown West Dundee\, Oregon Avenue and South 1st Street\, West Dundee\, IL\, 60118\, United States
CATEGORIES:2018-09 Results (September)
ORGANIZER;CN="Edward Bates":MAILTO:lionsheritagefest5k@gmail.com
END:VEVENT
BEGIN:VEVENT
DTSTART;TZID=America/Chicago:20180915T080000
DTEND;TZID=America/Chicago:20180915T100000
DTSTAMP:20260423T224954
CREATED:20170715T100118Z
LAST-MODIFIED:20180915T183307Z
UID:10001537-1536998400-1537005600@www.racetime.info
SUMMARY:Makin' Tracks 5K Run/Walk
DESCRIPTION:Makin’ Tracks 5K Age Group Results\n\nMakin’ Tracks 5K Overall Results
URL:https://www.racetime.info/event/makin-tracks-5k-run-walk/
LOCATION:Concordia University Chicago\, 7400 Augusta Street\, River Forest\, IL\, 60305\, United States
CATEGORIES:2018-09 Results (September)
ORGANIZER;CN="Karen Stille":MAILTO:kstille@rfparks.com 
GEO:41.8982348;-87.8095144
X-APPLE-STRUCTURED-LOCATION;VALUE=URI;X-ADDRESS=Concordia University Chicago 7400 Augusta Street River Forest IL 60305 United States;X-APPLE-RADIUS=500;X-TITLE=7400 Augusta Street:geo:-87.8095144,41.8982348
END:VEVENT
BEGIN:VEVENT
DTSTART;TZID=America/Chicago:20180915T080000
DTEND;TZID=America/Chicago:20180915T100000
DTSTAMP:20260423T224954
CREATED:20170224T132836Z
LAST-MODIFIED:20180915T183114Z
UID:10001071-1536998400-1537005600@www.racetime.info
SUMMARY:Run The Shores at Lake Barrington 5K & 1 Mile
DESCRIPTION:Run The Shores 1 Mile Overall Results\n\nRun The Shores 5K Age Group Results\n\nRun The Shores 5K Overall Results
URL:https://www.racetime.info/event/run-the-shores-at-lake-barrington-5k-1-mile-2/
LOCATION:Lake Barrington Shores\, 5035 Shoreline Road\, Lake Barrington\, IL\, 60010\, United States
CATEGORIES:2018-09 Results (September)
ORGANIZER;CN="Jamie Scheppman":MAILTO:jscheppman@fsresidential.com
GEO:42.2275301;-88.1459508
X-APPLE-STRUCTURED-LOCATION;VALUE=URI;X-ADDRESS=Lake Barrington Shores 5035 Shoreline Road Lake Barrington IL 60010 United States;X-APPLE-RADIUS=500;X-TITLE=5035 Shoreline Road:geo:-88.1459508,42.2275301
END:VEVENT
BEGIN:VEVENT
DTSTART;TZID=America/Chicago:20180915T080000
DTEND;TZID=America/Chicago:20180915T080000
DTSTAMP:20260423T224954
CREATED:20180613T120145Z
LAST-MODIFIED:20180915T182930Z
UID:10001805-1536998400-1536998400@www.racetime.info
SUMMARY:Breaking Free's Run4Recovery 5K Run/Walk
DESCRIPTION:Run4Recovery 5K Age Group Results\n\nRun4Recovery 5K Overall Results
URL:https://www.racetime.info/event/run-for-recovery-5k-run-walk/
LOCATION:Waubonsie Lake Park\, 998 Knautz Road\, Aurora\, IL\, 60504\, United States
CATEGORIES:2018-09 Results (September)
ORGANIZER;CN="Heather Kuziel":MAILTO:hkuziel@breakingfreeinc.org
GEO:41.7386015;-88.2619044
X-APPLE-STRUCTURED-LOCATION;VALUE=URI;X-ADDRESS=Waubonsie Lake Park 998 Knautz Road Aurora IL 60504 United States;X-APPLE-RADIUS=500;X-TITLE=998 Knautz Road:geo:-88.2619044,41.7386015
END:VEVENT
END:VCALENDAR