BEGIN:VCALENDAR
VERSION:2.0
PRODID:-//Race Time - ECPv6.15.13//NONSGML v1.0//EN
CALSCALE:GREGORIAN
METHOD:PUBLISH
X-WR-CALNAME:Race Time
X-ORIGINAL-URL:https://www.racetime.info
X-WR-CALDESC:Events for Race Time
REFRESH-INTERVAL;VALUE=DURATION:PT1H
X-Robots-Tag:noindex
X-PUBLISHED-TTL:PT1H
BEGIN:VTIMEZONE
TZID:America/Chicago
BEGIN:DAYLIGHT
TZOFFSETFROM:-0600
TZOFFSETTO:-0500
TZNAME:CDT
DTSTART:20170312T080000
END:DAYLIGHT
BEGIN:STANDARD
TZOFFSETFROM:-0500
TZOFFSETTO:-0600
TZNAME:CST
DTSTART:20171105T070000
END:STANDARD
BEGIN:DAYLIGHT
TZOFFSETFROM:-0600
TZOFFSETTO:-0500
TZNAME:CDT
DTSTART:20180311T080000
END:DAYLIGHT
BEGIN:STANDARD
TZOFFSETFROM:-0500
TZOFFSETTO:-0600
TZNAME:CST
DTSTART:20181104T070000
END:STANDARD
BEGIN:DAYLIGHT
TZOFFSETFROM:-0600
TZOFFSETTO:-0500
TZNAME:CDT
DTSTART:20190310T080000
END:DAYLIGHT
BEGIN:STANDARD
TZOFFSETFROM:-0500
TZOFFSETTO:-0600
TZNAME:CST
DTSTART:20191103T070000
END:STANDARD
END:VTIMEZONE
BEGIN:VEVENT
DTSTART;TZID=America/Chicago:20181027T103000
DTEND;TZID=America/Chicago:20181027T123000
DTSTAMP:20260424T000440
CREATED:20181008T181403Z
LAST-MODIFIED:20181027T184308Z
UID:10001019-1540636200-1540643400@www.racetime.info
SUMMARY:St. Matthew's Pumpkin 5K Run and Walk and 2K Youth Run
DESCRIPTION:St. Matthew’s Pumpkin 5K Run Age Group Results\n\nSt. Matthew’s Pumpkin 5K Run Overall Results\n\nSt. Matthew’s Pumpkin 5K Walk Age Group Results\n\nSt. Matthew’s Pumpkin 5K Walk Overall Results\n\nSt. Matthew’s Pumpkin 2K Overall Results
URL:https://www.racetime.info/event/st-matthews-pumpkin-5k-run-and-walk-and-2k-run/
LOCATION:Camera Park\, Glendale Heights\, IL\, IL\, United States
CATEGORIES:2018-10 Results (October)
ORGANIZER;CN="Cyndi Kochowicz":MAILTO:cyndi.kochowicz@polyone.com
GEO:41.9103068;-88.0717353
END:VEVENT
BEGIN:VEVENT
DTSTART;TZID=America/Chicago:20181027T083000
DTEND;TZID=America/Chicago:20181027T230000
DTSTAMP:20260424T000440
CREATED:20170723T101133Z
LAST-MODIFIED:20181027T184051Z
UID:10001542-1540629000-1540681200@www.racetime.info
SUMMARY:St. Bede Halloween Hustle: 10K Run\, 5K &1 Mile Run/Walk
DESCRIPTION:St. Bede Halloween Hustle 1 Mile Youth Run\n\nSt. Bede Halloween Hustle 5K Age Group Results\n\nSt. Bede Halloween Hustle 5K Overall Results\n\nSt. Bede Halloween Hustle 10K Age Group Results\n\nSt. Bede Halloween Hustle 10K Overall Results\n\nSt. Bede Puppy Results
URL:https://www.racetime.info/event/st-bede-halloween-hustle-10k-run-5k-1-mile-run-walk/
LOCATION:Grant Woods Forest Preserve\, 25405 West Monaville Road\, Ingleside\, IL\, 60041\, United States
CATEGORIES:2018-10 Results (October)
ORGANIZER;CN="Tina Lutzke":MAILTO:tinalutzke@hotmail.com
GEO:42.399051;-88.128126
X-APPLE-STRUCTURED-LOCATION;VALUE=URI;X-ADDRESS=Grant Woods Forest Preserve 25405 West Monaville Road Ingleside IL 60041 United States;X-APPLE-RADIUS=500;X-TITLE=25405 West Monaville Road:geo:-88.128126,42.399051
END:VEVENT
BEGIN:VEVENT
DTSTART;TZID=America/Chicago:20181027T083000
DTEND;TZID=America/Chicago:20181027T103000
DTSTAMP:20260424T000440
CREATED:20170901T123020Z
LAST-MODIFIED:20181027T183821Z
UID:10000828-1540629000-1540636200@www.racetime.info
SUMMARY:Batavia's United Way Batfest Run: 5K Walk/Run and 10K Run
DESCRIPTION:Batavia’s Bat Fest 5K Age Group Results\n\nBatavia’s Bat Fest 5K Overall Results\n\nBatavia’s Bat Fest 10K Age Group Results\n\nBatavia’s Bat Fest 10K Overall Results
URL:https://www.racetime.info/event/batavias-united-way-batfest-run-5k-walk-run-and-10k-run/
LOCATION:Peg Bond Center\, 151 N. Island Avenue\, Batavia\, IL\, 60510\, United States
CATEGORIES:2018-10 Results (October)
ORGANIZER;CN="Melinda Kintz":MAILTO:info@bataviaunitedway.org
GEO:41.853407;-88.3092422
X-APPLE-STRUCTURED-LOCATION;VALUE=URI;X-ADDRESS=Peg Bond Center 151 N. Island Avenue Batavia IL 60510 United States;X-APPLE-RADIUS=500;X-TITLE=151 N. Island Avenue:geo:-88.3092422,41.853407
END:VEVENT
BEGIN:VEVENT
DTSTART;TZID=America/Chicago:20181027T083000
DTEND;TZID=America/Chicago:20181027T103000
DTSTAMP:20260424T000440
CREATED:20170614T112821Z
LAST-MODIFIED:20181027T183635Z
UID:10001486-1540629000-1540636200@www.racetime.info
SUMMARY:Run For Your Life! 5K Run/Walk
DESCRIPTION:Run For Your Life! 5K Age Group Results\n\nRun For Your Life! 5K Overall Results\n\nRun For Your Life! District #118 Staff
URL:https://www.racetime.info/event/run-for-your-life-5k-run-walk/
LOCATION:Wauconda Middle School\, 215 Slocum Lake Road\, Wauconda\, IL\, 60084\, United States
CATEGORIES:2018-10 Results (October)
ORGANIZER;CN="Carolyn Eisenhart":MAILTO:cmeisenhart@gmail.com
GEO:42.261247;-88.1465112
X-APPLE-STRUCTURED-LOCATION;VALUE=URI;X-ADDRESS=Wauconda Middle School 215 Slocum Lake Road Wauconda IL 60084 United States;X-APPLE-RADIUS=500;X-TITLE=215 Slocum Lake Road:geo:-88.1465112,42.261247
END:VEVENT
BEGIN:VEVENT
DTSTART;TZID=America/Chicago:20181027T080000
DTEND;TZID=America/Chicago:20181027T103000
DTSTAMP:20260424T000440
CREATED:20180706T174207Z
LAST-MODIFIED:20181027T183502Z
UID:10000984-1540627200-1540636200@www.racetime.info
SUMMARY:St. Gerald Great Pumpkin 5K Run/Walk & Little Pumpkin Obstacle
DESCRIPTION:St. Gerald Great Pumpkin 5K Age Group Results\n\nSt. Gerald Great Pumpkin 5K Overall Results
URL:https://www.racetime.info/event/giant-pumpkin-5k-run-walk-little-pumpkin-obstacle/
LOCATION:St. Gerald Parish and School\, 9310 South 55th Court\, Oak Lawn\, IL\, 60453\, United States
CATEGORIES:2018-10 Results (October)
ORGANIZER;CN="Debbie Janicke":MAILTO:development@stgerald.com
GEO:41.7221325;-87.7599577
X-APPLE-STRUCTURED-LOCATION;VALUE=URI;X-ADDRESS=St. Gerald Parish and School 9310 South 55th Court Oak Lawn IL 60453 United States;X-APPLE-RADIUS=500;X-TITLE=9310 South 55th Court:geo:-87.7599577,41.7221325
END:VEVENT
BEGIN:VEVENT
DTSTART;TZID=America/Chicago:20181027T080000
DTEND;TZID=America/Chicago:20181027T100000
DTSTAMP:20260424T000440
CREATED:20170909T122056Z
LAST-MODIFIED:20181027T183327Z
UID:10001665-1540627200-1540634400@www.racetime.info
SUMMARY:St. Nicholas of Tolentine's SNS Dia de Los Muertos - Day Of The Dead 5K Run/Walk & Youth Dash
DESCRIPTION:St. Nicholas Day of the Dead 5K Age Group Results\n\nSt. Nicholas Day of the Dead 5K Overall Results
URL:https://www.racetime.info/event/sns-dia-de-los-muertos-day-of-the-dead-5k-run-walk-youth-dash/
LOCATION:St. Nicholas of Tolentine\, 3741 W. 62nd Street\, Chicago\, IL\, 60629\, United States
CATEGORIES:2018-10 Results (October)
ORGANIZER;CN="Dr. Mariagnes Menden":MAILTO:mmenden@stnicksschool.com
GEO:41.7802475;-87.7171847
X-APPLE-STRUCTURED-LOCATION;VALUE=URI;X-ADDRESS=St. Nicholas of Tolentine 3741 W. 62nd Street Chicago IL 60629 United States;X-APPLE-RADIUS=500;X-TITLE=3741 W. 62nd Street:geo:-87.7171847,41.7802475
END:VEVENT
BEGIN:VEVENT
DTSTART;TZID=America/Chicago:20181021T100000
DTEND;TZID=America/Chicago:20181021T120000
DTSTAMP:20260424T000440
CREATED:20170918T115722Z
LAST-MODIFIED:20181021T182129Z
UID:10001672-1540116000-1540123200@www.racetime.info
SUMMARY:Resurrection Mary 5K Run/Walk
DESCRIPTION:Resurrection Mary 5K Age Group Results\n\nResurrection Mary 5K Overall Results
URL:https://www.racetime.info/event/resurrection-mary-5k-run-walk/
LOCATION:Commissioners Park\, 7747 S. Oak Grove Avenue\, Justice\, IL\, 60458\, United States
CATEGORIES:2018-10 Results (October)
ORGANIZER;CN="Angela Krejci":MAILTO:akrejci@isd209.org
GEO:41.7500343;-87.8403006
X-APPLE-STRUCTURED-LOCATION;VALUE=URI;X-ADDRESS=Commissioners Park 7747 S. Oak Grove Avenue Justice IL 60458 United States;X-APPLE-RADIUS=500;X-TITLE=7747 S. Oak Grove Avenue:geo:-87.8403006,41.7500343
END:VEVENT
BEGIN:VEVENT
DTSTART;TZID=America/Chicago:20181021T100000
DTEND;TZID=America/Chicago:20181021T120000
DTSTAMP:20260424T000440
CREATED:20160809T011705Z
LAST-MODIFIED:20181021T182901Z
UID:10000298-1540116000-1540123200@www.racetime.info
SUMMARY:Jones College Prep Eagle 5K Run/Walk
DESCRIPTION:JCP Eagle Run Faculty Results\n\nJCP Eagle Run Student Results\n\nJCP Eagle Run Individual Results\n\nJCP Eagle Run Complete Overall Results
URL:https://www.racetime.info/event/jones-college-prep-eagle-5k-run-walk/
LOCATION:Washington Park\, Pool & Russell Drive\, Chicago\, IL\, United States
CATEGORIES:2018-10 Results (October)
ORGANIZER;CN="Sarah Renz":MAILTO:sarah.renz@friendsofjones.org
GEO:41.7929062;-87.6134155
X-APPLE-STRUCTURED-LOCATION;VALUE=URI;X-ADDRESS=Washington Park Pool & Russell Drive Chicago IL United States;X-APPLE-RADIUS=500;X-TITLE=Pool & Russell Drive:geo:-87.6134155,41.7929062
END:VEVENT
BEGIN:VEVENT
DTSTART;TZID=America/Chicago:20181020T100000
DTEND;TZID=America/Chicago:20181020T120000
DTSTAMP:20260424T000440
CREATED:20171028T194357Z
LAST-MODIFIED:20181021T011428Z
UID:10001689-1540029600-1540036800@www.racetime.info
SUMMARY:Run The Beat 5K Run/Walk
DESCRIPTION:Run The Beat 5K Age Group Results\n\nRun The Beat 5K Overall Results
URL:https://www.racetime.info/event/run-the-beat-5k-run-walk/
LOCATION:Goold Park\, 998 Lisbon\, Morris\, IL\, 60450\, United States
CATEGORIES:2018-10 Results (October)
ORGANIZER;CN="Kelly Thompson":MAILTO:specialconnections1@gmail.com
GEO:41.3646196;-88.4268352
X-APPLE-STRUCTURED-LOCATION;VALUE=URI;X-ADDRESS=Goold Park 998 Lisbon Morris IL 60450 United States;X-APPLE-RADIUS=500;X-TITLE=998 Lisbon:geo:-88.4268352,41.3646196
END:VEVENT
BEGIN:VEVENT
DTSTART;TZID=America/Chicago:20181020T090000
DTEND;TZID=America/Chicago:20181020T110000
DTSTAMP:20260424T000440
CREATED:20170818T030451Z
LAST-MODIFIED:20181020T195620Z
UID:10000760-1540026000-1540033200@www.racetime.info
SUMMARY:Howl Through The Hills 5K Run/Walk & Kids Fun Run
DESCRIPTION:Howl Through The Hills 5K Age Group Results\n\nHowl Through The Hills 5K Overall Results
URL:https://www.racetime.info/event/howl-through-the-hills-5k-run-walk-kids-fun-run/
LOCATION:Hickory Hills City Hall\, 8652 West 95th Street\, Hickory Hills\, IL\, 60457\, United States
CATEGORIES:2018-10 Results (October)
ORGANIZER;CN="Mary Esposito":MAILTO:mesposito@hickoryhillsil.org
GEO:41.7185263;-87.8344458
X-APPLE-STRUCTURED-LOCATION;VALUE=URI;X-ADDRESS=Hickory Hills City Hall 8652 West 95th Street Hickory Hills IL 60457 United States;X-APPLE-RADIUS=500;X-TITLE=8652 West 95th Street:geo:-87.8344458,41.7185263
END:VEVENT
BEGIN:VEVENT
DTSTART;TZID=America/Chicago:20181014T080000
DTEND;TZID=America/Chicago:20181014T110000
DTSTAMP:20260424T000440
CREATED:20180912T124230Z
LAST-MODIFIED:20181014T172138Z
UID:10001017-1539504000-1539514800@www.racetime.info
SUMMARY:Run and Roll at the Dole Duathlon
DESCRIPTION:Run & Roll at the Dole Age Group Results\n\nRun & Roll at the Dole Overall Results\n\nRun & Roll at the Dole Relay Team Results
URL:https://www.racetime.info/event/run-and-roll-at-the-dole-duathlon/
LOCATION:Dole Mansion and Arts Park\, 401 Country Club Road\, Crystal Lake\, IL\, 60014\, United States
CATEGORIES:2018-10 Results (October)
ORGANIZER;CN="Trudy Wakeman":MAILTO:trudywakeman@gmail.com
END:VEVENT
BEGIN:VEVENT
DTSTART;TZID=America/Chicago:20181014T080000
DTEND;TZID=America/Chicago:20181014T100000
DTSTAMP:20260424T000440
CREATED:20170604T171307Z
LAST-MODIFIED:20181014T171858Z
UID:10001428-1539504000-1539511200@www.racetime.info
SUMMARY:Run With The Nuns 5K Run/Walk
DESCRIPTION:Run With The Nuns 5K Age Group Results\n\nRun With The Nuns 5K Overall Results
URL:https://www.racetime.info/event/run-with-the-nuns-5k-run-walk/
LOCATION:Mt. Assisi Academy\, 13860 Main Street\, Lemont\, IL\, 60439\, United States
CATEGORIES:2018-10 Results (October)
ORGANIZER;CN="Carrie Peters":MAILTO:carriepeters2@sbcglobal.net
GEO:41.685218;-87.981291
X-APPLE-STRUCTURED-LOCATION;VALUE=URI;X-ADDRESS=Mt. Assisi Academy 13860 Main Street Lemont IL 60439 United States;X-APPLE-RADIUS=500;X-TITLE=13860 Main Street:geo:-87.981291,41.685218
END:VEVENT
BEGIN:VEVENT
DTSTART;TZID=America/Chicago:20181013T100000
DTEND;TZID=America/Chicago:20181013T120000
DTSTAMP:20260424T000440
CREATED:20170830T215008Z
LAST-MODIFIED:20181016T172915Z
UID:10001632-1539424800-1539432000@www.racetime.info
SUMMARY:Wilmot Mountain Fall 5K
DESCRIPTION:Wilmot 5K Age Group Results\n\nWilmot 5K Overall Results
URL:https://www.racetime.info/event/wilmot-mountain-fall-5k-2/
LOCATION:Wilmot Mounain Resort\, 11931 Fox River Road\, Wilmot\, WI\, 53192\, United States
CATEGORIES:2018-10 Results (October)
ORGANIZER;CN="Rachael Muhlenbeck Miskie":MAILTO:muhlenbeck3@yahoo.com
GEO:42.5001244;-88.190056
X-APPLE-STRUCTURED-LOCATION;VALUE=URI;X-ADDRESS=Wilmot Mounain Resort 11931 Fox River Road Wilmot WI 53192 United States;X-APPLE-RADIUS=500;X-TITLE=11931 Fox River Road:geo:-88.190056,42.5001244
END:VEVENT
BEGIN:VEVENT
DTSTART;TZID=America/Chicago:20181013T090000
DTEND;TZID=America/Chicago:20181013T110000
DTSTAMP:20260424T000440
CREATED:20170829T181451Z
LAST-MODIFIED:20181013T204045Z
UID:10000784-1539421200-1539428400@www.racetime.info
SUMMARY:District 91 Education Foundation 5K Run/Walk
DESCRIPTION:D91 Age Group Results\n\nD91 5K Overall Results
URL:https://www.racetime.info/event/district-91-education-foundation-5k-run-walk/
LOCATION:Kelvin Grove School\, 808 Adams Street\, Lockport\, IL\, 60441\, United States
CATEGORIES:2018-10 Results (October)
ORGANIZER;CN="Lia Ditter":MAILTO:lditter@d91.et
GEO:41.5879962;-88.0412931
X-APPLE-STRUCTURED-LOCATION;VALUE=URI;X-ADDRESS=Kelvin Grove School 808 Adams Street Lockport IL 60441 United States;X-APPLE-RADIUS=500;X-TITLE=808 Adams Street:geo:-88.0412931,41.5879962
END:VEVENT
BEGIN:VEVENT
DTSTART;TZID=America/Chicago:20181013T083000
DTEND;TZID=America/Chicago:20181013T110000
DTSTAMP:20260424T000440
CREATED:20170624T113529Z
LAST-MODIFIED:20181013T203843Z
UID:10000683-1539419400-1539428400@www.racetime.info
SUMMARY:One Stride at a Time 5K & 1K Run/Walk
DESCRIPTION:One Stride At A Time 5K Age Group Results\n\nOne Stride At A Time 5K Overall Results
URL:https://www.racetime.info/event/one-stride-at-a-time-5k-1k-run-walk/
LOCATION:Hastings Lake Forest Preserve\, 21155 W. Gelden Road\, Lake Villa\, IL\, 60046\, United States
CATEGORIES:2018-10 Results (October)
ORGANIZER;CN="Karen Wolownik Albert":MAILTO:klwolown@gatewayfoundation.org
GEO:42.43165;-88.045445
X-APPLE-STRUCTURED-LOCATION;VALUE=URI;X-ADDRESS=Hastings Lake Forest Preserve 21155 W. Gelden Road Lake Villa IL 60046 United States;X-APPLE-RADIUS=500;X-TITLE=21155 W. Gelden Road:geo:-88.045445,42.43165
END:VEVENT
BEGIN:VEVENT
DTSTART;TZID=America/Chicago:20181013T083000
DTEND;TZID=America/Chicago:20181013T103000
DTSTAMP:20260424T000440
CREATED:20170902T182915Z
LAST-MODIFIED:20181013T203731Z
UID:10001655-1539419400-1539426600@www.racetime.info
SUMMARY:St. Christopher 5K Run/Walk
DESCRIPTION:St. Christopher 5K Overall Results
URL:https://www.racetime.info/event/st-christopher-5k-run-walk/
LOCATION:St. Christopher School\, 4130 W. 147th Street\, Midlothian\, IL\, 60445\, United States
CATEGORIES:2018-10 Results (October)
ORGANIZER;CN="Joe Alfano":MAILTO:info@stchrisschool.org
GEO:41.6257534;-87.7221261
X-APPLE-STRUCTURED-LOCATION;VALUE=URI;X-ADDRESS=St. Christopher School 4130 W. 147th Street Midlothian IL 60445 United States;X-APPLE-RADIUS=500;X-TITLE=4130 W. 147th Street:geo:-87.7221261,41.6257534
END:VEVENT
BEGIN:VEVENT
DTSTART;TZID=America/Chicago:20181007T100000
DTEND;TZID=America/Chicago:20181007T120000
DTSTAMP:20260424T000440
CREATED:20170214T224228Z
LAST-MODIFIED:20181007T224416Z
UID:10001018-1538906400-1538913600@www.racetime.info
SUMMARY:Brat Trot 5K Run/Walk
DESCRIPTION:Brat Trot 5K Age Group Results\n\nBrat Trot 5K Overall Results
URL:https://www.racetime.info/event/brat-trot-5k-run-walk/
LOCATION:Downtown Batavia\, 21 North Water River Street\, Batavia\, IL\, 60510\, United States
CATEGORIES:2018-10 Results (October)
ORGANIZER;CN="Cathy McNally":MAILTO:info@downtownbatavia.com
GEO:41.853407;-88.3092422
X-APPLE-STRUCTURED-LOCATION;VALUE=URI;X-ADDRESS=Downtown Batavia 21 North Water River Street Batavia IL 60510 United States;X-APPLE-RADIUS=500;X-TITLE=21 North Water River Street:geo:-88.3092422,41.853407
END:VEVENT
BEGIN:VEVENT
DTSTART;TZID=America/Chicago:20181006T094500
DTEND;TZID=America/Chicago:20181006T123000
DTSTAMP:20260424T000440
CREATED:20170530T132928Z
LAST-MODIFIED:20181008T180818Z
UID:10001423-1538819100-1538829000@www.racetime.info
SUMMARY:The Colonel Madden Cross-Town Classic: 3 Mile Cross Country Style Race
DESCRIPTION:Colonel Madden Cross Town Classic 3M Age Group Results\n\nColonel Madden Cross Town Classic 3M Overall Results
URL:https://www.racetime.info/event/the-colonel-madden-cross-town-mad-dash-3-mile-cross-country-style-race-2/
LOCATION:Oak Forest High School\, 15201 S. Central Avenue\, Oak Forest\, IL\, United States
CATEGORIES:2018-10 Results (October)
ORGANIZER;CN="Scott Priestman":MAILTO:spriestman@bhsd228.com
GEO:41.6158151;-87.7538819
X-APPLE-STRUCTURED-LOCATION;VALUE=URI;X-ADDRESS=Oak Forest High School 15201 S. Central Avenue Oak Forest IL United States;X-APPLE-RADIUS=500;X-TITLE=15201 S. Central Avenue:geo:-87.7538819,41.6158151
END:VEVENT
BEGIN:VEVENT
DTSTART;TZID=America/Chicago:20181006T093000
DTEND;TZID=America/Chicago:20181006T120000
DTSTAMP:20260424T000440
CREATED:20170830T121954Z
LAST-MODIFIED:20181006T212312Z
UID:10000796-1538818200-1538827200@www.racetime.info
SUMMARY:The Trails Challenge Youth 2K OCR Race (Youth Adventure Race)
DESCRIPTION:The Trails Challenge Youth 2K OCR Race
URL:https://www.racetime.info/event/the-trails-challenge-youth-2k-ocr-race-youth-adventure-race-2/
LOCATION:Woodlands Trails Park\, 1500 E. Euclid\, Mount Prospect\, IL\, 60056\, United States
CATEGORIES:2018-10 Results (October)
ORGANIZER;CN="Geralyn Konsewicz":MAILTO:gkonsewicz@rtpd.org
GEO:42.0887554;-87.9134118
X-APPLE-STRUCTURED-LOCATION;VALUE=URI;X-ADDRESS=Woodlands Trails Park 1500 E. Euclid Mount Prospect IL 60056 United States;X-APPLE-RADIUS=500;X-TITLE=1500 E. Euclid:geo:-87.9134118,42.0887554
END:VEVENT
BEGIN:VEVENT
DTSTART;TZID=America/Chicago:20181006T093000
DTEND;TZID=America/Chicago:20181006T110000
DTSTAMP:20260424T000440
CREATED:20170731T174625Z
LAST-MODIFIED:20181006T174906Z
UID:10001559-1538818200-1538823600@www.racetime.info
SUMMARY:Old Plank Trail 5K Run/Walk
DESCRIPTION:Old Plank Road 5K Run Age Group Results\n\nOld Plank Road 5K Run Overall Results\n\ntarget=”_blank”Old Plank Road 5K Walk Age Group Results\n\nOld Plank Road 5K Walk Overall Results
URL:https://www.racetime.info/event/old-plank-trail-5k-run-walk/
LOCATION:Breidert Green Park\, 432 W. Nebraska\, Frankfort\, IL\, 60423\, United States
CATEGORIES:2018-10 Results (October)
ORGANIZER;CN="Susan Lynchey":MAILTO:slynchey@vofil.com
GEO:41.4974227;-87.8607917
X-APPLE-STRUCTURED-LOCATION;VALUE=URI;X-ADDRESS=Breidert Green Park 432 W. Nebraska Frankfort IL 60423 United States;X-APPLE-RADIUS=500;X-TITLE=432 W. Nebraska:geo:-87.8607917,41.4974227
END:VEVENT
BEGIN:VEVENT
DTSTART;TZID=America/Chicago:20181006T090000
DTEND;TZID=America/Chicago:20181006T110000
DTSTAMP:20260424T000440
CREATED:20170506T102337Z
LAST-MODIFIED:20181010T123257Z
UID:10000576-1538816400-1538823600@www.racetime.info
SUMMARY:Montgomery River Run 5K & 10K
DESCRIPTION:Montgomery_Overall_5K_FINAL\n\nMontgomery_Overall_10K_FINAL
URL:https://www.racetime.info/event/montgomery-river-run-5k-10k-3/
LOCATION:Village of Montgomery\, 200 North River Street\, Montgomery\, IL\, 60538\, United States
CATEGORIES:2018-10 Results (October)
ORGANIZER;CN="Rosie Boeing":MAILTO:riverrun@eeiweb.com
GEO:41.7295362;-88.3416114
X-APPLE-STRUCTURED-LOCATION;VALUE=URI;X-ADDRESS=Village of Montgomery 200 North River Street Montgomery IL 60538 United States;X-APPLE-RADIUS=500;X-TITLE=200 North River Street:geo:-88.3416114,41.7295362
END:VEVENT
BEGIN:VEVENT
DTSTART;TZID=America/Chicago:20181006T083000
DTEND;TZID=America/Chicago:20181006T103000
DTSTAMP:20260424T000440
CREATED:20170628T112818Z
LAST-MODIFIED:20181010T123001Z
UID:10001508-1538814600-1538821800@www.racetime.info
SUMMARY:Knights Challenge 5K Run/ Walk
DESCRIPTION:Knights Challenge 5K Age Group Results\n\nKnights Challenge 5K Overall Results
URL:https://www.racetime.info/event/knights-challenge-5k-run-walk-2/
LOCATION:St. John The Evangelist Parish Center\, 502 S. Park Blvd\, Streamwood\, IL\, 60107\, United States
CATEGORIES:2018-10 Results (October)
ORGANIZER;CN="Bill Henderson":MAILTO:info@kofc12801.org
GEO:42.021154;-88.1678742
X-APPLE-STRUCTURED-LOCATION;VALUE=URI;X-ADDRESS=St. John The Evangelist Parish Center 502 S. Park Blvd Streamwood IL 60107 United States;X-APPLE-RADIUS=500;X-TITLE=502 S. Park Blvd:geo:-88.1678742,42.021154
END:VEVENT
BEGIN:VEVENT
DTSTART;TZID=America/Chicago:20181006T080000
DTEND;TZID=America/Chicago:20181006T103000
DTSTAMP:20260424T000440
CREATED:20180308T140610Z
LAST-MODIFIED:20181007T183543Z
UID:10001753-1538812800-1538821800@www.racetime.info
SUMMARY:Epiphany 5K Run/Walk
DESCRIPTION:Race postponed.  Check back for further details.
URL:https://www.racetime.info/event/epiphany-5k-run-walk/
LOCATION:Epiphany Catholic School\, 4223 W. 25th Street\, Chicago\, IL\, 60623\, United States
CATEGORIES:2018-10 Results (October)
ORGANIZER;CN="Cassandra Rosalez":MAILTO:epiphanypsachicago@gmail.com
GEO:41.8456826;-87.7303056
X-APPLE-STRUCTURED-LOCATION;VALUE=URI;X-ADDRESS=Epiphany Catholic School 4223 W. 25th Street Chicago IL 60623 United States;X-APPLE-RADIUS=500;X-TITLE=4223 W. 25th Street:geo:-87.7303056,41.8456826
END:VEVENT
END:VCALENDAR