BEGIN:VCALENDAR
VERSION:2.0
PRODID:-//Race Time - ECPv6.15.13//NONSGML v1.0//EN
CALSCALE:GREGORIAN
METHOD:PUBLISH
X-ORIGINAL-URL:https://www.racetime.info
X-WR-CALDESC:Events for Race Time
REFRESH-INTERVAL;VALUE=DURATION:PT1H
X-Robots-Tag:noindex
X-PUBLISHED-TTL:PT1H
BEGIN:VTIMEZONE
TZID:America/Chicago
BEGIN:DAYLIGHT
TZOFFSETFROM:-0600
TZOFFSETTO:-0500
TZNAME:CDT
DTSTART:20170312T080000
END:DAYLIGHT
BEGIN:STANDARD
TZOFFSETFROM:-0500
TZOFFSETTO:-0600
TZNAME:CST
DTSTART:20171105T070000
END:STANDARD
BEGIN:DAYLIGHT
TZOFFSETFROM:-0600
TZOFFSETTO:-0500
TZNAME:CDT
DTSTART:20180311T080000
END:DAYLIGHT
BEGIN:STANDARD
TZOFFSETFROM:-0500
TZOFFSETTO:-0600
TZNAME:CST
DTSTART:20181104T070000
END:STANDARD
BEGIN:DAYLIGHT
TZOFFSETFROM:-0600
TZOFFSETTO:-0500
TZNAME:CDT
DTSTART:20190310T080000
END:DAYLIGHT
BEGIN:STANDARD
TZOFFSETFROM:-0500
TZOFFSETTO:-0600
TZNAME:CST
DTSTART:20191103T070000
END:STANDARD
END:VTIMEZONE
BEGIN:VEVENT
DTSTART;TZID=America/Chicago:20181020T090000
DTEND;TZID=America/Chicago:20181020T120000
DTSTAMP:20260423T225046
CREATED:20170901T115840Z
LAST-MODIFIED:20181020T185850Z
UID:10001644-1540026000-1540036800@www.racetime.info
SUMMARY:Andrew's Regional Cross Country Meet
DESCRIPTION:SWSC Class 3A Girls Overall Results\n\nSWSC Class 3A Girls Team Results\n\nSWSC Class 3A Boys Overall Results\n\nSWSC Class 3A Boys Team Results
URL:https://www.racetime.info/event/swsc-red-conference-meet/
LOCATION:Turtlehead Lake Forest Preserve\, 13600 South Harlem Avenue\, Orland Park\, IL\, 60462\, United States
CATEGORIES:2018 Cross Country Results
ORGANIZER;CN="Kevin McKeown":MAILTO:kmckeown@d230.org
GEO:41.6439653;-87.7961671
X-APPLE-STRUCTURED-LOCATION;VALUE=URI;X-ADDRESS=Turtlehead Lake Forest Preserve 13600 South Harlem Avenue Orland Park IL 60462 United States;X-APPLE-RADIUS=500;X-TITLE=13600 South Harlem Avenue:geo:-87.7961671,41.6439653
END:VEVENT
BEGIN:VEVENT
DTSTART;TZID=America/Chicago:20181020T090000
DTEND;TZID=America/Chicago:20181020T113000
DTSTAMP:20260423T225046
CREATED:20170829T180311Z
LAST-MODIFIED:20181020T185655Z
UID:10001595-1540026000-1540035000@www.racetime.info
SUMMARY:St. Viator's Regional Cross Country Meet
DESCRIPTION:St. Viator Class 2A Girls Overall Results\n\nSt. Viator Class 2A Girls Team Results\n\nSt. Viator Class 2A Boys Overall Results\n\nSt. Viator Class 2A Boys Team Results
URL:https://www.racetime.info/event/copy-of-st-viators-artman-invite-cross-country-meet/
LOCATION:Melas Park\, 1500 W. Central Road\, Mount Prospect\, IL\, 60056\, United States
CATEGORIES:2018 Cross Country Results
ORGANIZER;CN="Maggie Haskins":MAILTO:mwiener@saintviator.com
GEO:42.066494;-87.9646978
X-APPLE-STRUCTURED-LOCATION;VALUE=URI;X-ADDRESS=Melas Park 1500 W. Central Road Mount Prospect IL 60056 United States;X-APPLE-RADIUS=500;X-TITLE=1500 W. Central Road:geo:-87.9646978,42.066494
END:VEVENT
BEGIN:VEVENT
DTSTART;TZID=America/Chicago:20181018T153000
DTEND;TZID=America/Chicago:20181018T170000
DTSTAMP:20260423T225046
CREATED:20181015T122611Z
LAST-MODIFIED:20181019T123746Z
UID:10001020-1539876600-1539882000@www.racetime.info
SUMMARY:West Chicago School District 33's Cross Country Challenge
DESCRIPTION:WE GO Cross Country Challenge 4th Grade Overall Results\n\nWE GO Cross Country Challenge 4th Grade Team Results\n\nWE GO Cross Country Challenge 5th Grade Overall Results\n\nWE GO Cross Country Challenge 5th Grade Team Results\n\nWE GO Cross Country Challenge 6 7 8 Grade Overall Results
URL:https://www.racetime.info/event/west-chicago-school-district-33s-cross-country-challenge/
LOCATION:Leman Middle School\, 238 East Hazel Street\, West Chicago\, IL\, 60185\, United States
CATEGORIES:2018 Cross Country Results
GEO:41.8738296;-88.2023204
X-APPLE-STRUCTURED-LOCATION;VALUE=URI;X-ADDRESS=Leman Middle School 238 East Hazel Street West Chicago IL 60185 United States;X-APPLE-RADIUS=500;X-TITLE=238 East Hazel Street:geo:-88.2023204,41.8738296
END:VEVENT
BEGIN:VEVENT
DTSTART;TZID=America/Chicago:20181017T040000
DTEND;TZID=America/Chicago:20181017T180000
DTSTAMP:20260423T225046
CREATED:20170901T121523Z
LAST-MODIFIED:20181018T021053Z
UID:10001650-1539748800-1539799200@www.racetime.info
SUMMARY:IPAC Conference Meet
DESCRIPTION:IPAC 6 & 7 Grade Girls Overall Results\n\nIPAC 6 & 7 Grade Girls Detail Team Results\n\nIPAC 6 & 7 Grade Boys Overall Results\n\nIPAC 6 & 7 Grade Boys Detail Team Results\n\nIPAC 8th Grade Girls Overall Results\n\nIPAC 8th Grade Girls Detail Team Results\n\nIPAC 8th Grade Boys Overall Results\n\nIPAC 8th Grade Boys Detail Team Results\n\nIPAC Open Girls Overall Results\n\nIPAC Open Girls Detail Team Results\n\nIPAC Open Boys Overall Results\n\nIPAC Open Boys Detail Team Results
URL:https://www.racetime.info/event/ipac-conference-meet-2/
LOCATION:Monroe Middle School\, 1855 Manchester Road\, Wheaton\, IL\, 60187\, United States
CATEGORIES:2018 Cross Country Results
ORGANIZER;CN="Michael McCormack":MAILTO:michael.mccormack@cusd200.org
GEO:41.8677548;-88.1315721
X-APPLE-STRUCTURED-LOCATION;VALUE=URI;X-ADDRESS=Monroe Middle School 1855 Manchester Road Wheaton IL 60187 United States;X-APPLE-RADIUS=500;X-TITLE=1855 Manchester Road:geo:-88.1315721,41.8677548
END:VEVENT
BEGIN:VEVENT
DTSTART;TZID=America/Chicago:20181016T160000
DTEND;TZID=America/Chicago:20181016T180000
DTSTAMP:20260423T225046
CREATED:20170913T190834Z
LAST-MODIFIED:20181019T030534Z
UID:10001668-1539705600-1539712800@www.racetime.info
SUMMARY:NPC Conference Cross Country Meet
DESCRIPTION:NPC Conference 7th Grade Girls Overall Results\n\nNPC Conference 7th Grade Girls Team Results\n\nNPC Conference 7th Grade Boys Overall Results\n\nNPC Conference 7th Grade Boys Team Results\n\nNPC Conference 8th Grade Girls Overall Results\n\nNPC Conference 8th Grade Girls Team Results\n\nNPC Conference 8th Grade Boys Overall Results\n\nNPC Conference 8th Grade Boys Team Results
URL:https://www.racetime.info/event/npc-conference-cross-country-meet-2/
LOCATION:Frontier Park\, 3380 Cedar Glade Drive\, Naperville\, IL\, 60563\, United States
CATEGORIES:2018 Cross Country Results
ORGANIZER;CN="Kevin Cox":MAILTO:kevin_cox@ipsd.org
END:VEVENT
BEGIN:VEVENT
DTSTART;TZID=America/Chicago:20181013T170000
DTEND;TZID=America/Chicago:20181013T180000
DTSTAMP:20260423T225046
CREATED:20170901T120035Z
LAST-MODIFIED:20181017T105321Z
UID:10001647-1539450000-1539453600@www.racetime.info
SUMMARY:Chicago Catholic League/GCAC Cross Country Championship
DESCRIPTION:CCL Boys Freshman Overall Results\n\nCCL Boys Freshman Team Results\n\nCCL Boys Sophomore Overall Results\n\nCCL Boys Sophomore Team Results\n\nCCL Boys Varsity Overall Results\n\nCCL Boys Varsity Team Combined Results\n\nCCL Boys Varsity Team White Division Results\n\nCCL Boys Open Overall Results\n\nGCAC Girls FS and JV Overall Results\n\nGCAC Girls FS and JV Team Results\n\nGCAC Girls Varsity Overall Results\n\nGCAC Girls Varsity Team Combined Results\n\nGCAC Girls Varsity Team White Results\n\nGCAC Girls Open Overall Results
URL:https://www.racetime.info/event/chicago-catholic-league-gcac-cross-country-championship/
LOCATION:Lewis University\, 1 University Parkway\, Romeoville\, IL\, 60446\, United States
CATEGORIES:2018 Cross Country Results
ORGANIZER;CN="Tom Wazio":MAILTO:twazio@brrice.org
GEO:41.6047245;-88.0813334
X-APPLE-STRUCTURED-LOCATION;VALUE=URI;X-ADDRESS=Lewis University 1 University Parkway Romeoville IL 60446 United States;X-APPLE-RADIUS=500;X-TITLE=1 University Parkway:geo:-88.0813334,41.6047245
END:VEVENT
BEGIN:VEVENT
DTSTART;TZID=America/Chicago:20181013T090000
DTEND;TZID=America/Chicago:20181013T120000
DTSTAMP:20260423T225046
CREATED:20170901T115620Z
LAST-MODIFIED:20181013T203559Z
UID:10001640-1539421200-1539432000@www.racetime.info
SUMMARY:ESCC Conference Meet
DESCRIPTION:ESCC FS Boys Overall Results\n\nESCC FS Boys Team Results\n\nESCC Varsity Boys Overall Results\n\nESCC Varsity Boys Team Results\n\nESCC Open Boys Overall Results\n\nESCC FS Girls Overall Results\n\nESCC FS Girls Team Results\n\nESCC Varsity Girls Overall Results\n\nESCC Varsity Girls Team Results\n\nESCC Open Girls Overall Results
URL:https://www.racetime.info/event/escc-conference-meet/
LOCATION:Melas Park\, 1500 W. Central Road\, Mount Prospect\, IL\, 60056\, United States
CATEGORIES:2018 Cross Country Results
ORGANIZER;CN="Maggie Haskins":MAILTO:mwiener@saintviator.com
GEO:42.066494;-87.9646978
X-APPLE-STRUCTURED-LOCATION;VALUE=URI;X-ADDRESS=Melas Park 1500 W. Central Road Mount Prospect IL 60056 United States;X-APPLE-RADIUS=500;X-TITLE=1500 W. Central Road:geo:-87.9646978,42.066494
END:VEVENT
BEGIN:VEVENT
DTSTART;TZID=America/Chicago:20181013T090000
DTEND;TZID=America/Chicago:20181013T110000
DTSTAMP:20260423T225046
CREATED:20180912T123318Z
LAST-MODIFIED:20181013T203102Z
UID:10001015-1539421200-1539428400@www.racetime.info
SUMMARY:Richmond-Burton KRC Conference Meet
DESCRIPTION:KRC Girls Varsity Overall Results\n\nKRC Girls Varsity Team Results\n\nKRC Boys Varsity Overall Results\n\nKRC Boys Varsity Team Results\n\nKRC Girls JV Overall Results\n\nKRC Girls JV Team Results\n\nKRC Boys JV Overall Results\n\nKRC Boys JV Team Results
URL:https://www.racetime.info/event/richmond-burton-conference-meet/
LOCATION:Richardson Farm\, 909 English Prairie Road\, Spring Grove\, IL\, 60081\, United States
CATEGORIES:2018 Cross Country Results
ORGANIZER;CN="Kristi Martin":MAILTO:kmartin@rbchs.com
END:VEVENT
BEGIN:VEVENT
DTSTART;TZID=America/Chicago:20181011T160000
DTEND;TZID=America/Chicago:20181011T180000
DTSTAMP:20260423T225046
CREATED:20170901T114737Z
LAST-MODIFIED:20181012T022158Z
UID:10000814-1539273600-1539280800@www.racetime.info
SUMMARY:St. Joseph School Cross Country Meet
DESCRIPTION:Ron Berger JV Girls Overall Results\n\nRon Berger JV Girls Team Results\n\nRon Berger JV Boys Overall Results\n\nRon Berger JV Boys Team Results\n\nRon Berger V Girls Overall Results\n\nRon Berger V Girls Team Results\n\nRon Berger V Boys Overall Results\n\nRon Berger V Boys Team Results
URL:https://www.racetime.info/event/st-joseph-school-cross-country-meet-2/
LOCATION:Gillson Beach\, 800 Gillson Park Drive\, Wilmette\, IL\, 60091\, United States
CATEGORIES:2018 Cross Country Results
ORGANIZER;CN="Mike Firth":MAILTO:illinidad115@hotmail.com
GEO:42.0804297;-87.6887941
X-APPLE-STRUCTURED-LOCATION;VALUE=URI;X-ADDRESS=Gillson Beach 800 Gillson Park Drive Wilmette IL 60091 United States;X-APPLE-RADIUS=500;X-TITLE=800 Gillson Park Drive:geo:-87.6887941,42.0804297
END:VEVENT
BEGIN:VEVENT
DTSTART;TZID=America/Chicago:20181009T160000
DTEND;TZID=America/Chicago:20181009T180000
DTSTAMP:20260423T225046
CREATED:20170901T114454Z
LAST-MODIFIED:20181010T004549Z
UID:10000820-1539100800-1539108000@www.racetime.info
SUMMARY:Indian Trail PAW PAC Cross Country Meet
DESCRIPTION:Paw Pac 6th Grade Girls Overall Results\n\nPaw Pac 6th Grade Girls Team Results\n\nPaw Pac 6th Grade Boys Overall Results\n\nPaw Pac 6th Grade Boys Team Results\n\nPaw Pac 7th Grade Boys Overall Results\n\nPaw Pac 7th Grade Boys Team Results\n\nPaw Pac 7th Grade Girls Overall Results\n\nPaw Pac 7th Grade Girls Team Results\n\nPaw Pac 8th Grade Boys Overall Results\n\nPaw Pac 8th Grade Boys Team Results\n\nPaw Pac 8th Grade Girls Overall Results\n\nPaw Pac 8th Grade Girls Team Results
URL:https://www.racetime.info/event/indian-trail-paw-pac-cross-country-meet/
LOCATION:Plainfield Central High School\, 24120 W. Fort Breggs Drive\, Plainfield\, IL\, 60544\, United States
CATEGORIES:2018 Cross Country Results
ORGANIZER;CN="Amy Bishop":MAILTO:abishop@psd202.org
GEO:41.6028485;-88.2074366
X-APPLE-STRUCTURED-LOCATION;VALUE=URI;X-ADDRESS=Plainfield Central High School 24120 W. Fort Breggs Drive Plainfield IL 60544 United States;X-APPLE-RADIUS=500;X-TITLE=24120 W. Fort Breggs Drive:geo:-88.2074366,41.6028485
END:VEVENT
BEGIN:VEVENT
DTSTART;TZID=America/Chicago:20181006T100000
DTEND;TZID=America/Chicago:20181006T130000
DTSTAMP:20260423T225046
CREATED:20170830T120940Z
LAST-MODIFIED:20181007T183649Z
UID:10000805-1538820000-1538830800@www.racetime.info
SUMMARY:Prairie Central Cross Country Invite
DESCRIPTION:Meet cancelled due to flooding.
URL:https://www.racetime.info/event/prairie-central-cross-country-invite-2/
LOCATION:Indian Creek Golf Course\, 7429 N 2200 E Road\, Fairbury\, IL\, 61739\, United States
CATEGORIES:2018 Cross Country Results
ORGANIZER;CN="Scott McGuire":MAILTO:srmcguire@prairiecentral.org
GEO:40.7341621;-88.5065473
X-APPLE-STRUCTURED-LOCATION;VALUE=URI;X-ADDRESS=Indian Creek Golf Course 7429 N 2200 E Road Fairbury IL 61739 United States;X-APPLE-RADIUS=500;X-TITLE=7429 N 2200 E Road:geo:-88.5065473,40.7341621
END:VEVENT
BEGIN:VEVENT
DTSTART;TZID=America/Chicago:20181006T094500
DTEND;TZID=America/Chicago:20181006T123000
DTSTAMP:20260423T225046
CREATED:20170530T132928Z
LAST-MODIFIED:20181006T174149Z
UID:10001424-1538819100-1538829000@www.racetime.info
SUMMARY:The Colonel Madden Cross-Town Cross Country Race
DESCRIPTION:Colonel Madden Cross Town Meet Boys Overall Results\n\nColonel Madden Cross Town Meet Boys Team Results\n\nColonel Madden Cross Town Meet Girls Overall Results\n\nColonel Madden Cross Town Meet Girls Team Results
URL:https://www.racetime.info/event/the-colonel-madden-cross-town-mad-dash-3-mile-cross-country-style-race-3/
LOCATION:Oak Forest High School\, 15201 S. Central Avenue\, Oak Forest\, IL\, United States
CATEGORIES:2018 Cross Country Results
ORGANIZER;CN="Scott Priestman":MAILTO:spriestman@bhsd228.com
GEO:41.6158151;-87.7538819
X-APPLE-STRUCTURED-LOCATION;VALUE=URI;X-ADDRESS=Oak Forest High School 15201 S. Central Avenue Oak Forest IL United States;X-APPLE-RADIUS=500;X-TITLE=15201 S. Central Avenue:geo:-87.7538819,41.6158151
END:VEVENT
BEGIN:VEVENT
DTSTART;TZID=America/Chicago:20181006T090000
DTEND;TZID=America/Chicago:20181006T110000
DTSTAMP:20260423T225046
CREATED:20180912T122930Z
LAST-MODIFIED:20181006T174557Z
UID:10001024-1538816400-1538823600@www.racetime.info
SUMMARY:WE GO Cross Country Meet
DESCRIPTION:WE GO Human Race Girls Varsity Overall Results\n\nWE GO Human Race Girls Varsity Team Results\n\nWE GO Human Race Boys Varsity Overall Results\n\nWE GO Human Race Boys Varsity Team Results\n\nWE GO Human Race Girls and Boys Open Overall Results\n\nWE GO Human Race Girls Open Team Results\n\nWE GO Human Race Boys Open Team Results
URL:https://www.racetime.info/event/we-go-cross-country-meet/
LOCATION:Kress Creek Farm\, 30W150 Wilson Road\, West Chicago\, IL\, 60185\, United States
CATEGORIES:2018 Cross Country Results
ORGANIZER;CN="Dave Saynor":MAILTO:dsaynor@d94.org
GEO:41.856453;-88.2043276
X-APPLE-STRUCTURED-LOCATION;VALUE=URI;X-ADDRESS=Kress Creek Farm 30W150 Wilson Road West Chicago IL 60185 United States;X-APPLE-RADIUS=500;X-TITLE=30W150 Wilson Road:geo:-88.2043276,41.856453
END:VEVENT
BEGIN:VEVENT
DTSTART;TZID=America/Chicago:20180929T090000
DTEND;TZID=America/Chicago:20180929T120000
DTSTAMP:20260423T225046
CREATED:20170829T183103Z
LAST-MODIFIED:20180929T204829Z
UID:10001599-1538211600-1538222400@www.racetime.info
SUMMARY:Channahon XC Invite
DESCRIPTION:Channahon 6th Grade Girls Overall\n\nChannahon 6th Grade Girls Team\n\nChannahon 6th Grade Boys Overall\n\nChannahon 6th Grade Boys Team\n\nChannahon Varsity Girls Overall\n\nChannahon Varsity Girls Team\n\nChannahon Varsity Boys Overall\n\nChannahon Varsity Boys Team\n\nChannahon Co-Ed Girls Overall\n\nChannahon Co-Ed Girls Team\n\nChannahon Co-Ed Boys Overall\n\nChannahon Co-Ed Boys Team
URL:https://www.racetime.info/event/channahon-xc-invite-2/
LOCATION:Channahon Community Park\, 23200 W. McClintock Road\, Channahon\, IL\, 60410\, United States
CATEGORIES:2018 Cross Country Results
ORGANIZER;CN="Geri Pieczynski":MAILTO:gpieczynski@csd17.org
GEO:41.4726537;-88.1767734
X-APPLE-STRUCTURED-LOCATION;VALUE=URI;X-ADDRESS=Channahon Community Park 23200 W. McClintock Road Channahon IL 60410 United States;X-APPLE-RADIUS=500;X-TITLE=23200 W. McClintock Road:geo:-88.1767734,41.4726537
END:VEVENT
BEGIN:VEVENT
DTSTART;TZID=America/Chicago:20180927T160000
DTEND;TZID=America/Chicago:20180927T180000
DTSTAMP:20260423T225046
CREATED:20170803T114316Z
LAST-MODIFIED:20180928T004126Z
UID:10001570-1538064000-1538071200@www.racetime.info
SUMMARY:Joe Motimer Frosh-Soph Cross Country Meet
DESCRIPTION:Joe Mortimer Freshman Boys Overall Results\n\nJoe Mortimer Freshman Boys Team Results\n\nJoe Mortimer Sophomore Boys Overall Results\n\nJoe Mortimer Sophomore Boys Team Results
URL:https://www.racetime.info/event/joe-motimer-frosh-soph-cross-country-meet/
LOCATION:Turtlehead Lake Forest Preserve\, 13600 South Harlem Avenue\, Orland Park\, IL\, 60462\, United States
CATEGORIES:2018 Cross Country Results
ORGANIZER;CN="Kevin McKeown":MAILTO:kmckeown@d230.org
GEO:41.6439653;-87.7961671
X-APPLE-STRUCTURED-LOCATION;VALUE=URI;X-ADDRESS=Turtlehead Lake Forest Preserve 13600 South Harlem Avenue Orland Park IL 60462 United States;X-APPLE-RADIUS=500;X-TITLE=13600 South Harlem Avenue:geo:-87.7961671,41.6439653
END:VEVENT
BEGIN:VEVENT
DTSTART;TZID=America/Chicago:20180927T160000
DTEND;TZID=America/Chicago:20180927T173000
DTSTAMP:20260423T225046
CREATED:20170713T234541Z
LAST-MODIFIED:20180928T052058Z
UID:10001523-1538064000-1538069400@www.racetime.info
SUMMARY:LMS XC Meet
DESCRIPTION:Leman Sept 27 6 & 7 Grade Girls Overall Results\n\nSept 27 6 & 7 Grade Girls Team Results\n\nLeman Sept 27 6 & 7 Grade Boys Overall\n\nLeman Sept 27 6 & 7 Grade Boys Team Results\n\nLeman Sept 27 8 Grade Girls Overall Results\n\nLeman Sept 27 8 Grade Girls Team Results\n\ntarget=”_blank”Leman Sept 27 8 Grade Boys Overall Results\n\nLeman Sept 27 8 Grade Boys Team Results
URL:https://www.racetime.info/event/lms-xc-meet-9/
LOCATION:Leman Middle School\, 238 East Hazel Street\, West Chicago\, IL\, 60185\, United States
CATEGORIES:2018 Cross Country Results
ORGANIZER;CN="Amy Wagner":MAILTO:wagnera@wego33.org
GEO:41.8738296;-88.2023204
X-APPLE-STRUCTURED-LOCATION;VALUE=URI;X-ADDRESS=Leman Middle School 238 East Hazel Street West Chicago IL 60185 United States;X-APPLE-RADIUS=500;X-TITLE=238 East Hazel Street:geo:-88.2023204,41.8738296
END:VEVENT
BEGIN:VEVENT
DTSTART;TZID=America/Chicago:20180925T160000
DTEND;TZID=America/Chicago:20180925T173000
DTSTAMP:20260423T225046
CREATED:20170713T234541Z
LAST-MODIFIED:20180926T025554Z
UID:10001522-1537891200-1537896600@www.racetime.info
SUMMARY:LMS XC Meet
DESCRIPTION:Leman Sept 25 6 & 7 Grade Girls Overall Results\n\nLeman Sept 25 6 & 7 Grade Girls Team Results\n\nLeman Sept 25 6 & 7 Grade Boys Overall Results\n\nLeman Sept 25 6 & 7 Grade Boys Overall Results
URL:https://www.racetime.info/event/copy-of-lms-xc-meet-2/
LOCATION:Leman Middle School\, 238 East Hazel Street\, West Chicago\, IL\, 60185\, United States
CATEGORIES:2018 Cross Country Results
ORGANIZER;CN="Amy Wagner":MAILTO:wagnera@wego33.org
GEO:41.8738296;-88.2023204
X-APPLE-STRUCTURED-LOCATION;VALUE=URI;X-ADDRESS=Leman Middle School 238 East Hazel Street West Chicago IL 60185 United States;X-APPLE-RADIUS=500;X-TITLE=238 East Hazel Street:geo:-88.2023204,41.8738296
END:VEVENT
BEGIN:VEVENT
DTSTART;TZID=America/Chicago:20180918T160000
DTEND;TZID=America/Chicago:20180918T173000
DTSTAMP:20260423T225046
CREATED:20170713T234541Z
LAST-MODIFIED:20180919T013959Z
UID:10000705-1537286400-1537291800@www.racetime.info
SUMMARY:LMS XC Meet
DESCRIPTION:Leman Sept 18 Girls Overall Results\n\nLeman Sept 18 Girls Team Results\n\nLeman Sept 18 Boys Overall Results\n\nLeman Sept 18 Boys Team Results
URL:https://www.racetime.info/event/lms-xc-meet-7/
LOCATION:Leman Middle School\, 238 East Hazel Street\, West Chicago\, IL\, 60185\, United States
CATEGORIES:2018 Cross Country Results
ORGANIZER;CN="Amy Wagner":MAILTO:wagnera@wego33.org
GEO:41.8738296;-88.2023204
X-APPLE-STRUCTURED-LOCATION;VALUE=URI;X-ADDRESS=Leman Middle School 238 East Hazel Street West Chicago IL 60185 United States;X-APPLE-RADIUS=500;X-TITLE=238 East Hazel Street:geo:-88.2023204,41.8738296
END:VEVENT
BEGIN:VEVENT
DTSTART;TZID=America/Chicago:20180917T163000
DTEND;TZID=America/Chicago:20180917T180000
DTSTAMP:20260423T225046
CREATED:20170726T120502Z
LAST-MODIFIED:20180918T005736Z
UID:10000740-1537201800-1537207200@www.racetime.info
SUMMARY:York Fresh/Soph Cross Country Meet
DESCRIPTION:York Freshman Boys Overall Finish\n\nYork Freshman Boys Team Finish\n\nYork Sophomore Boys Overall Finish\n\nYork Sophomore Boys Team Finish\n\nYork Open Boys Overall Results\n\nYork Open Boys Team Results
URL:https://www.racetime.info/event/york-fresh-soph-cross-country-meet/
LOCATION:Berens Park\, Armitage and Oak Lawn\, Elmhurst\, IL\, 60126\, United States
CATEGORIES:2018 Cross Country Results
ORGANIZER;CN="Rob Wagner":MAILTO:rwagner@elmhurst205.org
GEO:41.9131818;-87.9578911
X-APPLE-STRUCTURED-LOCATION;VALUE=URI;X-ADDRESS=Berens Park Armitage and Oak Lawn Elmhurst IL 60126 United States;X-APPLE-RADIUS=500;X-TITLE=Armitage and Oak Lawn:geo:-87.9578911,41.9131818
END:VEVENT
BEGIN:VEVENT
DTSTART;TZID=America/Chicago:20180915T100000
DTEND;TZID=America/Chicago:20180915T123000
DTSTAMP:20260423T225046
CREATED:20180830T184329Z
LAST-MODIFIED:20180915T192223Z
UID:10001832-1537005600-1537014600@www.racetime.info
SUMMARY:Meteor Invitational
DESCRIPTION:Meteor Invite FS Girls Overall Results\n\nMeteor Invite FS Girls Team Results\n\nMeteor Invite FS Boys Overall Results\n\nMeteor Invite FS Boys Team Results\n\nMeteor Invite Varsity Girls Overall Results\n\nMeteor Invite Varsity Girls Team Results\n\nMeteor Invite Varsity Boys Overall Results\n\nMeteor Invite Varsity Boys Team Results
URL:https://www.racetime.info/event/meteor-invitational/
LOCATION:Riverfront Park\, 1907 E. 166th Place\, South Holland\, IL\, 60473\, United States
CATEGORIES:2018 Cross Country Results
GEO:41.5920983;-87.5709062
X-APPLE-STRUCTURED-LOCATION;VALUE=URI;X-ADDRESS=Riverfront Park 1907 E. 166th Place South Holland IL 60473 United States;X-APPLE-RADIUS=500;X-TITLE=1907 E. 166th Place:geo:-87.5709062,41.5920983
END:VEVENT
BEGIN:VEVENT
DTSTART;TZID=America/Chicago:20180913T160000
DTEND;TZID=America/Chicago:20180913T173000
DTSTAMP:20260423T225046
CREATED:20170713T234541Z
LAST-MODIFIED:20180914T031254Z
UID:10000707-1536854400-1536859800@www.racetime.info
SUMMARY:LMS XC Meet
DESCRIPTION:Leman Sept 13 6 & 7 Grade Boys Overall Results\n\nLeman Sept 13 6 & 7 Grade Boys Team Results\n\nLeman Sept 13 6 & 7 Grade Girls Overall Results\n\nLeman Sept 13 6 & 7 Grade Girls Team Results\n\nLeman Sept 13 8th Grade Boys Overall Results\n\nLeman Sept 13 8th Grade Boys Team Results\n\nLeman Sept 13 8th Grade Girls Overall Results\n\nLeman Sept 13 8th Grade Girls Team Results
URL:https://www.racetime.info/event/copy-of-lms-xc-meet/
LOCATION:Leman Middle School\, 238 East Hazel Street\, West Chicago\, IL\, 60185\, United States
CATEGORIES:2018 Cross Country Results
ORGANIZER;CN="Amy Wagner":MAILTO:wagnera@wego33.org
GEO:41.8738296;-88.2023204
X-APPLE-STRUCTURED-LOCATION;VALUE=URI;X-ADDRESS=Leman Middle School 238 East Hazel Street West Chicago IL 60185 United States;X-APPLE-RADIUS=500;X-TITLE=238 East Hazel Street:geo:-88.2023204,41.8738296
END:VEVENT
BEGIN:VEVENT
DTSTART;TZID=America/Chicago:20180908T090000
DTEND;TZID=America/Chicago:20180908T110000
DTSTAMP:20260423T225046
CREATED:20170726T112224Z
LAST-MODIFIED:20180908T180018Z
UID:10001556-1536397200-1536404400@www.racetime.info
SUMMARY:ICCP Knights Invite Cross Country Meet
DESCRIPTION:Knights Invite Girls Varsity Overall Results\n\nKnights Invite Girls Varsity Team Results\n\nKnights Invite Boys Varsity Overall Results\n\nKnights Invite Boys Varsity Team Results\n\nKnights Invite Girls Open Overall Results\n\nKnights Invite Girls Open Team Results\n\nKnights Invite Boys Open Overall Results\nKnights Invite Boys Open Team Results
URL:https://www.racetime.info/event/iccp-knights-invite-cross-country-meet/
LOCATION:IL
CATEGORIES:2018 Cross Country Results
ORGANIZER;CN="Frank DeAngelis":MAILTO:fdeangelis@iccatholicprep.org
END:VEVENT
BEGIN:VEVENT
DTSTART;TZID=America/Chicago:20180905T163000
DTEND;TZID=America/Chicago:20180905T180000
DTSTAMP:20260423T225046
CREATED:20170829T180311Z
LAST-MODIFIED:20180907T004117Z
UID:10001594-1536165000-1536170400@www.racetime.info
SUMMARY:St. Viator's Artman Invite Cross Country Meet
DESCRIPTION:Artman Invite FS Girls Overall Results\n\nArtman Invite FS Girls Team Results\n\nArtman Invite FS Boys Overall Results\n\nArtman Invite FS Boys Team Results\n\nArtman Invite Varsity Girls Overall Results\n\nArtman Invite Varsity Girls Team Results\n\nArtman Invite Varsity Boys Overall Results\n\nArtman Invite Varsity Boys Team Results
URL:https://www.racetime.info/event/st-viators-artman-invite-cross-country-meet-2/
LOCATION:Melas Park\, 1500 W. Central Road\, Mount Prospect\, IL\, 60056\, United States
CATEGORIES:2018 Cross Country Results
ORGANIZER;CN="Maggie Haskins":MAILTO:mwiener@saintviator.com
GEO:42.066494;-87.9646978
X-APPLE-STRUCTURED-LOCATION;VALUE=URI;X-ADDRESS=Melas Park 1500 W. Central Road Mount Prospect IL 60056 United States;X-APPLE-RADIUS=500;X-TITLE=1500 W. Central Road:geo:-87.9646978,42.066494
END:VEVENT
END:VCALENDAR