BEGIN:VCALENDAR
VERSION:2.0
PRODID:-//Race Time - ECPv6.15.13//NONSGML v1.0//EN
CALSCALE:GREGORIAN
METHOD:PUBLISH
X-WR-CALNAME:Race Time
X-ORIGINAL-URL:https://www.racetime.info
X-WR-CALDESC:Events for Race Time
REFRESH-INTERVAL;VALUE=DURATION:PT1H
X-Robots-Tag:noindex
X-PUBLISHED-TTL:PT1H
BEGIN:VTIMEZONE
TZID:America/Chicago
BEGIN:DAYLIGHT
TZOFFSETFROM:-0600
TZOFFSETTO:-0500
TZNAME:CDT
DTSTART:20180311T080000
END:DAYLIGHT
BEGIN:STANDARD
TZOFFSETFROM:-0500
TZOFFSETTO:-0600
TZNAME:CST
DTSTART:20181104T070000
END:STANDARD
BEGIN:DAYLIGHT
TZOFFSETFROM:-0600
TZOFFSETTO:-0500
TZNAME:CDT
DTSTART:20190310T080000
END:DAYLIGHT
BEGIN:STANDARD
TZOFFSETFROM:-0500
TZOFFSETTO:-0600
TZNAME:CST
DTSTART:20191103T070000
END:STANDARD
BEGIN:DAYLIGHT
TZOFFSETFROM:-0600
TZOFFSETTO:-0500
TZNAME:CDT
DTSTART:20200308T080000
END:DAYLIGHT
BEGIN:STANDARD
TZOFFSETFROM:-0500
TZOFFSETTO:-0600
TZNAME:CST
DTSTART:20201101T070000
END:STANDARD
END:VTIMEZONE
BEGIN:VEVENT
DTSTART;TZID=America/Chicago:20190224T110000
DTEND;TZID=America/Chicago:20190224T130000
DTSTAMP:20260423T225542
CREATED:20160122T122907Z
LAST-MODIFIED:20190224T203038Z
UID:10000504-1551006000-1551013200@www.racetime.info
SUMMARY:Frosty Footrace 5K Run/Walk
DESCRIPTION:Frosty Footrace 5k Age Groups Results\n\nFrosty Footrace 5K Overall Results
URL:https://www.racetime.info/event/frosty-footrace-5k-run-walk-2/
LOCATION:Round Lake Area Park District\, 2004 N. Municipal Wy\, Round Lake Beach\, IL\, 60073\, United States
CATEGORIES:2019-02 Results (February)
ORGANIZER;CN="Jessica Jeffery":MAILTO:jessica_jeffery-findley@rlapd.org
GEO:42.3843311;-88.0721672
X-APPLE-STRUCTURED-LOCATION;VALUE=URI;X-ADDRESS=Round Lake Area Park District 2004 N. Municipal Wy Round Lake Beach IL 60073 United States;X-APPLE-RADIUS=500;X-TITLE=2004 N. Municipal Wy:geo:-88.0721672,42.3843311
END:VEVENT
BEGIN:VEVENT
DTSTART;TZID=America/Chicago:20190216T100000
DTEND;TZID=America/Chicago:20190216T120000
DTSTAMP:20260423T225542
CREATED:20190201T124011Z
LAST-MODIFIED:20190217T142504Z
UID:10001848-1550311200-1550318400@www.racetime.info
SUMMARY:Fox Valley Winter Challenge Trail Series Race #2 8K
DESCRIPTION:Fox Valley Winter Challenge 8K Overall by Gender\n\nFox Valley Winter Challenge 8K Overall Results
URL:https://www.racetime.info/event/fox-valley-winter-challente-trail-series-race-2-8k/
LOCATION:Oakhurst Forest Preserve\, 1680 Fifth Avenue\, Aurora\, IL\, 60504\, United States
CATEGORIES:2019-02 Results (February)
ORGANIZER;CN="Chief Trail Runner":MAILTO:racedirector@runandachieve.com
END:VEVENT
BEGIN:VEVENT
DTSTART;TZID=America/Chicago:20190216T090000
DTEND;TZID=America/Chicago:20190216T120000
DTSTAMP:20260423T225542
CREATED:20180116T003745Z
LAST-MODIFIED:20190216T193449Z
UID:10001710-1550307600-1550318400@www.racetime.info
SUMMARY:Galena Classic Sasquatch Shuffle - Snowshoe 2K & 5K
DESCRIPTION:Sasquatch Shuffle 2K\n\nSasquatch Shuffle 5K
URL:https://www.racetime.info/event/galena-classic-sasquatch-shuffle-snowshoe-2k-5k-2/
LOCATION:Eagle Ridge Resort & Spa\, 444 Eagle Ridge Drive\, Galena\, IL\, 61036\, United States
CATEGORIES:2019-02 Results (February)
ORGANIZER;CN="Kolbe Holdren":MAILTO:kholdren@eagleridge.com
GEO:42.4054927;-90.338314
X-APPLE-STRUCTURED-LOCATION;VALUE=URI;X-ADDRESS=Eagle Ridge Resort & Spa 444 Eagle Ridge Drive Galena IL 61036 United States;X-APPLE-RADIUS=500;X-TITLE=444 Eagle Ridge Drive:geo:-90.338314,42.4054927
END:VEVENT
END:VCALENDAR