BEGIN:VCALENDAR
VERSION:2.0
PRODID:-//Race Time - ECPv6.15.13//NONSGML v1.0//EN
CALSCALE:GREGORIAN
METHOD:PUBLISH
X-ORIGINAL-URL:https://www.racetime.info
X-WR-CALDESC:Events for Race Time
REFRESH-INTERVAL;VALUE=DURATION:PT1H
X-Robots-Tag:noindex
X-PUBLISHED-TTL:PT1H
BEGIN:VTIMEZONE
TZID:America/Chicago
BEGIN:DAYLIGHT
TZOFFSETFROM:-0600
TZOFFSETTO:-0500
TZNAME:CDT
DTSTART:20180311T080000
END:DAYLIGHT
BEGIN:STANDARD
TZOFFSETFROM:-0500
TZOFFSETTO:-0600
TZNAME:CST
DTSTART:20181104T070000
END:STANDARD
BEGIN:DAYLIGHT
TZOFFSETFROM:-0600
TZOFFSETTO:-0500
TZNAME:CDT
DTSTART:20190310T080000
END:DAYLIGHT
BEGIN:STANDARD
TZOFFSETFROM:-0500
TZOFFSETTO:-0600
TZNAME:CST
DTSTART:20191103T070000
END:STANDARD
BEGIN:DAYLIGHT
TZOFFSETFROM:-0600
TZOFFSETTO:-0500
TZNAME:CDT
DTSTART:20200308T080000
END:DAYLIGHT
BEGIN:STANDARD
TZOFFSETFROM:-0500
TZOFFSETTO:-0600
TZNAME:CST
DTSTART:20201101T070000
END:STANDARD
END:VTIMEZONE
BEGIN:VEVENT
DTSTART;TZID=America/Chicago:20190428T093000
DTEND;TZID=America/Chicago:20190428T110000
DTSTAMP:20260423T224852
CREATED:20180501T143132Z
LAST-MODIFIED:20190428T174402Z
UID:10001773-1556443800-1556449200@www.racetime.info
SUMMARY:Helen Keller 5K Run/Walk
DESCRIPTION:Helen Keller 5K Age Group Results
URL:https://www.racetime.info/event/helen-keller-5k-run-walk/
LOCATION:Richards High School\, 10601 Central Avenue\, Oak Lawn\, IL\, 60453\, United States
CATEGORIES:2019-04 Results (April)
ORGANIZER;CN="Chris Coleman":MAILTO:coleman5726@comcast.net
GEO:41.6990522;-87.7577097
X-APPLE-STRUCTURED-LOCATION;VALUE=URI;X-ADDRESS=Richards High School 10601 Central Avenue Oak Lawn IL 60453 United States;X-APPLE-RADIUS=500;X-TITLE=10601 Central Avenue:geo:-87.7577097,41.6990522
END:VEVENT
BEGIN:VEVENT
DTSTART;TZID=America/Chicago:20190428T080000
DTEND;TZID=America/Chicago:20190428T100000
DTSTAMP:20260423T224852
CREATED:20170315T124602Z
LAST-MODIFIED:20190428T153105Z
UID:10001155-1556438400-1556445600@www.racetime.info
SUMMARY:LTHS Foundation 5K Run/Walk
DESCRIPTION:LTHS Foundation 5K Age Group Results\n\nLTHS Foundation 5K Overall Results
URL:https://www.racetime.info/event/lths-foundation-5k-run-walk-2/
LOCATION:Lockport Township High School East Campus\, 1333 East 7th Street\, Lockport\, IL\, 60441\, United States
CATEGORIES:2019-04 Results (April)
ORGANIZER;CN="Janine Wheeler":MAILTO:jwheeler@lths.org
GEO:41.5891184;-88.0297251
X-APPLE-STRUCTURED-LOCATION;VALUE=URI;X-ADDRESS=Lockport Township High School East Campus 1333 East 7th Street Lockport IL 60441 United States;X-APPLE-RADIUS=500;X-TITLE=1333 East 7th Street:geo:-88.0297251,41.5891184
END:VEVENT
BEGIN:VEVENT
DTSTART;TZID=America/Chicago:20190427T090000
DTEND;TZID=America/Chicago:20190427T113000
DTSTAMP:20260423T224852
CREATED:20181215T145848Z
LAST-MODIFIED:20190427T182434Z
UID:10001011-1556355600-1556364600@www.racetime.info
SUMMARY:Spring Into Health 5K Run/Walk
DESCRIPTION:Spring Into Health 5K Age Group Results\n\nSpring Into Health 5K Overall Results
URL:https://www.racetime.info/event/spring-into-health-5k-run-walk/
LOCATION:Busse Woods Grove 24\, Elk Grove Village\, IL\, 60007\, United States
CATEGORIES:2019-04 Results (April)
ORGANIZER;CN="Judi Bryan":MAILTO:judi@pbnm.org
GEO:42.0039178;-87.9703461
END:VEVENT
BEGIN:VEVENT
DTSTART;TZID=America/Chicago:20190427T090000
DTEND;TZID=America/Chicago:20190427T110000
DTSTAMP:20260423T224852
CREATED:20170222T130519Z
LAST-MODIFIED:20190427T182219Z
UID:10000433-1556355600-1556362800@www.racetime.info
SUMMARY:Shelter 5K Run/Walk 4 Kidz
DESCRIPTION:Run4Kidz 5K Age Group Results\n\nRun4Kidz 5K Overall Results\n\nRun4Kidz 5K Team Results
URL:https://www.racetime.info/event/shelter-5k-run-walk-4-kidz-2/
LOCATION:Busse Woods\, Groves 5-16\, Higgins Road & S. Arlington Heights Rd\, Elk Grove Village\, IL\, 60007\, United States
CATEGORIES:2019-04 Results (April)
ORGANIZER;CN="Barb Mazursky":MAILTO:bmazursky@shelter-inc.org
GEO:42.0126908;-87.9982495
X-APPLE-STRUCTURED-LOCATION;VALUE=URI;X-ADDRESS=Busse Woods Groves 5-16 Higgins Road & S. Arlington Heights Rd Elk Grove Village IL 60007 United States;X-APPLE-RADIUS=500;X-TITLE=Higgins Road & S. Arlington Heights Rd:geo:-87.9982495,42.0126908
END:VEVENT
BEGIN:VEVENT
DTSTART;TZID=America/Chicago:20190427T090000
DTEND;TZID=America/Chicago:20190427T110000
DTSTAMP:20260423T224852
CREATED:20170209T125640Z
LAST-MODIFIED:20190427T182043Z
UID:10001008-1556355600-1556362800@www.racetime.info
SUMMARY:The Germazing Race 5K Run/Walk & Kids' Dash
DESCRIPTION:Germazing Race 5K Age Group Results\n\nGermazing Race 5K Overall Results
URL:https://www.racetime.info/event/the-germazing-race-5k-run-walk-kids-dash/
LOCATION:St. Germaine Parish\, 9711 S. Kolin\, Oak Lawn\, IL\, 60453\, United States
CATEGORIES:2019-04 Results (April)
ORGANIZER;CN="Jodie O'Shea":MAILTO:germazingrace@hotmail.com
GEO:41.7151965;-87.7292777
X-APPLE-STRUCTURED-LOCATION;VALUE=URI;X-ADDRESS=St. Germaine Parish 9711 S. Kolin Oak Lawn IL 60453 United States;X-APPLE-RADIUS=500;X-TITLE=9711 S. Kolin:geo:-87.7292777,41.7151965
END:VEVENT
BEGIN:VEVENT
DTSTART;TZID=America/Chicago:20190427T090000
DTEND;TZID=America/Chicago:20190427T110000
DTSTAMP:20260423T224852
CREATED:20170109T132139Z
LAST-MODIFIED:20190427T181921Z
UID:10000357-1556355600-1556362800@www.racetime.info
SUMMARY:The Superhero Sprint 5K Run/Walk
DESCRIPTION:Superhero Sprint 5K Age Group Results\n\nSuperhero Sprint 5K Overall Results\n\nSuperhero Sprint Team Results
URL:https://www.racetime.info/event/the-superhero-sprint-5k-run-walk-2/
LOCATION:Belvidere Park\, 1008 W. Lincoln Avenue\, Belvidere\, IL\, 61008\, United States
CATEGORIES:2019-04 Results (April)
ORGANIZER;CN="Jamie Dornink":MAILTO:info@superherocenterforautism.org
GEO:42.2574454;-88.8597714
X-APPLE-STRUCTURED-LOCATION;VALUE=URI;X-ADDRESS=Belvidere Park 1008 W. Lincoln Avenue Belvidere IL 61008 United States;X-APPLE-RADIUS=500;X-TITLE=1008 W. Lincoln Avenue:geo:-88.8597714,42.2574454
END:VEVENT
BEGIN:VEVENT
DTSTART;TZID=America/Chicago:20190427T083000
DTEND;TZID=America/Chicago:20190427T103000
DTSTAMP:20260423T224852
CREATED:20190203T134305Z
LAST-MODIFIED:20190427T194141Z
UID:10001851-1556353800-1556361000@www.racetime.info
SUMMARY:Frog Hop 5K Run/Walk
DESCRIPTION:Frog Hop Five 5K Age Group Results\n\nFrog Hop Five 5K Overall Results
URL:https://www.racetime.info/event/frog-hop-5k-run-walk/
LOCATION:Foster Park\, South Benton St & East Jasper Street\, Goodland\, IN\, 47948\, United States
CATEGORIES:2019-04 Results (April)
ORGANIZER;CN="Diane Costello":MAILTO:d-n-costello@sbcglobal.net
END:VEVENT
BEGIN:VEVENT
DTSTART;TZID=America/Chicago:20190427T083000
DTEND;TZID=America/Chicago:20190427T100000
DTSTAMP:20260423T224852
CREATED:20170420T050023Z
LAST-MODIFIED:20190427T181739Z
UID:10000542-1556353800-1556359200@www.racetime.info
SUMMARY:Run For Rett 5K & 1 Mile Run/Walk
DESCRIPTION:Run For Rett 5K Age Group Results\n\nRun For Rett 5K Overall Results\n\nRun For Rett 1 Mile Overall Results
URL:https://www.racetime.info/event/run-for-rett-5k-1-mile-run-walk-2/
LOCATION:Busse Woods South\, Grove 20\, S. Arlington Heights Rd\, Elk Grove\, IL\, 60004\, United States
CATEGORIES:2019-04 Results (April)
ORGANIZER;CN="Diane Ross":MAILTO:diross62@aol.com
GEO:42.0126908;-87.9982495
X-APPLE-STRUCTURED-LOCATION;VALUE=URI;X-ADDRESS=Busse Woods South Grove 20 S. Arlington Heights Rd Elk Grove IL 60004 United States;X-APPLE-RADIUS=500;X-TITLE=S. Arlington Heights Rd:geo:-87.9982495,42.0126908
END:VEVENT
BEGIN:VEVENT
DTSTART;TZID=America/Chicago:20190420T090000
DTEND;TZID=America/Chicago:20190420T100000
DTSTAMP:20260423T224852
CREATED:20190324T135341Z
LAST-MODIFIED:20190422T105017Z
UID:10001876-1555750800-1555754400@www.racetime.info
SUMMARY:Wauconda Bunny Hop 4 Mile Run and 2 Mile Fun Run/Walk
DESCRIPTION:Wauconda Bunny Hop 4 Mile Age Group Results\n\nWauconda Bunny Hop 4 Mile Overall Results
URL:https://www.racetime.info/event/wauconda-bunny-hop-4-mile-run-and-2-mile-fun-run-walk/
LOCATION:Wauconda Park District\, 600 North Main Street\, Wauconda\, IL\, 60084\, United States
CATEGORIES:2019-04 Results (April)
ORGANIZER;CN="Trista Iodice":MAILTO:trista.iodice@procomps.com
END:VEVENT
BEGIN:VEVENT
DTSTART;TZID=America/Chicago:20190414T090000
DTEND;TZID=America/Chicago:20190414T110000
DTSTAMP:20260423T224852
CREATED:20180208T211456Z
LAST-MODIFIED:20190414T171334Z
UID:10001739-1555232400-1555239600@www.racetime.info
SUMMARY:Young Hearts For Life 5K Run/Walk
DESCRIPTION:Young Hearts For Life 5K Age Group Results\n\nYoung Hearts For Life 5K Overall Results
URL:https://www.racetime.info/event/copy-of-young-hearts-for-life-5k-run-walk/
LOCATION:Benedictine University\, 5700 College Road\, Lisle\, IL\, 60532\, United States
CATEGORIES:2019-04 Results (April)
ORGANIZER;CN="Kathy Marek":MAILTO:yh4ljuniorboard@gmail.com
GEO:41.7788628;-88.0948979
X-APPLE-STRUCTURED-LOCATION;VALUE=URI;X-ADDRESS=Benedictine University 5700 College Road Lisle IL 60532 United States;X-APPLE-RADIUS=500;X-TITLE=5700 College Road:geo:-88.0948979,41.7788628
END:VEVENT
BEGIN:VEVENT
DTSTART;TZID=America/Chicago:20190414T080000
DTEND;TZID=America/Chicago:20190414T103000
DTSTAMP:20260423T224852
CREATED:20180215T032841Z
LAST-MODIFIED:20190414T192035Z
UID:10000911-1555228800-1555237800@www.racetime.info
SUMMARY:DuPage March for Babies 5K Run/Walk
DESCRIPTION:March For Babies 5K Age Group Results\n\nMarch For Babies 5K Overall Results
URL:https://www.racetime.info/event/dupage-march-for-babies-5k-run-walk-2/
LOCATION:Community Park of Lisle\, 1800 Short Street\, Lisle\, IL\, 60532\, United States
CATEGORIES:2019-04 Results (April)
ORGANIZER;CN="Allie Ziolka":MAILTO:aziolko@marchforbabies.org
GEO:41.7930628;-88.0835999
X-APPLE-STRUCTURED-LOCATION;VALUE=URI;X-ADDRESS=Community Park of Lisle 1800 Short Street Lisle IL 60532 United States;X-APPLE-RADIUS=500;X-TITLE=1800 Short Street:geo:-88.0835999,41.7930628
END:VEVENT
BEGIN:VEVENT
DTSTART;TZID=America/Chicago:20190413T160000
DTEND;TZID=America/Chicago:20190413T190000
DTSTAMP:20260423T224852
CREATED:20170214T192039Z
LAST-MODIFIED:20190416T003920Z
UID:10000404-1555171200-1555182000@www.racetime.info
SUMMARY:Saw Wee Kee Spring Trail Run 5K
DESCRIPTION:Saw Wee Kee Trail 5K Overall Results
URL:https://www.racetime.info/event/saw-wee-kee-spring-trail-run-5k-3/
LOCATION:Saw Wee Kee Park\, 7100 Sundown Lane\, Yorkville\, IL\, 60560\, United States
CATEGORIES:2019-04 Results (April)
ORGANIZER;CN="Zack Donati":MAILTO:zdonati@oswegolandpd.org
GEO:41.6669959;-88.4011599
X-APPLE-STRUCTURED-LOCATION;VALUE=URI;X-ADDRESS=Saw Wee Kee Park 7100 Sundown Lane Yorkville IL 60560 United States;X-APPLE-RADIUS=500;X-TITLE=7100 Sundown Lane:geo:-88.4011599,41.6669959
END:VEVENT
BEGIN:VEVENT
DTSTART;TZID=America/Chicago:20190413T100000
DTEND;TZID=America/Chicago:20190413T120000
DTSTAMP:20260423T224852
CREATED:20170206T052253Z
LAST-MODIFIED:20190413T190155Z
UID:10000930-1555149600-1555156800@www.racetime.info
SUMMARY:Russell Hustle 5K Trail Run & 2K Fun Run
DESCRIPTION:Russell Hustle 2K Overall Results\n\nRussell Hustle 5K Overall Results
URL:https://www.racetime.info/event/russell-hustle-5k-trail-run-2k-fun-run-3/
LOCATION:Russell Woods Forest Preserve\, 980 Park Avenue\, Genoa\, IL\, 60135\, United States
CATEGORIES:2019-04 Results (April)
ORGANIZER;CN="Guy Herrmann":MAILTO:gherrmann@stmarysycamore.org
GEO:42.094333;-88.717443
X-APPLE-STRUCTURED-LOCATION;VALUE=URI;X-ADDRESS=Russell Woods Forest Preserve 980 Park Avenue Genoa IL 60135 United States;X-APPLE-RADIUS=500;X-TITLE=980 Park Avenue:geo:-88.717443,42.094333
END:VEVENT
BEGIN:VEVENT
DTSTART;TZID=America/Chicago:20190413T100000
DTEND;TZID=America/Chicago:20190413T113000
DTSTAMP:20260423T224852
CREATED:20170420T224727Z
LAST-MODIFIED:20190413T190412Z
UID:10000550-1555149600-1555155000@www.racetime.info
SUMMARY:Race NIjUdicata 5K Run/Walk
DESCRIPTION:NIU Law 5K Age Group Results\n\nNIU Law 5K Overall Results\n\nNIU Law 5K Team Results\n\nNIU Law 5K Alumni Results\n\nNIU Law 5K Student Results
URL:https://www.racetime.info/event/race-nijudicata-5k-run-walk-2/
LOCATION:NIU Campus\, College of Law\, Swen Parson Hall\, DeKalb\, IL\, United States
CATEGORIES:2019-04 Results (April)
ORGANIZER;CN="Melody Mitchell":MAILTO:mmitchell@niu.edu
GEO:41.9343468;-88.7652571
X-APPLE-STRUCTURED-LOCATION;VALUE=URI;X-ADDRESS=NIU Campus College of Law Swen Parson Hall DeKalb IL United States;X-APPLE-RADIUS=500;X-TITLE=Swen Parson Hall:geo:-88.7652571,41.9343468
END:VEVENT
BEGIN:VEVENT
DTSTART;TZID=America/Chicago:20190413T090000
DTEND;TZID=America/Chicago:20190413T110000
DTSTAMP:20260423T224852
CREATED:20190303T131835Z
LAST-MODIFIED:20190413T161631Z
UID:10001859-1555146000-1555153200@www.racetime.info
SUMMARY:Fox Valley Run JunkEes 5K Challenge
DESCRIPTION:Run JunkEes 5K Results
URL:https://www.racetime.info/event/fox-valley-run-junkees-5k-challenge/
LOCATION:Waubonsie Lake Park\, 998 Knautz Road\, Aurora\, IL\, 60504\, United States
CATEGORIES:2019-04 Results (April)
ORGANIZER;CN="Dan Woods":MAILTO:runjunkee@gmail.com
GEO:41.7386015;-88.2619044
X-APPLE-STRUCTURED-LOCATION;VALUE=URI;X-ADDRESS=Waubonsie Lake Park 998 Knautz Road Aurora IL 60504 United States;X-APPLE-RADIUS=500;X-TITLE=998 Knautz Road:geo:-88.2619044,41.7386015
END:VEVENT
BEGIN:VEVENT
DTSTART;TZID=America/Chicago:20190413T090000
DTEND;TZID=America/Chicago:20190413T110000
DTSTAMP:20260423T224852
CREATED:20190115T111928Z
LAST-MODIFIED:20190413T190032Z
UID:10001013-1555146000-1555153200@www.racetime.info
SUMMARY:The Tyler Harden Memorial 5K Run/Walk
DESCRIPTION:Tyler Harden Memorial 5K Overall Results
URL:https://www.racetime.info/event/the-tyler-harden-memorial-5k-run-walk/
LOCATION:Independence Grove Forest Preserve\, 16400 Buckley Road\, Libertyville\, IL\, 60045\, United States
CATEGORIES:2019-04 Results (April)
ORGANIZER;CN="Mandi Florip":MAILTO:mflorip@lakecountyleague.org
GEO:42.3118463;-87.9529568
X-APPLE-STRUCTURED-LOCATION;VALUE=URI;X-ADDRESS=Independence Grove Forest Preserve 16400 Buckley Road Libertyville IL 60045 United States;X-APPLE-RADIUS=500;X-TITLE=16400 Buckley Road:geo:-87.9529568,42.3118463
END:VEVENT
BEGIN:VEVENT
DTSTART;TZID=America/Chicago:20190413T080000
DTEND;TZID=America/Chicago:20190413T110000
DTSTAMP:20260423T224852
CREATED:20170301T211633Z
LAST-MODIFIED:20190413T153355Z
UID:10000441-1555142400-1555153200@www.racetime.info
SUMMARY:Tiger 5K Color Run/Walk & Kids Dash
DESCRIPTION:Tiger Run 5K Age Group Results\n\nTiger Run 5K Overall Results
URL:https://www.racetime.info/event/tiger-5k-run-walk-kids-dash/
LOCATION:Lions Park\, 27W636 Beecer Street\, Winfield\, IL\, 60190\, United States
CATEGORIES:2019-04 Results (April)
ORGANIZER;CN="Amanda Kammes":MAILTO:akammes108@gmail.com
END:VEVENT
BEGIN:VEVENT
DTSTART;TZID=America/Chicago:20190413T080000
DTEND;TZID=America/Chicago:20190413T100000
DTSTAMP:20260423T224852
CREATED:20190413T154113Z
LAST-MODIFIED:20190413T154113Z
UID:10001055-1555142400-1555149600@www.racetime.info
SUMMARY:Spreading Our Wings 5K Run/Walk
DESCRIPTION:Spreading Our Wings 5K Age Group Results\n\nSpreading Our Wings 5K Overall Results
URL:https://www.racetime.info/event/spreading-our-wings-5k-run-walk/
LOCATION:Downtown West Chicago\, Washington Street and Fremont Street\, West Chicago\, IL\, 60185\, United States
CATEGORIES:2019-04 Results (April)
ORGANIZER;CN="Angelica Romano":MAILTO:aromano@ialas.org
END:VEVENT
BEGIN:VEVENT
DTSTART;TZID=America/Chicago:20190407T090000
DTEND;TZID=America/Chicago:20190407T110000
DTSTAMP:20260423T224852
CREATED:20180118T204235Z
LAST-MODIFIED:20190407T173108Z
UID:10000897-1554627600-1554634800@www.racetime.info
SUMMARY:Hole-In-Run 5K
DESCRIPTION:Hole In Run 5K Age Group Results\n\nHole In Run 5K Overall Results
URL:https://www.racetime.info/event/hole-in-run-5k-2/
LOCATION:Mistwood Golf Club\, 1700 West Renwick Road\, Romeoville\, IL\, 60446\, United States
CATEGORIES:2019-04 Results (April)
ORGANIZER;CN="Brittany Johnston":MAILTO:bjohnston@mistwoodgc.com
GEO:41.5955328;-88.1433196
X-APPLE-STRUCTURED-LOCATION;VALUE=URI;X-ADDRESS=Mistwood Golf Club 1700 West Renwick Road Romeoville IL 60446 United States;X-APPLE-RADIUS=500;X-TITLE=1700 West Renwick Road:geo:-88.1433196,41.5955328
END:VEVENT
BEGIN:VEVENT
DTSTART;TZID=America/Chicago:20190407T090000
DTEND;TZID=America/Chicago:20190407T110000
DTSTAMP:20260423T224852
CREATED:20170209T023023Z
LAST-MODIFIED:20190407T172919Z
UID:10000992-1554627600-1554634800@www.racetime.info
SUMMARY:Mustang Trot 5K Run/Walk
DESCRIPTION:Mustang Trot 5K Age Group Results\n\nMustang Trot 5K Overall Results\n\nMustang Trot Team Results
URL:https://www.racetime.info/event/mustang-trot-5k-run-walk-2/
LOCATION:Downers Grove South High School\, 1436 Norfolk Street\, Downers Grove\, IL\, 60515\, United States
CATEGORIES:2019-04 Results (April)
ORGANIZER;CN="Amy Klug":MAILTO:aklug@csd99.org
GEO:41.771175;-88.020645
X-APPLE-STRUCTURED-LOCATION;VALUE=URI;X-ADDRESS=Downers Grove South High School 1436 Norfolk Street Downers Grove IL 60515 United States;X-APPLE-RADIUS=500;X-TITLE=1436 Norfolk Street:geo:-88.020645,41.771175
END:VEVENT
BEGIN:VEVENT
DTSTART;TZID=America/Chicago:20190407T083000
DTEND;TZID=America/Chicago:20190407T103000
DTSTAMP:20260423T224852
CREATED:20180228T140223Z
LAST-MODIFIED:20190407T172707Z
UID:10001743-1554625800-1554633000@www.racetime.info
SUMMARY:Hope Hustle STCE 5K Run/Walk and Youth 1 Mile
DESCRIPTION:Hope Hustle 5K Age Group Results\n\nHope Hustle 5K Overall Results
URL:https://www.racetime.info/event/hope-hustle-stce-5k-run-walk-and-youth-1-mile-2/
LOCATION:St. Charles East High School: Norris Stadium\, 1020 Dunham Road\, St. Charles\, IL\, 60174\, United States
CATEGORIES:2019-04 Results (April)
ORGANIZER;CN="Kari Batka":MAILTO:kari.batka@d303.org
GEO:41.9274362;-88.2808843
X-APPLE-STRUCTURED-LOCATION;VALUE=URI;X-ADDRESS=St. Charles East High School: Norris Stadium 1020 Dunham Road St. Charles IL 60174 United States;X-APPLE-RADIUS=500;X-TITLE=1020 Dunham Road:geo:-88.2808843,41.9274362
END:VEVENT
BEGIN:VEVENT
DTSTART;TZID=America/Chicago:20190406T090000
DTEND;TZID=America/Chicago:20190406T103000
DTSTAMP:20260423T224852
CREATED:20180205T145449Z
LAST-MODIFIED:20190406T171331Z
UID:10001730-1554541200-1554546600@www.racetime.info
SUMMARY:Bull Valley Monster Hill Challenge 5K Run & 2K Walk
DESCRIPTION:Bull Valley Monster Challenge 5K Age Group Results\n\nBull Valley Monster Challenge 5K Overall Results
URL:https://www.racetime.info/event/bull-valley-monster-hill-challenge-5k-run-1k-walk-2/
LOCATION:Bull Valley Equestrian Center\, 605 S. Valley Hill Road\, Bull Valley\, IL\, 60098\, United States
CATEGORIES:2019-04 Results (April)
ORGANIZER;CN="Michael Kivland":MAILTO:michael@headycup.com
END:VEVENT
BEGIN:VEVENT
DTSTART;TZID=America/Chicago:20190406T080000
DTEND;TZID=America/Chicago:20190406T100000
DTSTAMP:20260423T224852
CREATED:20170206T053734Z
LAST-MODIFIED:20190406T171200Z
UID:10000943-1554537600-1554544800@www.racetime.info
SUMMARY:Fast & Furriest 5K Run/Walk
DESCRIPTION:Fast and Furriest 5K Age Group Results\n\nFast and Furriest 5K Overall Results
URL:https://www.racetime.info/event/fast-furriest-5k-run-walk-2/
LOCATION:Indian Valley Vocational Center\, 600 Lions Road\, Sandwich\, IL\, 60548\, United States
CATEGORIES:2019-04 Results (April)
ORGANIZER;CN="Bridget Kreiger":MAILTO:bkreiter@kidsroe.org
GEO:41.637407;-88.613423
X-APPLE-STRUCTURED-LOCATION;VALUE=URI;X-ADDRESS=Indian Valley Vocational Center 600 Lions Road Sandwich IL 60548 United States;X-APPLE-RADIUS=500;X-TITLE=600 Lions Road:geo:-88.613423,41.637407
END:VEVENT
END:VCALENDAR