BEGIN:VCALENDAR
VERSION:2.0
PRODID:-//Race Time - ECPv6.15.13//NONSGML v1.0//EN
CALSCALE:GREGORIAN
METHOD:PUBLISH
X-WR-CALNAME:Race Time
X-ORIGINAL-URL:https://www.racetime.info
X-WR-CALDESC:Events for Race Time
REFRESH-INTERVAL;VALUE=DURATION:PT1H
X-Robots-Tag:noindex
X-PUBLISHED-TTL:PT1H
BEGIN:VTIMEZONE
TZID:America/Chicago
BEGIN:DAYLIGHT
TZOFFSETFROM:-0600
TZOFFSETTO:-0500
TZNAME:CDT
DTSTART:20180311T080000
END:DAYLIGHT
BEGIN:STANDARD
TZOFFSETFROM:-0500
TZOFFSETTO:-0600
TZNAME:CST
DTSTART:20181104T070000
END:STANDARD
BEGIN:DAYLIGHT
TZOFFSETFROM:-0600
TZOFFSETTO:-0500
TZNAME:CDT
DTSTART:20190310T080000
END:DAYLIGHT
BEGIN:STANDARD
TZOFFSETFROM:-0500
TZOFFSETTO:-0600
TZNAME:CST
DTSTART:20191103T070000
END:STANDARD
BEGIN:DAYLIGHT
TZOFFSETFROM:-0600
TZOFFSETTO:-0500
TZNAME:CDT
DTSTART:20200308T080000
END:DAYLIGHT
BEGIN:STANDARD
TZOFFSETFROM:-0500
TZOFFSETTO:-0600
TZNAME:CST
DTSTART:20201101T070000
END:STANDARD
END:VTIMEZONE
BEGIN:VTIMEZONE
TZID:America/Indiana/Indianapolis
BEGIN:DAYLIGHT
TZOFFSETFROM:-0500
TZOFFSETTO:-0400
TZNAME:EDT
DTSTART:20180311T070000
END:DAYLIGHT
BEGIN:STANDARD
TZOFFSETFROM:-0400
TZOFFSETTO:-0500
TZNAME:EST
DTSTART:20181104T060000
END:STANDARD
BEGIN:DAYLIGHT
TZOFFSETFROM:-0500
TZOFFSETTO:-0400
TZNAME:EDT
DTSTART:20190310T070000
END:DAYLIGHT
BEGIN:STANDARD
TZOFFSETFROM:-0400
TZOFFSETTO:-0500
TZNAME:EST
DTSTART:20191103T060000
END:STANDARD
BEGIN:DAYLIGHT
TZOFFSETFROM:-0500
TZOFFSETTO:-0400
TZNAME:EDT
DTSTART:20200308T070000
END:DAYLIGHT
BEGIN:STANDARD
TZOFFSETFROM:-0400
TZOFFSETTO:-0500
TZNAME:EST
DTSTART:20201101T060000
END:STANDARD
END:VTIMEZONE
BEGIN:VEVENT
DTSTART;TZID=America/Chicago:20190728T080000
DTEND;TZID=America/Chicago:20190728T110000
DTSTAMP:20260423T224957
CREATED:20170609T172131Z
LAST-MODIFIED:20190728T191029Z
UID:10001433-1564300800-1564311600@www.racetime.info
SUMMARY:Get Your Rear In Gear 5K Run/Walk
DESCRIPTION:Get Your Rear In Gear 5K Age Group Results\n\nGet Your Rear In Gear 5K Overall Results\n\nGet Your Rear In Gear 5K Survivor Overall Results
URL:https://www.racetime.info/event/get-your-rear-in-gear-5k-run-walk-2/
LOCATION:Community Park\, 8105 W. 171st Street\, Tinley Park\, IL\, 60477\, United States
CATEGORIES:2019-07 Results (July)
ORGANIZER;CN="Celeste Hayward":MAILTO:tinleyparkgyrig@gmail.com
GEO:41.5800197;-87.8160163
X-APPLE-STRUCTURED-LOCATION;VALUE=URI;X-ADDRESS=Community Park 8105 W. 171st Street Tinley Park IL 60477 United States;X-APPLE-RADIUS=500;X-TITLE=8105 W. 171st Street:geo:-87.8160163,41.5800197
END:VEVENT
BEGIN:VEVENT
DTSTART;TZID=America/Chicago:20190728T080000
DTEND;TZID=America/Chicago:20190728T110000
DTSTAMP:20260423T224957
CREATED:20170425T131515Z
LAST-MODIFIED:20190728T191331Z
UID:10001340-1564300800-1564311600@www.racetime.info
SUMMARY:Algonquin Founders' Day 10K Run\, 5K Run/Walk & Youth 1 Mile Fun Run
DESCRIPTION:Algonquin Founders 1 Mile Youth Results\n\nAlgonquin Founders 5K Age Group Results\n\nAlgonquin Founders 5K Overall Results\n\nAlgonquin Founders 10K Age Group Results\n\nAlgonquin Founders 10K Overall Results
URL:https://www.racetime.info/event/algonquin-founders-day-10k-run-5k-run-walk-youth-1-mile-fun-run/
LOCATION:Algonquin Middle School\, 520 Longwood Drive\, Algonquin\, IL\, 60102\, United States
CATEGORIES:2019-07 Results (July)
ORGANIZER;CN="Cheryl Hagen":MAILTO:foundersrun1@yahoo.com
GEO:42.1583261;-88.2831554
X-APPLE-STRUCTURED-LOCATION;VALUE=URI;X-ADDRESS=Algonquin Middle School 520 Longwood Drive Algonquin IL 60102 United States;X-APPLE-RADIUS=500;X-TITLE=520 Longwood Drive:geo:-88.2831554,42.1583261
END:VEVENT
BEGIN:VEVENT
DTSTART;TZID=America/Chicago:20190727T150000
DTEND;TZID=America/Chicago:20190727T170000
DTSTAMP:20260423T224957
CREATED:20180516T002523Z
LAST-MODIFIED:20190727T233414Z
UID:10001790-1564239600-1564246800@www.racetime.info
SUMMARY:#SunnyVibes 5K Run/Walk
DESCRIPTION:#Sunnyvibes 5K Overall Results
URL:https://www.racetime.info/event/sunnyvibes-5k-run-walk-2/
LOCATION:United Plattville Association\, 6617 Chicago Road\, Yorkville\, IL\, 60560\, United States
CATEGORIES:2019-07 Results (July)
ORGANIZER;CN="Beth Fals":MAILTO:bardaugh@att.net
GEO:41.5327992;-88.3785215
X-APPLE-STRUCTURED-LOCATION;VALUE=URI;X-ADDRESS=United Plattville Association 6617 Chicago Road Yorkville IL 60560 United States;X-APPLE-RADIUS=500;X-TITLE=6617 Chicago Road:geo:-88.3785215,41.5327992
END:VEVENT
BEGIN:VEVENT
DTSTART;TZID=America/Chicago:20190727T090000
DTEND;TZID=America/Chicago:20190727T110000
DTSTAMP:20260423T224957
CREATED:20190209T143039Z
LAST-MODIFIED:20190727T173704Z
UID:10001031-1564218000-1564225200@www.racetime.info
SUMMARY:Illinois Sepsis Challenge 5K Run and Walk
DESCRIPTION:Sepsis 5K Overall Results
URL:https://www.racetime.info/event/illinois-sepsis-challenge-5k-run-and-walk/
LOCATION:Centennial Park Orland Park\, 10401 W\, 153rd Street\, Orland Park\, IL\, 60467\, United States
CATEGORIES:2019-07 Results (July)
ORGANIZER;CN="Julie Pearson":MAILTO:racetime21@hotmail.com
END:VEVENT
BEGIN:VEVENT
DTSTART;TZID=America/Chicago:20190727T080000
DTEND;TZID=America/Chicago:20190727T100000
DTSTAMP:20260423T224957
CREATED:20180523T005725Z
LAST-MODIFIED:20190727T233832Z
UID:10000971-1564214400-1564221600@www.racetime.info
SUMMARY:Five-O 5K Run/Walk
DESCRIPTION:Mount Prospect Five-O 5K Age Group Results\n\nMount Prospect Five-O 5K Overall Results
URL:https://www.racetime.info/event/five-o-5k-run-walk-2/
LOCATION:Mt. Prospect Police Department\, 911 E. Kensington Road\, Mount Prospect\, IL\, 60056\, United States
CATEGORIES:2019-07 Results (July)
ORGANIZER;CN="Mark Bechtold":MAILTO:fiveo5k@mountprospect.org
GEO:42.0630078;-87.934311
X-APPLE-STRUCTURED-LOCATION;VALUE=URI;X-ADDRESS=Mt. Prospect Police Department 911 E. Kensington Road Mount Prospect IL 60056 United States;X-APPLE-RADIUS=500;X-TITLE=911 E. Kensington Road:geo:-87.934311,42.0630078
END:VEVENT
BEGIN:VEVENT
DTSTART;TZID=America/Chicago:20190727T073000
DTEND;TZID=America/Chicago:20190727T090000
DTSTAMP:20260423T224957
CREATED:20170613T193547Z
LAST-MODIFIED:20190727T173437Z
UID:10001481-1564212600-1564218000@www.racetime.info
SUMMARY:Corn Boil 5K Run/Walk
DESCRIPTION:Sugar Grove Corn Boil 5K Age Group Results\n\nSugar Grove Corn Boil 5K Overall results
URL:https://www.racetime.info/event/corn-boil-5k-run-walk-2/
LOCATION:Sugar Grove Park District\, 61 Main St.\, Sugar Grove\, IL\, 60554\, United States
CATEGORIES:2019-07 Results (July)
ORGANIZER;CN="Blake Mayerle":MAILTO:bmayerle@sgparks.org
GEO:41.7632516;-88.4442141
X-APPLE-STRUCTURED-LOCATION;VALUE=URI;X-ADDRESS=Sugar Grove Park District 61 Main St. Sugar Grove IL 60554 United States;X-APPLE-RADIUS=500;X-TITLE=61 Main St.:geo:-88.4442141,41.7632516
END:VEVENT
BEGIN:VEVENT
DTSTART;TZID=America/Chicago:20190724T190000
DTEND;TZID=America/Chicago:20190724T203000
DTSTAMP:20260423T224957
CREATED:20190701T184355Z
LAST-MODIFIED:20190725T033227Z
UID:10001072-1563994800-1564000200@www.racetime.info
SUMMARY:Summer Sunset 5K & Youth Races
DESCRIPTION:Summer Sunset Youth Runs\n\nSummer Sunset 5K Age Group Results\n\nSummer Sunset 5K Overall Results
URL:https://www.racetime.info/event/summer-sunset-5k-youth-races/
LOCATION:Geneva High School\, 799 Gray Street\, Geneva\, IL\, 60134\, United States
CATEGORIES:2019-07 Results (July)
ORGANIZER;CN="Kate Hauser":MAILTO:summersunset@foxrivertrailrunners.org
GEO:41.8980917;-88.3231243
X-APPLE-STRUCTURED-LOCATION;VALUE=URI;X-ADDRESS=Geneva High School 799 Gray Street Geneva IL 60134 United States;X-APPLE-RADIUS=500;X-TITLE=799 Gray Street:geo:-88.3231243,41.8980917
END:VEVENT
BEGIN:VEVENT
DTSTART;TZID=America/Chicago:20190720T100000
DTEND;TZID=America/Chicago:20190720T113000
DTSTAMP:20260423T224957
CREATED:20180308T022127Z
LAST-MODIFIED:20190720T155426Z
UID:10001748-1563616800-1563622200@www.racetime.info
SUMMARY:Happy Feet Healthy Heart 5K Run/Walk
DESCRIPTION:Happy Feet Healthy Heart 5K Age Group Results\n\nHappy Feet Healthy Heart 5K Overall Results
URL:https://www.racetime.info/event/happy-feet-healthy-heart-5k-run-walk-2/
LOCATION:Phillips Park\, 1000 Ray Moses Drive\, Aurora\, IL\, 60505\, United States
CATEGORIES:2019-07 Results (July)
ORGANIZER;CN="Namitha Pai":MAILTO:happyfeetwalkersclub@gmail.com
GEO:41.7365152;-88.2948701
X-APPLE-STRUCTURED-LOCATION;VALUE=URI;X-ADDRESS=Phillips Park 1000 Ray Moses Drive Aurora IL 60505 United States;X-APPLE-RADIUS=500;X-TITLE=1000 Ray Moses Drive:geo:-88.2948701,41.7365152
END:VEVENT
BEGIN:VEVENT
DTSTART;TZID=America/Chicago:20190720T083000
DTEND;TZID=America/Chicago:20190720T103000
DTSTAMP:20260423T224957
CREATED:20170613T192906Z
LAST-MODIFIED:20190720T153245Z
UID:10001474-1563611400-1563618600@www.racetime.info
SUMMARY:Splashes\, Dashes & Spokes Youth Triathlon
DESCRIPTION:Splashes\, Dashes & Spokes Youth Triathlon
URL:https://www.racetime.info/event/splashes-dashes-spokes-youth-triathlon-3/
LOCATION:James O’Breen Community Park\, Campton Hills Road & Peck Road\, St. Charles\, IL\, 60174\, United States
CATEGORIES:2019-07 Results (July)
ORGANIZER;CN="Melissa Caine":MAILTO:mcaine@stcparks.org
GEO:41.9135899;-88.3601517
X-APPLE-STRUCTURED-LOCATION;VALUE=URI;X-ADDRESS=James O’Breen Community Park Campton Hills Road & Peck Road St. Charles IL 60174 United States;X-APPLE-RADIUS=500;X-TITLE=Campton Hills Road & Peck Road:geo:-88.3601517,41.9135899
END:VEVENT
BEGIN:VEVENT
DTSTART;TZID=America/Chicago:20190720T073000
DTEND;TZID=America/Chicago:20190720T103000
DTSTAMP:20260423T224957
CREATED:20180522T181014Z
LAST-MODIFIED:20190720T170612Z
UID:10000967-1563607800-1563618600@www.racetime.info
SUMMARY:Buckley 5 Miler Trail Run
DESCRIPTION:Buckley 5 Mile Age Group Results\n\nBuckley 5 Mile Individual Overall Results\n\nBuckley 5 Mile Clydesdale Athena Overall Results\n\nBuckley 5 Mile Overall Results Combined
URL:https://www.racetime.info/event/buckley-5-miler-trail-run-2/
LOCATION:Buckley Homstead\, 3606 Belshaw Road\, Lowell\, IN\, 46356\, United States
CATEGORIES:2019-07 Results (July)
ORGANIZER;CN="Jose Lopez":MAILTO:gunnylopez@sbcglobal.net
GEO:41.2811667;-87.3812189
X-APPLE-STRUCTURED-LOCATION;VALUE=URI;X-ADDRESS=Buckley Homstead 3606 Belshaw Road Lowell IN 46356 United States;X-APPLE-RADIUS=500;X-TITLE=3606 Belshaw Road:geo:-87.3812189,41.2811667
END:VEVENT
BEGIN:VEVENT
DTSTART;TZID=America/Chicago:20190720T073000
DTEND;TZID=America/Chicago:20190720T090000
DTSTAMP:20260423T224957
CREATED:20170605T170302Z
LAST-MODIFIED:20190720T152934Z
UID:10000615-1563607800-1563613200@www.racetime.info
SUMMARY:Hanover Park's 5K Fiesta del Sol  (formerly the Dash N' Splash)
DESCRIPTION:Fiesta del Sol 5K Age Group Results\n\nFiesta del Sol 5K Overall Results
URL:https://www.racetime.info/event/hanover-parks-5k-dash-n-splash-2/
LOCATION:Heritage Park\, 5450 Arlington Drive East\, Hanover Park\, IL\, 60133\, United States
CATEGORIES:2019-07 Results (July)
ORGANIZER;CN="Heczen Gomez":MAILTO:h.gomez@hpparks.org
GEO:41.8897519;-87.9889543
X-APPLE-STRUCTURED-LOCATION;VALUE=URI;X-ADDRESS=Heritage Park 5450 Arlington Drive East Hanover Park IL 60133 United States;X-APPLE-RADIUS=500;X-TITLE=5450 Arlington Drive East:geo:-87.9889543,41.8897519
END:VEVENT
BEGIN:VEVENT
DTSTART;TZID=America/Chicago:20190713T090000
DTEND;TZID=America/Chicago:20190713T110000
DTSTAMP:20260423T224957
CREATED:20170613T181503Z
LAST-MODIFIED:20190713T184359Z
UID:10001470-1563008400-1563015600@www.racetime.info
SUMMARY:Fast Feet for Families 5K Run & 2 Mile Walk
DESCRIPTION:Fast Feet For Families 5K Age Group Results\n\nFast Feet For Families 5K Overall Results
URL:https://www.racetime.info/event/fast-feet-for-families-5k-run-2-mile-walk-2/
LOCATION:Rock County Human Services\, 3530 N. County Road F\, Janesville\, WI\, 53545\, United States
CATEGORIES:2019-07 Results (July)
ORGANIZER;CN="Shilo Titus":MAILTO:shilo.titus@co.rock.wi.us
GEO:42.7261198;-89.0295823
X-APPLE-STRUCTURED-LOCATION;VALUE=URI;X-ADDRESS=Rock County Human Services 3530 N. County Road F Janesville WI 53545 United States;X-APPLE-RADIUS=500;X-TITLE=3530 N. County Road F:geo:-89.0295823,42.7261198
END:VEVENT
BEGIN:VEVENT
DTSTART;TZID=America/Chicago:20190713T070000
DTEND;TZID=America/Chicago:20190713T090000
DTSTAMP:20260423T224957
CREATED:20170410T213134Z
LAST-MODIFIED:20190713T184201Z
UID:10001318-1563001200-1563008400@www.racetime.info
SUMMARY:Bristol Progress Days 5K Run & 1.5 Mile Walk
DESCRIPTION:Bristol My Team Triumph 5K Results\n\nBristol 5K Overall Results\n\nBristol 1.5 Mile Overall Results
URL:https://www.racetime.info/event/bristol-progress-days-5k-run-1-5-mile-walk-2/
LOCATION:Hansen Park\, 8600 200th Avenue\, Bristol\, IL\, 53104\, United States
CATEGORIES:2019-07 Results (July)
ORGANIZER;CN="Lori Muhlenbeck":MAILTO:bristolrun@yahoo.com
GEO:42.5509552;-88.0503087
X-APPLE-STRUCTURED-LOCATION;VALUE=URI;X-ADDRESS=Hansen Park 8600 200th Avenue Bristol IL 53104 United States;X-APPLE-RADIUS=500;X-TITLE=8600 200th Avenue:geo:-88.0503087,42.5509552
END:VEVENT
BEGIN:VEVENT
DTSTART;TZID=America/Chicago:20190707T080000
DTEND;TZID=America/Chicago:20190707T100000
DTSTAMP:20260423T224957
CREATED:20190702T105408Z
LAST-MODIFIED:20190707T165904Z
UID:10001075-1562486400-1562493600@www.racetime.info
SUMMARY:Sandwich Freedom Run 5K & 1 Mile
DESCRIPTION:Sandwich Freedom 1 Mile Overall Results\n\nSandwich Freedom 5K Age Group Results\n\nSandwich Freedom 5K Overall Results
URL:https://www.racetime.info/event/sandwich-freedom-run-5k-1-mile/
LOCATION:James Knights Park\, 1001 N. Latham Street\, Sandwich\, IL\, 60548\, United States
CATEGORIES:2019-07 Results (July)
ORGANIZER;CN="Brandon Knox":MAILTO:brandon.knox.spd@gmail.com
GEO:41.6552736;-88.6126217
X-APPLE-STRUCTURED-LOCATION;VALUE=URI;X-ADDRESS=James Knights Park 1001 N. Latham Street Sandwich IL 60548 United States;X-APPLE-RADIUS=500;X-TITLE=1001 N. Latham Street:geo:-88.6126217,41.6552736
END:VEVENT
BEGIN:VEVENT
DTSTART;TZID=America/Indiana/Indianapolis:20190704T080000
DTEND;TZID=America/Indiana/Indianapolis:20190704T170000
DTSTAMP:20260423T224957
CREATED:20190523T114939Z
LAST-MODIFIED:20190704T213914Z
UID:10001883-1562227200-1562259600@www.racetime.info
SUMMARY:Fowler Fireworks Frenzy 5K Run/Walk
DESCRIPTION:Fowler Firework Frenzy 5K Age Group Results 1\n\nFowler Firework Frenzy 5K Overall Results 1
URL:https://www.racetime.info/event/fowler-fireworks-frenzy-5k-run-walk/
LOCATION:Fowler Town Park\, 302 S. Fowler Town Park Drive\, Fowler\, IN\, 47944\, United States
CATEGORIES:2019-07 Results (July)
ORGANIZER;CN="Diane Costello":MAILTO:d-n-costello@sbcglobal.net
END:VEVENT
BEGIN:VEVENT
DTSTART;TZID=America/Chicago:20190704T080000
DTEND;TZID=America/Chicago:20190704T110000
DTSTAMP:20260423T224957
CREATED:20190402T212954Z
LAST-MODIFIED:20190704T160944Z
UID:10001062-1562227200-1562238000@www.racetime.info
SUMMARY:Freedom Classic 5K Run/Walk & Youth Fun Run
DESCRIPTION:Mundelein’s Freedom Classic 5K Age Group Results\n\nMundelein’s Freedom Classic 5K Overall Results
URL:https://www.racetime.info/event/freedom-classic-5k-run-walk-youth-fun-run/
LOCATION:Mundelein Park District\, 1401 N. Midlthian Road\, Mundelein\, United States
CATEGORIES:2019-07 Results (July)
ORGANIZER;CN="Matt LaPorte":MAILTO:mlaporte@mundeleinparks.org
END:VEVENT
BEGIN:VEVENT
DTSTART;TZID=America/Chicago:20190704T080000
DTEND;TZID=America/Chicago:20190704T110000
DTSTAMP:20260423T224957
CREATED:20170613T120059Z
LAST-MODIFIED:20190704T172505Z
UID:10001465-1562227200-1562238000@www.racetime.info
SUMMARY:Deerfield Rotary's 53rd Annual 10K Run & 5K Run/Walk
DESCRIPTION:Deerfield Rotary 5K Overall Results\n\nDeerfield Rotary 10K Age Group Results\n\nDeerfield Rotary 10K Overall Results
URL:https://www.racetime.info/event/deerfield-rotarys-52nd-annual-10k-run-5k-run-walk/
LOCATION:Maplewood Park\, 900 Clay Court\, Deerfield\, IL\, 60015\, United States
CATEGORIES:2019-07 Results (July)
ORGANIZER;CN="Victoria Street":MAILTO:victoriastreet@dbrchamber.com
END:VEVENT
BEGIN:VEVENT
DTSTART;TZID=America/Chicago:20190704T080000
DTEND;TZID=America/Chicago:20190704T100000
DTSTAMP:20260423T224957
CREATED:20190620T181826Z
LAST-MODIFIED:20190813T232214Z
UID:10001898-1562227200-1562234400@www.racetime.info
SUMMARY:Great Western Freedom 4 Miler
DESCRIPTION:Great Western Freedom 4 Age Group Results\n\nGreat Western Freedom 4 Overall Results
URL:https://www.racetime.info/event/great-western-freedom-4-miler/
LOCATION:LeRoy Oakes Forest Preserve\, 37W584 Dean Street\, St. Charles\, IL\, 60175\, United States
CATEGORIES:2019-07 Results (July)
GEO:41.929212;-88.352091
X-APPLE-STRUCTURED-LOCATION;VALUE=URI;X-ADDRESS=LeRoy Oakes Forest Preserve 37W584 Dean Street St. Charles IL 60175 United States;X-APPLE-RADIUS=500;X-TITLE=37W584 Dean Street:geo:-88.352091,41.929212
END:VEVENT
BEGIN:VEVENT
DTSTART;TZID=America/Chicago:20190704T073000
DTEND;TZID=America/Chicago:20190704T170000
DTSTAMP:20260423T224957
CREATED:20170613T174104Z
LAST-MODIFIED:20190705T115249Z
UID:10000640-1562225400-1562259600@www.racetime.info
SUMMARY:Liberty Loop 5K Run/Walk
DESCRIPTION:Liberty Loop 5K Age Group Results\n\nLiberty Loop 5K Overall Results
URL:https://www.racetime.info/event/liberty-loop-5k-run-walk-2/
LOCATION:Meadowhill Aquatic Center\, 1479 Maple Avenue\, Northbrook\, IL\, 60062\, United States
CATEGORIES:2019-07 Results (July)
ORGANIZER;CN="Ethan Williams":MAILTO:ewilliams@nbparks.org
GEO:42.1254467;-87.8150784
X-APPLE-STRUCTURED-LOCATION;VALUE=URI;X-ADDRESS=Meadowhill Aquatic Center 1479 Maple Avenue Northbrook IL 60062 United States;X-APPLE-RADIUS=500;X-TITLE=1479 Maple Avenue:geo:-87.8150784,42.1254467
END:VEVENT
BEGIN:VEVENT
DTSTART;TZID=America/Chicago:20190703T080000
DTEND;TZID=America/Chicago:20190703T110000
DTSTAMP:20260423T224957
CREATED:20170613T115456Z
LAST-MODIFIED:20190704T161715Z
UID:10001462-1562140800-1562151600@www.racetime.info
SUMMARY:Wilmette's Yankee Doodle 5K
DESCRIPTION:Wilmette’s Yankee Doodle Dash 5K Age Group Results\n\nWilmette’s Yankee Doodle Dash 5K Overall Results
URL:https://www.racetime.info/event/wilmettes-yankee-doodle-5k/
LOCATION:Gillson Beach\, 800 Gillson Park Drive\, Wilmette\, IL\, 60091\, United States
CATEGORIES:2019-07 Results (July)
ORGANIZER;CN="Tim Johnson":MAILTO:tjohnson@wilpark.org
GEO:42.0804297;-87.6887941
X-APPLE-STRUCTURED-LOCATION;VALUE=URI;X-ADDRESS=Gillson Beach 800 Gillson Park Drive Wilmette IL 60091 United States;X-APPLE-RADIUS=500;X-TITLE=800 Gillson Park Drive:geo:-87.6887941,42.0804297
END:VEVENT
END:VCALENDAR