BEGIN:VCALENDAR
VERSION:2.0
PRODID:-//Race Time - ECPv6.15.13//NONSGML v1.0//EN
CALSCALE:GREGORIAN
METHOD:PUBLISH
X-WR-CALNAME:Race Time
X-ORIGINAL-URL:https://www.racetime.info
X-WR-CALDESC:Events for Race Time
REFRESH-INTERVAL;VALUE=DURATION:PT1H
X-Robots-Tag:noindex
X-PUBLISHED-TTL:PT1H
BEGIN:VTIMEZONE
TZID:America/Chicago
BEGIN:DAYLIGHT
TZOFFSETFROM:-0600
TZOFFSETTO:-0500
TZNAME:CDT
DTSTART:20180311T080000
END:DAYLIGHT
BEGIN:STANDARD
TZOFFSETFROM:-0500
TZOFFSETTO:-0600
TZNAME:CST
DTSTART:20181104T070000
END:STANDARD
BEGIN:DAYLIGHT
TZOFFSETFROM:-0600
TZOFFSETTO:-0500
TZNAME:CDT
DTSTART:20190310T080000
END:DAYLIGHT
BEGIN:STANDARD
TZOFFSETFROM:-0500
TZOFFSETTO:-0600
TZNAME:CST
DTSTART:20191103T070000
END:STANDARD
BEGIN:DAYLIGHT
TZOFFSETFROM:-0600
TZOFFSETTO:-0500
TZNAME:CDT
DTSTART:20200308T080000
END:DAYLIGHT
BEGIN:STANDARD
TZOFFSETFROM:-0500
TZOFFSETTO:-0600
TZNAME:CST
DTSTART:20201101T070000
END:STANDARD
END:VTIMEZONE
BEGIN:VTIMEZONE
TZID:America/Indiana/Indianapolis
BEGIN:DAYLIGHT
TZOFFSETFROM:-0500
TZOFFSETTO:-0400
TZNAME:EDT
DTSTART:20180311T070000
END:DAYLIGHT
BEGIN:STANDARD
TZOFFSETFROM:-0400
TZOFFSETTO:-0500
TZNAME:EST
DTSTART:20181104T060000
END:STANDARD
BEGIN:DAYLIGHT
TZOFFSETFROM:-0500
TZOFFSETTO:-0400
TZNAME:EDT
DTSTART:20190310T070000
END:DAYLIGHT
BEGIN:STANDARD
TZOFFSETFROM:-0400
TZOFFSETTO:-0500
TZNAME:EST
DTSTART:20191103T060000
END:STANDARD
BEGIN:DAYLIGHT
TZOFFSETFROM:-0500
TZOFFSETTO:-0400
TZNAME:EDT
DTSTART:20200308T070000
END:DAYLIGHT
BEGIN:STANDARD
TZOFFSETFROM:-0400
TZOFFSETTO:-0500
TZNAME:EST
DTSTART:20201101T060000
END:STANDARD
END:VTIMEZONE
BEGIN:VEVENT
DTSTART;TZID=America/Chicago:20190929T140000
DTEND;TZID=America/Chicago:20190929T170000
DTSTAMP:20260423T224951
CREATED:20190531T124055Z
LAST-MODIFIED:20190929T212448Z
UID:10001890-1569765600-1569776400@www.racetime.info
SUMMARY:9/11 HEROES 5K RUN/WALK
DESCRIPTION:9 11 Heroes Run 5K Age Group Results\n\n9 11 Heroes Run 5K GoRuck Overall Results\n\n9 11 Heroes Run 5K Overall (all included) Results
URL:https://www.racetime.info/event/9-11-heroes-5k-run-walk/
LOCATION:St. James Farm\, 2S541 Winfield Road\, Warrenville\, IL\, 60555\, United States
CATEGORIES:2019-09 Results (September)
ORGANIZER;CN="Janet Zatto":MAILTO:jztrainedme@gmail.com
GEO:41.835209;-88.1636
X-APPLE-STRUCTURED-LOCATION;VALUE=URI;X-ADDRESS=St. James Farm 2S541 Winfield Road Warrenville IL 60555 United States;X-APPLE-RADIUS=500;X-TITLE=2S541 Winfield Road:geo:-88.1636,41.835209
END:VEVENT
BEGIN:VEVENT
DTSTART;TZID=America/Chicago:20190929T090000
DTEND;TZID=America/Chicago:20190929T110000
DTSTAMP:20260423T224951
CREATED:20190717T224028Z
LAST-MODIFIED:20190930T173447Z
UID:10001903-1569747600-1569754800@www.racetime.info
SUMMARY:Running of the Leopards 5K & 1 Mile Run/Walk
DESCRIPTION:Lester’s Running of the Leopards Youth Run Grade Level Results 2\n\nLester’s Running of the Leopards Youth Run Overall Results 2\n\nLester’s Running of the Leopards 5K Run Grade Level Results\n\nLester’s Running of the Leopards 5K Run Overall Results
URL:https://www.racetime.info/event/running-of-the-leopards-5k-1-mile-run-walk/
LOCATION:Lester Elementary School\, 236 Indianapolis Avenue\, Downers Grove\, IL\, 60515\, United States
CATEGORIES:2019-09 Results (September)
ORGANIZER;CN="Julie Jurek":MAILTO:funrun@lesterpta.com
END:VEVENT
BEGIN:VEVENT
DTSTART;TZID=America/Chicago:20190929T080000
DTEND;TZID=America/Chicago:20190929T170000
DTSTAMP:20260423T224951
CREATED:20190412T221229Z
LAST-MODIFIED:20190930T114653Z
UID:10001054-1569744000-1569776400@www.racetime.info
SUMMARY:Fall Into Fitness 5K Run/Walk
DESCRIPTION:Fall Into Fitness 5K Age Group Results\n\nFall Into Fitness 5K Overall Results\n\nFall Into Fitness Team Results
URL:https://www.racetime.info/event/fall-into-fitness-5k-run-walk/
LOCATION:Portage Park\, 4100 Long Avenue\, Chicago\, IL\, 60641\, United States
CATEGORIES:2019-09 Results (September)
ORGANIZER;CN="Sara McAuliff":MAILTO:smcauliff@cfmedicalcenter.com
GEO:41.955369;-87.7635893
X-APPLE-STRUCTURED-LOCATION;VALUE=URI;X-ADDRESS=Portage Park 4100 Long Avenue Chicago IL 60641 United States;X-APPLE-RADIUS=500;X-TITLE=4100 Long Avenue:geo:-87.7635893,41.955369
END:VEVENT
BEGIN:VEVENT
DTSTART;TZID=America/Chicago:20190928T093000
DTEND;TZID=America/Chicago:20190928T110000
DTSTAMP:20260423T224951
CREATED:20170514T095614Z
LAST-MODIFIED:20191001T105256Z
UID:10000582-1569663000-1569668400@www.racetime.info
SUMMARY:St. George Disco Dash 5K
DESCRIPTION:Disco Dash 5K Age Group Results\n\nDisco Dash 5K Overall Results
URL:https://www.racetime.info/event/st-george-spooky-sprint-5k-3/
LOCATION:St. George School\, 6700 W. 176th Street\, Tinley Park\, IL\, 60477\, United States
CATEGORIES:2019-09 Results (September)
ORGANIZER;CN="Marie Lewis":MAILTO:marieradtke@yahoo.com
GEO:41.5722754;-87.7821722
X-APPLE-STRUCTURED-LOCATION;VALUE=URI;X-ADDRESS=St. George School 6700 W. 176th Street Tinley Park IL 60477 United States;X-APPLE-RADIUS=500;X-TITLE=6700 W. 176th Street:geo:-87.7821722,41.5722754
END:VEVENT
BEGIN:VEVENT
DTSTART;TZID=America/Chicago:20190928T090000
DTEND;TZID=America/Chicago:20190928T110000
DTSTAMP:20260423T224951
CREATED:20190809T112644Z
LAST-MODIFIED:20190928T201317Z
UID:10001915-1569661200-1569668400@www.racetime.info
SUMMARY:Frassati Fall 5K Run/Walk & Kids 1 Mile Fun Run
DESCRIPTION:Frassati 5K Age Group Results\n\nFrassati 5K Overall Results
URL:https://www.racetime.info/event/frassati-fall-5k-run-walk-kids-1-mile-fun-run/
LOCATION:Lakewood Forest Preserve\, 27277 North Forest Preserve Road\, Wauconda\, IL\, 60084\, United States
CATEGORIES:2019-09 Results (September)
ORGANIZER;CN="Tammy Kleckner":MAILTO:tkleckner@frassaticatholicacademy.org
GEO:42.2595783;-88.1078489
X-APPLE-STRUCTURED-LOCATION;VALUE=URI;X-ADDRESS=Lakewood Forest Preserve 27277 North Forest Preserve Road Wauconda IL 60084 United States;X-APPLE-RADIUS=500;X-TITLE=27277 North Forest Preserve Road:geo:-88.1078489,42.2595783
END:VEVENT
BEGIN:VEVENT
DTSTART;TZID=America/Chicago:20190928T090000
DTEND;TZID=America/Chicago:20190928T110000
DTSTAMP:20260423T224951
CREATED:20190807T122259Z
LAST-MODIFIED:20190928T201155Z
UID:10001914-1569661200-1569668400@www.racetime.info
SUMMARY:Sabre Sprint 5K Run/Walk
DESCRIPTION:Sabre Sprint 5K Age Group Results\n\nSabre Sprint 5K Overall Results
URL:https://www.racetime.info/event/sabre-sprint-5k-run-walk/
LOCATION:St. Albert The Great School\, 5535 West State Road\, Burbank\, IL\, 60459\, United States
CATEGORIES:2019-09 Results (September)
ORGANIZER;CN="Roxanne Rosas":MAILTO:rtagle77@hotmail.com
GEO:41.7470334;-87.7590577
X-APPLE-STRUCTURED-LOCATION;VALUE=URI;X-ADDRESS=St. Albert The Great School 5535 West State Road Burbank IL 60459 United States;X-APPLE-RADIUS=500;X-TITLE=5535 West State Road:geo:-87.7590577,41.7470334
END:VEVENT
BEGIN:VEVENT
DTSTART;TZID=America/Chicago:20190928T090000
DTEND;TZID=America/Chicago:20190928T110000
DTSTAMP:20260423T224951
CREATED:20180711T174611Z
LAST-MODIFIED:20190928T201012Z
UID:10001811-1569661200-1569668400@www.racetime.info
SUMMARY:Cancer Schmancer 5K Run/Walk
DESCRIPTION:Cancer Schmancer 5K Overall Results
URL:https://www.racetime.info/event/cancer-schmancer-5k-run-walk-2/
LOCATION:Rollins Savanna\, 20160 W. Washington Street\, Grayslake\, IL\, 60030\, United States
CATEGORIES:2019-09 Results (September)
ORGANIZER;CN="Megan Leider":MAILTO:megan@martileiderfound.org
GEO:42.3603267;-88.0266379
X-APPLE-STRUCTURED-LOCATION;VALUE=URI;X-ADDRESS=Rollins Savanna 20160 W. Washington Street Grayslake IL 60030 United States;X-APPLE-RADIUS=500;X-TITLE=20160 W. Washington Street:geo:-88.0266379,42.3603267
END:VEVENT
BEGIN:VEVENT
DTSTART;TZID=America/Chicago:20190928T090000
DTEND;TZID=America/Chicago:20190928T110000
DTSTAMP:20260423T224951
CREATED:20170829T184956Z
LAST-MODIFIED:20190928T200904Z
UID:10001604-1569661200-1569668400@www.racetime.info
SUMMARY:Morris Corn Fest 5K Run/Walk\, 1/2 Youth Fun Run and Tot Trot
DESCRIPTION:Race Cancelled Due to Flooding
URL:https://www.racetime.info/event/morris-corn-fest-5k-run-walk-and-tot-trot-2/
LOCATION:Morris Elementary School\, 2001 DuPont Avenue\, Morris\, IL\, 60450\, United States
CATEGORIES:2019-09 Results (September)
ORGANIZER;CN="Rebecca Evola":MAILTO:revola@morrishospital.org
GEO:41.3666063;-88.4509794
X-APPLE-STRUCTURED-LOCATION;VALUE=URI;X-ADDRESS=Morris Elementary School 2001 DuPont Avenue Morris IL 60450 United States;X-APPLE-RADIUS=500;X-TITLE=2001 DuPont Avenue:geo:-88.4509794,41.3666063
END:VEVENT
BEGIN:VEVENT
DTSTART;TZID=America/Chicago:20190928T090000
DTEND;TZID=America/Chicago:20190928T110000
DTSTAMP:20260423T224951
CREATED:20170829T181451Z
LAST-MODIFIED:20190928T200608Z
UID:10000766-1569661200-1569668400@www.racetime.info
SUMMARY:District 91 Education Foundation 5K Run/Walk
DESCRIPTION:D91 Dash 5K Age Group Results\n\nD91 Dash 5K Overall Results
URL:https://www.racetime.info/event/district-91-education-foundation-5k-run-walk-2/
LOCATION:Kelvin Grove School\, 808 Adams Street\, Lockport\, IL\, 60441\, United States
CATEGORIES:2019-09 Results (September)
ORGANIZER;CN="Lia Ditter":MAILTO:lditter@d91.et
GEO:41.5879962;-88.0412931
X-APPLE-STRUCTURED-LOCATION;VALUE=URI;X-ADDRESS=Kelvin Grove School 808 Adams Street Lockport IL 60441 United States;X-APPLE-RADIUS=500;X-TITLE=808 Adams Street:geo:-88.0412931,41.5879962
END:VEVENT
BEGIN:VEVENT
DTSTART;TZID=America/Chicago:20190928T083000
DTEND;TZID=America/Chicago:20190928T130000
DTSTAMP:20260423T224951
CREATED:20170830T212530Z
LAST-MODIFIED:20190930T180619Z
UID:10001630-1569659400-1569675600@www.racetime.info
SUMMARY:Moraine Hills Run For The Hills 5K\, 10K & Half Marathon
DESCRIPTION:Moraine Hills 5K Age Group Results\n\nMoraine Hills 5K Overall Results\n\nMoraine Hills 10K Age Group Results\n\nMoraine Hills 10K Overall Results\n\nMoraine Hills Half Marathon Age Group Results\n\nMoraine Hills Half Marathon Overall Results
URL:https://www.racetime.info/event/moraine-hills-run-for-the-hills-5k-10k-half-marathon-3/
LOCATION:Moraine Hills State Park\, 1510 S. River Road\, McHenry\, IL\, 60051\, United States
CATEGORIES:2019-09 Results (September)
ORGANIZER;CN="Doug Foland":MAILTO:dpfoland@sbcglobal.net
GEO:42.3097539;-88.2276231
X-APPLE-STRUCTURED-LOCATION;VALUE=URI;X-ADDRESS=Moraine Hills State Park 1510 S. River Road McHenry IL 60051 United States;X-APPLE-RADIUS=500;X-TITLE=1510 S. River Road:geo:-88.2276231,42.3097539
END:VEVENT
BEGIN:VEVENT
DTSTART;TZID=America/Chicago:20190928T080000
DTEND;TZID=America/Chicago:20190928T110000
DTSTAMP:20260423T224951
CREATED:20170613T114737Z
LAST-MODIFIED:20190928T195629Z
UID:10001458-1569657600-1569668400@www.racetime.info
SUMMARY:Pokanoka's 10K Trail Run & 1.8 Mile Walk
DESCRIPTION:Pokanoka’s 1.8 Mile Walk Results\n\nPokanoka’s 10K Age Group Results\n\nPokanoka’s 10K Overall Results
URL:https://www.racetime.info/event/pokanokas-10k-trail-run/
LOCATION:Shabbona Lake State Park\, 100 E. Preserve Road\, Shabbona\, IL\, 60550\, United States
CATEGORIES:2019-09 Results (September)
ORGANIZER;CN="Denny Sands":MAILTO:san8dn@aol.com
GEO:41.759148;-88.8699532
X-APPLE-STRUCTURED-LOCATION;VALUE=URI;X-ADDRESS=Shabbona Lake State Park 100 E. Preserve Road Shabbona IL 60550 United States;X-APPLE-RADIUS=500;X-TITLE=100 E. Preserve Road:geo:-88.8699532,41.759148
END:VEVENT
BEGIN:VEVENT
DTSTART;TZID=America/Chicago:20190922T080000
DTEND;TZID=America/Chicago:20190922T113000
DTSTAMP:20260423T224951
CREATED:20190910T123449Z
LAST-MODIFIED:20190922T185507Z
UID:10001917-1569139200-1569151800@www.racetime.info
SUMMARY:Gigi's Playhouse 5K & 1 Mile Run/Walk
DESCRIPTION:Gigi’s Glazin’ The Trail 5K Age Group Results\n\nGigi’s Glazin’ The Trail 5K Overall Results
URL:https://www.racetime.info/event/gigis-playhouse-5k-1-mile-run-walk/
LOCATION:Midlothian Meadows Forest Preserve\, 15498 Crawford Avenue\, Cook County\, IL\, 60428\, United States
CATEGORIES:2019-09 Results (September)
ORGANIZER;CN="Julie Pearson":MAILTO:racetime21@hotmail.com
END:VEVENT
BEGIN:VEVENT
DTSTART;TZID=America/Chicago:20190921T093000
DTEND;TZID=America/Chicago:20190921T120000
DTSTAMP:20260423T224951
CREATED:20180830T190607Z
LAST-MODIFIED:20190921T185251Z
UID:10001835-1569058200-1569067200@www.racetime.info
SUMMARY:Salt Creek Kids Obstacle Race
DESCRIPTION:Salt Creek Youth Obstacle Age Group Results\n\nSalt Creek Youth Obstacle Overall Results
URL:https://www.racetime.info/event/salt-creek-kids-obstacle-race-2/
LOCATION:Twin Lakes Golf Course & Recreation Center\, 1200 E. Twin Lakes Drive\, Palatine\, IL\, 60074\, United States
CATEGORIES:2019-09 Results (September)
ORGANIZER;CN="Jody Dodson":MAILTO:jdodson@saltcreekpd.com
GEO:42.1048792;-88.0145113
X-APPLE-STRUCTURED-LOCATION;VALUE=URI;X-ADDRESS=Twin Lakes Golf Course & Recreation Center 1200 E. Twin Lakes Drive Palatine IL 60074 United States;X-APPLE-RADIUS=500;X-TITLE=1200 E. Twin Lakes Drive:geo:-88.0145113,42.1048792
END:VEVENT
BEGIN:VEVENT
DTSTART;TZID=America/Indiana/Indianapolis:20190921T090000
DTEND;TZID=America/Indiana/Indianapolis:20190921T230000
DTSTAMP:20260423T224951
CREATED:20170315T203715Z
LAST-MODIFIED:20190921T201305Z
UID:10001211-1569056400-1569106800@www.racetime.info
SUMMARY:Doggie Dash & Dawdle 5K & 1 Mile Run/Walk
DESCRIPTION:Doggie Dash & Dawdle 5K Age Group Results\n\nDoggie Dash & Dawdle 5K Overall Results
URL:https://www.racetime.info/event/doggie-dash-dawdle-5k-1-mile-run-walk-2/
LOCATION:Attica Elementary School\, 500 E. Washington Street\, Attica\, IL\, 47918\, United States
CATEGORIES:2019-09 Results (September)
ORGANIZER;CN="Patricia Hargan":MAILTO:phargan19@gmail.com
GEO:40.2901968;-87.2433914
X-APPLE-STRUCTURED-LOCATION;VALUE=URI;X-ADDRESS=Attica Elementary School 500 E. Washington Street Attica IL 47918 United States;X-APPLE-RADIUS=500;X-TITLE=500 E. Washington Street:geo:-87.2433914,40.2901968
END:VEVENT
BEGIN:VEVENT
DTSTART;TZID=America/Chicago:20190921T090000
DTEND;TZID=America/Chicago:20190921T110000
DTSTAMP:20260423T224951
CREATED:20180207T132954Z
LAST-MODIFIED:20190921T185051Z
UID:10001734-1569056400-1569063600@www.racetime.info
SUMMARY:Mesothelioma Race for Justice 5K Run/Walk
DESCRIPTION:Run For Justice 5K Age Group Results\n\nRun For Justice 5K Overall Results
URL:https://www.racetime.info/event/mesothelioma-race-for-justice-5k-run-walk-2/
LOCATION:Half Day Forest Preserve of Lake County\, 24255 N. Highway 22\, Vernon Hills\, IL\, 60061\, United States
CATEGORIES:2019-09 Results (September)
ORGANIZER;CN="Sasha Shapsis":MAILTO:sshapsis@vogelzanglaw.com
GEO:42.1959154;-87.9592353
X-APPLE-STRUCTURED-LOCATION;VALUE=URI;X-ADDRESS=Half Day Forest Preserve of Lake County 24255 N. Highway 22 Vernon Hills IL 60061 United States;X-APPLE-RADIUS=500;X-TITLE=24255 N. Highway 22:geo:-87.9592353,42.1959154
END:VEVENT
BEGIN:VEVENT
DTSTART;TZID=America/Chicago:20190921T090000
DTEND;TZID=America/Chicago:20190921T110000
DTSTAMP:20260423T224951
CREATED:20170829T185620Z
LAST-MODIFIED:20190921T184921Z
UID:10001612-1569056400-1569063600@www.racetime.info
SUMMARY:Miles For James: Head for Safety 5K Run/Walk and Kids Dash
DESCRIPTION:MFJ Head For Safety 5K Age Group Results\n\nMFJ Head For Safety 5K Overall Results\n\nMFJ Head For Safety 5K Team Results
URL:https://www.racetime.info/event/miles-for-james-head-for-safety-5k-run-walk-and-kids-dash/
LOCATION:Family Harvest Church\, 18500 92nd Avenue\, Tinley Park\, IL\, 60487\, United States
CATEGORIES:2019-09 Results (September)
ORGANIZER;CN="Joni Javier":MAILTO:info@milesforjames.com
GEO:41.5543733;-87.8430733
X-APPLE-STRUCTURED-LOCATION;VALUE=URI;X-ADDRESS=Family Harvest Church 18500 92nd Avenue Tinley Park IL 60487 United States;X-APPLE-RADIUS=500;X-TITLE=18500 92nd Avenue:geo:-87.8430733,41.5543733
END:VEVENT
BEGIN:VEVENT
DTSTART;TZID=America/Chicago:20190921T083000
DTEND;TZID=America/Chicago:20190921T103000
DTSTAMP:20260423T224951
CREATED:20180427T155830Z
LAST-MODIFIED:20190921T184609Z
UID:10001769-1569054600-1569061800@www.racetime.info
SUMMARY:Stop\, Drop and Run 5K Run/Walk
DESCRIPTION:Stop\, Drop & Run 5K Age Group Results\n\nStop\, Drop & Run 5K Overall Results
URL:https://www.racetime.info/event/stop-drop-and-run-5k-run-walk-2/
LOCATION:Naperville Public Safety Campus\, 1320 Aurora Avenue\, Naperville\, IL\, 60540\, United States
CATEGORIES:2019-09 Results (September)
ORGANIZER;CN="Soraya McLaughlin":MAILTO:soraya.mclaughlin@naperville.il.us
GEO:41.7665143;-88.1749917
X-APPLE-STRUCTURED-LOCATION;VALUE=URI;X-ADDRESS=Naperville Public Safety Campus 1320 Aurora Avenue Naperville IL 60540 United States;X-APPLE-RADIUS=500;X-TITLE=1320 Aurora Avenue:geo:-88.1749917,41.7665143
END:VEVENT
BEGIN:VEVENT
DTSTART;TZID=America/Chicago:20190921T080000
DTEND;TZID=America/Chicago:20190921T110000
DTSTAMP:20260423T224951
CREATED:20170521T112115Z
LAST-MODIFIED:20190921T184148Z
UID:10000597-1569052800-1569063600@www.racetime.info
SUMMARY:Hyde Park Breast Cancer 5K Run/Walk
DESCRIPTION:Hyde Park 5K Age Group Results\n\nHyde Park 5K Overall Results
URL:https://www.racetime.info/event/hyde-park-breast-cancer-5k-run-walk-2/
LOCATION:Hyde Park\, 5200 S. Hyde Park Blvd\, Chicago\, IL\, United States
CATEGORIES:2019-09 Results (September)
ORGANIZER;CN="Ontisar Freelain":MAILTO:ofreelain@hydepark5k.org
GEO:41.8008885;-87.5850354
X-APPLE-STRUCTURED-LOCATION;VALUE=URI;X-ADDRESS=Hyde Park 5200 S. Hyde Park Blvd Chicago IL United States;X-APPLE-RADIUS=500;X-TITLE=5200 S. Hyde Park Blvd:geo:-87.5850354,41.8008885
END:VEVENT
BEGIN:VEVENT
DTSTART;TZID=America/Chicago:20190921T080000
DTEND;TZID=America/Chicago:20190921T103000
DTSTAMP:20260423T224951
CREATED:20190603T181227Z
LAST-MODIFIED:20190921T184325Z
UID:10001891-1569052800-1569061800@www.racetime.info
SUMMARY:Run For The Round Barn 5K & Round Barn Rumble 1 Mile
DESCRIPTION:Run For The Round Barn Youth Mile Age Group Results\n\nRun For The Round Barn Youth Mile Overall Results\n\nRun For The Round Barn 5K Age Group Results\n\nRun For The Round Barn 5K Overall Results
URL:https://www.racetime.info/event/run-for-the-round-barn-5k-round-barn-rumble-1-mile/
LOCATION:Round Barn Farm\, 24115 US 52\, Manhattan\, IL\, 60442\, United States
CATEGORIES:2019-09 Results (September)
ORGANIZER;CN="Jake Kaplan":MAILTO:jkaplan@manhattanparks.rg
END:VEVENT
BEGIN:VEVENT
DTSTART;TZID=America/Chicago:20190921T080000
DTEND;TZID=America/Chicago:20190921T100000
DTSTAMP:20260423T224951
CREATED:20170715T100118Z
LAST-MODIFIED:20190921T184433Z
UID:10001538-1569052800-1569060000@www.racetime.info
SUMMARY:Makin' Tracks 5K Run/Walk
DESCRIPTION:Makin’ Tracks 5K Age Group Results\n\nMakin’ Tracks 5K Overall Results
URL:https://www.racetime.info/event/makin-tracks-5k-run-walk-2/
LOCATION:Concordia University Chicago\, 7400 Augusta Street\, River Forest\, IL\, 60305\, United States
CATEGORIES:2019-09 Results (September)
ORGANIZER;CN="Karen Stille":MAILTO:kstille@rfparks.com 
GEO:41.8982348;-87.8095144
X-APPLE-STRUCTURED-LOCATION;VALUE=URI;X-ADDRESS=Concordia University Chicago 7400 Augusta Street River Forest IL 60305 United States;X-APPLE-RADIUS=500;X-TITLE=7400 Augusta Street:geo:-87.8095144,41.8982348
END:VEVENT
BEGIN:VEVENT
DTSTART;TZID=America/Chicago:20190920T070000
DTEND;TZID=America/Chicago:20190920T080000
DTSTAMP:20260423T224951
CREATED:20190920T153158Z
LAST-MODIFIED:20190920T153158Z
UID:10001920-1568962800-1568966400@www.racetime.info
SUMMARY:Vituity 5K Run/Walk
DESCRIPTION:Vituity 5K Age Group Results\n\nVituity 5K Overall Results
URL:https://www.racetime.info/event/vituity-5k-run-walk/
CATEGORIES:2019-09 Results (September)
END:VEVENT
BEGIN:VEVENT
DTSTART;TZID=America/Chicago:20190916T190000
DTEND;TZID=America/Chicago:20190916T203000
DTSTAMP:20260423T224951
CREATED:20180821T020824Z
LAST-MODIFIED:20190917T034302Z
UID:10001825-1568660400-1568665800@www.racetime.info
SUMMARY:Chase The Moon 5K Run/Walk
DESCRIPTION:Chase The Moon 5K Overall Results
URL:https://www.racetime.info/event/chase-the-moon-5k-run-walk-2/
LOCATION:Steeple Chase Golf Club\, 200 N. LaVista Drive\, Mundelein\, IL\, 60060\, United States
CATEGORIES:2019-09 Results (September)
ORGANIZER;CN="Matt LaPorte":MAILTO:mlaporte@mundeleinparks.org
GEO:42.2637514;-88.0543047
X-APPLE-STRUCTURED-LOCATION;VALUE=URI;X-ADDRESS=Steeple Chase Golf Club 200 N. LaVista Drive Mundelein IL 60060 United States;X-APPLE-RADIUS=500;X-TITLE=200 N. LaVista Drive:geo:-88.0543047,42.2637514
END:VEVENT
BEGIN:VEVENT
DTSTART;TZID=America/Chicago:20190915T083000
DTEND;TZID=America/Chicago:20190915T100000
DTSTAMP:20260423T224951
CREATED:20180823T172421Z
LAST-MODIFIED:20190915T153314Z
UID:10001827-1568536200-1568541600@www.racetime.info
SUMMARY:Halfway to St. Paddy's Day 5K & Kids Dash
DESCRIPTION:Halfway To St. Paddy’s Day 5K Age Group Results\n\nHalfway To St. Paddy’s Day 5K Overall Results
URL:https://www.racetime.info/event/halfway-to-st-paddys-day-5k-kids-dash-2/
LOCATION:Community Center\, 3705 Pheasant Drive\, Rolling Meadows\, 60008\, United States
CATEGORIES:2019-09 Results (September)
ORGANIZER;CN="Will Lieb":MAILTO:wlieb@rmparks.org
GEO:42.0709017;-88.0202574
X-APPLE-STRUCTURED-LOCATION;VALUE=URI;X-ADDRESS=Community Center 3705 Pheasant Drive Rolling Meadows 60008 United States;X-APPLE-RADIUS=500;X-TITLE=3705 Pheasant Drive:geo:-88.0202574,42.0709017
END:VEVENT
BEGIN:VEVENT
DTSTART;TZID=America/Chicago:20190914T193000
DTEND;TZID=America/Chicago:20190914T210000
DTSTAMP:20260423T224951
CREATED:20170801T111942Z
LAST-MODIFIED:20190915T025825Z
UID:10001569-1568489400-1568494800@www.racetime.info
SUMMARY:Dash in the Dark 5K
DESCRIPTION:Dash In The Dark 5K Age Group Results\n\nDash In The Dark 5K Overall Results
URL:https://www.racetime.info/event/dash-in-the-dark-5k-4/
LOCATION:Pottawatomi Park\, 8 North Avenue\, St. Charles\, IL\, 60174\, United States
CATEGORIES:2019-09 Results (September)
ORGANIZER;CN="Ryan Crawford":MAILTO:rcrawford@sd129.org
GEO:41.9210527;-88.3158804
X-APPLE-STRUCTURED-LOCATION;VALUE=URI;X-ADDRESS=Pottawatomi Park 8 North Avenue St. Charles IL 60174 United States;X-APPLE-RADIUS=500;X-TITLE=8 North Avenue:geo:-88.3158804,41.9210527
END:VEVENT
BEGIN:VEVENT
DTSTART;TZID=America/Chicago:20190914T090000
DTEND;TZID=America/Chicago:20190914T110000
DTSTAMP:20260423T224951
CREATED:20190502T130759Z
LAST-MODIFIED:20190914T190701Z
UID:10001061-1568451600-1568458800@www.racetime.info
SUMMARY:Strutt Your Mutt 5K Run & 2K Family Walk
DESCRIPTION:Strut Your Mutt 5K Age Group Results\n\nStrut Your Mutt 5K Overall Results
URL:https://www.racetime.info/event/strutt-your-mutt-5k-run-2k-family-walk/
LOCATION:Old School Forest Preserve\, St. Mary's Road\, Libertyville\, IL\, 60048\, United States
CATEGORIES:2019-09 Results (September)
ORGANIZER;CN="Lisa Wernli":MAILTO:info@canines4comfort.org
GEO:42.2902329;-87.9248759
X-APPLE-STRUCTURED-LOCATION;VALUE=URI;X-ADDRESS=Old School Forest Preserve St. Mary's Road Libertyville IL 60048 United States;X-APPLE-RADIUS=500;X-TITLE=St. Mary's Road:geo:-87.9248759,42.2902329
END:VEVENT
BEGIN:VEVENT
DTSTART;TZID=America/Chicago:20190914T080000
DTEND;TZID=America/Chicago:20190914T170000
DTSTAMP:20260423T224951
CREATED:20180503T115514Z
LAST-MODIFIED:20190915T221813Z
UID:10000961-1568448000-1568480400@www.racetime.info
SUMMARY:Lions Heritage Fest 5K Run & 1.6 Mile Walk
DESCRIPTION:Lions Heritage Fest 1.6 Mile Overall Results\n\nLions Heritage Fest 5K Age Group Results\n\nLions Heritage Fest 5K Overall Results
URL:https://www.racetime.info/event/lions-heritage-fest-5k-run-1-6-mile-walk-2/
LOCATION:Downtown West Dundee\, Oregon Avenue and South 1st Street\, West Dundee\, IL\, 60118\, United States
CATEGORIES:2019-09 Results (September)
ORGANIZER;CN="Edward Bates":MAILTO:lionsheritagefest5k@gmail.com
END:VEVENT
BEGIN:VEVENT
DTSTART;TZID=America/Chicago:20190914T080000
DTEND;TZID=America/Chicago:20190914T100000
DTSTAMP:20260423T224951
CREATED:20180328T104530Z
LAST-MODIFIED:20190916T183410Z
UID:10000939-1568448000-1568455200@www.racetime.info
SUMMARY:Marisa's Purpose Run To Recovery 5K
DESCRIPTION:Marisa’s Purpose Run For Hope 5K Age Group Results\n\nMarisa’s Purpose Run For Hope 5K Overall Results
URL:https://www.racetime.info/event/marisas-purpose-run-to-recovery-5k-2/
LOCATION:Allerton Park & Retreat Center\, 515 Old Timber Road\, Monticello\, IL\, 61856\, United States
CATEGORIES:2019-09 Results (September)
ORGANIZER;CN="Connie Gyorr":MAILTO:marisaspurpose@gmail.com
GEO:40.026603;-88.570234
X-APPLE-STRUCTURED-LOCATION;VALUE=URI;X-ADDRESS=Allerton Park & Retreat Center 515 Old Timber Road Monticello IL 61856 United States;X-APPLE-RADIUS=500;X-TITLE=515 Old Timber Road:geo:-88.570234,40.026603
END:VEVENT
BEGIN:VEVENT
DTSTART;TZID=America/Chicago:20190914T080000
DTEND;TZID=America/Chicago:20190914T100000
DTSTAMP:20260423T224951
CREATED:20170224T132836Z
LAST-MODIFIED:20190914T190337Z
UID:10001073-1568448000-1568455200@www.racetime.info
SUMMARY:Run The Shores at Lake Barrington 5K & 1 Mile
DESCRIPTION:Lake Barrington Run The Shores 1 Mile Walk Overall Results\n\nLake Barrington Run The Shores 5K Age Group Results\n\nLake Barrington Run The Shores 5K Overall Results
URL:https://www.racetime.info/event/run-the-shores-at-lake-barrington-5k-1-mile-3/
LOCATION:Lake Barrington Shores\, 5035 Shoreline Road\, Lake Barrington\, IL\, 60010\, United States
CATEGORIES:2019-09 Results (September)
ORGANIZER;CN="Jamie Scheppman":MAILTO:jscheppman@fsresidential.com
GEO:42.2275301;-88.1459508
X-APPLE-STRUCTURED-LOCATION;VALUE=URI;X-ADDRESS=Lake Barrington Shores 5035 Shoreline Road Lake Barrington IL 60010 United States;X-APPLE-RADIUS=500;X-TITLE=5035 Shoreline Road:geo:-88.1459508,42.2275301
END:VEVENT
BEGIN:VEVENT
DTSTART;TZID=America/Chicago:20190914T070000
DTEND;TZID=America/Chicago:20190914T110000
DTSTAMP:20260423T224951
CREATED:20190710T023601Z
LAST-MODIFIED:20190914T182902Z
UID:10001076-1568444400-1568458800@www.racetime.info
SUMMARY:Lincolnway Half Marathon & 10K
DESCRIPTION:Lincoln-Way 10K Age Group Results\n\nLincoln-Way 10K Overall Results\n\nLincoln-Way Half Marathon Age Group Results\n\nLincoln-Way Half Marathon Overall Results
URL:https://www.racetime.info/event/lincolnway-half-marathon-10k/
LOCATION:Breidert Green Park\, 432 W. Nebraska\, Frankfort\, IL\, 60423\, United States
CATEGORIES:2019-09 Results (September)
ORGANIZER;CN="Robert Kennedy":MAILTO:robert.kennedy@lw210.org
GEO:41.4974227;-87.8607917
X-APPLE-STRUCTURED-LOCATION;VALUE=URI;X-ADDRESS=Breidert Green Park 432 W. Nebraska Frankfort IL 60423 United States;X-APPLE-RADIUS=500;X-TITLE=432 W. Nebraska:geo:-87.8607917,41.4974227
END:VEVENT
BEGIN:VEVENT
DTSTART;TZID=America/Chicago:20190914T070000
DTEND;TZID=America/Chicago:20190914T110000
DTSTAMP:20260423T224951
CREATED:20170822T121606Z
LAST-MODIFIED:20190917T035108Z
UID:10001586-1568444400-1568458800@www.racetime.info
SUMMARY:Heritage Haul: 5K; 10K & Half Marathon
DESCRIPTION:Heritage Haul 5K Walk Age Group Results\n\nHeritage Haul 5K Walk Overall Results\n\nHeritage Haul 5K Run Age Group Results\n\nHeritage Haul 5K Run Overall Results\n\nHeritage Haul 10K Run Age Group Results\n\nHeritage Haul 10K Run Overall Results\n\nHeritage Haul Half Marathon Age Group Results\n\ntarget=”_blank”Heritage Haul Half Marathon Overall Results
URL:https://www.racetime.info/event/heritage-haul-5k-10k-half-marathon/
LOCATION:Veterans Memorial Park\, 520 E. 160th Place\, South Holland\, IL\, 60444\, United States
CATEGORIES:2019-09 Results (September)
ORGANIZER;CN="Will Neibert":MAILTO:wneibert@southholland.org
GEO:41.6042926;-87.6034342
X-APPLE-STRUCTURED-LOCATION;VALUE=URI;X-ADDRESS=Veterans Memorial Park 520 E. 160th Place South Holland IL 60444 United States;X-APPLE-RADIUS=500;X-TITLE=520 E. 160th Place:geo:-87.6034342,41.6042926
END:VEVENT
END:VCALENDAR