BEGIN:VCALENDAR
VERSION:2.0
PRODID:-//Race Time - ECPv6.15.13//NONSGML v1.0//EN
CALSCALE:GREGORIAN
METHOD:PUBLISH
X-ORIGINAL-URL:https://www.racetime.info
X-WR-CALDESC:Events for Race Time
REFRESH-INTERVAL;VALUE=DURATION:PT1H
X-Robots-Tag:noindex
X-PUBLISHED-TTL:PT1H
BEGIN:VTIMEZONE
TZID:America/Chicago
BEGIN:DAYLIGHT
TZOFFSETFROM:-0600
TZOFFSETTO:-0500
TZNAME:CDT
DTSTART:20180311T080000
END:DAYLIGHT
BEGIN:STANDARD
TZOFFSETFROM:-0500
TZOFFSETTO:-0600
TZNAME:CST
DTSTART:20181104T070000
END:STANDARD
BEGIN:DAYLIGHT
TZOFFSETFROM:-0600
TZOFFSETTO:-0500
TZNAME:CDT
DTSTART:20190310T080000
END:DAYLIGHT
BEGIN:STANDARD
TZOFFSETFROM:-0500
TZOFFSETTO:-0600
TZNAME:CST
DTSTART:20191103T070000
END:STANDARD
BEGIN:DAYLIGHT
TZOFFSETFROM:-0600
TZOFFSETTO:-0500
TZNAME:CDT
DTSTART:20200308T080000
END:DAYLIGHT
BEGIN:STANDARD
TZOFFSETFROM:-0500
TZOFFSETTO:-0600
TZNAME:CST
DTSTART:20201101T070000
END:STANDARD
END:VTIMEZONE
BEGIN:VEVENT
DTSTART;TZID=America/Chicago:20191026T090000
DTEND;TZID=America/Chicago:20191026T110000
DTSTAMP:20260423T224947
CREATED:20180118T204235Z
LAST-MODIFIED:20191026T183830Z
UID:10000899-1572080400-1572087600@www.racetime.info
SUMMARY:Spooktacular Ruff Run 5K & 1 Mile Dog Walk
DESCRIPTION:Spooktacular Ruff Run 5K Age Group Results\n\nSpooktacular Ruff Run 5K Overall Results
URL:https://www.racetime.info/event/ruff-run-5k-1-mile-dog-walk-2/
LOCATION:Mistwood Golf Club\, 1700 West Renwick Road\, Romeoville\, IL\, 60446\, United States
CATEGORIES:2019-10 Results (October)
ORGANIZER;CN="Brittany Johnston":MAILTO:bjohnston@mistwoodgc.com
GEO:41.5955328;-88.1433196
X-APPLE-STRUCTURED-LOCATION;VALUE=URI;X-ADDRESS=Mistwood Golf Club 1700 West Renwick Road Romeoville IL 60446 United States;X-APPLE-RADIUS=500;X-TITLE=1700 West Renwick Road:geo:-88.1433196,41.5955328
END:VEVENT
BEGIN:VEVENT
DTSTART;TZID=America/Chicago:20191026T090000
DTEND;TZID=America/Chicago:20191026T110000
DTSTAMP:20260423T224947
CREATED:20170818T030451Z
LAST-MODIFIED:20191026T183727Z
UID:10000762-1572080400-1572087600@www.racetime.info
SUMMARY:Howl Through The Hills 5K Run/Walk & Kids Fun Run
DESCRIPTION:Howl Through The Hills 5K Age Group Results\n\nHowl Through The Hills 5K Overall Results
URL:https://www.racetime.info/event/howl-through-the-hills-5k-run-walk-kids-fun-run-2/
LOCATION:Hickory Hills City Hall\, 8652 West 95th Street\, Hickory Hills\, IL\, 60457\, United States
CATEGORIES:2019-10 Results (October)
ORGANIZER;CN="Mary Esposito":MAILTO:mesposito@hickoryhillsil.org
GEO:41.7185263;-87.8344458
X-APPLE-STRUCTURED-LOCATION;VALUE=URI;X-ADDRESS=Hickory Hills City Hall 8652 West 95th Street Hickory Hills IL 60457 United States;X-APPLE-RADIUS=500;X-TITLE=8652 West 95th Street:geo:-87.8344458,41.7185263
END:VEVENT
BEGIN:VEVENT
DTSTART;TZID=America/Chicago:20191026T083000
DTEND;TZID=America/Chicago:20191026T230000
DTSTAMP:20260423T224947
CREATED:20170723T101133Z
LAST-MODIFIED:20191109T193836Z
UID:10001543-1572078600-1572130800@www.racetime.info
SUMMARY:St. Bede Halloween Hustle: 10K Run\, 5K &1 Mile Run/Walk
DESCRIPTION:St. Bede Halloween Hustle 1 Mile Overall Results\n\nSt. Bede Halloween Hustle 5K Age Group Results\n\nSt. Bede Halloween Hustle 5K Overall Results\n\nSt. Bede Halloween Hustle 10K Age Group Results\n\nSt. Bede Halloween Hustle 10K Overall Results\n\nSt. Bede Halloween Hustle Dog Results
URL:https://www.racetime.info/event/st-bede-halloween-hustle-10k-run-5k-1-mile-run-walk-2/
LOCATION:Grant Woods Forest Preserve\, 25405 West Monaville Road\, Ingleside\, IL\, 60041\, United States
CATEGORIES:2019-10 Results (October)
ORGANIZER;CN="Tina Lutzke":MAILTO:tinalutzke@hotmail.com
GEO:42.399051;-88.128126
X-APPLE-STRUCTURED-LOCATION;VALUE=URI;X-ADDRESS=Grant Woods Forest Preserve 25405 West Monaville Road Ingleside IL 60041 United States;X-APPLE-RADIUS=500;X-TITLE=25405 West Monaville Road:geo:-88.128126,42.399051
END:VEVENT
BEGIN:VEVENT
DTSTART;TZID=America/Chicago:20191026T083000
DTEND;TZID=America/Chicago:20191026T103000
DTSTAMP:20260423T224947
CREATED:20170901T123020Z
LAST-MODIFIED:20191026T183616Z
UID:10000821-1572078600-1572085800@www.racetime.info
SUMMARY:Batavia's United Way Batfest Run: 5K Walk/Run and 10K Run
DESCRIPTION:Bat Fest 5K Age Group Results\n\nBat Fest 5K Overall Results\n\nBat Fest 10K Age Group Results\n\nBat Fest 10K Overall Results
URL:https://www.racetime.info/event/batavias-united-way-batfest-run-5k-walk-run-and-10k-run-2/
LOCATION:Peg Bond Center\, 151 N. Island Avenue\, Batavia\, IL\, 60510\, United States
CATEGORIES:2019-10 Results (October)
ORGANIZER;CN="Melinda Kintz":MAILTO:info@bataviaunitedway.org
GEO:41.853407;-88.3092422
X-APPLE-STRUCTURED-LOCATION;VALUE=URI;X-ADDRESS=Peg Bond Center 151 N. Island Avenue Batavia IL 60510 United States;X-APPLE-RADIUS=500;X-TITLE=151 N. Island Avenue:geo:-88.3092422,41.853407
END:VEVENT
BEGIN:VEVENT
DTSTART;TZID=America/Chicago:20191026T080000
DTEND;TZID=America/Chicago:20191026T103000
DTSTAMP:20260423T224947
CREATED:20180706T174207Z
LAST-MODIFIED:20191026T183234Z
UID:10000985-1572076800-1572085800@www.racetime.info
SUMMARY:St. Gerald Great Pumpkin 5K Run/Walk & Little Pumpkin Obstacle
DESCRIPTION:St. Gerald Great Pumpkin 5K Age Group Results\n\nSt. Gerald Great Pumpkin 5K Overall Results
URL:https://www.racetime.info/event/st-gerald-great-pumpkin-5k-run-walk-little-pumpkin-obstacle/
LOCATION:St. Gerald Parish and School\, 9310 South 55th Court\, Oak Lawn\, IL\, 60453\, United States
CATEGORIES:2019-10 Results (October)
ORGANIZER;CN="Debbie Janicke":MAILTO:development@stgerald.com
GEO:41.7221325;-87.7599577
X-APPLE-STRUCTURED-LOCATION;VALUE=URI;X-ADDRESS=St. Gerald Parish and School 9310 South 55th Court Oak Lawn IL 60453 United States;X-APPLE-RADIUS=500;X-TITLE=9310 South 55th Court:geo:-87.7599577,41.7221325
END:VEVENT
BEGIN:VEVENT
DTSTART;TZID=America/Chicago:20191020T100000
DTEND;TZID=America/Chicago:20191020T120000
DTSTAMP:20260423T224947
CREATED:20160809T011705Z
LAST-MODIFIED:20191020T184710Z
UID:10000290-1571565600-1571572800@www.racetime.info
SUMMARY:Jones College Prep Eagle 5K Run/Walk
DESCRIPTION:JCP Eagles 5K Overall Results\n\nJCP Eagles 5K Results by Division
URL:https://www.racetime.info/event/jones-college-prep-eagle-5k-run-walk-2/
LOCATION:Washington Park\, Pool & Russell Drive\, Chicago\, IL\, United States
CATEGORIES:2019-10 Results (October)
ORGANIZER;CN="Sarah Renz":MAILTO:sarah.renz@friendsofjones.org
GEO:41.7929062;-87.6134155
X-APPLE-STRUCTURED-LOCATION;VALUE=URI;X-ADDRESS=Washington Park Pool & Russell Drive Chicago IL United States;X-APPLE-RADIUS=500;X-TITLE=Pool & Russell Drive:geo:-87.6134155,41.7929062
END:VEVENT
BEGIN:VEVENT
DTSTART;TZID=America/Chicago:20191020T083000
DTEND;TZID=America/Chicago:20191020T103000
DTSTAMP:20260423T224947
CREATED:20191014T175824Z
LAST-MODIFIED:20191020T171613Z
UID:10001927-1571560200-1571567400@www.racetime.info
SUMMARY:Donut/Doggie Dash 5K/10K Run/Walk
DESCRIPTION:Donut Doggie 5K Age Group Results\n\nDonut Doggie 5K Overall Results\n\nDonut Doggie 10K Age Group Results\n\nDonut Doggie 10K Overall Results
URL:https://www.racetime.info/event/donut-doggie-dash-5k-10k-run-walk/
LOCATION:Sandwich Fairgrounds\, 1401 Suydam Road\, Sandwich\, IL\, 60548\, United States
CATEGORIES:2019-10 Results (October)
ORGANIZER;CN="Brandon Knox":MAILTO:brandon.knox.spd@gmail.com
GEO:41.649527;-88.637811
X-APPLE-STRUCTURED-LOCATION;VALUE=URI;X-ADDRESS=Sandwich Fairgrounds 1401 Suydam Road Sandwich IL 60548 United States;X-APPLE-RADIUS=500;X-TITLE=1401 Suydam Road:geo:-88.637811,41.649527
END:VEVENT
BEGIN:VEVENT
DTSTART;TZID=America/Chicago:20191020T080000
DTEND;TZID=America/Chicago:20191020T100000
DTSTAMP:20260423T224947
CREATED:20170604T171307Z
LAST-MODIFIED:20191020T172528Z
UID:10001429-1571558400-1571565600@www.racetime.info
SUMMARY:Run With The Nuns 5K Run/Walk
DESCRIPTION:Run With The Nuns 5K Age Group Results\n\nRun With The Nuns 5K Overall Results
URL:https://www.racetime.info/event/run-with-the-nuns-5k-run-walk-2/
LOCATION:Mt. Assisi Academy\, 13860 Main Street\, Lemont\, IL\, 60439\, United States
CATEGORIES:2019-10 Results (October)
ORGANIZER;CN="Carrie Peters":MAILTO:carriepeters2@sbcglobal.net
GEO:41.685218;-87.981291
X-APPLE-STRUCTURED-LOCATION;VALUE=URI;X-ADDRESS=Mt. Assisi Academy 13860 Main Street Lemont IL 60439 United States;X-APPLE-RADIUS=500;X-TITLE=13860 Main Street:geo:-87.981291,41.685218
END:VEVENT
BEGIN:VEVENT
DTSTART;TZID=America/Chicago:20191019T180000
DTEND;TZID=America/Chicago:20191019T200000
DTSTAMP:20260423T224947
CREATED:20180728T103053Z
LAST-MODIFIED:20191020T032353Z
UID:10001817-1571508000-1571515200@www.racetime.info
SUMMARY:Haunted 5K Run/Walk
DESCRIPTION:Haunted Halloween 5K Age Group Results\n\nHaunted Halloween 5K Overall Results\n\nHaunted Halloween Team Results
URL:https://www.racetime.info/event/haunted-halloween-5k-run-walk-3/
LOCATION:Lowell Park\, 2114 Lowell Park Road\, Dixon\, IL\, 61021\, United States
CATEGORIES:2019-10 Results (October)
ORGANIZER;CN="Teresa Smith":MAILTO:dixonpark2@gmail.com
GEO:41.8905189;-89.4954677
X-APPLE-STRUCTURED-LOCATION;VALUE=URI;X-ADDRESS=Lowell Park 2114 Lowell Park Road Dixon IL 61021 United States;X-APPLE-RADIUS=500;X-TITLE=2114 Lowell Park Road:geo:-89.4954677,41.8905189
END:VEVENT
BEGIN:VEVENT
DTSTART;TZID=America/Chicago:20191019T100000
DTEND;TZID=America/Chicago:20191019T120000
DTSTAMP:20260423T224947
CREATED:20171028T194357Z
LAST-MODIFIED:20191019T175113Z
UID:10001690-1571479200-1571486400@www.racetime.info
SUMMARY:Run The Beat 5K Run/Walk
DESCRIPTION:Run The Beat 5K Age Group Results\n\nRun The Beat 5K Overall Results
URL:https://www.racetime.info/event/run-the-beat-5k-run-walk-2/
LOCATION:Goold Park\, 998 Lisbon\, Morris\, IL\, 60450\, United States
CATEGORIES:2019-10 Results (October)
ORGANIZER;CN="Kelly Thompson":MAILTO:specialconnections1@gmail.com
GEO:41.3646196;-88.4268352
X-APPLE-STRUCTURED-LOCATION;VALUE=URI;X-ADDRESS=Goold Park 998 Lisbon Morris IL 60450 United States;X-APPLE-RADIUS=500;X-TITLE=998 Lisbon:geo:-88.4268352,41.3646196
END:VEVENT
BEGIN:VEVENT
DTSTART;TZID=America/Chicago:20191019T083000
DTEND;TZID=America/Chicago:20191019T110000
DTSTAMP:20260423T224947
CREATED:20170624T113529Z
LAST-MODIFIED:20191019T171847Z
UID:10000684-1571473800-1571482800@www.racetime.info
SUMMARY:One Stride at a Time 5K & 1K Run/Walk
DESCRIPTION:One Stride At Time 5K Age Group Results\n\nOne Stride At Time 5K Overall Results
URL:https://www.racetime.info/event/one-stride-at-a-time-5k-1k-run-walk-2/
LOCATION:Hastings Lake Forest Preserve\, 21155 W. Gelden Road\, Lake Villa\, IL\, 60046\, United States
CATEGORIES:2019-10 Results (October)
ORGANIZER;CN="Karen Wolownik Albert":MAILTO:klwolown@gatewayfoundation.org
GEO:42.43165;-88.045445
X-APPLE-STRUCTURED-LOCATION;VALUE=URI;X-ADDRESS=Hastings Lake Forest Preserve 21155 W. Gelden Road Lake Villa IL 60046 United States;X-APPLE-RADIUS=500;X-TITLE=21155 W. Gelden Road:geo:-88.045445,42.43165
END:VEVENT
BEGIN:VEVENT
DTSTART;TZID=America/Chicago:20191019T083000
DTEND;TZID=America/Chicago:20191019T103000
DTSTAMP:20260423T224947
CREATED:20190816T124744Z
LAST-MODIFIED:20191019T172027Z
UID:10001090-1571473800-1571481000@www.racetime.info
SUMMARY:Bronzeville Bustle 5K Run/Walk
DESCRIPTION:Bronzeville Bustle 5K Overall Results
URL:https://www.racetime.info/event/bronzeville-bustle-5k-run-walk/
LOCATION:KLEO\, 119 East Garfield Blvd\, Chicago\, IL\, 60637\, United States
CATEGORIES:2019-10 Results (October)
ORGANIZER;CN="Joseph Altshuler":MAILTO:hi@couldbearchitecture.com
END:VEVENT
BEGIN:VEVENT
DTSTART;TZID=America/Chicago:20191019T083000
DTEND;TZID=America/Chicago:20191019T103000
DTSTAMP:20260423T224947
CREATED:20170902T182915Z
LAST-MODIFIED:20191019T171939Z
UID:10001656-1571473800-1571481000@www.racetime.info
SUMMARY:St. Christopher 5K Run/Walk
DESCRIPTION:St. Christopher 5K Overall Results
URL:https://www.racetime.info/event/st-christopher-5k-run-walk-2/
LOCATION:St. Christopher School\, 4130 W. 147th Street\, Midlothian\, IL\, 60445\, United States
CATEGORIES:2019-10 Results (October)
ORGANIZER;CN="Joe Alfano":MAILTO:info@stchrisschool.org
GEO:41.6257534;-87.7221261
X-APPLE-STRUCTURED-LOCATION;VALUE=URI;X-ADDRESS=St. Christopher School 4130 W. 147th Street Midlothian IL 60445 United States;X-APPLE-RADIUS=500;X-TITLE=4130 W. 147th Street:geo:-87.7221261,41.6257534
END:VEVENT
BEGIN:VEVENT
DTSTART;TZID=America/Chicago:20191013T170000
DTEND;TZID=America/Chicago:20191013T190000
DTSTAMP:20260423T224947
CREATED:20180824T161600Z
LAST-MODIFIED:20191014T013950Z
UID:10001829-1570986000-1570993200@www.racetime.info
SUMMARY:Light The Way 5K Run/Walk
DESCRIPTION:Light The Way Age Group Results\n\nLight The Way Overall Results
URL:https://www.racetime.info/event/light-the-way-5k-run-walk-2/
LOCATION:Waubonsie Lake Park\, 998 Knautz Road\, Aurora\, IL\, 60504\, United States
CATEGORIES:2019-10 Results (October)
ORGANIZER;CN="Liza Oliva":MAILTO:loliva73@gmail.com
GEO:41.7386015;-88.2619044
X-APPLE-STRUCTURED-LOCATION;VALUE=URI;X-ADDRESS=Waubonsie Lake Park 998 Knautz Road Aurora IL 60504 United States;X-APPLE-RADIUS=500;X-TITLE=998 Knautz Road:geo:-88.2619044,41.7386015
END:VEVENT
BEGIN:VEVENT
DTSTART;TZID=America/Chicago:20191012T094500
DTEND;TZID=America/Chicago:20191012T123000
DTSTAMP:20260423T224947
CREATED:20170530T132928Z
LAST-MODIFIED:20191012T205212Z
UID:10001426-1570873500-1570883400@www.racetime.info
SUMMARY:The Colonel Madden Cross-Town Classic: 3 Mile Cross Country Style Race
DESCRIPTION:Colonel Madden Cross Town Classic 3 Mile Run Age Group Results\n\nColonel Madden Cross Town Classic 3 Mile Run Overall Results
URL:https://www.racetime.info/event/the-colonel-madden-cross-town-classic-3-mile-cross-country-style-race/
LOCATION:Oak Forest High School\, 15201 S. Central Avenue\, Oak Forest\, IL\, United States
CATEGORIES:2019-10 Results (October)
ORGANIZER;CN="Scott Priestman":MAILTO:spriestman@bhsd228.com
GEO:41.6158151;-87.7538819
X-APPLE-STRUCTURED-LOCATION;VALUE=URI;X-ADDRESS=Oak Forest High School 15201 S. Central Avenue Oak Forest IL United States;X-APPLE-RADIUS=500;X-TITLE=15201 S. Central Avenue:geo:-87.7538819,41.6158151
END:VEVENT
BEGIN:VEVENT
DTSTART;TZID=America/Chicago:20191006T100000
DTEND;TZID=America/Chicago:20191006T120000
DTSTAMP:20260423T224947
CREATED:20190115T123646Z
LAST-MODIFIED:20191007T123444Z
UID:10001842-1570356000-1570363200@www.racetime.info
SUMMARY:Kids Run This City! 1K\, 2K & 3K
DESCRIPTION:Kids Run This City Fall Event
URL:https://www.racetime.info/event/kids-run-this-city-1k-2k-3k-2/
LOCATION:Lincoln Park Chicago\, Stockton & LaSalle\, Chicago\, IL\, 60614\, United States
CATEGORIES:2019-10 Results (October)
ORGANIZER;CN="Mallory Simms":MAILTO:mallory@kidsrunthiscity.com
GEO:41.913775;-87.631695
X-APPLE-STRUCTURED-LOCATION;VALUE=URI;X-ADDRESS=Lincoln Park Chicago Stockton & LaSalle Chicago IL 60614 United States;X-APPLE-RADIUS=500;X-TITLE=Stockton & LaSalle:geo:-87.631695,41.913775
END:VEVENT
BEGIN:VEVENT
DTSTART;TZID=America/Chicago:20191006T090000
DTEND;TZID=America/Chicago:20191006T110000
DTSTAMP:20260423T224947
CREATED:20190927T113649Z
LAST-MODIFIED:20191006T190450Z
UID:10001922-1570352400-1570359600@www.racetime.info
SUMMARY:Daisy Dash 5K
DESCRIPTION:DeKalb Daisy Dash 5K Age Group Results\n\nDeKalb Daisy Dash 5K Overall Results
URL:https://www.racetime.info/event/daisy-dash-5k/
LOCATION:Lehan Drugs\, 1407 S. 4th Street\, DeKalb\, IL\, 60112\, United States
CATEGORIES:2019-10 Results (October)
ORGANIZER;CN="Julie Pearson":MAILTO:racetime21@hotmail.com
END:VEVENT
BEGIN:VEVENT
DTSTART;TZID=America/Chicago:20191006T090000
DTEND;TZID=America/Chicago:20191006T110000
DTSTAMP:20260423T224947
CREATED:20170509T210412Z
LAST-MODIFIED:20191010T121327Z
UID:10001386-1570352400-1570359600@www.racetime.info
SUMMARY:Fox Chase 5K & Youth Mile
DESCRIPTION:Fox Chase 1 Mile Age Group Results\n\nFox Chase 1 Mile Overall Results\n\nFox Chase 5K Age Group Results\n\nFox Chase 5K Overall Results
URL:https://www.racetime.info/event/fox-chase-5k-youth-mile-2/
LOCATION:Stanger Park\, 257 Lexington Road\, Fox River Grove\, IL\, 60021\, United States
CATEGORIES:2019-10 Results (October)
ORGANIZER;CN="Sheri Sepeczi":MAILTO:sepeczi@ameritech.net
GEO:42.1958967;-88.2116426
X-APPLE-STRUCTURED-LOCATION;VALUE=URI;X-ADDRESS=Stanger Park 257 Lexington Road Fox River Grove IL 60021 United States;X-APPLE-RADIUS=500;X-TITLE=257 Lexington Road:geo:-88.2116426,42.1958967
END:VEVENT
BEGIN:VEVENT
DTSTART;TZID=America/Chicago:20191006T080000
DTEND;TZID=America/Chicago:20191006T100000
DTSTAMP:20260423T224947
CREATED:20170609T173628Z
LAST-MODIFIED:20191006T190034Z
UID:10001438-1570348800-1570356000@www.racetime.info
SUMMARY:Alexandra's Ambition 5K Run/Walk
DESCRIPTION:Alexandra’s Ambition 1.6 Mile Overall Results
URL:https://www.racetime.info/event/alexandras-ambition-5k-run-walk/
LOCATION:Konow’s Corn Maze\, 16849 S. Cedar Road\, Homer Glen\, IL\, 60491\, United States
CATEGORIES:2019-10 Results (October)
ORGANIZER;CN="Sheila Hughes":MAILTO:sej327@aol.com
GEO:41.5814457;-87.9776741
X-APPLE-STRUCTURED-LOCATION;VALUE=URI;X-ADDRESS=Konow’s Corn Maze 16849 S. Cedar Road Homer Glen IL 60491 United States;X-APPLE-RADIUS=500;X-TITLE=16849 S. Cedar Road:geo:-87.9776741,41.5814457
END:VEVENT
BEGIN:VEVENT
DTSTART;TZID=America/Chicago:20191005T100000
DTEND;TZID=America/Chicago:20191005T120000
DTSTAMP:20260423T224947
CREATED:20170830T215008Z
LAST-MODIFIED:20191006T015334Z
UID:10001633-1570269600-1570276800@www.racetime.info
SUMMARY:Wilmot Mountain Fall 5K
DESCRIPTION:Wilmot 5K Age Group Results\n\nWilmot 5K Overall Results
URL:https://www.racetime.info/event/wilmot-mountain-fall-5k-3/
LOCATION:Wilmot Mounain Resort\, 11931 Fox River Road\, Wilmot\, WI\, 53192\, United States
CATEGORIES:2019-10 Results (October)
ORGANIZER;CN="Rachael Muhlenbeck Miskie":MAILTO:muhlenbeck3@yahoo.com
GEO:42.5001244;-88.190056
X-APPLE-STRUCTURED-LOCATION;VALUE=URI;X-ADDRESS=Wilmot Mounain Resort 11931 Fox River Road Wilmot WI 53192 United States;X-APPLE-RADIUS=500;X-TITLE=11931 Fox River Road:geo:-88.190056,42.5001244
END:VEVENT
BEGIN:VEVENT
DTSTART;TZID=America/Chicago:20191005T093000
DTEND;TZID=America/Chicago:20191005T133000
DTSTAMP:20260423T224947
CREATED:20170830T120523Z
LAST-MODIFIED:20191009T025952Z
UID:10000801-1570267800-1570282200@www.racetime.info
SUMMARY:Chicago Voyagers Challenge Run/Canoe Event
DESCRIPTION:Andigo Adventure Race Overall Results
URL:https://www.racetime.info/event/chicago-voyagers-challenge-run-canoe-event-2/
LOCATION:Busse Woods South\, Grove 20\, S. Arlington Heights Rd\, Elk Grove\, IL\, 60004\, United States
CATEGORIES:2019-10 Results (October)
ORGANIZER;CN="Jory Fitzgerald":MAILTO:jory@chicagovoyagers.org
GEO:42.0126908;-87.9982495
X-APPLE-STRUCTURED-LOCATION;VALUE=URI;X-ADDRESS=Busse Woods South Grove 20 S. Arlington Heights Rd Elk Grove IL 60004 United States;X-APPLE-RADIUS=500;X-TITLE=S. Arlington Heights Rd:geo:-87.9982495,42.0126908
END:VEVENT
BEGIN:VEVENT
DTSTART;TZID=America/Chicago:20191005T093000
DTEND;TZID=America/Chicago:20191005T120000
DTSTAMP:20260423T224947
CREATED:20170830T121954Z
LAST-MODIFIED:20191005T185101Z
UID:10001619-1570267800-1570276800@www.racetime.info
SUMMARY:The Trails Challenge Youth 2K OCR Race (Youth Adventure Race)
DESCRIPTION:River Trails Youth Challenge
URL:https://www.racetime.info/event/the-trails-challenge-youth-2k-ocr-race-youth-adventure-race-3/
LOCATION:Woodlands Trails Park\, 1500 E. Euclid\, Mount Prospect\, IL\, 60056\, United States
CATEGORIES:2019-10 Results (October)
ORGANIZER;CN="Geralyn Konsewicz":MAILTO:gkonsewicz@rtpd.org
GEO:42.0887554;-87.9134118
X-APPLE-STRUCTURED-LOCATION;VALUE=URI;X-ADDRESS=Woodlands Trails Park 1500 E. Euclid Mount Prospect IL 60056 United States;X-APPLE-RADIUS=500;X-TITLE=1500 E. Euclid:geo:-87.9134118,42.0887554
END:VEVENT
BEGIN:VEVENT
DTSTART;TZID=America/Chicago:20191005T093000
DTEND;TZID=America/Chicago:20191005T110000
DTSTAMP:20260423T224948
CREATED:20170731T174625Z
LAST-MODIFIED:20191010T121440Z
UID:10001560-1570267800-1570273200@www.racetime.info
SUMMARY:Old Plank Trail 5K Run/Walk
DESCRIPTION:Old Plank Trail 5K Walk and Run Age Group Results\n\nOld Plank Trail 5K Walk and Run Overall Results
URL:https://www.racetime.info/event/old-plank-trail-5k-run-walk-2/
LOCATION:Breidert Green Park\, 432 W. Nebraska\, Frankfort\, IL\, 60423\, United States
CATEGORIES:2019-10 Results (October)
ORGANIZER;CN="Susan Lynchey":MAILTO:slynchey@vofil.com
GEO:41.4974227;-87.8607917
X-APPLE-STRUCTURED-LOCATION;VALUE=URI;X-ADDRESS=Breidert Green Park 432 W. Nebraska Frankfort IL 60423 United States;X-APPLE-RADIUS=500;X-TITLE=432 W. Nebraska:geo:-87.8607917,41.4974227
END:VEVENT
BEGIN:VEVENT
DTSTART;TZID=America/Chicago:20191005T090000
DTEND;TZID=America/Chicago:20191005T110000
DTSTAMP:20260423T224948
CREATED:20190608T101920Z
LAST-MODIFIED:20191007T105834Z
UID:10001893-1570266000-1570273200@www.racetime.info
SUMMARY:NAMI KDK 5K RUn/Walk
DESCRIPTION:NAMI 5K Age Group Results\n\nNAMI 5K Overall Results\n\nNAMI 5K Team Results
URL:https://www.racetime.info/event/nami-kdk-5k-run-walk/
LOCATION:Peg Bond Center\, 151 N. Island Avenue\, Batavia\, IL\, 60510\, United States
CATEGORIES:2019-10 Results (October)
ORGANIZER;CN="Michelle McNish":MAILTO:nami5kinfo@gmail.com
GEO:41.853407;-88.3092422
X-APPLE-STRUCTURED-LOCATION;VALUE=URI;X-ADDRESS=Peg Bond Center 151 N. Island Avenue Batavia IL 60510 United States;X-APPLE-RADIUS=500;X-TITLE=151 N. Island Avenue:geo:-88.3092422,41.853407
END:VEVENT
BEGIN:VEVENT
DTSTART;TZID=America/Chicago:20191005T090000
DTEND;TZID=America/Chicago:20191005T110000
DTSTAMP:20260423T224948
CREATED:20170829T182113Z
LAST-MODIFIED:20191005T184951Z
UID:10000773-1570266000-1570273200@www.racetime.info
SUMMARY:Jogging for St. Joe's 5K Run/Walk & Kids Dash
DESCRIPTION:Jogging for St. Joe’s 5K Age Group Results\n\nJogging for St. Joe’s 5K Overall Results
URL:https://www.racetime.info/event/jogging-for-st-joes-5k-run-walk-kids-dash-2/
LOCATION:St. Joseph School\, 510 S. Jefferson\, Lockport\, IL\, 60441\, United States
CATEGORIES:2019-10 Results (October)
ORGANIZER;CN="Maribeth Leyva":MAILTO:joggingforjoes@hotmail.com
GEO:41.5919577;-88.0512084
X-APPLE-STRUCTURED-LOCATION;VALUE=URI;X-ADDRESS=St. Joseph School 510 S. Jefferson Lockport IL 60441 United States;X-APPLE-RADIUS=500;X-TITLE=510 S. Jefferson:geo:-88.0512084,41.5919577
END:VEVENT
BEGIN:VEVENT
DTSTART;TZID=America/Chicago:20191005T090000
DTEND;TZID=America/Chicago:20191005T110000
DTSTAMP:20260423T224948
CREATED:20170506T102337Z
LAST-MODIFIED:20191005T200122Z
UID:10000578-1570266000-1570273200@www.racetime.info
SUMMARY:Montgomery River Run 5K & 10K
DESCRIPTION:Montgomery River Run 5K Age Group Results\n\nMontgomery River Run 5K Overall Results\n\nMontgomery River Run 10K Age Group Results\n\nMontgomery River Run 10K Overall Results
URL:https://www.racetime.info/event/montgomery-river-run-5k-10k-4/
LOCATION:Village of Montgomery\, 200 North River Street\, Montgomery\, IL\, 60538\, United States
CATEGORIES:2019-10 Results (October)
ORGANIZER;CN="Rosie Boeing":MAILTO:riverrun@eeiweb.com
GEO:41.7295362;-88.3416114
X-APPLE-STRUCTURED-LOCATION;VALUE=URI;X-ADDRESS=Village of Montgomery 200 North River Street Montgomery IL 60538 United States;X-APPLE-RADIUS=500;X-TITLE=200 North River Street:geo:-88.3416114,41.7295362
END:VEVENT
BEGIN:VEVENT
DTSTART;TZID=America/Chicago:20191005T083000
DTEND;TZID=America/Chicago:20191005T103000
DTSTAMP:20260423T224948
CREATED:20170628T112818Z
LAST-MODIFIED:20191005T184203Z
UID:10001509-1570264200-1570271400@www.racetime.info
SUMMARY:Knights Challenge 5K Run/ Walk
DESCRIPTION:Knights Challenge 5K Age Group Results\n\nKnights Challenge 5K Overall Results
URL:https://www.racetime.info/event/knights-challenge-5k-run-walk-3/
LOCATION:St. John The Evangelist Parish Center\, 502 S. Park Blvd\, Streamwood\, IL\, 60107\, United States
CATEGORIES:2019-10 Results (October)
ORGANIZER;CN="Bill Henderson":MAILTO:info@kofc12801.org
GEO:42.021154;-88.1678742
X-APPLE-STRUCTURED-LOCATION;VALUE=URI;X-ADDRESS=St. John The Evangelist Parish Center 502 S. Park Blvd Streamwood IL 60107 United States;X-APPLE-RADIUS=500;X-TITLE=502 S. Park Blvd:geo:-88.1678742,42.021154
END:VEVENT
BEGIN:VEVENT
DTSTART;TZID=America/Chicago:20191005T083000
DTEND;TZID=America/Chicago:20191005T100000
DTSTAMP:20260423T224948
CREATED:20170322T123609Z
LAST-MODIFIED:20191010T191854Z
UID:10001266-1570264200-1570269600@www.racetime.info
SUMMARY:Run Wild-Race for Open Space 5K
DESCRIPTION:Run Wild 5K Age Group Results\n\nRun Wild 5K Overall Results
URL:https://www.racetime.info/event/run-wild-race-for-open-space-5k-3/
LOCATION:Hickory Grove Conservation Area\, 500 Hickory Nut Grove Lane\, Cary\, IL\, 60013\, United States
CATEGORIES:2019-10 Results (October)
ORGANIZER;CN="Samantha Shaw":MAILTO:education@mccdistrict.org
GEO:42.2343947;-88.2032916
X-APPLE-STRUCTURED-LOCATION;VALUE=URI;X-ADDRESS=Hickory Grove Conservation Area 500 Hickory Nut Grove Lane Cary IL 60013 United States;X-APPLE-RADIUS=500;X-TITLE=500 Hickory Nut Grove Lane:geo:-88.2032916,42.2343947
END:VEVENT
BEGIN:VEVENT
DTSTART;TZID=America/Chicago:20191005T080000
DTEND;TZID=America/Chicago:20191005T170000
DTSTAMP:20260423T224948
CREATED:20191005T185731Z
LAST-MODIFIED:20191005T185731Z
UID:10001923-1570262400-1570294800@www.racetime.info
SUMMARY:Race Against Nerve Pain 5K Run/Walk
DESCRIPTION:Race Against Nerve Pain 5K Age Group Results\n\nRace Against Nerve Pain 5K Overall Results
URL:https://www.racetime.info/event/race-against-nerve-pain-5k-run-walk/
LOCATION:James “Pate” Phillips State Park (Bartlett Nature Center\, 2050 W. Stearns Road\, Bartlett\, IL\, 60103\, United States
CATEGORIES:2019-10 Results (October)
GEO:41.9772137;-88.2551583
X-APPLE-STRUCTURED-LOCATION;VALUE=URI;X-ADDRESS=James “Pate” Phillips State Park (Bartlett Nature Center 2050 W. Stearns Road Bartlett IL 60103 United States;X-APPLE-RADIUS=500;X-TITLE=2050 W. Stearns Road:geo:-88.2551583,41.9772137
END:VEVENT
END:VCALENDAR