BEGIN:VCALENDAR
VERSION:2.0
PRODID:-//Race Time - ECPv6.15.13//NONSGML v1.0//EN
CALSCALE:GREGORIAN
METHOD:PUBLISH
X-ORIGINAL-URL:https://www.racetime.info
X-WR-CALDESC:Events for Race Time
REFRESH-INTERVAL;VALUE=DURATION:PT1H
X-Robots-Tag:noindex
X-PUBLISHED-TTL:PT1H
BEGIN:VTIMEZONE
TZID:America/Chicago
BEGIN:DAYLIGHT
TZOFFSETFROM:-0600
TZOFFSETTO:-0500
TZNAME:CDT
DTSTART:20180311T080000
END:DAYLIGHT
BEGIN:STANDARD
TZOFFSETFROM:-0500
TZOFFSETTO:-0600
TZNAME:CST
DTSTART:20181104T070000
END:STANDARD
BEGIN:DAYLIGHT
TZOFFSETFROM:-0600
TZOFFSETTO:-0500
TZNAME:CDT
DTSTART:20190310T080000
END:DAYLIGHT
BEGIN:STANDARD
TZOFFSETFROM:-0500
TZOFFSETTO:-0600
TZNAME:CST
DTSTART:20191103T070000
END:STANDARD
BEGIN:DAYLIGHT
TZOFFSETFROM:-0600
TZOFFSETTO:-0500
TZNAME:CDT
DTSTART:20200308T080000
END:DAYLIGHT
BEGIN:STANDARD
TZOFFSETFROM:-0500
TZOFFSETTO:-0600
TZNAME:CST
DTSTART:20201101T070000
END:STANDARD
END:VTIMEZONE
BEGIN:VTIMEZONE
TZID:America/Indiana/Indianapolis
BEGIN:DAYLIGHT
TZOFFSETFROM:-0500
TZOFFSETTO:-0400
TZNAME:EDT
DTSTART:20180311T070000
END:DAYLIGHT
BEGIN:STANDARD
TZOFFSETFROM:-0400
TZOFFSETTO:-0500
TZNAME:EST
DTSTART:20181104T060000
END:STANDARD
BEGIN:DAYLIGHT
TZOFFSETFROM:-0500
TZOFFSETTO:-0400
TZNAME:EDT
DTSTART:20190310T070000
END:DAYLIGHT
BEGIN:STANDARD
TZOFFSETFROM:-0400
TZOFFSETTO:-0500
TZNAME:EST
DTSTART:20191103T060000
END:STANDARD
BEGIN:DAYLIGHT
TZOFFSETFROM:-0500
TZOFFSETTO:-0400
TZNAME:EDT
DTSTART:20200308T070000
END:DAYLIGHT
BEGIN:STANDARD
TZOFFSETFROM:-0400
TZOFFSETTO:-0500
TZNAME:EST
DTSTART:20201101T060000
END:STANDARD
END:VTIMEZONE
BEGIN:VEVENT
DTSTART;TZID=America/Chicago:20191130T090000
DTEND;TZID=America/Chicago:20191130T103000
DTSTAMP:20260424T012526
CREATED:20170909T121443Z
LAST-MODIFIED:20191130T173716Z
UID:10001664-1575104400-1575109800@www.racetime.info
SUMMARY:Ugly Sweater 5K Run/Walk
DESCRIPTION:Ugly Sweater 5K Age Group Results\n\nUgly Sweater 5K Overall Results\n\nUgly Sweater Team Results
URL:https://www.racetime.info/event/ugly-sweater-5k-run-walk-2/
LOCATION:Knights of Columbus Westmont\, 25 N. Cass Avenue\, Westmont\, IL\, 60559\, United States
CATEGORIES:2019-11 Results (November)
ORGANIZER;CN="Glenn Liljeberg":MAILTO:5k@westmontrotaryclub.org
GEO:41.7969159;-87.9749794
X-APPLE-STRUCTURED-LOCATION;VALUE=URI;X-ADDRESS=Knights of Columbus Westmont 25 N. Cass Avenue Westmont IL 60559 United States;X-APPLE-RADIUS=500;X-TITLE=25 N. Cass Avenue:geo:-87.9749794,41.7969159
END:VEVENT
BEGIN:VEVENT
DTSTART;TZID=America/Chicago:20191128T091500
DTEND;TZID=America/Chicago:20191128T110000
DTSTAMP:20260424T012526
CREATED:20191112T131829Z
LAST-MODIFIED:20191130T114719Z
UID:10001929-1574932500-1574938800@www.racetime.info
SUMMARY:Wauconda Turkey Trot 4 Mile Run and 2 Mile Walk
DESCRIPTION:Wauconda Turkey Trot 4 Mile Age Group Results 1\n\nWauconda Turkey Trot 4 Mile Overall Results 1
URL:https://www.racetime.info/event/wauconda-turkey-trot-4-mile-run-and-2-mile-walk/
LOCATION:Wauconda Bangs Lake\, 118 South Main Street\, Wauconda\, IL\, 60084\, United States
CATEGORIES:2019-11 Results (November)
ORGANIZER;CN="Linda Starkey":MAILTO:lindakaystarkey@gmail.com
END:VEVENT
BEGIN:VEVENT
DTSTART;TZID=America/Indiana/Indianapolis:20191128T090000
DTEND;TZID=America/Indiana/Indianapolis:20191128T110000
DTSTAMP:20260424T012526
CREATED:20171103T171216Z
LAST-MODIFIED:20191128T191206Z
UID:10001699-1574931600-1574938800@www.racetime.info
SUMMARY:Attica Turkey Trot 5K Run/Walk
DESCRIPTION:Attica Turkey Trot 5K Age Group Results\n\nAttica Turkey Trot 5K Overall Results
URL:https://www.racetime.info/event/attica-turkey-trot-5k-run-walk-2/
LOCATION:Attica High School\, 211 Sycamore Street\, Attica\, IN\, 47918\, United States
CATEGORIES:2019-11 Results (November)
ORGANIZER;CN="Jeff Crane":MAILTO:atticaturkeytrot@yahoo.com
GEO:40.277395;-87.250629
X-APPLE-STRUCTURED-LOCATION;VALUE=URI;X-ADDRESS=Attica High School 211 Sycamore Street Attica IN 47918 United States;X-APPLE-RADIUS=500;X-TITLE=211 Sycamore Street:geo:-87.250629,40.277395
END:VEVENT
BEGIN:VEVENT
DTSTART;TZID=America/Chicago:20191128T080000
DTEND;TZID=America/Chicago:20191128T100000
DTSTAMP:20260424T012526
CREATED:20190805T114419Z
LAST-MODIFIED:20191128T191049Z
UID:10001907-1574928000-1574935200@www.racetime.info
SUMMARY:Neighbors' House Giving Thanks 5K Run/Walk
DESCRIPTION:NH Giving Thanks 5K Age Group Results\n\nNH Giving Thanks 5K Overall Results
URL:https://www.racetime.info/event/neightbors-house-giving-thanks-5k-run-walk/
LOCATION:Hopkins Park\, 1403 Sycamore Road\, DeKalb\, IL\, 60115\, United States
CATEGORIES:2019-11 Results (November)
ORGANIZER;CN="Laura Heitzig":MAILTO:nh.neighborshouse@gmail.com
GEO:41.9447506;-88.7369386
X-APPLE-STRUCTURED-LOCATION;VALUE=URI;X-ADDRESS=Hopkins Park 1403 Sycamore Road DeKalb IL 60115 United States;X-APPLE-RADIUS=500;X-TITLE=1403 Sycamore Road:geo:-88.7369386,41.9447506
END:VEVENT
BEGIN:VEVENT
DTSTART;TZID=America/Chicago:20191128T080000
DTEND;TZID=America/Chicago:20191128T100000
DTSTAMP:20260424T012526
CREATED:20171103T170741Z
LAST-MODIFIED:20191201T121533Z
UID:10001696-1574928000-1574935200@www.racetime.info
SUMMARY:Wheaton Turkey Trot 5K Run/Walk
DESCRIPTION:Wheaton Turkey Trot 5K Age Group Results\n\nWheaton Turkey Trot 5K Overall Results
URL:https://www.racetime.info/event/wheaton-turkey-trot-5k-run-walk-2/
LOCATION:Emerson Elementary School\, 119 S. Woodlawn Street\, Wheaton\, IL\, 60187\, United States
CATEGORIES:2019-11 Results (November)
ORGANIZER;CN="Jen Moreno or Brandon Lane":MAILTO:wheatonilturkeytrot@gmail.com
GEO:41.863329;-88.124143
X-APPLE-STRUCTURED-LOCATION;VALUE=URI;X-ADDRESS=Emerson Elementary School 119 S. Woodlawn Street Wheaton IL 60187 United States;X-APPLE-RADIUS=500;X-TITLE=119 S. Woodlawn Street:geo:-88.124143,41.863329
END:VEVENT
BEGIN:VEVENT
DTSTART;TZID=America/Chicago:20191128T080000
DTEND;TZID=America/Chicago:20191128T100000
DTSTAMP:20260424T012526
CREATED:20170323T132007Z
LAST-MODIFIED:20191128T190849Z
UID:10001275-1574928000-1574935200@www.racetime.info
SUMMARY:Running With The Lions 5K & Youth Dash
DESCRIPTION:Running With The Lions 5K Overall Results
URL:https://www.racetime.info/event/running-with-the-lions-5k-youth-dash-3/
LOCATION:Life Time Fitness\, 451 Rolls Road\, Algonquin\, IL\, 60102\, United States
CATEGORIES:2019-11 Results (November)
ORGANIZER;CN="Vince Daniello":MAILTO:vince3670@yahoo.com
GEO:42.1709963;-88.3313754
X-APPLE-STRUCTURED-LOCATION;VALUE=URI;X-ADDRESS=Life Time Fitness 451 Rolls Road Algonquin IL 60102 United States;X-APPLE-RADIUS=500;X-TITLE=451 Rolls Road:geo:-88.3313754,42.1709963
END:VEVENT
BEGIN:VEVENT
DTSTART;TZID=America/Chicago:20191128T073000
DTEND;TZID=America/Chicago:20191128T093000
DTSTAMP:20260424T012526
CREATED:20190828T044904Z
LAST-MODIFIED:20191128T191849Z
UID:10001091-1574926200-1574933400@www.racetime.info
SUMMARY:Fox and Turkey 4 & 1 Mile Race
DESCRIPTION:Fox and Turkey Youth 1 Mile Age Group Results\n\nFox and Turkey Youth 1 Mile Overall Results\n\nFox and Turkey 4 Mile Age Group Results\n\nFox and Turkey 4 Mile Overall Results
URL:https://www.racetime.info/event/fox-and-turkey-4-1-mile-race/
LOCATION:Downtown Batavia\, 21 North Water River Street\, Batavia\, IL\, 60510\, United States
CATEGORIES:2019-11 Results (November)
ORGANIZER;CN="Race Director":MAILTO:foxandturkey@foxrivertrailrunners.org
GEO:41.853407;-88.3092422
X-APPLE-STRUCTURED-LOCATION;VALUE=URI;X-ADDRESS=Downtown Batavia 21 North Water River Street Batavia IL 60510 United States;X-APPLE-RADIUS=500;X-TITLE=21 North Water River Street:geo:-88.3092422,41.853407
END:VEVENT
BEGIN:VEVENT
DTSTART;TZID=America/Chicago:20191124T090000
DTEND;TZID=America/Chicago:20191124T113000
DTSTAMP:20260424T012526
CREATED:20170919T114822Z
LAST-MODIFIED:20191124T181611Z
UID:10001676-1574586000-1574595000@www.racetime.info
SUMMARY:Ride N' Tie 5/10 Mile Bike/Run Event
DESCRIPTION:Ride ‘N Tie 10 Mile Overall Results\n\nRide ‘N Tie 5 Mile Overall Results\n\nRide ‘N Tie 5 and 10 Mile Age Group Team Results
URL:https://www.racetime.info/event/ride-n-tie-5-10-mile-bike-run-event-2/
LOCATION:Busse Woods Grove 24\, Elk Grove Village\, IL\, 60007\, United States
CATEGORIES:2019-11 Results (November)
ORGANIZER;CN="Trudy Wakeman":MAILTO:trudywakeman@gmail.com
GEO:42.0039178;-87.9703461
END:VEVENT
BEGIN:VEVENT
DTSTART;TZID=America/Chicago:20191123T090000
DTEND;TZID=America/Chicago:20191123T110000
DTSTAMP:20260424T012526
CREATED:20170621T211501Z
LAST-MODIFIED:20191123T185119Z
UID:10001503-1574499600-1574506800@www.racetime.info
SUMMARY:Gobbler Gallop 5K Run/Walk
DESCRIPTION:Waterman’s Gobbler Gallop 5K Age Group Results\n\nWaterman’s Gobbler Gallop 5K Overall Results\n\nWaterman’s Gobbler Gallop Team Results
URL:https://www.racetime.info/event/gobbler-gallop-5k-run-walk-2/
LOCATION:Clinton Township Community Center\, 160 W. Lincoln Hwy (US Route 30)\, Waterman\, IL\, 60556\, United States
CATEGORIES:2019-11 Results (November)
ORGANIZER;CN="Shawn Blobaum":MAILTO:gobblergallop@live.com
GEO:41.7716963;-88.7736942
X-APPLE-STRUCTURED-LOCATION;VALUE=URI;X-ADDRESS=Clinton Township Community Center 160 W. Lincoln Hwy (US Route 30) Waterman IL 60556 United States;X-APPLE-RADIUS=500;X-TITLE=160 W. Lincoln Hwy (US Route 30):geo:-88.7736942,41.7716963
END:VEVENT
BEGIN:VEVENT
DTSTART;TZID=America/Chicago:20191123T080000
DTEND;TZID=America/Chicago:20191123T103000
DTSTAMP:20260424T012526
CREATED:20170921T163859Z
LAST-MODIFIED:20191124T120143Z
UID:10000860-1574496000-1574505000@www.racetime.info
SUMMARY:Addison Turkey Predictor 5K
DESCRIPTION:Addison Turkey Trot 5K Overall Results\n\nAddison Turkey Trot 5K Predictor Overall Results
URL:https://www.racetime.info/event/addison-turkey-predictor-5k/
LOCATION:Centennial Park\, 1776 W. Centennial Place\, Addison\, IL\, 60101\, United States
CATEGORIES:2019-11 Results (November)
ORGANIZER;CN="Sean Ford":MAILTO:sford@addisonparks.org
GEO:41.9446417;-88.030756
X-APPLE-STRUCTURED-LOCATION;VALUE=URI;X-ADDRESS=Centennial Park 1776 W. Centennial Place Addison IL 60101 United States;X-APPLE-RADIUS=500;X-TITLE=1776 W. Centennial Place:geo:-88.030756,41.9446417
END:VEVENT
BEGIN:VEVENT
DTSTART;TZID=America/Chicago:20191117T090000
DTEND;TZID=America/Chicago:20191117T110000
DTSTAMP:20260424T012526
CREATED:20180801T012123Z
LAST-MODIFIED:20191121T155020Z
UID:10000995-1573981200-1573988400@www.racetime.info
SUMMARY:Big Timber XC Challenge 8K Run
DESCRIPTION:Big Timber 8K Age Group Results\n\nBig Timber 8K Overall Results\n\nBig Timber Team Results
URL:https://www.racetime.info/event/cross-country-challenge-5-mile-run/
LOCATION:Camp Big Timber\, Big Timber Road\, Elgin\, IL\, 60120\, United States
CATEGORIES:2019-11 Results (November)
ORGANIZER;CN="Wayne Haworth":MAILTO:wayne@dickpondathletics.com
END:VEVENT
BEGIN:VEVENT
DTSTART;TZID=America/Chicago:20191116T090000
DTEND;TZID=America/Chicago:20191116T110000
DTSTAMP:20260424T012526
CREATED:20170926T121645Z
LAST-MODIFIED:20191117T024636Z
UID:10000864-1573894800-1573902000@www.racetime.info
SUMMARY:Gobble\, Gobble\, Run or Wobble 5K Run/Walk
DESCRIPTION:St. Linus Turkey Trot 5K Age Group Results\n\nSt. Linus Turkey Trot 5K Overall Results
URL:https://www.racetime.info/event/gobble-gobble-run-or-wobble-5k-run-walk-2/
LOCATION:St. Linus Church\, 10400 Lawler Avenue\, Oak Lawn\, IL\, 60453\, United States
CATEGORIES:2019-11 Results (November)
ORGANIZER;CN="Alisa Trovato":MAILTO:atrovato@stlinusschool.org
GEO:41.7053927;-87.7463825
X-APPLE-STRUCTURED-LOCATION;VALUE=URI;X-ADDRESS=St. Linus Church 10400 Lawler Avenue Oak Lawn IL 60453 United States;X-APPLE-RADIUS=500;X-TITLE=10400 Lawler Avenue:geo:-87.7463825,41.7053927
END:VEVENT
BEGIN:VEVENT
DTSTART;TZID=America/Chicago:20191116T083000
DTEND;TZID=America/Chicago:20191116T223000
DTSTAMP:20260424T012526
CREATED:20170621T225516Z
LAST-MODIFIED:20191116T190438Z
UID:10000678-1573893000-1573943400@www.racetime.info
SUMMARY:Cortland Turkey Trot 5K & Youth Run
DESCRIPTION:Cortland Turkey Trot Youth Run Age Group Results\n\nCortland Turkey Trot Youth Run Overall Results\n\nCortland Turkey Trot 5K Age Group Results 1\n\nCortland Turkey Trot 5K Overall Results 1
URL:https://www.racetime.info/event/cortland-turkey-trot-5k-youth-run-3/
LOCATION:Cortland Lions Den\, 70 S. Llano Street\, Cortland\, IL\, 60112\, United States
CATEGORIES:2019-11 Results (November)
ORGANIZER;CN="Chris Fowler":MAILTO:cortlandlion@yahoo.com
GEO:41.9296095;-88.6940401
X-APPLE-STRUCTURED-LOCATION;VALUE=URI;X-ADDRESS=Cortland Lions Den 70 S. Llano Street Cortland IL 60112 United States;X-APPLE-RADIUS=500;X-TITLE=70 S. Llano Street:geo:-88.6940401,41.9296095
END:VEVENT
BEGIN:VEVENT
DTSTART;TZID=America/Chicago:20191110T080000
DTEND;TZID=America/Chicago:20191110T100000
DTSTAMP:20260424T012526
CREATED:20170308T123621Z
LAST-MODIFIED:20191110T171013Z
UID:10000467-1573372800-1573380000@www.racetime.info
SUMMARY:Inside Out Club 5K Run/Walk
DESCRIPTION:Inside Out Club 5K Age Group Results\n\nInside Out Club 5K Overall Results\n\nInside Out Club Team Results
URL:https://www.racetime.info/event/inside-out-club-5k-run-walk/
LOCATION:Danada Forest Preserve\, 3S580 Naperville Road\, Wheaton\, IL\, 60187\, United States
CATEGORIES:2019-11 Results (November)
ORGANIZER;CN="Marion Ruthig":MAILTO:marion@isupportcommunity.org
GEO:41.819072;-88.1124109
X-APPLE-STRUCTURED-LOCATION;VALUE=URI;X-ADDRESS=Danada Forest Preserve 3S580 Naperville Road Wheaton IL 60187 United States;X-APPLE-RADIUS=500;X-TITLE=3S580 Naperville Road:geo:-88.1124109,41.819072
END:VEVENT
BEGIN:VEVENT
DTSTART;TZID=America/Chicago:20191109T100000
DTEND;TZID=America/Chicago:20191109T113000
DTSTAMP:20260424T012526
CREATED:20180324T174038Z
LAST-MODIFIED:20191113T115443Z
UID:10000929-1573293600-1573299000@www.racetime.info
SUMMARY:Shalynn's Shuffle 5K Run/Walk
DESCRIPTION:Shalynn’s Shuffle 5K Age Group Results\n\nShalynn’s Shuffle 5K Overall Results
URL:https://www.racetime.info/event/shalynns-shuffle-5k-run-walk-2/
LOCATION:Atwood Hammond Grade School\, 316 N. Illinois Street\, Atwood\, IL\, 61913\, United States
CATEGORIES:2019-11 Results (November)
ORGANIZER;CN="Stacy Welch":MAILTO:skwelch04@gmail.com
GEO:39.8035367;-88.4646508
X-APPLE-STRUCTURED-LOCATION;VALUE=URI;X-ADDRESS=Atwood Hammond Grade School 316 N. Illinois Street Atwood IL 61913 United States;X-APPLE-RADIUS=500;X-TITLE=316 N. Illinois Street:geo:-88.4646508,39.8035367
END:VEVENT
BEGIN:VEVENT
DTSTART;TZID=America/Chicago:20191109T090000
DTEND;TZID=America/Chicago:20191109T233000
DTSTAMP:20260424T012526
CREATED:20170831T221446Z
LAST-MODIFIED:20191109T184842Z
UID:10001636-1573290000-1573342200@www.racetime.info
SUMMARY:Bourbonnais Township Turkey Trot 10K & 5K Run; 2 Mile Walk
DESCRIPTION:Bourbonnais 2 Mile Overall Results\n\nBourbonnais 5K Age Group Results\n\nBourbonnais 5K Overall Results\n\nBourbonnais 10K Age Group Results\n\nBourbonnais 10K Overall Results\n\nBourbonnais 5K and 10K Predictor Results
URL:https://www.racetime.info/event/bourbonnais-township-turkey-trot-10k-2-mile-walk-3/
LOCATION:Perry Farm Park\, 459 N. Kennedy Drive\, Bourbonnais\, IL\, 60914\, United States
CATEGORIES:2019-11 Results (November)
ORGANIZER;CN="Lindsey Laskey":MAILTO:lindseyl@btpd.org
GEO:41.1551827;-87.8783865
X-APPLE-STRUCTURED-LOCATION;VALUE=URI;X-ADDRESS=Perry Farm Park 459 N. Kennedy Drive Bourbonnais IL 60914 United States;X-APPLE-RADIUS=500;X-TITLE=459 N. Kennedy Drive:geo:-87.8783865,41.1551827
END:VEVENT
BEGIN:VEVENT
DTSTART;TZID=America/Chicago:20191109T090000
DTEND;TZID=America/Chicago:20191109T150000
DTSTAMP:20260424T012526
CREATED:20170920T104651Z
LAST-MODIFIED:20191109T221435Z
UID:10001679-1573290000-1573311600@www.racetime.info
SUMMARY:Bill Leonard Memorial Rig Rondy Dog Sled Races
DESCRIPTION:Rig Rondy Overall Results All Divisions
URL:https://www.racetime.info/event/bill-leonard-memorial-rig-rondy-dog-sled-races-3/
LOCATION:Red Barn Farm Market\, 3500 S. IL. Route 47\, Woodstock\, IL\, 60098\, United States
CATEGORIES:2019-11 Results (November)
ORGANIZER;CN="Mary Beth Kolb":MAILTO:rigrondy@adoptahusky.com
GEO:42.2753018;-88.432903
X-APPLE-STRUCTURED-LOCATION;VALUE=URI;X-ADDRESS=Red Barn Farm Market 3500 S. IL. Route 47 Woodstock IL 60098 United States;X-APPLE-RADIUS=500;X-TITLE=3500 S. IL. Route 47:geo:-88.432903,42.2753018
END:VEVENT
BEGIN:VEVENT
DTSTART;TZID=America/Chicago:20191109T090000
DTEND;TZID=America/Chicago:20191109T113000
DTSTAMP:20260424T012526
CREATED:20190716T195822Z
LAST-MODIFIED:20191111T134425Z
UID:10001902-1573290000-1573299000@www.racetime.info
SUMMARY:Mike Hike 5K Walk/Run
DESCRIPTION:Mike Hike 5K Age Group Results\n\nMike Hike 5K Overall Results
URL:https://www.racetime.info/event/mike-hike-5k-1-mile-walk-run/
LOCATION:Michael Olivieri Trail\, 13030 West 143rd Street\, Homer Glen\, IL\, 60491\, United States
CATEGORIES:2019-11 Results (November)
ORGANIZER;CN="Kathy Young":MAILTO:youngkathy1@aol.com
END:VEVENT
BEGIN:VEVENT
DTSTART;TZID=America/Chicago:20191103T083000
DTEND;TZID=America/Chicago:20191103T100000
DTSTAMP:20260424T012526
CREATED:20190815T121619Z
LAST-MODIFIED:20191103T191940Z
UID:10001097-1572769800-1572775200@www.racetime.info
SUMMARY:IlliniDads 5K Fun Run/Walk
DESCRIPTION:Illini Dads 5K Male and Female Student Results\n\nIllini Dads 5K Dad Results\n\nIllini Dads 5K Mom Results\n\nIllini Dads 5K Community Results\n\nIllini Dads 5K Overall (Combined) Results\n\nIllini Dads 5K Team Results
URL:https://www.racetime.info/event/dads-association-at-university-of-illinois-5k-run-walk/
LOCATION:University Of Illinois Arboretum\, Champaign\, IL\, United States
CATEGORIES:2019-11 Results (November)
ORGANIZER;CN="The Dads Association at the University of Illinois":MAILTO:iuparentfamilyprograms@illinois.edu
GEO:40.1164204;-88.2433829
END:VEVENT
BEGIN:VEVENT
DTSTART;TZID=America/Chicago:20191102T090000
DTEND;TZID=America/Chicago:20191102T110000
DTSTAMP:20260424T012526
CREATED:20180824T171712Z
LAST-MODIFIED:20191102T160846Z
UID:10001831-1572685200-1572692400@www.racetime.info
SUMMARY:Field of Dreams' Dresses for Dreams 5K Run/Walk
DESCRIPTION:Dresses for Dreams 5K Age Group Results\n\nDresses for Dreams 5K Overall Results
URL:https://www.racetime.info/event/field-of-dreams-dresses-for-dreams-5k-run-walk-2/
LOCATION:Waterfall Glen Forest Preserve\, Northgate Road\, Darien\, IL\, 60561\, United States
CATEGORIES:2019-11 Results (November)
ORGANIZER;CN="Rob Schnieders":MAILTO:rschnieders@yahoo.com
GEO:41.7242355;-87.9733729
X-APPLE-STRUCTURED-LOCATION;VALUE=URI;X-ADDRESS=Waterfall Glen Forest Preserve Northgate Road Darien IL 60561 United States;X-APPLE-RADIUS=500;X-TITLE=Northgate Road:geo:-87.9733729,41.7242355
END:VEVENT
BEGIN:VEVENT
DTSTART;TZID=America/Chicago:20191102T080000
DTEND;TZID=America/Chicago:20191102T103000
DTSTAMP:20260424T012526
CREATED:20190610T022627Z
LAST-MODIFIED:20191102T153817Z
UID:10001896-1572681600-1572690600@www.racetime.info
SUMMARY:Lou Bird Epilepsy 5K Run/Walk
DESCRIPTION:Due to weather conditions the distance was changed to a 2K.\nLou Bird 2K Age Group Results\n\nLou Bird 2K Overall Results\n\nLou Bird Team Results
URL:https://www.racetime.info/event/lou-bird-epilepsy-5k-run-walk/
LOCATION:Huntley Park District\, 120151 Mill Street\, Huntley\, IL\, 60142\, United States
CATEGORIES:2019-11 Results (November)
ORGANIZER;CN="Margaret Chase":MAILTO:margaretchase@live.com
END:VEVENT
END:VCALENDAR