BEGIN:VCALENDAR
VERSION:2.0
PRODID:-//Race Time - ECPv6.15.13//NONSGML v1.0//EN
CALSCALE:GREGORIAN
METHOD:PUBLISH
X-WR-CALNAME:Race Time
X-ORIGINAL-URL:https://www.racetime.info
X-WR-CALDESC:Events for Race Time
REFRESH-INTERVAL;VALUE=DURATION:PT1H
X-Robots-Tag:noindex
X-PUBLISHED-TTL:PT1H
BEGIN:VTIMEZONE
TZID:America/Chicago
BEGIN:DAYLIGHT
TZOFFSETFROM:-0600
TZOFFSETTO:-0500
TZNAME:CDT
DTSTART:20180311T080000
END:DAYLIGHT
BEGIN:STANDARD
TZOFFSETFROM:-0500
TZOFFSETTO:-0600
TZNAME:CST
DTSTART:20181104T070000
END:STANDARD
BEGIN:DAYLIGHT
TZOFFSETFROM:-0600
TZOFFSETTO:-0500
TZNAME:CDT
DTSTART:20190310T080000
END:DAYLIGHT
BEGIN:STANDARD
TZOFFSETFROM:-0500
TZOFFSETTO:-0600
TZNAME:CST
DTSTART:20191103T070000
END:STANDARD
BEGIN:DAYLIGHT
TZOFFSETFROM:-0600
TZOFFSETTO:-0500
TZNAME:CDT
DTSTART:20200308T080000
END:DAYLIGHT
BEGIN:STANDARD
TZOFFSETFROM:-0500
TZOFFSETTO:-0600
TZNAME:CST
DTSTART:20201101T070000
END:STANDARD
END:VTIMEZONE
BEGIN:VEVENT
DTSTART;TZID=America/Chicago:20191102T090000
DTEND;TZID=America/Chicago:20191102T110000
DTSTAMP:20260423T224853
CREATED:20191014T122000Z
LAST-MODIFIED:20191102T184135Z
UID:10001926-1572685200-1572692400@www.racetime.info
SUMMARY:Thornridge Sectional XC Meet
DESCRIPTION:Thornridge Sectional Girls Overall Results\n\nThornridge Sectional Girls Team Results\n\nThornridge Sectional Girls Qualifier Report\n\nThornridge Sectional Boys Overall Results\n\nThornridge Sectional Boys Team Results\n\nThornridge Sectional Boys Qualifier Report
URL:https://www.racetime.info/event/thornridge-sectional-xc-meet/
LOCATION:Thornridge High School\, 15000 Cottage Grove Avenue\, Dolton\, IL\, 60419\, United States
CATEGORIES:2019 Cross Country Results
ORGANIZER;CN="Derek Augustynowicz":MAILTO:augustynowicz.derek@district205.net
END:VEVENT
BEGIN:VEVENT
DTSTART;TZID=America/Chicago:20191026T090000
DTEND;TZID=America/Chicago:20191026T120000
DTSTAMP:20260423T224853
CREATED:20170901T115840Z
LAST-MODIFIED:20191026T184434Z
UID:10001645-1572080400-1572091200@www.racetime.info
SUMMARY:Andrew's Regional Cross Country Meet
DESCRIPTION:Andrew IHSA Regional Girls Overall Results\n\nAndrew IHSA Regional Girls Team Results\n\nAndrew IHSA Regional Girls Qualifying Results\n\nAndrew IHSA Regional Boys Overall Results\n\nAndrew IHSA Regional Boys Team Results\n\nAndrew IHSA Regional Boys Qualifying Results
URL:https://www.racetime.info/event/andrews-regional-cross-country-meet/
LOCATION:Tinley Park Park District\, 8125 W. 171st Street\, Tinley Park\, IL\, 60447\, United States
CATEGORIES:2019 Cross Country Results
ORGANIZER;CN="Kevin McKeown":MAILTO:kmckeown@d230.org
END:VEVENT
BEGIN:VEVENT
DTSTART;TZID=America/Chicago:20191026T090000
DTEND;TZID=America/Chicago:20191026T113000
DTSTAMP:20260423T224853
CREATED:20170829T180311Z
LAST-MODIFIED:20191026T184044Z
UID:10000777-1572080400-1572089400@www.racetime.info
SUMMARY:St. Viator's Regional Cross Country Meet
DESCRIPTION:Arlington Heights Class 2A Regional Girls Overall Results\n\nArlington Heights Class 2A Regional Girls Team Results\n\nArlington Heights Class 2A Regional Boys Overall Results\n\nArlington Heights Class 2A Regional Boys Team Results
URL:https://www.racetime.info/event/st-viators-regional-cross-country-meet-2/
LOCATION:Melas Park\, 1500 W. Central Road\, Mount Prospect\, IL\, 60056\, United States
CATEGORIES:2019 Cross Country Results
ORGANIZER;CN="Maggie Haskins":MAILTO:mwiener@saintviator.com
GEO:42.066494;-87.9646978
X-APPLE-STRUCTURED-LOCATION;VALUE=URI;X-ADDRESS=Melas Park 1500 W. Central Road Mount Prospect IL 60056 United States;X-APPLE-RADIUS=500;X-TITLE=1500 W. Central Road:geo:-87.9646978,42.066494
END:VEVENT
BEGIN:VEVENT
DTSTART;TZID=America/Chicago:20191026T090000
DTEND;TZID=America/Chicago:20191026T110000
DTSTAMP:20260423T224853
CREATED:20191014T121704Z
LAST-MODIFIED:20191026T184634Z
UID:10001925-1572080400-1572087600@www.racetime.info
SUMMARY:Plainfield Regional XC Meet
DESCRIPTION:Plainfield IHSA Class 3A Regional Girls Overall Results\n\nPlainfield IHSA Class 3A Regional Girls Team Results\n\nPlainfield IHSA Class 3A Regional Girls Qualifying Results\n\nPlainfield IHSA Class 3A Regional Boys Overall Results\n\nPlainfield IHSA Class 3A Regional Boys Team Results\n\nPlainfield IHSA Class 3A Regional Boys Qualifying Results
URL:https://www.racetime.info/event/plainfield-regional-xc-meet/
LOCATION:Hammel Woods Forest Preserve\, 554 Brook Forest Avenue\, Shorewood\, IL\, 60404\, United States
CATEGORIES:2019 Cross Country Results
ORGANIZER;CN="Ken Bublitz":MAILTO:kbublitz@psd202.org
GEO:41.5304235;-88.197998
X-APPLE-STRUCTURED-LOCATION;VALUE=URI;X-ADDRESS=Hammel Woods Forest Preserve 554 Brook Forest Avenue Shorewood IL 60404 United States;X-APPLE-RADIUS=500;X-TITLE=554 Brook Forest Avenue:geo:-88.197998,41.5304235
END:VEVENT
BEGIN:VEVENT
DTSTART;TZID=America/Chicago:20191024T153000
DTEND;TZID=America/Chicago:20191024T170000
DTSTAMP:20260423T224853
CREATED:20181015T122611Z
LAST-MODIFIED:20191025T015219Z
UID:10001021-1571931000-1571936400@www.racetime.info
SUMMARY:West Chicago School District 33's Cross Country Challenge
DESCRIPTION:WE GO XC Challenge 4th Grade Overall Results\n\nWE GO XC Challenge 5th Grade Overall Results\n\nWE GO XC Challenge 6th\, 7th\, 8th Grade Overall Results
URL:https://www.racetime.info/event/west-chicago-school-district-33s-cross-country-challenge-2/
LOCATION:Leman Middle School\, 238 East Hazel Street\, West Chicago\, IL\, 60185\, United States
CATEGORIES:2019 Cross Country Results
GEO:41.8738296;-88.2023204
X-APPLE-STRUCTURED-LOCATION;VALUE=URI;X-ADDRESS=Leman Middle School 238 East Hazel Street West Chicago IL 60185 United States;X-APPLE-RADIUS=500;X-TITLE=238 East Hazel Street:geo:-88.2023204,41.8738296
END:VEVENT
BEGIN:VEVENT
DTSTART;TZID=America/Chicago:20191019T090000
DTEND;TZID=America/Chicago:20191019T120000
DTSTAMP:20260423T224853
CREATED:20170901T115620Z
LAST-MODIFIED:20191019T183917Z
UID:10001641-1571475600-1571486400@www.racetime.info
SUMMARY:ESCC Conference Meet
DESCRIPTION:ESCC FS Girls Overall Results\n\nESCC FS Girls Team Results\n\nESCC FS Boys Overall Results\n\nESCC FS Boys Team Results\n\nESCC Varsity Girls Overall Results\n\nESCC Varsity Girls Team Results\n\nESCC Varsity Boys Overall Results\n\nESCC Varsity Boys Team Results\n\nESCC Open Girls Overall Results\n\nESCC Open Girls Team Results\n\nESCC Open Boys Overall Results\n\nESCC Open Boys Team Results
URL:https://www.racetime.info/event/escc-conference-meet-3/
LOCATION:Melas Park\, 1500 W. Central Road\, Mount Prospect\, IL\, 60056\, United States
CATEGORIES:2019 Cross Country Results
ORGANIZER;CN="Maggie Haskins":MAILTO:mwiener@saintviator.com
GEO:42.066494;-87.9646978
X-APPLE-STRUCTURED-LOCATION;VALUE=URI;X-ADDRESS=Melas Park 1500 W. Central Road Mount Prospect IL 60056 United States;X-APPLE-RADIUS=500;X-TITLE=1500 W. Central Road:geo:-87.9646978,42.066494
END:VEVENT
BEGIN:VEVENT
DTSTART;TZID=America/Chicago:20191016T160000
DTEND;TZID=America/Chicago:20191016T180000
DTSTAMP:20260423T224853
CREATED:20170913T190834Z
LAST-MODIFIED:20191017T012751Z
UID:10001669-1571241600-1571248800@www.racetime.info
SUMMARY:NPC Conference Cross Country Meet
DESCRIPTION:Naper Prairie 7th Grade Girls Overall Results\n\nNaper Prairie 7th Grade Girls Team Results\n\nNaper Prairie 7th Grade Boys Overall Results\n\nNaper Prairie 7th Grade Boys Team Results\n\nNaper Prairie 8th Grade Girls Overall Results\n\nNaper Prairie 8th Grade Girls Team Results\n\nNaper Prairie 8th Grade Boys Overall Results\n\nNaper Prairie 8th Grade Boys Team Results
URL:https://www.racetime.info/event/npc-conference-cross-country-meet-3/
LOCATION:Frontier Park\, 3380 Cedar Glade Drive\, Naperville\, IL\, 60563\, United States
CATEGORIES:2019 Cross Country Results
ORGANIZER;CN="Kevin Cox":MAILTO:kevin_cox@ipsd.org
END:VEVENT
BEGIN:VEVENT
DTSTART;TZID=America/Chicago:20191016T040000
DTEND;TZID=America/Chicago:20191016T180000
DTSTAMP:20260423T224853
CREATED:20170901T121523Z
LAST-MODIFIED:20191017T012414Z
UID:10001651-1571198400-1571248800@www.racetime.info
SUMMARY:IPAC Conference Meet
DESCRIPTION:IPAC 6 7 Girls Overall Results\n\nIPAC 6 7 Girls Team Results\n\nIPAC 6 7 Boys Overall Results\n\nIPAC 6 7 Boys Team Results\n\nIPAC 8 Girls Overall Results\n\nIPAC 8 Girls Team Results\n\nIPAC 8 Boys Overall Results\n\nIPAC 8 Boys Team Results\n\nIPAC Open Girls Overall Results\n\nIPAC Open Girls Team Results\n\nIPAC Open Boys Overall Results\n\nIPAC Open Boys Team Results
URL:https://www.racetime.info/event/copy-of-ipac-conference-meet/
LOCATION:Monroe Middle School\, 1855 Manchester Road\, Wheaton\, IL\, 60187\, United States
CATEGORIES:2019 Cross Country Results
ORGANIZER;CN="Michael McCormack":MAILTO:michael.mccormack@cusd200.org
GEO:41.8677548;-88.1315721
X-APPLE-STRUCTURED-LOCATION;VALUE=URI;X-ADDRESS=Monroe Middle School 1855 Manchester Road Wheaton IL 60187 United States;X-APPLE-RADIUS=500;X-TITLE=1855 Manchester Road:geo:-88.1315721,41.8677548
END:VEVENT
BEGIN:VEVENT
DTSTART;TZID=America/Chicago:20191012T100000
DTEND;TZID=America/Chicago:20191012T130000
DTSTAMP:20260423T224853
CREATED:20170830T120940Z
LAST-MODIFIED:20191012T204901Z
UID:10000790-1570874400-1570885200@www.racetime.info
SUMMARY:Prairie Central Hawk Invitational Cross Country Meet
DESCRIPTION:Hawk Invite Varsity Girls Overall Results\n\nHawk Invite Varsity Girls Team Results\n\nHawk Invite Varsity Boys Overall Results\n\nHawk Invite Varsity Boys Team Results\n\nHawk Open Girls Overall Results\n\nHawk Open Girls Team Results\n\nHawk Open Boys Overall Results\n\nHawk Open Boys Team Results
URL:https://www.racetime.info/event/copy-of-prairie-central-cross-country-invite/
LOCATION:Indian Creek Golf Course\, 7429 N 2200 E Road\, Fairbury\, IL\, 61739\, United States
CATEGORIES:2019 Cross Country Results
ORGANIZER;CN="Scott McGuire":MAILTO:srmcguire@prairiecentral.org
GEO:40.7341621;-88.5065473
X-APPLE-STRUCTURED-LOCATION;VALUE=URI;X-ADDRESS=Indian Creek Golf Course 7429 N 2200 E Road Fairbury IL 61739 United States;X-APPLE-RADIUS=500;X-TITLE=7429 N 2200 E Road:geo:-88.5065473,40.7341621
END:VEVENT
BEGIN:VEVENT
DTSTART;TZID=America/Chicago:20191012T094500
DTEND;TZID=America/Chicago:20191012T123000
DTSTAMP:20260423T224853
CREATED:20170530T132928Z
LAST-MODIFIED:20191012T205057Z
UID:10001425-1570873500-1570883400@www.racetime.info
SUMMARY:The Colonel Madden Cross-Town Cross Country Race
DESCRIPTION:Colonel Madden Cross Town Classic Girls Overall Results\n\nColonel Madden Cross Town Classic Girls Team Results\n\nColonel Madden Cross Town Classic Boys Overall Results\n\nColonel Madden Cross Town Classic Boys Team Results
URL:https://www.racetime.info/event/the-colonel-madden-cross-town-cross-country-race/
LOCATION:Oak Forest High School\, 15201 S. Central Avenue\, Oak Forest\, IL\, United States
CATEGORIES:2019 Cross Country Results
ORGANIZER;CN="Scott Priestman":MAILTO:spriestman@bhsd228.com
GEO:41.6158151;-87.7538819
X-APPLE-STRUCTURED-LOCATION;VALUE=URI;X-ADDRESS=Oak Forest High School 15201 S. Central Avenue Oak Forest IL United States;X-APPLE-RADIUS=500;X-TITLE=15201 S. Central Avenue:geo:-87.7538819,41.6158151
END:VEVENT
BEGIN:VEVENT
DTSTART;TZID=America/Chicago:20191012T090000
DTEND;TZID=America/Chicago:20191012T110000
DTSTAMP:20260423T224853
CREATED:20180912T122930Z
LAST-MODIFIED:20191012T204827Z
UID:10001014-1570870800-1570878000@www.racetime.info
SUMMARY:WE GO Cross Country Meet
DESCRIPTION:WE GO Human Race Varsity Girls Overall Results\n\nWE GO Human Race Varsity Girls Team Results\n\nWE GO Human Race Varsity Boys Overall Results\n\nWE GO Human Race Varsity Boys Team Results\n\nWE GO Human Race Open Girls Overall Results\n\nWE GO Human Race Open Girls Team Results\n\nWE GO Human Race Open Boys Overall Results\n\nWE GO Human Race Open Boys Team Results
URL:https://www.racetime.info/event/we-go-cross-country-meet-2/
LOCATION:Kress Creek Farm\, 30W150 Wilson Road\, West Chicago\, IL\, 60185\, United States
CATEGORIES:2019 Cross Country Results
ORGANIZER;CN="Dave Saynor":MAILTO:dsaynor@d94.org
GEO:41.856453;-88.2043276
X-APPLE-STRUCTURED-LOCATION;VALUE=URI;X-ADDRESS=Kress Creek Farm 30W150 Wilson Road West Chicago IL 60185 United States;X-APPLE-RADIUS=500;X-TITLE=30W150 Wilson Road:geo:-88.2043276,41.856453
END:VEVENT
BEGIN:VEVENT
DTSTART;TZID=America/Chicago:20191010T160000
DTEND;TZID=America/Chicago:20191010T180000
DTSTAMP:20260423T224853
CREATED:20170901T114737Z
LAST-MODIFIED:20191011T012424Z
UID:10000815-1570723200-1570730400@www.racetime.info
SUMMARY:Ron Berger Cross Country Meet
DESCRIPTION:Ron Berger JV Girls Overall Results\n\nRon Berger JV Girls Team Results\n\nRon Berger JV Boys Overall Results\n\nRon Berger JV Boys Team Results\n\nRon Berger Varsity Girls Overall Results\n\nRon Berger Varsity Girls Team Results\n\nRon Berger Varsity Boys Overall Results\n\nRon Berger Varsity Boys Team Results
URL:https://www.racetime.info/event/ron-berger-cross-country-meet/
LOCATION:Gillson Beach\, 800 Gillson Park Drive\, Wilmette\, IL\, 60091\, United States
CATEGORIES:2019 Cross Country Results
ORGANIZER;CN="Mike Firth":MAILTO:illinidad115@hotmail.com
GEO:42.0804297;-87.6887941
X-APPLE-STRUCTURED-LOCATION;VALUE=URI;X-ADDRESS=Gillson Beach 800 Gillson Park Drive Wilmette IL 60091 United States;X-APPLE-RADIUS=500;X-TITLE=800 Gillson Park Drive:geo:-87.6887941,42.0804297
END:VEVENT
BEGIN:VEVENT
DTSTART;TZID=America/Chicago:20191009T160000
DTEND;TZID=America/Chicago:20191009T180000
DTSTAMP:20260423T224853
CREATED:20170901T114454Z
LAST-MODIFIED:20191010T005230Z
UID:10000816-1570636800-1570644000@www.racetime.info
SUMMARY:Indian Trail PAW PAC Cross Country Meet
DESCRIPTION:Paw Pac 6th Grade Girls Overall Results\n\nPaw Pac 6th Grade Girls Team Results\n\nPaw Pac 6th Grade Boys Overall Results\n\nPaw Pac 6th Grade Boys Team Results\n\nPaw Pac 7th Grade Girls Overall Results\n\nPaw Pak 7th Grade Girls Team Results\n\nPaw Pac 7th Grade Boys Overall Results\n\nPaw Pac 7th Grade Boys Team Results\n\nPaw Pac 8th Grade Girls Overall Results\n\nPaw Pac 8th Grade Girls Team Results\n\nPaw Pac 8th Grade Boys Overall Results\n\nPaw Pac 8th Grade Boys Team Results
URL:https://www.racetime.info/event/indian-trail-paw-pac-cross-country-meet-2/
LOCATION:Plainfield East High School\, 12001 S Naperville Rd\, Plainfield\, IL\, United States
CATEGORIES:2019 Cross Country Results
ORGANIZER;CN="Amy Bishop":MAILTO:abishop@psd202.org
GEO:41.6649235;-88.1739219
X-APPLE-STRUCTURED-LOCATION;VALUE=URI;X-ADDRESS=Plainfield East High School 12001 S Naperville Rd Plainfield IL United States;X-APPLE-RADIUS=500;X-TITLE=12001 S Naperville Rd:geo:-88.1739219,41.6649235
END:VEVENT
BEGIN:VEVENT
DTSTART;TZID=America/Chicago:20191008T160000
DTEND;TZID=America/Chicago:20191008T173000
DTSTAMP:20260423T224853
CREATED:20170713T234541Z
LAST-MODIFIED:20191009T025650Z
UID:10001528-1570550400-1570555800@www.racetime.info
SUMMARY:LMS XC Meet
DESCRIPTION:Leman Oct 8 6 & 7 Girls Overall Results\n\nLeman Oct 8 6 & 7 Girls Team Results\n\nLeman Oct 8 6 & 7 Boys Overall Results\n\nLeman Oct 8 6 & 7 Boys Team Results\n\nLeman Oct 8 8th Grade Girls Overall Results\n\nLeman Oct 8 8th Grade Girls Team Results\n\nLeman Oct 8 8th Grade Boys Overall Results\n\nLeman Oct 8 8th Grade Boys Team Results
URL:https://www.racetime.info/event/lms-xc-meet-12/
LOCATION:Leman Middle School\, 238 East Hazel Street\, West Chicago\, IL\, 60185\, United States
CATEGORIES:2019 Cross Country Results
ORGANIZER;CN="Amy Wagner":MAILTO:wagnera@wego33.org
GEO:41.8738296;-88.2023204
X-APPLE-STRUCTURED-LOCATION;VALUE=URI;X-ADDRESS=Leman Middle School 238 East Hazel Street West Chicago IL 60185 United States;X-APPLE-RADIUS=500;X-TITLE=238 East Hazel Street:geo:-88.2023204,41.8738296
END:VEVENT
BEGIN:VEVENT
DTSTART;TZID=America/Chicago:20191008T100000
DTEND;TZID=America/Chicago:20191008T130000
DTSTAMP:20260423T224853
CREATED:20170830T120940Z
LAST-MODIFIED:20191009T025252Z
UID:10000788-1570528800-1570539600@www.racetime.info
SUMMARY:Prairie Central Cross Country Invite
DESCRIPTION:Illini Prairie Varsity Girls Overall Results\n\nIllini Prairie Varsity Girls Team Results\n\nIllini Prairie Varsity Boys Overall Results\n\nIllini Prairie Varsity Boys Team Results\n\nIllini Prairie Open Girls Overall Results\n\nIllini Prairie Open Girls Team Results\n\nIllini Prairie Open Boys Overall Results\n\nIllini Prairie Open Boys Team Results
URL:https://www.racetime.info/event/prairie-central-cross-country-invite-3/
LOCATION:Indian Creek Golf Course\, 7429 N 2200 E Road\, Fairbury\, IL\, 61739\, United States
CATEGORIES:2019 Cross Country Results
ORGANIZER;CN="Scott McGuire":MAILTO:srmcguire@prairiecentral.org
GEO:40.7341621;-88.5065473
X-APPLE-STRUCTURED-LOCATION;VALUE=URI;X-ADDRESS=Indian Creek Golf Course 7429 N 2200 E Road Fairbury IL 61739 United States;X-APPLE-RADIUS=500;X-TITLE=7429 N 2200 E Road:geo:-88.5065473,40.7341621
END:VEVENT
BEGIN:VEVENT
DTSTART;TZID=America/Chicago:20191005T090000
DTEND;TZID=America/Chicago:20191005T120000
DTSTAMP:20260423T224853
CREATED:20170829T183103Z
LAST-MODIFIED:20191005T184827Z
UID:10001600-1570266000-1570276800@www.racetime.info
SUMMARY:Channahon XC Invite
DESCRIPTION:Channahon 6th Grade Girls Overall Results\n\nChannahon 6th Grade Girls Team Results\n\nChannahon 6th Grade Boys Overall Results\n\nChannahon 6th Grade Boys Team Results\n\nChannahon Varsity Girls Overall Results\n\nChannahon Varsity Girls Team Results\n\nChannahon Varsity Boys Overall Results\n\nChannahon Varsity Boys Team Results\n\nChannahon Open Girls Overall Results\n\nChannahon Open Girls Team Results\n\nChannahon Open Boys Overall Results\n\nChannahon Open Boys Team Results
URL:https://www.racetime.info/event/channahon-xc-invite-3/
LOCATION:Channahon Community Park\, 23200 W. McClintock Road\, Channahon\, IL\, 60410\, United States
CATEGORIES:2019 Cross Country Results
ORGANIZER;CN="Geri Pieczynski":MAILTO:gpieczynski@csd17.org
GEO:41.4726537;-88.1767734
X-APPLE-STRUCTURED-LOCATION;VALUE=URI;X-ADDRESS=Channahon Community Park 23200 W. McClintock Road Channahon IL 60410 United States;X-APPLE-RADIUS=500;X-TITLE=23200 W. McClintock Road:geo:-88.1767734,41.4726537
END:VEVENT
BEGIN:VEVENT
DTSTART;TZID=America/Chicago:20191005T090000
DTEND;TZID=America/Chicago:20191005T110000
DTSTAMP:20260423T224853
CREATED:20170803T114316Z
LAST-MODIFIED:20191008T033135Z
UID:10001572-1570266000-1570273200@www.racetime.info
SUMMARY:Wheaton Classic Girls Cross Country Meet
DESCRIPTION:Wheaton Classic Jr Sr Overall Results\n\nWheaton Classic Flight Results\n\nWheaton Classic Fresh Soph Overall Results
URL:https://www.racetime.info/event/wheaton-classic-girls-cross-country-meet/
LOCATION:St James Farms\, Winfield Road\, Warrenville\, IL\, United States
CATEGORIES:2019 Cross Country Results
END:VEVENT
BEGIN:VEVENT
DTSTART;TZID=America/Chicago:20191003T160000
DTEND;TZID=America/Chicago:20191003T180000
DTSTAMP:20260423T224853
CREATED:20170803T114316Z
LAST-MODIFIED:20191004T010713Z
UID:10001571-1570118400-1570125600@www.racetime.info
SUMMARY:Joe Mortimer Frosh-Soph Cross Country Meet
DESCRIPTION:Joe Mortimer Freshman Boys Overall Results\n\nJoe Mortimer Freshmen Boys Team Results\n\nJoe Mortimer Sophomore Boys Overall Results\n\nJoe Mortimer Sophomore Boys Team Results
URL:https://www.racetime.info/event/joe-motimer-frosh-soph-cross-country-meet-2/
LOCATION:Tinley Park Park District\, 8125 W. 171st Street\, Tinley Park\, IL\, 60447\, United States
CATEGORIES:2019 Cross Country Results
ORGANIZER;CN="Kevin McKeown":MAILTO:kmckeown@d230.org
END:VEVENT
BEGIN:VEVENT
DTSTART;TZID=America/Chicago:20191003T160000
DTEND;TZID=America/Chicago:20191003T173000
DTSTAMP:20260423T224853
CREATED:20170713T234541Z
LAST-MODIFIED:20191004T020116Z
UID:10001527-1570118400-1570123800@www.racetime.info
SUMMARY:LMS XC Meet
DESCRIPTION:Leman Oct 3 Girls 6 & 7 Overall Results\n\nLeman Oct 3 Girls 6 & 7 Team Results\n\nLeman Oct 3 Boys 6 & 7 Overall Results\n\nLeman Oct 3 Boys 6 & 7 Team Results\n\nLeman Oct 3 Girls 8 Overall Results\n\nLeman Oct 3 8 Girls Team Results\n\nLeman Oct 3 Boys 8 Overall Results\n\nLeman Oct 3 Boys 8 Team Results
URL:https://www.racetime.info/event/lms-xc-meet-10/
LOCATION:Leman Middle School\, 238 East Hazel Street\, West Chicago\, IL\, 60185\, United States
CATEGORIES:2019 Cross Country Results
ORGANIZER;CN="Amy Wagner":MAILTO:wagnera@wego33.org
GEO:41.8738296;-88.2023204
X-APPLE-STRUCTURED-LOCATION;VALUE=URI;X-ADDRESS=Leman Middle School 238 East Hazel Street West Chicago IL 60185 United States;X-APPLE-RADIUS=500;X-TITLE=238 East Hazel Street:geo:-88.2023204,41.8738296
END:VEVENT
BEGIN:VEVENT
DTSTART;TZID=America/Chicago:20190926T160000
DTEND;TZID=America/Chicago:20190926T173000
DTSTAMP:20260423T224853
CREATED:20170713T234541Z
LAST-MODIFIED:20190926T232044Z
UID:10001526-1569513600-1569519000@www.racetime.info
SUMMARY:LMS XC Meet
DESCRIPTION:Leman Sept 26 Girls 6 & 7 Overall Results\n\nLeman Sept 26 Girls 6 & 7 Team Results\n\nLeman Sept 26 Boys 6 & 7 Overall Results\n\nLeman Sept 26 Boys 6 & 7 Team Results\n\nLeman Sept 26 Girls 8 Overall Results\n\nLeman Sept 26 Girls 8 Team Results\n\nLeman Sept 26 Boys 8 Overall Results\n\nLeman Sept 26 Boys 8 Team Results
URL:https://www.racetime.info/event/lms-xc-meet-13/
LOCATION:Leman Middle School\, 238 East Hazel Street\, West Chicago\, IL\, 60185\, United States
CATEGORIES:2019 Cross Country Results
ORGANIZER;CN="Amy Wagner":MAILTO:wagnera@wego33.org
GEO:41.8738296;-88.2023204
X-APPLE-STRUCTURED-LOCATION;VALUE=URI;X-ADDRESS=Leman Middle School 238 East Hazel Street West Chicago IL 60185 United States;X-APPLE-RADIUS=500;X-TITLE=238 East Hazel Street:geo:-88.2023204,41.8738296
END:VEVENT
BEGIN:VEVENT
DTSTART;TZID=America/Chicago:20190924T160000
DTEND;TZID=America/Chicago:20190924T173000
DTSTAMP:20260423T224853
CREATED:20170713T234541Z
LAST-MODIFIED:20190925T002729Z
UID:10001525-1569340800-1569346200@www.racetime.info
SUMMARY:LMS XC Meet
DESCRIPTION:Leman Sept 24 Girls 6 & 7 Overall Results\n\nLeman Sept 24 Girls 6 & 7 Team Results\n\nLeman Sept 24 Boys 6 & 7 Overall Results\n\nLeman Sept 24 Boys 6 & 7 Team Results\n\nLeman Sept 24 Girls 8 Overall Results\n\nLeman Sept 24 Girls 8 Team Results\n\nLeman Sept 24 Boys 8 Overall Results\n\nLeman Sept 24 Boys 8 Team Results
URL:https://www.racetime.info/event/lms-xc-meet-11/
LOCATION:Leman Middle School\, 238 East Hazel Street\, West Chicago\, IL\, 60185\, United States
CATEGORIES:2019 Cross Country Results
ORGANIZER;CN="Amy Wagner":MAILTO:wagnera@wego33.org
GEO:41.8738296;-88.2023204
X-APPLE-STRUCTURED-LOCATION;VALUE=URI;X-ADDRESS=Leman Middle School 238 East Hazel Street West Chicago IL 60185 United States;X-APPLE-RADIUS=500;X-TITLE=238 East Hazel Street:geo:-88.2023204,41.8738296
END:VEVENT
BEGIN:VEVENT
DTSTART;TZID=America/Chicago:20190923T163000
DTEND;TZID=America/Chicago:20190923T180000
DTSTAMP:20260423T224853
CREATED:20170726T120502Z
LAST-MODIFIED:20190924T005141Z
UID:10000743-1569256200-1569261600@www.racetime.info
SUMMARY:York Fresh/Soph Cross Country Meet
DESCRIPTION:York Invite Soph Boys Overall Results\n\nYork Invite Soph Boys Team Results\n\nYork Invite Fresh Boys Overall Results\n\nYork Invite Fresh Boys Team Results\n\nYork Invite Open Boys Overall Results\n\nYork Invite Open Boys Team Results
URL:https://www.racetime.info/event/york-fresh-soph-cross-country-meet-2/
LOCATION:Berens Park\, Armitage and Oak Lawn\, Elmhurst\, IL\, 60126\, United States
CATEGORIES:2019 Cross Country Results
ORGANIZER;CN="Rob Wagner":MAILTO:rwagner@elmhurst205.org
GEO:41.9131818;-87.9578911
X-APPLE-STRUCTURED-LOCATION;VALUE=URI;X-ADDRESS=Berens Park Armitage and Oak Lawn Elmhurst IL 60126 United States;X-APPLE-RADIUS=500;X-TITLE=Armitage and Oak Lawn:geo:-87.9578911,41.9131818
END:VEVENT
BEGIN:VEVENT
DTSTART;TZID=America/Chicago:20190921T100000
DTEND;TZID=America/Chicago:20190921T123000
DTSTAMP:20260423T224853
CREATED:20180830T184329Z
LAST-MODIFIED:20190921T202505Z
UID:10001833-1569060000-1569069000@www.racetime.info
SUMMARY:Meteor Invitational
DESCRIPTION:Meteor Invite Frosh Soph Girls Overall Results\n\nMeteor Invite Frosh Soph Girls Team Results\n\nMeteor Invite Frosh Soph Boys Overall Results\n\nMeteor Invite Frosh Soph Boys Team Results\n\nMeteor Invite Varsity Girls Overall Results\n\nMeteor Invite Varsity Girls Team Results\n\nMeteor Invite Varsity Boys Overall Results\n\nMeteor Invite Varsity Boys Team Results
URL:https://www.racetime.info/event/meteor-invitational-2/
LOCATION:Riverfront Park\, 1907 E. 166th Place\, South Holland\, IL\, 60473\, United States
CATEGORIES:2019 Cross Country Results
GEO:41.5920983;-87.5709062
X-APPLE-STRUCTURED-LOCATION;VALUE=URI;X-ADDRESS=Riverfront Park 1907 E. 166th Place South Holland IL 60473 United States;X-APPLE-RADIUS=500;X-TITLE=1907 E. 166th Place:geo:-87.5709062,41.5920983
END:VEVENT
BEGIN:VEVENT
DTSTART;TZID=America/Chicago:20190914T090000
DTEND;TZID=America/Chicago:20190914T110000
DTSTAMP:20260423T224853
CREATED:20170726T112224Z
LAST-MODIFIED:20190914T191000Z
UID:10001557-1568451600-1568458800@www.racetime.info
SUMMARY:ICCP Knights Invite Cross Country Meet
DESCRIPTION:ICCP Varsity Girls Overall Results\n\nICCP Varsity Girls Team Results\n\nICCP Varsity Boys Overall Results\n\nICCP Varsity Boys Team Results\n\nICCP Open Girls Overall Results\n\nICCP Open Girls Team Results\n\nICCP Open Boys Overall Results\n\nICCP Open Boys Team Results
URL:https://www.racetime.info/event/iccp-knights-invite-cross-country-meet-2/
LOCATION:IL
CATEGORIES:2019 Cross Country Results
ORGANIZER;CN="Frank DeAngelis":MAILTO:fdeangelis@iccatholicprep.org
END:VEVENT
BEGIN:VEVENT
DTSTART;TZID=America/Chicago:20190911T163000
DTEND;TZID=America/Chicago:20190911T180000
DTSTAMP:20260423T224853
CREATED:20170829T180311Z
LAST-MODIFIED:20190912T021642Z
UID:10001596-1568219400-1568224800@www.racetime.info
SUMMARY:St. Viator's Artman Invite Cross Country Meet
DESCRIPTION:Artman Invite F S Girls Overall Results\n\nArtman Invite F S Girls Team Results\n\nArtman Invite F S Boys Overall Results\n\nArtman Invite F S Boys Team Results\n\nArtman Invite Varsity Girls Overall Results\n\nArtman Invite Varsity Girls Team Results\n\nArtman Invite Varsity Boys Overall Results\n\nArtman Invite Varsity Boys Team Results
URL:https://www.racetime.info/event/st-viators-artman-invite-cross-country-meet-3/
LOCATION:Melas Park\, 1500 W. Central Road\, Mount Prospect\, IL\, 60056\, United States
CATEGORIES:2019 Cross Country Results
ORGANIZER;CN="Maggie Haskins":MAILTO:mwiener@saintviator.com
GEO:42.066494;-87.9646978
X-APPLE-STRUCTURED-LOCATION;VALUE=URI;X-ADDRESS=Melas Park 1500 W. Central Road Mount Prospect IL 60056 United States;X-APPLE-RADIUS=500;X-TITLE=1500 W. Central Road:geo:-87.9646978,42.066494
END:VEVENT
BEGIN:VEVENT
DTSTART;TZID=America/Chicago:20190910T160000
DTEND;TZID=America/Chicago:20190910T173000
DTSTAMP:20260423T224853
CREATED:20170713T234541Z
LAST-MODIFIED:20190911T104049Z
UID:10001524-1568131200-1568136600@www.racetime.info
SUMMARY:LMS XC Meet
DESCRIPTION:Leman Sept 10 Girls Overall Results\n\nLeman Sept 10 Girls Team Detail Results\n\nLeman Sept 10 Boys Overall Results\n\nLeman Sept 10 Boys Team Detail Results
URL:https://www.racetime.info/event/lms-xc-meet-8/
LOCATION:Leman Middle School\, 238 East Hazel Street\, West Chicago\, IL\, 60185\, United States
CATEGORIES:2019 Cross Country Results
ORGANIZER;CN="Amy Wagner":MAILTO:wagnera@wego33.org
GEO:41.8738296;-88.2023204
X-APPLE-STRUCTURED-LOCATION;VALUE=URI;X-ADDRESS=Leman Middle School 238 East Hazel Street West Chicago IL 60185 United States;X-APPLE-RADIUS=500;X-TITLE=238 East Hazel Street:geo:-88.2023204,41.8738296
END:VEVENT
END:VCALENDAR