BEGIN:VCALENDAR
VERSION:2.0
PRODID:-//Race Time - ECPv6.15.13//NONSGML v1.0//EN
CALSCALE:GREGORIAN
METHOD:PUBLISH
X-ORIGINAL-URL:https://www.racetime.info
X-WR-CALDESC:Events for Race Time
REFRESH-INTERVAL;VALUE=DURATION:PT1H
X-Robots-Tag:noindex
X-PUBLISHED-TTL:PT1H
BEGIN:VTIMEZONE
TZID:America/Chicago
BEGIN:DAYLIGHT
TZOFFSETFROM:-0600
TZOFFSETTO:-0500
TZNAME:CDT
DTSTART:20190310T080000
END:DAYLIGHT
BEGIN:STANDARD
TZOFFSETFROM:-0500
TZOFFSETTO:-0600
TZNAME:CST
DTSTART:20191103T070000
END:STANDARD
BEGIN:DAYLIGHT
TZOFFSETFROM:-0600
TZOFFSETTO:-0500
TZNAME:CDT
DTSTART:20200308T080000
END:DAYLIGHT
BEGIN:STANDARD
TZOFFSETFROM:-0500
TZOFFSETTO:-0600
TZNAME:CST
DTSTART:20201101T070000
END:STANDARD
BEGIN:DAYLIGHT
TZOFFSETFROM:-0600
TZOFFSETTO:-0500
TZNAME:CDT
DTSTART:20210314T080000
END:DAYLIGHT
BEGIN:STANDARD
TZOFFSETFROM:-0500
TZOFFSETTO:-0600
TZNAME:CST
DTSTART:20211107T070000
END:STANDARD
END:VTIMEZONE
BEGIN:VEVENT
DTSTART;TZID=America/Chicago:20200223T110000
DTEND;TZID=America/Chicago:20200223T130000
DTSTAMP:20260424T001422
CREATED:20160122T122907Z
LAST-MODIFIED:20200223T194802Z
UID:10000188-1582455600-1582462800@www.racetime.info
SUMMARY:Frosty Footrace 5K Run/Walk
DESCRIPTION:Frosty Footrace 5K Age Group Results\n\nFrosty Footrace 5K Overall Results
URL:https://www.racetime.info/event/frosty-footrace-5k-run-walk-3/
LOCATION:Round Lake Area Park District\, 2004 N. Municipal Wy\, Round Lake Beach\, IL\, 60073\, United States
CATEGORIES:2020-02 Results (February)
ORGANIZER;CN="Jessica Jeffery":MAILTO:jessica_jeffery-findley@rlapd.org
GEO:42.3843311;-88.0721672
X-APPLE-STRUCTURED-LOCATION;VALUE=URI;X-ADDRESS=Round Lake Area Park District 2004 N. Municipal Wy Round Lake Beach IL 60073 United States;X-APPLE-RADIUS=500;X-TITLE=2004 N. Municipal Wy:geo:-88.0721672,42.3843311
END:VEVENT
BEGIN:VEVENT
DTSTART;TZID=America/Chicago:20200215T090000
DTEND;TZID=America/Chicago:20200215T120000
DTSTAMP:20260424T001422
CREATED:20180116T003745Z
LAST-MODIFIED:20200215T194951Z
UID:10001711-1581757200-1581768000@www.racetime.info
SUMMARY:Galena Classic Sasquatch Shuffle - Snowshoe 2K & 5K
DESCRIPTION:Sasquatch Shuffle 2K and 2.1 Mile Age Group Results\n\nSasquatch Shuffle 2K and 2.1 Mile Overall Results
URL:https://www.racetime.info/event/galena-classic-sasquatch-shuffle-snowshoe-2k-5k-3/
LOCATION:Eagle Ridge Resort & Spa\, 444 Eagle Ridge Drive\, Galena\, IL\, 61036\, United States
CATEGORIES:2020-02 Results (February)
ORGANIZER;CN="Kelly Connor":MAILTO:kconnor@eagleridge.com
GEO:42.4054927;-90.338314
X-APPLE-STRUCTURED-LOCATION;VALUE=URI;X-ADDRESS=Eagle Ridge Resort & Spa 444 Eagle Ridge Drive Galena IL 61036 United States;X-APPLE-RADIUS=500;X-TITLE=444 Eagle Ridge Drive:geo:-90.338314,42.4054927
END:VEVENT
BEGIN:VEVENT
DTSTART;TZID=America/Chicago:20200208T100000
DTEND;TZID=America/Chicago:20200208T130000
DTSTAMP:20260424T001422
CREATED:20170406T133031Z
LAST-MODIFIED:20200208T185805Z
UID:10000532-1581156000-1581166800@www.racetime.info
SUMMARY:The Randall Oaks Frozen Oaks 5K Run/Walk
DESCRIPTION:Frozen Oaks 5K Age Group Results\n\nFrozen Oaks 5K Overall Results
URL:https://www.racetime.info/event/the-randall-oaks-frozen-oaks-5k-run-walk/
LOCATION:Randall Oaks Golf Club\, 4101 Binnie Road\, West Dundee\, IL\, 60118\, United States
CATEGORIES:2020-02 Results (February)
ORGANIZER;CN="Bill Hepperle":MAILTO:bhepperle@dtpd.org
END:VEVENT
END:VCALENDAR