BEGIN:VCALENDAR
VERSION:2.0
PRODID:-//Race Time - ECPv6.15.13//NONSGML v1.0//EN
CALSCALE:GREGORIAN
METHOD:PUBLISH
X-WR-CALNAME:Race Time
X-ORIGINAL-URL:https://www.racetime.info
X-WR-CALDESC:Events for Race Time
REFRESH-INTERVAL;VALUE=DURATION:PT1H
X-Robots-Tag:noindex
X-PUBLISHED-TTL:PT1H
BEGIN:VTIMEZONE
TZID:America/Chicago
BEGIN:DAYLIGHT
TZOFFSETFROM:-0600
TZOFFSETTO:-0500
TZNAME:CDT
DTSTART:20190310T080000
END:DAYLIGHT
BEGIN:STANDARD
TZOFFSETFROM:-0500
TZOFFSETTO:-0600
TZNAME:CST
DTSTART:20191103T070000
END:STANDARD
BEGIN:DAYLIGHT
TZOFFSETFROM:-0600
TZOFFSETTO:-0500
TZNAME:CDT
DTSTART:20200308T080000
END:DAYLIGHT
BEGIN:STANDARD
TZOFFSETFROM:-0500
TZOFFSETTO:-0600
TZNAME:CST
DTSTART:20201101T070000
END:STANDARD
BEGIN:DAYLIGHT
TZOFFSETFROM:-0600
TZOFFSETTO:-0500
TZNAME:CDT
DTSTART:20210314T080000
END:DAYLIGHT
BEGIN:STANDARD
TZOFFSETFROM:-0500
TZOFFSETTO:-0600
TZNAME:CST
DTSTART:20211107T070000
END:STANDARD
END:VTIMEZONE
BEGIN:VEVENT
DTSTART;TZID=America/Chicago:20200829T080000
DTEND;TZID=America/Chicago:20200829T100000
DTSTAMP:20260424T012903
CREATED:20190305T173900Z
LAST-MODIFIED:20200901T003958Z
UID:10001869-1598688000-1598695200@www.racetime.info
SUMMARY:BBQ Bolt 5K Run/Walk
DESCRIPTION:BBQ Bolt 5K Age Group Results\n\nBBQ Bolt 5K Overall Results\n\nBBQ Bolt Team Results
URL:https://www.racetime.info/event/copy-of-bbq-bolt-5-mile-run-5k-run-walk-1-mile-walk/
LOCATION:McCollum Park\, 6801 S. Main Street\, Downers Grove\, IL\, 60515\, United States
CATEGORIES:2020-08 Results (August)
ORGANIZER;CN="Dawn Hartman":MAILTO:dhartman@dgparks.org
GEO:41.802885;-88.044102
X-APPLE-STRUCTURED-LOCATION;VALUE=URI;X-ADDRESS=McCollum Park 6801 S. Main Street Downers Grove IL 60515 United States;X-APPLE-RADIUS=500;X-TITLE=6801 S. Main Street:geo:-88.044102,41.802885
END:VEVENT
BEGIN:VEVENT
DTSTART;TZID=America/Chicago:20200801T083000
DTEND;TZID=America/Chicago:20200801T100000
DTSTAMP:20260424T012903
CREATED:20170303T144838Z
LAST-MODIFIED:20200805T215959Z
UID:10001114-1596270600-1596276000@www.racetime.info
SUMMARY:Shopping Cart Shuffle 5K Run/Walk & Kids Dash: VIRTUAL
DESCRIPTION:Shopping Cart Shuffle Virtual 5K Age Group Results\n\nShopping Cart Shuffle Virtual 5K Overall Results\n\nShopping Cart Shuffle Virtual Team Results
URL:https://www.racetime.info/event/shopping-cart-shuffle-5k-run-walk-kids-dash-3/
LOCATION:Mallard Lake Forest Preserve\, Schick Road & Mallard Lane\, Bloomingdae\, IL\, 60172\, United States
CATEGORIES:2020-08 Results (August)
GEO:41.9527902;-88.1282465
X-APPLE-STRUCTURED-LOCATION;VALUE=URI;X-ADDRESS=Mallard Lake Forest Preserve Schick Road & Mallard Lane Bloomingdae IL 60172 United States;X-APPLE-RADIUS=500;X-TITLE=Schick Road & Mallard Lane:geo:-88.1282465,41.9527902
END:VEVENT
END:VCALENDAR