BEGIN:VCALENDAR
VERSION:2.0
PRODID:-//Race Time - ECPv6.15.13//NONSGML v1.0//EN
CALSCALE:GREGORIAN
METHOD:PUBLISH
X-ORIGINAL-URL:https://www.racetime.info
X-WR-CALDESC:Events for Race Time
REFRESH-INTERVAL;VALUE=DURATION:PT1H
X-Robots-Tag:noindex
X-PUBLISHED-TTL:PT1H
BEGIN:VTIMEZONE
TZID:America/Chicago
BEGIN:DAYLIGHT
TZOFFSETFROM:-0600
TZOFFSETTO:-0500
TZNAME:CDT
DTSTART:20190310T080000
END:DAYLIGHT
BEGIN:STANDARD
TZOFFSETFROM:-0500
TZOFFSETTO:-0600
TZNAME:CST
DTSTART:20191103T070000
END:STANDARD
BEGIN:DAYLIGHT
TZOFFSETFROM:-0600
TZOFFSETTO:-0500
TZNAME:CDT
DTSTART:20200308T080000
END:DAYLIGHT
BEGIN:STANDARD
TZOFFSETFROM:-0500
TZOFFSETTO:-0600
TZNAME:CST
DTSTART:20201101T070000
END:STANDARD
BEGIN:DAYLIGHT
TZOFFSETFROM:-0600
TZOFFSETTO:-0500
TZNAME:CDT
DTSTART:20210314T080000
END:DAYLIGHT
BEGIN:STANDARD
TZOFFSETFROM:-0500
TZOFFSETTO:-0600
TZNAME:CST
DTSTART:20211107T070000
END:STANDARD
END:VTIMEZONE
BEGIN:VEVENT
DTSTART;TZID=America/Chicago:20201121T080000
DTEND;TZID=America/Chicago:20201121T100000
DTSTAMP:20260424T012525
CREATED:20170206T051335Z
LAST-MODIFIED:20201124T130534Z
UID:10000924-1605945600-1605952800@www.racetime.info
SUMMARY:Run The Ridge Turkey Trot: 1K\, 5K & 10K
DESCRIPTION:Run The Ridge Turkey Trot 5K Overall Results\n\nRun The Ridge Turkey Trot 10K Overall Results
URL:https://www.racetime.info/event/run-the-ridge-5k-run-walk-1k-youth-run-postponed/
LOCATION:Burr Ridge Shopping Center\, 150 Burr Ridge Parkway\, Burr Ridge\, IL\, 60527\, United States
CATEGORIES:2020-11 Results (November)
ORGANIZER;CN="Suzanne Gray":MAILTO:suzanne@right-fit.com
GEO:41.7489203;-87.9183919
X-APPLE-STRUCTURED-LOCATION;VALUE=URI;X-ADDRESS=Burr Ridge Shopping Center 150 Burr Ridge Parkway Burr Ridge IL 60527 United States;X-APPLE-RADIUS=500;X-TITLE=150 Burr Ridge Parkway:geo:-87.9183919,41.7489203
END:VEVENT
BEGIN:VEVENT
DTSTART;TZID=America/Chicago:20201108T083000
DTEND;TZID=America/Chicago:20201108T100000
DTSTAMP:20260424T012525
CREATED:20190815T121619Z
LAST-MODIFIED:20201115T143302Z
UID:10001099-1604824200-1604829600@www.racetime.info
SUMMARY:IlliniDads 5K Stay Away Fun Run/Walk: VIRTUAL
DESCRIPTION:Stay Away 5K Overall Results
URL:https://www.racetime.info/event/illinidads-5k-fun-run-walk/
LOCATION:University Of Illinois Arboretum\, Champaign\, IL\, United States
CATEGORIES:2020-11 Results (November)
ORGANIZER;CN="The Dads Association at the University of Illinois":MAILTO:iuparentfamilyprograms@illinois.edu
GEO:40.1164204;-88.2433829
END:VEVENT
BEGIN:VEVENT
DTSTART;TZID=America/Chicago:20201101T070000
DTEND;TZID=America/Chicago:20201101T070000
DTSTAMP:20260424T012525
CREATED:20180801T012123Z
LAST-MODIFIED:20201101T205620Z
UID:10000996-1604214000-1604214000@www.racetime.info
SUMMARY:Big Timber XC Challenge 3 & 5 Mile Run
DESCRIPTION:Big Timber 3 Mile Overall Results\n\nBig Timber 5 Mile Overall Results\n\nOverall Results by Individual Race:\n\nBig Timber 3 Mile 7:30 Race\n\nBig Timber 3 Mile 8:30 Race\n\nBig Timber 5 Mile 10:00 Race\n\nBig Timber 5 Mile 11:30 Race
URL:https://www.racetime.info/event/big-timber-xc-challenge-8k-run/
LOCATION:Camp Big Timber\, Big Timber Road\, Elgin\, IL\, 60120\, United States
CATEGORIES:2020-11 Results (November)
ORGANIZER;CN="Wayne Haworth":MAILTO:wayne@dickpondathletics.com
END:VEVENT
END:VCALENDAR