BEGIN:VCALENDAR
VERSION:2.0
PRODID:-//Race Time - ECPv6.15.13//NONSGML v1.0//EN
CALSCALE:GREGORIAN
METHOD:PUBLISH
X-WR-CALNAME:Race Time
X-ORIGINAL-URL:https://www.racetime.info
X-WR-CALDESC:Events for Race Time
REFRESH-INTERVAL;VALUE=DURATION:PT1H
X-Robots-Tag:noindex
X-PUBLISHED-TTL:PT1H
BEGIN:VTIMEZONE
TZID:America/Chicago
BEGIN:DAYLIGHT
TZOFFSETFROM:-0600
TZOFFSETTO:-0500
TZNAME:CDT
DTSTART:20190310T080000
END:DAYLIGHT
BEGIN:STANDARD
TZOFFSETFROM:-0500
TZOFFSETTO:-0600
TZNAME:CST
DTSTART:20191103T070000
END:STANDARD
BEGIN:DAYLIGHT
TZOFFSETFROM:-0600
TZOFFSETTO:-0500
TZNAME:CDT
DTSTART:20200308T080000
END:DAYLIGHT
BEGIN:STANDARD
TZOFFSETFROM:-0500
TZOFFSETTO:-0600
TZNAME:CST
DTSTART:20201101T070000
END:STANDARD
BEGIN:DAYLIGHT
TZOFFSETFROM:-0600
TZOFFSETTO:-0500
TZNAME:CDT
DTSTART:20210314T080000
END:DAYLIGHT
BEGIN:STANDARD
TZOFFSETFROM:-0500
TZOFFSETTO:-0600
TZNAME:CST
DTSTART:20211107T070000
END:STANDARD
END:VTIMEZONE
BEGIN:VEVENT
DTSTART;TZID=America/Chicago:20201024T110000
DTEND;TZID=America/Chicago:20201024T133000
DTSTAMP:20260423T195237
CREATED:20201018T190947Z
LAST-MODIFIED:20201024T192012Z
UID:10001154-1603537200-1603546200@www.racetime.info
SUMMARY:Moraine Valley Skyway Conference Championship XC Meet
DESCRIPTION:Skyway Championship Girls Overall Results\n\nSkyway Championship Girls Team Results\n\nSkyway Championship Boys Overall Results\n\nSkyway Championship Boys Team Results
URL:https://www.racetime.info/event/moraine-valley-skyway-conference-championship-xc-meet/
LOCATION:Moraine Valley Community College\, 9000 W. College Pkwy\, Palos Hills\, IL\, 60465\, United States
CATEGORIES:2020 Cross Country Results
ORGANIZER;CN="Dimitri Dimizas":MAILTO:dimizas.dimitri@gmail.com
GEO:41.6932523;-87.8354241
X-APPLE-STRUCTURED-LOCATION;VALUE=URI;X-ADDRESS=Moraine Valley Community College 9000 W. College Pkwy Palos Hills IL 60465 United States;X-APPLE-RADIUS=500;X-TITLE=9000 W. College Pkwy:geo:-87.8354241,41.6932523
END:VEVENT
BEGIN:VEVENT
DTSTART;TZID=America/Chicago:20201024T090000
DTEND;TZID=America/Chicago:20201024T110000
DTSTAMP:20260423T195237
CREATED:20201018T190757Z
LAST-MODIFIED:20201025T172925Z
UID:10001156-1603530000-1603537200@www.racetime.info
SUMMARY:St. Francis IHSA Class 2A Regional XC Meet
DESCRIPTION:IHSA Class 2A Regional Varsity Girls Overall Results\n\nIHSA Class 2A Regional Varsity Girls Team Results\n\nIHSA Class 2A Regional Varsity Boys Overall Results\n\nIHSA Class 2A Regional Varsity Boys Team Results
URL:https://www.racetime.info/event/st-francis-regional-xc-meet/
LOCATION:Cantigny Park\, 1S151 Winfield Road\, Wheaton\, IL\, 60187\, United States
CATEGORIES:2020 Cross Country Results
ORGANIZER;CN="Scott Nelson":MAILTO:snelson@sfhscollegeprep.org
GEO:41.8549443;-88.1559782
X-APPLE-STRUCTURED-LOCATION;VALUE=URI;X-ADDRESS=Cantigny Park 1S151 Winfield Road Wheaton IL 60187 United States;X-APPLE-RADIUS=500;X-TITLE=1S151 Winfield Road:geo:-88.1559782,41.8549443
END:VEVENT
BEGIN:VEVENT
DTSTART;TZID=America/Chicago:20201024T080000
DTEND;TZID=America/Chicago:20201024T093000
DTSTAMP:20260423T195237
CREATED:20200915T113811Z
LAST-MODIFIED:20201024T174033Z
UID:10001964-1603526400-1603531800@www.racetime.info
SUMMARY:Smith Running Academy XC Meet
DESCRIPTION:Smith Running XC Oct 24 Overall By Gender\n\nSmith Running XC Oct 24 Overall Combined
URL:https://www.racetime.info/event/smith-running-academy-xc-meet-2/
LOCATION:Veterans Acres Park\, 431 Walkup Road\, Crystal Lake\, IL\, 60014\, United States
CATEGORIES:2020 Cross Country Results
GEO:42.25217;-88.3183449
X-APPLE-STRUCTURED-LOCATION;VALUE=URI;X-ADDRESS=Veterans Acres Park 431 Walkup Road Crystal Lake IL 60014 United States;X-APPLE-RADIUS=500;X-TITLE=431 Walkup Road:geo:-88.3183449,42.25217
END:VEVENT
BEGIN:VEVENT
DTSTART;TZID=America/Chicago:20201017T090000
DTEND;TZID=America/Chicago:20201017T120000
DTSTAMP:20260423T195237
CREATED:20170901T115620Z
LAST-MODIFIED:20201017T222008Z
UID:10001642-1602925200-1602936000@www.racetime.info
SUMMARY:ESCC Conference Meet
DESCRIPTION:ESCC FS GIRLS OVERALL RESULTS\n\nESCC FS GIRLS TEAM RESULTS\n\nESCC FS BOYS OVERALL RESULTS\n\nESCC FS BOYS TEAM RESULTS\n\nESCC VARSITY GIRLS OVERALL RESULTS\n\nESCC VARSITY GIRLS TEAM RESULTS\n\nESCC VARSITY BOYS OVERALL RESULTS\n\nESCC VARSITY BOYS TEAM RESULTS
URL:https://www.racetime.info/event/escc-conference-meet-4/
LOCATION:Arlington International Racecourse\, 2200 W. Euclid Avenue\, Arlington Heights\, IL\, 60004\, United States
CATEGORIES:2020 Cross Country Results
ORGANIZER;CN="Maggie Haskins":MAILTO:mwiener@saintviator.com
GEO:42.088754;-87.955779
X-APPLE-STRUCTURED-LOCATION;VALUE=URI;X-ADDRESS=Arlington International Racecourse 2200 W. Euclid Avenue Arlington Heights IL 60004 United States;X-APPLE-RADIUS=500;X-TITLE=2200 W. Euclid Avenue:geo:-87.955779,42.088754
END:VEVENT
BEGIN:VEVENT
DTSTART;TZID=America/Chicago:20201015T170000
DTEND;TZID=America/Chicago:20201015T180000
DTSTAMP:20260423T195237
CREATED:20200915T113811Z
LAST-MODIFIED:20201016T010241Z
UID:10001965-1602781200-1602784800@www.racetime.info
SUMMARY:Smith Running Academy XC Meet
DESCRIPTION:Smith Running XC Oct 15 Overall By Gender Results\n\nSmith Running XC Oct 15 Overall Combined Results
URL:https://www.racetime.info/event/smith-running-academy-xc-meet-3/
LOCATION:Veterans Acres Park\, 431 Walkup Road\, Crystal Lake\, IL\, 60014\, United States
CATEGORIES:2020 Cross Country Results
GEO:42.25217;-88.3183449
X-APPLE-STRUCTURED-LOCATION;VALUE=URI;X-ADDRESS=Veterans Acres Park 431 Walkup Road Crystal Lake IL 60014 United States;X-APPLE-RADIUS=500;X-TITLE=431 Walkup Road:geo:-88.3183449,42.25217
END:VEVENT
BEGIN:VEVENT
DTSTART;TZID=America/Chicago:20201014T163000
DTEND;TZID=America/Chicago:20201014T183000
DTSTAMP:20260423T195237
CREATED:20200911T012004Z
LAST-MODIFIED:20201015T003406Z
UID:10001962-1602693000-1602700200@www.racetime.info
SUMMARY:York XC Meet
DESCRIPTION:York XC Oct 14 JV Girls Overall Results\n\nYork XC Oct 14 JV Girls Team Results\n\nYork XC Oct 14 Varsity Girls Overall Results\n\nYork XC Oct 14 Varsity Girls Team Results
URL:https://www.racetime.info/event/york-xc-meet-2/
LOCATION:Berens Park\, Armitage and Oak Lawn\, Elmhurst\, IL\, 60126\, United States
CATEGORIES:2020 Cross Country Results
ORGANIZER;CN="Rob Wagner":MAILTO:rwagner@elmhurst205.org
GEO:41.9131818;-87.9578911
X-APPLE-STRUCTURED-LOCATION;VALUE=URI;X-ADDRESS=Berens Park Armitage and Oak Lawn Elmhurst IL 60126 United States;X-APPLE-RADIUS=500;X-TITLE=Armitage and Oak Lawn:geo:-87.9578911,41.9131818
END:VEVENT
BEGIN:VEVENT
DTSTART;TZID=America/Chicago:20201013T163000
DTEND;TZID=America/Chicago:20201013T183000
DTSTAMP:20260423T195237
CREATED:20200911T012004Z
LAST-MODIFIED:20201014T013210Z
UID:10001960-1602606600-1602613800@www.racetime.info
SUMMARY:York XC Meet
DESCRIPTION:York XC Oct 13 Boys Overall Results
URL:https://www.racetime.info/event/york-xc-meet-5/
LOCATION:Berens Park\, Armitage and Oak Lawn\, Elmhurst\, IL\, 60126\, United States
CATEGORIES:2020 Cross Country Results
ORGANIZER;CN="Rob Wagner":MAILTO:rwagner@elmhurst205.org
GEO:41.9131818;-87.9578911
X-APPLE-STRUCTURED-LOCATION;VALUE=URI;X-ADDRESS=Berens Park Armitage and Oak Lawn Elmhurst IL 60126 United States;X-APPLE-RADIUS=500;X-TITLE=Armitage and Oak Lawn:geo:-87.9578911,41.9131818
END:VEVENT
BEGIN:VEVENT
DTSTART;TZID=America/Chicago:20201010T100000
DTEND;TZID=America/Chicago:20201010T110000
DTSTAMP:20260423T195237
CREATED:20201009T123148Z
LAST-MODIFIED:20201010T170950Z
UID:10001970-1602324000-1602327600@www.racetime.info
SUMMARY:Channahon Sectional XC Meet
DESCRIPTION:Channahon Sectional Girls Overall Results\n\nChannahon Sectional Girls Team Results\n\nChannahon Sectional Boys Overall Results\n\nChannahon Sectional Boys Team Results
URL:https://www.racetime.info/event/channahon-sectional-xc-meet/
LOCATION:Channahon Middle School
CATEGORIES:2020 Cross Country Results
END:VEVENT
BEGIN:VEVENT
DTSTART;TZID=America/Chicago:20201010T074500
DTEND;TZID=America/Chicago:20201010T094500
DTSTAMP:20260423T195237
CREATED:20200911T012004Z
LAST-MODIFIED:20201010T170816Z
UID:10001959-1602315900-1602323100@www.racetime.info
SUMMARY:York XC Meet
DESCRIPTION:York XC Oct 10 JV Girls Overall Results\n\nYork XC Oct 10 JV Girls Team Results\n\nYork XC Oct 10 Varsity Girls Overall Results\n\nYork XC Oct 10 Varsity Girls Team Results
URL:https://www.racetime.info/event/york-xc-meet-4/
LOCATION:Berens Park\, Armitage and Oak Lawn\, Elmhurst\, IL\, 60126\, United States
CATEGORIES:2020 Cross Country Results
ORGANIZER;CN="Rob Wagner":MAILTO:rwagner@elmhurst205.org
GEO:41.9131818;-87.9578911
X-APPLE-STRUCTURED-LOCATION;VALUE=URI;X-ADDRESS=Berens Park Armitage and Oak Lawn Elmhurst IL 60126 United States;X-APPLE-RADIUS=500;X-TITLE=Armitage and Oak Lawn:geo:-87.9578911,41.9131818
END:VEVENT
BEGIN:VEVENT
DTSTART;TZID=America/Chicago:20201009T153000
DTEND;TZID=America/Chicago:20201009T170000
DTSTAMP:20260423T195237
CREATED:20200927T130703Z
LAST-MODIFIED:20201009T231811Z
UID:10001969-1602257400-1602262800@www.racetime.info
SUMMARY:Oswegoland XC Meet
DESCRIPTION:Oswegoland XC Grade Level Results\n\nOswegoland XC Girls Team Results\n\nOswegoland XC Boys Team Results\n\nOswegoland XC Overall Results
URL:https://www.racetime.info/event/oswegoland-xc-meet/
LOCATION:Community Park at Grande Park\, 26333 Grande Park Blvd\, Plainfield\, IL\, 60585\, United States
CATEGORIES:2020 Cross Country Results
ORGANIZER;CN="Zach Donati":MAILTO:zdonati@oswegolandpd.org
END:VEVENT
BEGIN:VEVENT
DTSTART;TZID=America/Chicago:20201005T160000
DTEND;TZID=America/Chicago:20201005T173000
DTSTAMP:20260423T195237
CREATED:20170713T234541Z
LAST-MODIFIED:20201006T010347Z
UID:10001531-1601913600-1601919000@www.racetime.info
SUMMARY:LMS XC Meet
DESCRIPTION:Leman Oct 5 Boys Overall Results\n\nLeman Oct 5 Boys Team Results\n\nLeman Oct 5 Girls Overall Results\n\nLeman Oct 5 Girls Team Results
URL:https://www.racetime.info/event/lms-xc-meet-16/
LOCATION:Leman Middle School\, 238 East Hazel Street\, West Chicago\, IL\, 60185\, United States
CATEGORIES:2020 Cross Country Results
ORGANIZER;CN="Amy Wagner":MAILTO:wagnera@wego33.org
GEO:41.8738296;-88.2023204
X-APPLE-STRUCTURED-LOCATION;VALUE=URI;X-ADDRESS=Leman Middle School 238 East Hazel Street West Chicago IL 60185 United States;X-APPLE-RADIUS=500;X-TITLE=238 East Hazel Street:geo:-88.2023204,41.8738296
END:VEVENT
BEGIN:VEVENT
DTSTART;TZID=America/Chicago:20201003T080000
DTEND;TZID=America/Chicago:20201003T093000
DTSTAMP:20260423T195237
CREATED:20200915T113811Z
LAST-MODIFIED:20201003T153147Z
UID:10001963-1601712000-1601717400@www.racetime.info
SUMMARY:Smith Running Academy XC Meet
DESCRIPTION:Smith Running XC Oct 3 Overall By Gender Results\n\nSmith Running XC Oct 3 Overall Combined Results
URL:https://www.racetime.info/event/smith-running-academy-xc-meet/
LOCATION:Veterans Acres Park\, 431 Walkup Road\, Crystal Lake\, IL\, 60014\, United States
CATEGORIES:2020 Cross Country Results
GEO:42.25217;-88.3183449
X-APPLE-STRUCTURED-LOCATION;VALUE=URI;X-ADDRESS=Veterans Acres Park 431 Walkup Road Crystal Lake IL 60014 United States;X-APPLE-RADIUS=500;X-TITLE=431 Walkup Road:geo:-88.3183449,42.25217
END:VEVENT
BEGIN:VEVENT
DTSTART;TZID=America/Chicago:20201003T074500
DTEND;TZID=America/Chicago:20201003T094500
DTSTAMP:20260423T195237
CREATED:20200911T012004Z
LAST-MODIFIED:20201003T153034Z
UID:10001958-1601711100-1601718300@www.racetime.info
SUMMARY:York XC Meet
DESCRIPTION:York Boys FS Overall Results Oct 3\n\nYork Boys FS Team Results Oct 3
URL:https://www.racetime.info/event/york-xc-meet-3/
LOCATION:Berens Park\, Armitage and Oak Lawn\, Elmhurst\, IL\, 60126\, United States
CATEGORIES:2020 Cross Country Results
ORGANIZER;CN="Rob Wagner":MAILTO:rwagner@elmhurst205.org
GEO:41.9131818;-87.9578911
X-APPLE-STRUCTURED-LOCATION;VALUE=URI;X-ADDRESS=Berens Park Armitage and Oak Lawn Elmhurst IL 60126 United States;X-APPLE-RADIUS=500;X-TITLE=Armitage and Oak Lawn:geo:-87.9578911,41.9131818
END:VEVENT
BEGIN:VEVENT
DTSTART;TZID=America/Chicago:20200929T160000
DTEND;TZID=America/Chicago:20200929T173000
DTSTAMP:20260423T195237
CREATED:20170713T234541Z
LAST-MODIFIED:20200929T231203Z
UID:10001530-1601395200-1601400600@www.racetime.info
SUMMARY:LMS XC Meet
DESCRIPTION:Leman Sept 29 Girls Overall Results\n\nLeman Sept 29 Girls Team Results\n\nLeman Sept 29 Boys Overall Results\n\nLeman Sept 29 Boys Team Results
URL:https://www.racetime.info/event/lms-xc-meet-15/
LOCATION:Leman Middle School\, 238 East Hazel Street\, West Chicago\, IL\, 60185\, United States
CATEGORIES:2020 Cross Country Results
ORGANIZER;CN="Amy Wagner":MAILTO:wagnera@wego33.org
GEO:41.8738296;-88.2023204
X-APPLE-STRUCTURED-LOCATION;VALUE=URI;X-ADDRESS=Leman Middle School 238 East Hazel Street West Chicago IL 60185 United States;X-APPLE-RADIUS=500;X-TITLE=238 East Hazel Street:geo:-88.2023204,41.8738296
END:VEVENT
BEGIN:VEVENT
DTSTART;TZID=America/Chicago:20200921T163000
DTEND;TZID=America/Chicago:20200921T183000
DTSTAMP:20260423T195237
CREATED:20200911T012004Z
LAST-MODIFIED:20200921T234738Z
UID:10001961-1600705800-1600713000@www.racetime.info
SUMMARY:York XC Meet
DESCRIPTION:York XC Sept 21 JV Girls Overall Results\n\nYork XC Sept 21 JV Girls Team Results\n\nYork XC Sept 21 Varsity Girls Overall Results\n\nYork XC Sept 21 Varsity Girls Team Results
URL:https://www.racetime.info/event/york-xc-meet-6/
LOCATION:Berens Park\, Armitage and Oak Lawn\, Elmhurst\, IL\, 60126\, United States
CATEGORIES:2020 Cross Country Results
ORGANIZER;CN="Rob Wagner":MAILTO:rwagner@elmhurst205.org
GEO:41.9131818;-87.9578911
X-APPLE-STRUCTURED-LOCATION;VALUE=URI;X-ADDRESS=Berens Park Armitage and Oak Lawn Elmhurst IL 60126 United States;X-APPLE-RADIUS=500;X-TITLE=Armitage and Oak Lawn:geo:-87.9578911,41.9131818
END:VEVENT
BEGIN:VEVENT
DTSTART;TZID=America/Chicago:20200917T163000
DTEND;TZID=America/Chicago:20200917T183000
DTSTAMP:20260423T195237
CREATED:20200911T012004Z
LAST-MODIFIED:20200918T014346Z
UID:10001957-1600360200-1600367400@www.racetime.info
SUMMARY:York XC Meet
DESCRIPTION:York XC Sept 17 JV Girls Overall Results\n\nYork XC Sept 17 JV Girls Team Results\n\nYork XC Sept 17 Varsity Girls Overall Results\n\nYork XC Sept 17 Varsity Girls Team Results
URL:https://www.racetime.info/event/york-xc-meet/
LOCATION:Berens Park\, Armitage and Oak Lawn\, Elmhurst\, IL\, 60126\, United States
CATEGORIES:2020 Cross Country Results
ORGANIZER;CN="Rob Wagner":MAILTO:rwagner@elmhurst205.org
GEO:41.9131818;-87.9578911
X-APPLE-STRUCTURED-LOCATION;VALUE=URI;X-ADDRESS=Berens Park Armitage and Oak Lawn Elmhurst IL 60126 United States;X-APPLE-RADIUS=500;X-TITLE=Armitage and Oak Lawn:geo:-87.9578911,41.9131818
END:VEVENT
BEGIN:VEVENT
DTSTART;TZID=America/Chicago:20200915T160000
DTEND;TZID=America/Chicago:20200915T173000
DTSTAMP:20260423T195237
CREATED:20170713T234541Z
LAST-MODIFIED:20200916T012319Z
UID:10001529-1600185600-1600191000@www.racetime.info
SUMMARY:LMS XC Meet
DESCRIPTION:Leman Sept 15 Overall Results
URL:https://www.racetime.info/event/lms-xc-meet-14/
LOCATION:Leman Middle School\, 238 East Hazel Street\, West Chicago\, IL\, 60185\, United States
CATEGORIES:2020 Cross Country Results
ORGANIZER;CN="Amy Wagner":MAILTO:wagnera@wego33.org
GEO:41.8738296;-88.2023204
X-APPLE-STRUCTURED-LOCATION;VALUE=URI;X-ADDRESS=Leman Middle School 238 East Hazel Street West Chicago IL 60185 United States;X-APPLE-RADIUS=500;X-TITLE=238 East Hazel Street:geo:-88.2023204,41.8738296
END:VEVENT
BEGIN:VEVENT
DTSTART;TZID=America/Chicago:20200910T163000
DTEND;TZID=America/Chicago:20200910T183000
DTSTAMP:20260423T195237
CREATED:20200911T012004Z
LAST-MODIFIED:20200911T012004Z
UID:10001956-1599755400-1599762600@www.racetime.info
SUMMARY:York XC Invite
DESCRIPTION:York Invite Boys FS Overall Results\n\nYork Invite Boys FS Team Results\n\nYork Invite Boys Varsity Overall Results\n\nYork Invite Boys Varsity Team Results
URL:https://www.racetime.info/event/york-xc-invite/
LOCATION:Berens Park\, Armitage and Oak Lawn\, Elmhurst\, IL\, 60126\, United States
CATEGORIES:2020 Cross Country Results
ORGANIZER;CN="Rob Wagner":MAILTO:rwagner@elmhurst205.org
GEO:41.9131818;-87.9578911
X-APPLE-STRUCTURED-LOCATION;VALUE=URI;X-ADDRESS=Berens Park Armitage and Oak Lawn Elmhurst IL 60126 United States;X-APPLE-RADIUS=500;X-TITLE=Armitage and Oak Lawn:geo:-87.9578911,41.9131818
END:VEVENT
BEGIN:VEVENT
DTSTART;TZID=America/Chicago:20200905T090000
DTEND;TZID=America/Chicago:20200905T110000
DTSTAMP:20260423T195237
CREATED:20200905T171538Z
LAST-MODIFIED:20200909T190547Z
UID:10001954-1599296400-1599303600@www.racetime.info
SUMMARY:Montini Invite Cross Country Race
DESCRIPTION:Montini Varsity Boys Invite Overall Results\n\nMontini Varsity Boys Invite Team Results\n\nMontini Varsity Girls Invite Overall Results\n\nMontini Varsity Girls Invite Team Results\n\nMontini Open Boys Invite Overall Results\n\nMontini Open Boys Invite Team Results
URL:https://www.racetime.info/event/montini-invite-cross-country-race/
LOCATION:Knolls Park\, Lombard\, IL\, 60148\, United States
CATEGORIES:2020 Cross Country Results
ORGANIZER;CN="Eric Scott":MAILTO:escott@montini.org
END:VEVENT
END:VCALENDAR