BEGIN:VCALENDAR
VERSION:2.0
PRODID:-//Race Time - ECPv6.15.13//NONSGML v1.0//EN
CALSCALE:GREGORIAN
METHOD:PUBLISH
X-ORIGINAL-URL:https://www.racetime.info
X-WR-CALDESC:Events for Race Time
REFRESH-INTERVAL;VALUE=DURATION:PT1H
X-Robots-Tag:noindex
X-PUBLISHED-TTL:PT1H
BEGIN:VTIMEZONE
TZID:America/Chicago
BEGIN:DAYLIGHT
TZOFFSETFROM:-0600
TZOFFSETTO:-0500
TZNAME:CDT
DTSTART:20200308T080000
END:DAYLIGHT
BEGIN:STANDARD
TZOFFSETFROM:-0500
TZOFFSETTO:-0600
TZNAME:CST
DTSTART:20201101T070000
END:STANDARD
BEGIN:DAYLIGHT
TZOFFSETFROM:-0600
TZOFFSETTO:-0500
TZNAME:CDT
DTSTART:20210314T080000
END:DAYLIGHT
BEGIN:STANDARD
TZOFFSETFROM:-0500
TZOFFSETTO:-0600
TZNAME:CST
DTSTART:20211107T070000
END:STANDARD
BEGIN:DAYLIGHT
TZOFFSETFROM:-0600
TZOFFSETTO:-0500
TZNAME:CDT
DTSTART:20220313T080000
END:DAYLIGHT
BEGIN:STANDARD
TZOFFSETFROM:-0500
TZOFFSETTO:-0600
TZNAME:CST
DTSTART:20221106T070000
END:STANDARD
END:VTIMEZONE
BEGIN:VEVENT
DTSTART;TZID=America/Chicago:20210425T080000
DTEND;TZID=America/Chicago:20210425T100000
DTSTAMP:20260423T224944
CREATED:20210412T114047Z
LAST-MODIFIED:20210425T153912Z
UID:10001974-1619337600-1619344800@www.racetime.info
SUMMARY:Help & Hope 5K Run/Walk
DESCRIPTION:Help & Hope 5K Overall Results
URL:https://www.racetime.info/event/help-hope-5k-run-walk/
LOCATION:LeRoy Oakes Forest Preserve\, 37W584 Dean Street\, St. Charles\, IL\, 60175\, United States
CATEGORIES:2021-04 Results (April)
ORGANIZER;CN="Alan Bonanno":MAILTO:alan@intermissiontherapies.com
GEO:41.929212;-88.352091
X-APPLE-STRUCTURED-LOCATION;VALUE=URI;X-ADDRESS=LeRoy Oakes Forest Preserve 37W584 Dean Street St. Charles IL 60175 United States;X-APPLE-RADIUS=500;X-TITLE=37W584 Dean Street:geo:-88.352091,41.929212
END:VEVENT
BEGIN:VEVENT
DTSTART;TZID=America/Chicago:20210424T090000
DTEND;TZID=America/Chicago:20210424T110000
DTSTAMP:20260423T224944
CREATED:20170222T130519Z
LAST-MODIFIED:20210424T170412Z
UID:10001056-1619254800-1619262000@www.racetime.info
SUMMARY:Shelter\, Inc. Run4Kidz
DESCRIPTION:Shelter’s Run4Kidz 5K Age Group Results\n\nShelter’s Run4Kidz 5K Overall Results
URL:https://www.racetime.info/event/shelter-5k-run-walk-4-kidz-4/
LOCATION:Busse Woods\, Groves 5-16\, Higgins Road & S. Arlington Heights Rd\, Elk Grove Village\, IL\, 60007\, United States
CATEGORIES:2021-04 Results (April)
ORGANIZER;CN="Barb Mazursky":MAILTO:bmazursky@shelter-inc.org
GEO:42.0126908;-87.9982495
X-APPLE-STRUCTURED-LOCATION;VALUE=URI;X-ADDRESS=Busse Woods Groves 5-16 Higgins Road & S. Arlington Heights Rd Elk Grove Village IL 60007 United States;X-APPLE-RADIUS=500;X-TITLE=Higgins Road & S. Arlington Heights Rd:geo:-87.9982495,42.0126908
END:VEVENT
BEGIN:VEVENT
DTSTART;TZID=America/Chicago:20210417T083000
DTEND;TZID=America/Chicago:20210417T103000
DTSTAMP:20260423T224944
CREATED:20190203T134305Z
LAST-MODIFIED:20210417T203255Z
UID:10001854-1618648200-1618655400@www.racetime.info
SUMMARY:Frog Hop Five 5K Run/Walk
DESCRIPTION:Frog Hop 5K Age Group Results\n\nFrog Hop 5K Overall Results
URL:https://www.racetime.info/event/frog-hop-5k-run-walk-3/
LOCATION:Foster Park\, South Benton St & East Jasper Street\, Goodland\, IN\, 47948\, United States
CATEGORIES:2021-04 Results (April)
ORGANIZER;CN="Diane Costello":MAILTO:d-n-costello@sbcglobal.net
END:VEVENT
BEGIN:VEVENT
DTSTART;TZID=America/Chicago:20210417T080000
DTEND;TZID=America/Chicago:20210417T130000
DTSTAMP:20260423T224944
CREATED:20210412T112638Z
LAST-MODIFIED:20210419T201934Z
UID:10001971-1618646400-1618664400@www.racetime.info
SUMMARY:Fight Hunger 5K & 10K
DESCRIPTION:Fight Hunger 5K Overall Results\n\nFight Hunger 5K Team Results\n\nFight Hunger 10K Overall Results\n\nFight Hunger 10K Team Results
URL:https://www.racetime.info/event/fight-hunger-5k-10k/
LOCATION:Cantigny Park\, 1S151 Winfield Road\, Wheaton\, IL\, 60187\, United States
CATEGORIES:2021-04 Results (April)
ORGANIZER;CN="Tiffany King":MAILTO:tking@northernilfoodbank.org
GEO:41.8549443;-88.1559782
X-APPLE-STRUCTURED-LOCATION;VALUE=URI;X-ADDRESS=Cantigny Park 1S151 Winfield Road Wheaton IL 60187 United States;X-APPLE-RADIUS=500;X-TITLE=1S151 Winfield Road:geo:-88.1559782,41.8549443
END:VEVENT
END:VCALENDAR