BEGIN:VCALENDAR
VERSION:2.0
PRODID:-//Race Time - ECPv6.15.13//NONSGML v1.0//EN
CALSCALE:GREGORIAN
METHOD:PUBLISH
X-WR-CALNAME:Race Time
X-ORIGINAL-URL:https://www.racetime.info
X-WR-CALDESC:Events for Race Time
REFRESH-INTERVAL;VALUE=DURATION:PT1H
X-Robots-Tag:noindex
X-PUBLISHED-TTL:PT1H
BEGIN:VTIMEZONE
TZID:America/Chicago
BEGIN:DAYLIGHT
TZOFFSETFROM:-0600
TZOFFSETTO:-0500
TZNAME:CDT
DTSTART:20200308T080000
END:DAYLIGHT
BEGIN:STANDARD
TZOFFSETFROM:-0500
TZOFFSETTO:-0600
TZNAME:CST
DTSTART:20201101T070000
END:STANDARD
BEGIN:DAYLIGHT
TZOFFSETFROM:-0600
TZOFFSETTO:-0500
TZNAME:CDT
DTSTART:20210314T080000
END:DAYLIGHT
BEGIN:STANDARD
TZOFFSETFROM:-0500
TZOFFSETTO:-0600
TZNAME:CST
DTSTART:20211107T070000
END:STANDARD
BEGIN:DAYLIGHT
TZOFFSETFROM:-0600
TZOFFSETTO:-0500
TZNAME:CDT
DTSTART:20220313T080000
END:DAYLIGHT
BEGIN:STANDARD
TZOFFSETFROM:-0500
TZOFFSETTO:-0600
TZNAME:CST
DTSTART:20221106T070000
END:STANDARD
END:VTIMEZONE
BEGIN:VEVENT
DTSTART;TZID=America/Chicago:20210731T080000
DTEND;TZID=America/Chicago:20210731T100000
DTSTAMP:20260423T213117
CREATED:20170406T215129Z
LAST-MODIFIED:20210731T144936Z
UID:10001302-1627718400-1627725600@www.racetime.info
SUMMARY:St. John's Run For Life 5K Run\, 2.2 Mile Walk
DESCRIPTION:St. John’s Run For Life 2.2 Mile Results\n\nSt. John’s Run For Life 5K Age Group Results\n\nSt. John’s Run For Life 5K Overall Results
URL:https://www.racetime.info/event/st-johns-run-for-life-5k-run-2-2-mile-walk-kids-fun-run-3/
LOCATION:St. John the Baptist Church\, 0S233 Church Street\, Winfield\, IL\, 60190\, United States
CATEGORIES:2021-07 Results (July)
ORGANIZER;CN="Jennipher Graf":MAILTO:trillium92016@yahoo.com
GEO:41.8685708;-88.1569357
X-APPLE-STRUCTURED-LOCATION;VALUE=URI;X-ADDRESS=St. John the Baptist Church 0S233 Church Street Winfield IL 60190 United States;X-APPLE-RADIUS=500;X-TITLE=0S233 Church Street:geo:-88.1569357,41.8685708
END:VEVENT
BEGIN:VEVENT
DTSTART;TZID=America/Chicago:20210725T080000
DTEND;TZID=America/Chicago:20210725T110000
DTSTAMP:20260423T213117
CREATED:20170425T131515Z
LAST-MODIFIED:20210725T163333Z
UID:10001345-1627200000-1627210800@www.racetime.info
SUMMARY:Algonquin Founders' Day 10K Run\, 5K Run/Walk & Youth 1 Mile Fun Run
DESCRIPTION:Algonquin Founders Day 1 Mile Youth Overall Results\n\nAlgonquin Founders Day 5K Age Group Results\n\nAlgonquin Founders Day 5K Overall Results\n\nAlgonquin Founders Day 10K Age Group Results\n\nAlgonquin Founders Day 10K Overall Results
URL:https://www.racetime.info/event/algonquin-founders-day-10k-run-5k-run-walk-youth-1-mile-fun-run-3/
LOCATION:Algonquin Middle School\, 520 Longwood Drive\, Algonquin\, IL\, 60102\, United States
CATEGORIES:2021-07 Results (July)
ORGANIZER;CN="Cheryl Hagen":MAILTO:foundersrun1@yahoo.com
GEO:42.1583261;-88.2831554
X-APPLE-STRUCTURED-LOCATION;VALUE=URI;X-ADDRESS=Algonquin Middle School 520 Longwood Drive Algonquin IL 60102 United States;X-APPLE-RADIUS=500;X-TITLE=520 Longwood Drive:geo:-88.2831554,42.1583261
END:VEVENT
BEGIN:VEVENT
DTSTART;TZID=America/Chicago:20210724T080000
DTEND;TZID=America/Chicago:20210724T100000
DTSTAMP:20260423T213117
CREATED:20170613T192906Z
LAST-MODIFIED:20210724T175933Z
UID:10001475-1627113600-1627120800@www.racetime.info
SUMMARY:Splashes\, Dashes & Spokes Youth Triathlon
DESCRIPTION:Splash Dashes & Spokes Age Group Results
URL:https://www.racetime.info/event/splashes-dashes-spokes-youth-triathlon-4/
LOCATION:James O’Breen Community Park\, Campton Hills Road & Peck Road\, St. Charles\, IL\, 60174\, United States
CATEGORIES:2021-07 Results (July)
ORGANIZER;CN="Rosie Edwards":MAILTO:redwards@stcparks.org
GEO:41.9135899;-88.3601517
X-APPLE-STRUCTURED-LOCATION;VALUE=URI;X-ADDRESS=James O’Breen Community Park Campton Hills Road & Peck Road St. Charles IL 60174 United States;X-APPLE-RADIUS=500;X-TITLE=Campton Hills Road & Peck Road:geo:-88.3601517,41.9135899
END:VEVENT
BEGIN:VEVENT
DTSTART;TZID=America/Chicago:20210721T181500
DTEND;TZID=America/Chicago:20210721T203000
DTSTAMP:20260423T213117
CREATED:20210604T114102Z
LAST-MODIFIED:20210722T150253Z
UID:10001991-1626891300-1626899400@www.racetime.info
SUMMARY:Summer Sunset 5K Run/Walk & Youth Runs
DESCRIPTION:Summer Sunset Youth Runs\n\nSummer Sunset 5K Age Group Results\n\nSummer Sunset 5K Overall Results
URL:https://www.racetime.info/event/summer-sunset-5k-run-walk-youth-runs/
LOCATION:LeRoy Oakes Forest Preserve\, 37W584 Dean Street\, St. Charles\, IL\, 60175\, United States
CATEGORIES:2021-07 Results (July)
ORGANIZER;CN="Race Director Fox River Trail Runners":MAILTO:summersunset@foxrivertrailrunners.org
GEO:41.929212;-88.352091
X-APPLE-STRUCTURED-LOCATION;VALUE=URI;X-ADDRESS=LeRoy Oakes Forest Preserve 37W584 Dean Street St. Charles IL 60175 United States;X-APPLE-RADIUS=500;X-TITLE=37W584 Dean Street:geo:-88.352091,41.929212
END:VEVENT
BEGIN:VEVENT
DTSTART;TZID=America/Chicago:20210718T083000
DTEND;TZID=America/Chicago:20210718T113000
DTSTAMP:20260423T213117
CREATED:20170804T123347Z
LAST-MODIFIED:20210718T162057Z
UID:10001577-1626597000-1626607800@www.racetime.info
SUMMARY:Willow House Run For Hope 5K & 1 Mile Walk to Remember
DESCRIPTION:Willow House Run For Hope 5K Age Group Results\n\nWillow House Run For Hope 5K Overall Results
URL:https://www.racetime.info/event/willow-house-run-for-hope-5k-1-mile-walk-to-remember-4/
LOCATION:Busse Woods\, Groves 5-16\, Higgins Road & S. Arlington Heights Rd\, Elk Grove Village\, IL\, 60007\, United States
CATEGORIES:2021-07 Results (July)
ORGANIZER;CN="Denise O'Handley":MAILTO:deniseohandley@willowhouse.org
GEO:42.0126908;-87.9982495
X-APPLE-STRUCTURED-LOCATION;VALUE=URI;X-ADDRESS=Busse Woods Groves 5-16 Higgins Road & S. Arlington Heights Rd Elk Grove Village IL 60007 United States;X-APPLE-RADIUS=500;X-TITLE=Higgins Road & S. Arlington Heights Rd:geo:-87.9982495,42.0126908
END:VEVENT
BEGIN:VEVENT
DTSTART;TZID=America/Chicago:20210710T070000
DTEND;TZID=America/Chicago:20210710T090000
DTSTAMP:20260423T213117
CREATED:20170410T213134Z
LAST-MODIFIED:20210710T153734Z
UID:10001324-1625900400-1625907600@www.racetime.info
SUMMARY:Bristol Progress Days 5K Run & 1.5 Mile Walk
DESCRIPTION:Bristol 5K Age Group Results\n\nBristol 5K Overall Results\n\nBristol Race Wheelers Overall Results
URL:https://www.racetime.info/event/copy-of-bristol-progress-days-5k-run-1-5-mile-walk/
LOCATION:Bristol Village Hall\, 19801 83rd Street\, Bristol\, WI\, United States
CATEGORIES:2021-07 Results (July)
ORGANIZER;CN="Lori Muhlenbeck":MAILTO:bristolrun@yahoo.com
END:VEVENT
BEGIN:VEVENT
DTSTART;TZID=America/Chicago:20210704T080000
DTEND;TZID=America/Chicago:20210704T100000
DTSTAMP:20260423T213117
CREATED:20210625T020324Z
LAST-MODIFIED:20210707T173528Z
UID:10001994-1625385600-1625392800@www.racetime.info
SUMMARY:Freedom Classic 5K Run/Walk
DESCRIPTION:Freedom Classic 5K Age Group Results\n\nFreedom Classic 5K Overall Results
URL:https://www.racetime.info/event/freedom-classic-5k-run-walk/
LOCATION:Keith Mione Community Park\, 1401 Midlothian Road\, Mundelein\, IL\, 60060\, United States
CATEGORIES:2021-07 Results (July)
ORGANIZER;CN="Kelsey Fuller":MAILTO:kfuller@mundeleinparks.org
END:VEVENT
BEGIN:VEVENT
DTSTART;TZID=America/Chicago:20210704T070000
DTEND;TZID=America/Chicago:20210704T100000
DTSTAMP:20260423T213117
CREATED:20190620T181826Z
LAST-MODIFIED:20210704T172816Z
UID:10001081-1625382000-1625392800@www.racetime.info
SUMMARY:Great Western Freedom 4 Miler
DESCRIPTION:Great Western Freedom 4 Mile Age Group Results\n\nGreat Western Freedom 4 Mile Overall Results
URL:https://www.racetime.info/event/great-western-freedom-4-miler-3/
LOCATION:LeRoy Oakes Forest Preserve\, 37W584 Dean Street\, St. Charles\, IL\, 60175\, United States
CATEGORIES:2021-07 Results (July)
ORGANIZER;CN="Ann Marie Dunn":MAILTO:annmaried@lazarushouse.net
GEO:41.929212;-88.352091
X-APPLE-STRUCTURED-LOCATION;VALUE=URI;X-ADDRESS=LeRoy Oakes Forest Preserve 37W584 Dean Street St. Charles IL 60175 United States;X-APPLE-RADIUS=500;X-TITLE=37W584 Dean Street:geo:-88.352091,41.929212
END:VEVENT
BEGIN:VEVENT
DTSTART;TZID=America/Chicago:20210703T073000
DTEND;TZID=America/Chicago:20210703T170000
DTSTAMP:20260423T213117
CREATED:20170613T174104Z
LAST-MODIFIED:20210715T223204Z
UID:10000644-1625297400-1625331600@www.racetime.info
SUMMARY:Liberty Loop 5K Run/Walk
DESCRIPTION:Liberty Loop 5K Age Group Results\n\nLiberty Loop 5K Overall Results
URL:https://www.racetime.info/event/liberty-loop-5k-run-walk-4/
LOCATION:Techny Prairie Activity Center\, 180 Anets Drive\, Northbrook\, IL\, 60062\, United States
CATEGORIES:2021-07 Results (July)
ORGANIZER;CN="Isaac Urow":MAILTO:iurow@nbparks.org
GEO:42.1275267;-87.8289548
X-APPLE-STRUCTURED-LOCATION;VALUE=URI;X-ADDRESS=Techny Prairie Activity Center 180 Anets Drive Northbrook IL 60062 United States;X-APPLE-RADIUS=500;X-TITLE=180 Anets Drive:geo:-87.8289548,42.1275267
END:VEVENT
END:VCALENDAR