BEGIN:VCALENDAR
VERSION:2.0
PRODID:-//Race Time - ECPv6.15.13//NONSGML v1.0//EN
CALSCALE:GREGORIAN
METHOD:PUBLISH
X-ORIGINAL-URL:https://www.racetime.info
X-WR-CALDESC:Events for Race Time
REFRESH-INTERVAL;VALUE=DURATION:PT1H
X-Robots-Tag:noindex
X-PUBLISHED-TTL:PT1H
BEGIN:VTIMEZONE
TZID:America/Chicago
BEGIN:DAYLIGHT
TZOFFSETFROM:-0600
TZOFFSETTO:-0500
TZNAME:CDT
DTSTART:20200308T080000
END:DAYLIGHT
BEGIN:STANDARD
TZOFFSETFROM:-0500
TZOFFSETTO:-0600
TZNAME:CST
DTSTART:20201101T070000
END:STANDARD
BEGIN:DAYLIGHT
TZOFFSETFROM:-0600
TZOFFSETTO:-0500
TZNAME:CDT
DTSTART:20210314T080000
END:DAYLIGHT
BEGIN:STANDARD
TZOFFSETFROM:-0500
TZOFFSETTO:-0600
TZNAME:CST
DTSTART:20211107T070000
END:STANDARD
BEGIN:DAYLIGHT
TZOFFSETFROM:-0600
TZOFFSETTO:-0500
TZNAME:CDT
DTSTART:20220313T080000
END:DAYLIGHT
BEGIN:STANDARD
TZOFFSETFROM:-0500
TZOFFSETTO:-0600
TZNAME:CST
DTSTART:20221106T070000
END:STANDARD
BEGIN:DAYLIGHT
TZOFFSETFROM:-0600
TZOFFSETTO:-0500
TZNAME:CDT
DTSTART:20230312T080000
END:DAYLIGHT
BEGIN:STANDARD
TZOFFSETFROM:-0500
TZOFFSETTO:-0600
TZNAME:CST
DTSTART:20231105T070000
END:STANDARD
BEGIN:DAYLIGHT
TZOFFSETFROM:-0600
TZOFFSETTO:-0500
TZNAME:CDT
DTSTART:20240310T080000
END:DAYLIGHT
BEGIN:STANDARD
TZOFFSETFROM:-0500
TZOFFSETTO:-0600
TZNAME:CST
DTSTART:20241103T070000
END:STANDARD
BEGIN:DAYLIGHT
TZOFFSETFROM:-0600
TZOFFSETTO:-0500
TZNAME:CDT
DTSTART:20250309T080000
END:DAYLIGHT
BEGIN:STANDARD
TZOFFSETFROM:-0500
TZOFFSETTO:-0600
TZNAME:CST
DTSTART:20251102T070000
END:STANDARD
BEGIN:DAYLIGHT
TZOFFSETFROM:-0600
TZOFFSETTO:-0500
TZNAME:CDT
DTSTART:20260308T080000
END:DAYLIGHT
BEGIN:STANDARD
TZOFFSETFROM:-0500
TZOFFSETTO:-0600
TZNAME:CST
DTSTART:20261101T070000
END:STANDARD
END:VTIMEZONE
BEGIN:VEVENT
DTSTART;TZID=America/Chicago:20251018T113000
DTEND;TZID=America/Chicago:20251018T130000
DTSTAMP:20260424T024757
CREATED:20250915T124635Z
LAST-MODIFIED:20251018T201151Z
UID:10002440-1760787000-1760792400@www.racetime.info
SUMMARY:M.E.A.N. Girls Empowerment 5K Run/Walk
DESCRIPTION:M.E.A.N. Steps Toward Change 5K Age Group Results\n\nM.E.A.N. Steps Toward Change 5K Overall Results
URL:https://www.racetime.info/event/m-e-a-n-girls-empowerment-5k-run-walk-2/
LOCATION:Big Marsh Park\, 11559 S. Stony Island Avenue\, Chicago\, 60617\, United States
CATEGORIES:2021-10 Results (October)
ORGANIZER;CN="Shatina Edwards":MAILTO:contact@meangirlsempowerment.org
END:VEVENT
BEGIN:VEVENT
DTSTART;TZID=America/Chicago:20211031T090000
DTEND;TZID=America/Chicago:20211031T110000
DTSTAMP:20260424T024757
CREATED:20210920T012453Z
LAST-MODIFIED:20211031T183611Z
UID:10002067-1635670800-1635678000@www.racetime.info
SUMMARY:Shannon McNamara Memorial 5K Run/Walk
DESCRIPTION:Shannon McNamara Memorial 5K Age Group Results\n\nShannon McNamara Memorial 5K Overall Results
URL:https://www.racetime.info/event/shannon-mcnamara-memorial-5k-run-walk/
LOCATION:Rolling Meadow Community Center\, 3705 Pheasant Drive\, Rolling Meadows\, IL\, 60008\, United States
CATEGORIES:2021-10 Results (October)
ORGANIZER;CN="Kailey Schwartzhoff":MAILTO:kschwartzhoff@rmparks.org
END:VEVENT
BEGIN:VEVENT
DTSTART;TZID=America/Chicago:20211031T083000
DTEND;TZID=America/Chicago:20211031T100000
DTSTAMP:20260424T024757
CREATED:20190815T121619Z
LAST-MODIFIED:20211031T183427Z
UID:10001101-1635669000-1635674400@www.racetime.info
SUMMARY:Illini Dads 5K Fun Run/Walk
DESCRIPTION:Illini Dad’s 5K Overall Results\n\nIllini Dad’s 5K Team Results
URL:https://www.racetime.info/event/illinidads-5k-fun-run-walk-2/
LOCATION:University Of Illinois Arboretum\, Champaign\, IL\, United States
CATEGORIES:2021-10 Results (October)
ORGANIZER;CN="The Dads Association at the University of Illinois":MAILTO:iuparentfamilyprograms@illinois.edu
GEO:40.1164204;-88.2433829
END:VEVENT
BEGIN:VEVENT
DTSTART;TZID=America/Chicago:20211031T080000
DTEND;TZID=America/Chicago:20211031T170000
DTSTAMP:20260424T024757
CREATED:20211101T010854Z
LAST-MODIFIED:20211101T010913Z
UID:10002072-1635667200-1635699600@www.racetime.info
SUMMARY:Halloween Hustle: Half Marathon; 10K & 5K
DESCRIPTION:Halloween Hustle Overall Results
URL:https://www.racetime.info/event/halloween-hustle/
CATEGORIES:2021-10 Results (October)
END:VEVENT
BEGIN:VEVENT
DTSTART;TZID=America/Chicago:20211030T080000
DTEND;TZID=America/Chicago:20211030T103000
DTSTAMP:20260424T024757
CREATED:20170901T123020Z
LAST-MODIFIED:20211103T194715Z
UID:10000823-1635580800-1635589800@www.racetime.info
SUMMARY:Batavia's United Way Batfest Run: 5K Walk/Run and 10K Run
DESCRIPTION:Batavia Bat Run 5K Age Group Results\n\nBatavia Bat Run 5K Overall Results\n\nBatavia Bat Run 10K Age Group Results\n\nBatavia Bat Run 10K Overall Results
URL:https://www.racetime.info/event/batavias-united-way-batfest-run-5k-walk-run-and-10k-run-4/
LOCATION:North River Street\, Downtown Batavia\, Batavia\, IL\, 60510\, United States
CATEGORIES:2021-10 Results (October)
END:VEVENT
BEGIN:VEVENT
DTSTART;TZID=America/Chicago:20211024T100000
DTEND;TZID=America/Chicago:20211024T120000
DTSTAMP:20260424T024757
CREATED:20160809T011705Z
LAST-MODIFIED:20211025T102603Z
UID:10000291-1635069600-1635076800@www.racetime.info
SUMMARY:Jones College Prep Eagle 5K Run/Walk
DESCRIPTION:JCP Eagle 5K Run Overall Results by Division
URL:https://www.racetime.info/event/jones-college-prep-eagle-5k-run-walk-3/
LOCATION:Washington Park\, Pool & Russell Drive\, Chicago\, IL\, United States
CATEGORIES:2021-10 Results (October)
ORGANIZER;CN="Sarah Renz":MAILTO:sarah.renz@friendsofjones.org
GEO:41.7929062;-87.6134155
X-APPLE-STRUCTURED-LOCATION;VALUE=URI;X-ADDRESS=Washington Park Pool & Russell Drive Chicago IL United States;X-APPLE-RADIUS=500;X-TITLE=Pool & Russell Drive:geo:-87.6134155,41.7929062
END:VEVENT
BEGIN:VEVENT
DTSTART;TZID=America/Chicago:20211024T080000
DTEND;TZID=America/Chicago:20211024T100000
DTSTAMP:20260424T024757
CREATED:20210827T105523Z
LAST-MODIFIED:20211024T170818Z
UID:10001190-1635062400-1635069600@www.racetime.info
SUMMARY:Day of the Dead 5K Run/Walk
DESCRIPTION:Day of the Dead 5K Age Group Results\n\nDay of the Dead 5K Overall Results
URL:https://www.racetime.info/event/day-of-the-dead-5k-run-walk/
LOCATION:Heritage Park – Wheeling\, 100 Community Blvd\, Wheeling\, IL\, United States
CATEGORIES:2021-10 Results (October)
ORGANIZER;CN="Beth Harrington":MAILTO:bharrington@wheelingparkdistrict.com
END:VEVENT
BEGIN:VEVENT
DTSTART;TZID=America/Chicago:20211023T083000
DTEND;TZID=America/Chicago:20211023T230000
DTSTAMP:20260424T024757
CREATED:20170723T101133Z
LAST-MODIFIED:20211025T204946Z
UID:10001544-1634977800-1635030000@www.racetime.info
SUMMARY:St. Bede Halloween Hustle: 10K Run\, 5K &1 Mile Run/Walk
DESCRIPTION:HALLOWEEN HUSTLE YOUTH 1 MILE OVERALL RESULTS\n\nHalloween Hustle 5K Age Group Results\n\nHalloween Hustle 5K Overall Results\n\nHalloween Hustle 10K Age Group Results\n\nHalloween Hustle 10K Overall Results
URL:https://www.racetime.info/event/st-bede-halloween-hustle-10k-run-5k-1-mile-run-walk-3/
LOCATION:Grant Woods Forest Preserve\, 25405 West Monaville Road\, Ingleside\, IL\, 60041\, United States
CATEGORIES:2021-10 Results (October)
ORGANIZER;CN="Tina Lutzke":MAILTO:tinalutzke@hotmail.com
GEO:42.399051;-88.128126
X-APPLE-STRUCTURED-LOCATION;VALUE=URI;X-ADDRESS=Grant Woods Forest Preserve 25405 West Monaville Road Ingleside IL 60041 United States;X-APPLE-RADIUS=500;X-TITLE=25405 West Monaville Road:geo:-88.128126,42.399051
END:VEVENT
BEGIN:VEVENT
DTSTART;TZID=America/Chicago:20211023T080000
DTEND;TZID=America/Chicago:20211023T100000
DTSTAMP:20260424T024757
CREATED:20210920T010453Z
LAST-MODIFIED:20211023T180540Z
UID:10002065-1634976000-1634983200@www.racetime.info
SUMMARY:We Run Blue 5K & 1 Mile Run/Walk
DESCRIPTION:We Run Blue 5K Age Group Results\n\nWe Run Blue 5K Overall Results
URL:https://www.racetime.info/event/we-run-blue-5k-1-mile-run-walk/
LOCATION:Rochester Community Park\, 90 Wild Rose Lane\, Rochester\, IL\, 62556\, United States
CATEGORIES:2021-10 Results (October)
ORGANIZER;CN="Lynn Saputo":MAILTO:lynn@ilsheriff.org
END:VEVENT
BEGIN:VEVENT
DTSTART;TZID=America/Chicago:20211017T090000
DTEND;TZID=America/Chicago:20211017T110000
DTSTAMP:20260424T024757
CREATED:20210920T005815Z
LAST-MODIFIED:20211017T170139Z
UID:10002063-1634461200-1634468400@www.racetime.info
SUMMARY:Beat Yesterday 5K & 8K Run
DESCRIPTION:Beat Yesterday 5K Overall Results\n\nBeat Yesterday 8K Overall Results
URL:https://www.racetime.info/event/beat-yesterday-5k-8k-run/
LOCATION:Prairie Point Park\, 4120 Plainfield Road\, Oswego\, IL\, 60543\, United States
CATEGORIES:2021-10 Results (October)
ORGANIZER;CN="Jose del Risco":MAILTO:j.delrisco@worthyourmile.com
GEO:41.673332;-88.3435388
X-APPLE-STRUCTURED-LOCATION;VALUE=URI;X-ADDRESS=Prairie Point Park 4120 Plainfield Road Oswego IL 60543 United States;X-APPLE-RADIUS=500;X-TITLE=4120 Plainfield Road:geo:-88.3435388,41.673332
END:VEVENT
BEGIN:VEVENT
DTSTART;TZID=America/Chicago:20211017T080000
DTEND;TZID=America/Chicago:20211017T100000
DTSTAMP:20260424T024757
CREATED:20170604T171307Z
LAST-MODIFIED:20211017T170024Z
UID:10001431-1634457600-1634464800@www.racetime.info
SUMMARY:Run With The Nuns 5K Run/Walk
DESCRIPTION:Run With The Nuns 5K Age Group Results\n\nRun With The Nuns 5K Overall Results
URL:https://www.racetime.info/event/run-with-the-nuns-5k-run-walk-4/
LOCATION:Mt. Assisi Academy\, 13860 Main Street\, Lemont\, IL\, 60439\, United States
CATEGORIES:2021-10 Results (October)
ORGANIZER;CN="Carrie Peters":MAILTO:carriepeters2@sbcglobal.net
GEO:41.685218;-87.981291
X-APPLE-STRUCTURED-LOCATION;VALUE=URI;X-ADDRESS=Mt. Assisi Academy 13860 Main Street Lemont IL 60439 United States;X-APPLE-RADIUS=500;X-TITLE=13860 Main Street:geo:-87.981291,41.685218
END:VEVENT
BEGIN:VEVENT
DTSTART;TZID=America/Chicago:20211016T090000
DTEND;TZID=America/Chicago:20211016T110000
DTSTAMP:20260424T024757
CREATED:20210701T112624Z
LAST-MODIFIED:20211016T170749Z
UID:10001997-1634374800-1634382000@www.racetime.info
SUMMARY:Winfield's Centennial Cider 5K & 1 Mile Run/Walk
DESCRIPTION:One Mile Participants!  Your finisher’s ribbon will be mailed to you!\n5K Participants!  If you did not stay for the Awards Ceremony and you have won in your age group please email racetime21@hotmail.com and we will get your age group medal mailed to you \nCentennial Cider 1 Mile Overall Results\n\nCentennial Cider 5K Age Group Results\n\nCentennial Cider 5K Overall Results
URL:https://www.racetime.info/event/winfields-centennial-cider-5k-1-mile-run-walk/
LOCATION:Winfield Post Office\, 27W525 High Lake Road\, Winfield\, IL\, 60190\, United States
CATEGORIES:2021-10 Results (October)
ORGANIZER;CN="Julie Pearson":MAILTO:racetime21@hotmail.com
END:VEVENT
BEGIN:VEVENT
DTSTART;TZID=America/Chicago:20211016T083000
DTEND;TZID=America/Chicago:20211016T103000
DTSTAMP:20260424T024757
CREATED:20170902T182915Z
LAST-MODIFIED:20211016T170444Z
UID:10001658-1634373000-1634380200@www.racetime.info
SUMMARY:St. Christopher 5K Run/Walk
DESCRIPTION:St. Christopher 5K Overall Results
URL:https://www.racetime.info/event/st-christopher-5k-run-walk-4/
LOCATION:St. Christopher School\, 4130 W. 147th Street\, Midlothian\, IL\, 60445\, United States
CATEGORIES:2021-10 Results (October)
ORGANIZER;CN="Joe Alfano":MAILTO:info@stchrisschool.org
GEO:41.6257534;-87.7221261
X-APPLE-STRUCTURED-LOCATION;VALUE=URI;X-ADDRESS=St. Christopher School 4130 W. 147th Street Midlothian IL 60445 United States;X-APPLE-RADIUS=500;X-TITLE=4130 W. 147th Street:geo:-87.7221261,41.6257534
END:VEVENT
BEGIN:VEVENT
DTSTART;TZID=America/Chicago:20211016T080000
DTEND;TZID=America/Chicago:20211016T100000
DTSTAMP:20260424T024757
CREATED:20210728T183708Z
LAST-MODIFIED:20211016T170330Z
UID:10002003-1634371200-1634378400@www.racetime.info
SUMMARY:Filling The Gap 5K Run/Walk
DESCRIPTION:Filling The Gap 5K Age Group Results\n\nFilling The Gap 5K Overall Results
URL:https://www.racetime.info/event/filling-the-gap-5k-run-walk/
LOCATION:St. Julie Billiart Church\, 7399 W. 159th Street\, Tinley Park\, IL\, 60477\, United States
CATEGORIES:2021-10 Results (October)
ORGANIZER;CN="Jen Fitzgerald":MAILTO:jen@fillingthegap-nfp.com
END:VEVENT
BEGIN:VEVENT
DTSTART;TZID=America/Chicago:20211010T090000
DTEND;TZID=America/Chicago:20211010T110000
DTSTAMP:20260424T024757
CREATED:20210917T011923Z
LAST-MODIFIED:20211010T162351Z
UID:10002062-1633856400-1633863600@www.racetime.info
SUMMARY:NSSRA 5K Run For All
DESCRIPTION:NSSRA Overall Results
URL:https://www.racetime.info/event/nssra-5k-run-for-all/
LOCATION:Glenview Park Center\, Chestnut Avenue\, Glenview\, IL\, 60025\, United States
CATEGORIES:2021-10 Results (October)
ORGANIZER;CN="Stephany Mendoza":MAILTO:smendoza@nssra.org
END:VEVENT
BEGIN:VEVENT
DTSTART;TZID=America/Chicago:20211009T100000
DTEND;TZID=America/Chicago:20211009T120000
DTSTAMP:20260424T024757
CREATED:20210913T114024Z
LAST-MODIFIED:20211009T215950Z
UID:10001235-1633773600-1633780800@www.racetime.info
SUMMARY:Mark Bancroft 5K Run/Walk for Charity
DESCRIPTION:Mark Bancroft 5K Overall Results
URL:https://www.racetime.info/event/mark-bancroft-5k-run-walk-for-charity/
LOCATION:Waubonsie Lake Park\, 998 Knautz Road\, Aurora\, IL\, 60504\, United States
CATEGORIES:2021-10 Results (October)
ORGANIZER;CN="Rick Marsh":MAILTO:richardmarsh2@aol.com
GEO:41.7386015;-88.2619044
X-APPLE-STRUCTURED-LOCATION;VALUE=URI;X-ADDRESS=Waubonsie Lake Park 998 Knautz Road Aurora IL 60504 United States;X-APPLE-RADIUS=500;X-TITLE=998 Knautz Road:geo:-88.2619044,41.7386015
END:VEVENT
BEGIN:VEVENT
DTSTART;TZID=America/Chicago:20211009T090000
DTEND;TZID=America/Chicago:20211009T110000
DTSTAMP:20260424T024757
CREATED:20210907T014728Z
LAST-MODIFIED:20211009T174513Z
UID:10002055-1633770000-1633777200@www.racetime.info
SUMMARY:Hometown Heroes Hustle
DESCRIPTION:Hometown Heroes 5K Overall Results
URL:https://www.racetime.info/event/hometown-heroes-hustle/
LOCATION:Batavia Overseas VFW Post 1197\, South River Street\, Batavia\, IL\, 60510\, United States
CATEGORIES:2021-10 Results (October)
ORGANIZER;CN="Jeffrey Swanson":MAILTO:chiefswanson@outlook.com
END:VEVENT
BEGIN:VEVENT
DTSTART;TZID=America/Chicago:20211009T090000
DTEND;TZID=America/Chicago:20211009T103000
DTSTAMP:20260424T024757
CREATED:20211009T174753Z
LAST-MODIFIED:20211009T174753Z
UID:10002071-1633770000-1633775400@www.racetime.info
SUMMARY:Lightways Family Fund Run 5K
DESCRIPTION:Lightways 5K Age Group Results\n\nLightways 5K Overall Results
URL:https://www.racetime.info/event/lightways-family-fund-run-5k/
LOCATION:New Lenox Community Park\, 1 Veterans Parkway\, New Lenox\, IL\, 60451\, United States
CATEGORIES:2021-10 Results (October)
ORGANIZER;CN="Laureen Crotteau":MAILTO:lcrotteau@joliethospice.org
GEO:41.5133268;-87.9804481
X-APPLE-STRUCTURED-LOCATION;VALUE=URI;X-ADDRESS=New Lenox Community Park 1 Veterans Parkway New Lenox IL 60451 United States;X-APPLE-RADIUS=500;X-TITLE=1 Veterans Parkway:geo:-87.9804481,41.5133268
END:VEVENT
BEGIN:VEVENT
DTSTART;TZID=America/Chicago:20211003T090000
DTEND;TZID=America/Chicago:20211003T110000
DTSTAMP:20260424T024757
CREATED:20210907T013732Z
LAST-MODIFIED:20211003T174943Z
UID:10002052-1633251600-1633258800@www.racetime.info
SUMMARY:#RunforJeff
DESCRIPTION:Run For Jeff 1 Mile Overall Results\n\nRun For Jeff 5K Overall Results
URL:https://www.racetime.info/event/runforjeff2021/
LOCATION:McCollum Park\, 6801 S. Main Street\, Downers Grove\, IL\, 60515\, United States
CATEGORIES:2021-10 Results (October)
ORGANIZER;CN="Cheryl Dehlin":MAILTO:jmdmf85@gmail.com
GEO:41.802885;-88.044102
X-APPLE-STRUCTURED-LOCATION;VALUE=URI;X-ADDRESS=McCollum Park 6801 S. Main Street Downers Grove IL 60515 United States;X-APPLE-RADIUS=500;X-TITLE=6801 S. Main Street:geo:-88.044102,41.802885
END:VEVENT
BEGIN:VEVENT
DTSTART;TZID=America/Chicago:20211003T090000
DTEND;TZID=America/Chicago:20211003T110000
DTSTAMP:20260424T024757
CREATED:20170509T210412Z
LAST-MODIFIED:20211011T005354Z
UID:10001390-1633251600-1633258800@www.racetime.info
SUMMARY:Fox Chase 5K & Youth Mile
DESCRIPTION:Fox Chase 5K Age Group Results\n\nFox Chase 5K Overall Results\n\nFox Chase Youth Mile Age Group Results\n\nFox Chase Youth Mile Overall Results
URL:https://www.racetime.info/event/fox-chase-5k-youth-mile-virtual/
LOCATION:Stanger Park\, 257 Lexington Road\, Fox River Grove\, IL\, 60021\, United States
CATEGORIES:2021-10 Results (October)
ORGANIZER;CN="Sheri Sepeczi":MAILTO:sepeczi@ameritech.net
GEO:42.1958967;-88.2116426
X-APPLE-STRUCTURED-LOCATION;VALUE=URI;X-ADDRESS=Stanger Park 257 Lexington Road Fox River Grove IL 60021 United States;X-APPLE-RADIUS=500;X-TITLE=257 Lexington Road:geo:-88.2116426,42.1958967
END:VEVENT
BEGIN:VEVENT
DTSTART;TZID=America/Chicago:20211003T090000
DTEND;TZID=America/Chicago:20211003T103000
DTSTAMP:20260424T024757
CREATED:20210907T013334Z
LAST-MODIFIED:20211003T174639Z
UID:10002048-1633251600-1633257000@www.racetime.info
SUMMARY:FCA Harvest Hustle 5K Run/Walk
DESCRIPTION:FCA Harvest Hustle 5K Age Group Results\n\nFCA Harvest Hustle 5K Overall Results
URL:https://www.racetime.info/event/fca-harvest-hustle-5k-run-walk/
LOCATION:YMCA Camp Duncan\, 32405 N. HIghway 12\, Volo\, IL\, 60041\, United States
CATEGORIES:2021-10 Results (October)
ORGANIZER;CN="Lisa Schwabe":MAILTO:harvesthustle@frassaticatholicacademy.org
GEO:42.3388339;-88.1584637
X-APPLE-STRUCTURED-LOCATION;VALUE=URI;X-ADDRESS=YMCA Camp Duncan 32405 N. HIghway 12 Volo IL 60041 United States;X-APPLE-RADIUS=500;X-TITLE=32405 N. HIghway 12:geo:-88.1584637,42.3388339
END:VEVENT
BEGIN:VEVENT
DTSTART;TZID=America/Chicago:20211002T093000
DTEND;TZID=America/Chicago:20211002T110000
DTSTAMP:20260424T024757
CREATED:20210907T012517Z
LAST-MODIFIED:20211002T190549Z
UID:10002046-1633167000-1633172400@www.racetime.info
SUMMARY:OPRT 5K Run/Walk
DESCRIPTION:Old Plank Trail 5K Age Group Results\n\nOld Plank Trail 5K Overall Results
URL:https://www.racetime.info/event/oprt-5k-run-walk/
LOCATION:Breidert Green Park\, 432 W. Nebraska\, Frankfort\, IL\, 60423\, United States
CATEGORIES:2021-10 Results (October)
ORGANIZER;CN="Susan Lynchey":MAILTO:slynchey@vofil.com
GEO:41.4974227;-87.8607917
X-APPLE-STRUCTURED-LOCATION;VALUE=URI;X-ADDRESS=Breidert Green Park 432 W. Nebraska Frankfort IL 60423 United States;X-APPLE-RADIUS=500;X-TITLE=432 W. Nebraska:geo:-87.8607917,41.4974227
END:VEVENT
BEGIN:VEVENT
DTSTART;TZID=America/Chicago:20211002T090000
DTEND;TZID=America/Chicago:20211002T113000
DTSTAMP:20260424T024757
CREATED:20170830T121954Z
LAST-MODIFIED:20211002T194250Z
UID:10001620-1633165200-1633174200@www.racetime.info
SUMMARY:The Trails Challenge Youth 2K OCR Race (Youth Adventure Race)
DESCRIPTION:River Trails Obstacle Course Overall Results\n\nRiver Trails Obstacle Course Family Results
URL:https://www.racetime.info/event/copy-of-the-trails-challenge-youth-2k-ocr-race-youth-adventure-race/
LOCATION:Woodlands Trails Park\, 1500 E. Euclid\, Mount Prospect\, IL\, 60056\, United States
CATEGORIES:2021-10 Results (October)
ORGANIZER;CN="Vance Violante":MAILTO:vviolante@rtpd.org
GEO:42.0887554;-87.9134118
X-APPLE-STRUCTURED-LOCATION;VALUE=URI;X-ADDRESS=Woodlands Trails Park 1500 E. Euclid Mount Prospect IL 60056 United States;X-APPLE-RADIUS=500;X-TITLE=1500 E. Euclid:geo:-87.9134118,42.0887554
END:VEVENT
BEGIN:VEVENT
DTSTART;TZID=America/Chicago:20211002T090000
DTEND;TZID=America/Chicago:20211002T110000
DTSTAMP:20260424T024757
CREATED:20180507T124708Z
LAST-MODIFIED:20211004T173444Z
UID:10001782-1633165200-1633172400@www.racetime.info
SUMMARY:Easter Seals Run For The Kids 5K
DESCRIPTION:Easter Seals Run For The Kids 5K Age Group Results\n\nEaster Seals Run For The Kids 5K Overall Results
URL:https://www.racetime.info/event/easter-seals-5k-3/
LOCATION:Easter Seals Of Dupage and the Fox Valley Region\, 830 S. Addison Ave.\, Villa Park\, IL\, 60181\, United States
CATEGORIES:2021-10 Results (October)
ORGANIZER;CN="Susan Bonner":MAILTO:sbonner@eastersealsdfvr.org
GEO:41.874404;-87.9889298
X-APPLE-STRUCTURED-LOCATION;VALUE=URI;X-ADDRESS=Easter Seals Of Dupage and the Fox Valley Region 830 S. Addison Ave. Villa Park IL 60181 United States;X-APPLE-RADIUS=500;X-TITLE=830 S. Addison Ave.:geo:-87.9889298,41.874404
END:VEVENT
BEGIN:VEVENT
DTSTART;TZID=America/Chicago:20211002T090000
DTEND;TZID=America/Chicago:20211002T110000
DTSTAMP:20260424T024757
CREATED:20170506T102337Z
LAST-MODIFIED:20211002T222947Z
UID:10001371-1633165200-1633172400@www.racetime.info
SUMMARY:Montgomery River Run 5K & 10K
DESCRIPTION:River Run 5K Age Group Results\n\nRiver Run 5K Overall Results\n\nRiver Run 10K Age Group Results\n\nRiver Run 10K Overall Results
URL:https://www.racetime.info/event/montgomery-river-run-5k-10k-6/
LOCATION:Village of Montgomery\, 200 North River Street\, Montgomery\, IL\, 60538\, United States
CATEGORIES:2021-10 Results (October)
ORGANIZER;CN="Rosie Boeing":MAILTO:riverrun@eeiweb.com
GEO:41.7295362;-88.3416114
X-APPLE-STRUCTURED-LOCATION;VALUE=URI;X-ADDRESS=Village of Montgomery 200 North River Street Montgomery IL 60538 United States;X-APPLE-RADIUS=500;X-TITLE=200 North River Street:geo:-88.3416114,41.7295362
END:VEVENT
BEGIN:VEVENT
DTSTART;TZID=America/Chicago:20211002T071500
DTEND;TZID=America/Chicago:20211002T091500
DTSTAMP:20260424T024757
CREATED:20170628T112818Z
LAST-MODIFIED:20211002T190320Z
UID:10001512-1633158900-1633166100@www.racetime.info
SUMMARY:Knights Challenge 5K Run/ Walk
DESCRIPTION:Knights Challenge 5K Age Group Results\n\nKnights Challenge 5K Overall Results
URL:https://www.racetime.info/event/copy-of-knights-challenge-5k-run-walk/
LOCATION:St. John The Evangelist Parish Center\, 502 S. Park Blvd\, Streamwood\, IL\, 60107\, United States
CATEGORIES:2021-10 Results (October)
ORGANIZER;CN="Bill Henderson":MAILTO:info@kofc12801.org
GEO:42.021154;-88.1678742
X-APPLE-STRUCTURED-LOCATION;VALUE=URI;X-ADDRESS=St. John The Evangelist Parish Center 502 S. Park Blvd Streamwood IL 60107 United States;X-APPLE-RADIUS=500;X-TITLE=502 S. Park Blvd:geo:-88.1678742,42.021154
END:VEVENT
END:VCALENDAR