BEGIN:VCALENDAR
VERSION:2.0
PRODID:-//Race Time - ECPv6.15.13//NONSGML v1.0//EN
CALSCALE:GREGORIAN
METHOD:PUBLISH
X-WR-CALNAME:Race Time
X-ORIGINAL-URL:https://www.racetime.info
X-WR-CALDESC:Events for Race Time
REFRESH-INTERVAL;VALUE=DURATION:PT1H
X-Robots-Tag:noindex
X-PUBLISHED-TTL:PT1H
BEGIN:VTIMEZONE
TZID:America/Chicago
BEGIN:DAYLIGHT
TZOFFSETFROM:-0600
TZOFFSETTO:-0500
TZNAME:CDT
DTSTART:20210314T080000
END:DAYLIGHT
BEGIN:STANDARD
TZOFFSETFROM:-0500
TZOFFSETTO:-0600
TZNAME:CST
DTSTART:20211107T070000
END:STANDARD
BEGIN:DAYLIGHT
TZOFFSETFROM:-0600
TZOFFSETTO:-0500
TZNAME:CDT
DTSTART:20220313T080000
END:DAYLIGHT
BEGIN:STANDARD
TZOFFSETFROM:-0500
TZOFFSETTO:-0600
TZNAME:CST
DTSTART:20221106T070000
END:STANDARD
BEGIN:DAYLIGHT
TZOFFSETFROM:-0600
TZOFFSETTO:-0500
TZNAME:CDT
DTSTART:20230312T080000
END:DAYLIGHT
BEGIN:STANDARD
TZOFFSETFROM:-0500
TZOFFSETTO:-0600
TZNAME:CST
DTSTART:20231105T070000
END:STANDARD
END:VTIMEZONE
BEGIN:VEVENT
DTSTART;TZID=America/Chicago:20220319T090000
DTEND;TZID=America/Chicago:20220319T103000
DTSTAMP:20260424T001338
CREATED:20200211T224304Z
LAST-MODIFIED:20220319T172140Z
UID:10001113-1647680400-1647685800@www.racetime.info
SUMMARY:Shamrock Shuffle 5K Run/Walk
DESCRIPTION:Shamrock Shuffle 5K Age Group Results\n\nShamrock Shuffle 5K Overall Results
URL:https://www.racetime.info/event/shamrock-shuffle-5k-run-walk-3/
LOCATION:Everest Academy\, 11550 Bell Road\, Lemont\, 60439\, United States
CATEGORIES:2022-03 Results (March)
ORGANIZER;CN="Sue Zabilka":MAILTO:szabilka17@gmail.com
END:VEVENT
BEGIN:VEVENT
DTSTART;TZID=America/Chicago:20220312T100000
DTEND;TZID=America/Chicago:20220312T113000
DTSTAMP:20260424T001338
CREATED:20220213T125020Z
LAST-MODIFIED:20220319T172005Z
UID:10001258-1647079200-1647084600@www.racetime.info
SUMMARY:Thirsty Shamrock 5K Run/Walk
DESCRIPTION:Thirsty Shamrock 5K Age Group Results\n\nThirsty Shamrock 5K Overall Results
URL:https://www.racetime.info/event/thirsty-shamrock-5k-run-walk/
LOCATION:Wisconsin Dells\, Elm Street\, Wisconsin Dells\, WI\, 53965\, United States
CATEGORIES:2022-03 Results (March)
ORGANIZER;CN="Melissa Grandt":MAILTO:mgrandt@adrenalinespecialevents.com
END:VEVENT
BEGIN:VEVENT
DTSTART;TZID=America/Chicago:20220312T090000
DTEND;TZID=America/Chicago:20220312T103000
DTSTAMP:20260424T001338
CREATED:20220123T205143Z
LAST-MODIFIED:20220314T212455Z
UID:10002077-1647075600-1647081000@www.racetime.info
SUMMARY:Shamrockin' Along the Fox River 8K
DESCRIPTION:Shamrockin Along the Fox 8K Age Group Results\n\nShamrockin Along the Fox 8K Overall Results
URL:https://www.racetime.info/event/shamrockin-along-the-fox-river-8k/
LOCATION:Pottawatomi Park\, 8 North Avenue\, St. Charles\, IL\, 60174\, United States
CATEGORIES:2022-03 Results (March)
ORGANIZER;CN="T. C. Hull":MAILTO:thull@stcparks.org
GEO:41.9210527;-88.3158804
X-APPLE-STRUCTURED-LOCATION;VALUE=URI;X-ADDRESS=Pottawatomi Park 8 North Avenue St. Charles IL 60174 United States;X-APPLE-RADIUS=500;X-TITLE=8 North Avenue:geo:-88.3158804,41.9210527
END:VEVENT
END:VCALENDAR