BEGIN:VCALENDAR
VERSION:2.0
PRODID:-//Race Time - ECPv6.15.13//NONSGML v1.0//EN
CALSCALE:GREGORIAN
METHOD:PUBLISH
X-WR-CALNAME:Race Time
X-ORIGINAL-URL:https://www.racetime.info
X-WR-CALDESC:Events for Race Time
REFRESH-INTERVAL;VALUE=DURATION:PT1H
X-Robots-Tag:noindex
X-PUBLISHED-TTL:PT1H
BEGIN:VTIMEZONE
TZID:America/Chicago
BEGIN:DAYLIGHT
TZOFFSETFROM:-0600
TZOFFSETTO:-0500
TZNAME:CDT
DTSTART:20210314T080000
END:DAYLIGHT
BEGIN:STANDARD
TZOFFSETFROM:-0500
TZOFFSETTO:-0600
TZNAME:CST
DTSTART:20211107T070000
END:STANDARD
BEGIN:DAYLIGHT
TZOFFSETFROM:-0600
TZOFFSETTO:-0500
TZNAME:CDT
DTSTART:20220313T080000
END:DAYLIGHT
BEGIN:STANDARD
TZOFFSETFROM:-0500
TZOFFSETTO:-0600
TZNAME:CST
DTSTART:20221106T070000
END:STANDARD
BEGIN:DAYLIGHT
TZOFFSETFROM:-0600
TZOFFSETTO:-0500
TZNAME:CDT
DTSTART:20230312T080000
END:DAYLIGHT
BEGIN:STANDARD
TZOFFSETFROM:-0500
TZOFFSETTO:-0600
TZNAME:CST
DTSTART:20231105T070000
END:STANDARD
END:VTIMEZONE
BEGIN:VEVENT
DTSTART;TZID=America/Chicago:20220430T090000
DTEND;TZID=America/Chicago:20220430T103000
DTSTAMP:20260423T224950
CREATED:20220131T123130Z
LAST-MODIFIED:20220430T225751Z
UID:10001255-1651309200-1651314600@www.racetime.info
SUMMARY:D91 Dash 5K Run/Walk
DESCRIPTION:D91 Dash 5K Age Group Results\n\nD91 Dash 5K Overall Results
URL:https://www.racetime.info/event/d91-dash-5k-run-walk/
LOCATION:Kelvin Grove School\, 808 Adams Street\, Lockport\, IL\, 60441\, United States
CATEGORIES:2022-04 Results (April)
ORGANIZER;CN="Erin Rae":MAILTO:erinraeco@gmail.com
GEO:41.5879962;-88.0412931
X-APPLE-STRUCTURED-LOCATION;VALUE=URI;X-ADDRESS=Kelvin Grove School 808 Adams Street Lockport IL 60441 United States;X-APPLE-RADIUS=500;X-TITLE=808 Adams Street:geo:-88.0412931,41.5879962
END:VEVENT
BEGIN:VEVENT
DTSTART;TZID=America/Chicago:20220430T090000
DTEND;TZID=America/Chicago:20220430T103000
DTSTAMP:20260423T224950
CREATED:20170209T125640Z
LAST-MODIFIED:20220430T230238Z
UID:10001010-1651309200-1651314600@www.racetime.info
SUMMARY:The Germazing Race 5K Run/Walk & Kids' Dash
DESCRIPTION:Germazing Race 5K Age Group Results\n\nGermazing Race 5K Overall Results
URL:https://www.racetime.info/event/copy-of-the-germazing-race-5k-run-walk-kids-dash/
LOCATION:St. Germaine Parish\, 9711 S. Kolin\, Oak Lawn\, IL\, 60453\, United States
CATEGORIES:2022-04 Results (April)
ORGANIZER;CN="Jodie O'Shea":MAILTO:germazingrace@hotmail.com
GEO:41.7151965;-87.7292777
X-APPLE-STRUCTURED-LOCATION;VALUE=URI;X-ADDRESS=St. Germaine Parish 9711 S. Kolin Oak Lawn IL 60453 United States;X-APPLE-RADIUS=500;X-TITLE=9711 S. Kolin:geo:-87.7292777,41.7151965
END:VEVENT
BEGIN:VEVENT
DTSTART;TZID=America/Chicago:20220430T080000
DTEND;TZID=America/Chicago:20220430T100000
DTSTAMP:20260423T224950
CREATED:20220213T132740Z
LAST-MODIFIED:20220506T100902Z
UID:10001263-1651305600-1651312800@www.racetime.info
SUMMARY:ABC/25 Get Burbed Challenge 5K & 1 Mile Run/Walk
DESCRIPTION:ABC 25 Get Burbed 1 Mile Age Group Results\n\nABC 25 Get Burbed 1 Mile Overall Results\n\nABC 25 Get Burbed 5K Age Group Results\n\nABC 25 Get Burbed 5K Overall Results
URL:https://www.racetime.info/event/abc-25-get-burbed-challenge-5k-1-mile-run-walk/
LOCATION:South Middle School\, 400 S. Highland\, Arlington Heights\, IL\, 60005\, United States
CATEGORIES:2022-04 Results (April)
ORGANIZER;CN="Angie Thanopoulos":MAILTO:abc25challenge@gmail.com
GEO:42.0770175;-87.9860022
X-APPLE-STRUCTURED-LOCATION;VALUE=URI;X-ADDRESS=South Middle School 400 S. Highland Arlington Heights IL 60005 United States;X-APPLE-RADIUS=500;X-TITLE=400 S. Highland:geo:-87.9860022,42.0770175
END:VEVENT
BEGIN:VEVENT
DTSTART;TZID=America/Chicago:20220424T083000
DTEND;TZID=America/Chicago:20220424T100000
DTSTAMP:20260423T224950
CREATED:20180228T140223Z
LAST-MODIFIED:20220424T152551Z
UID:10001745-1650789000-1650794400@www.racetime.info
SUMMARY:Hope Hustle STCE 5K Run/Walk and Youth 1 Mile
DESCRIPTION:Hope Hustle 5K Age Group Results\n\nHope Hustle 5K Overall Results
URL:https://www.racetime.info/event/copy-of-hope-hustle-stce-5k-run-walk-and-youth-1-mile-cancelled/
LOCATION:St. Charles East High School: Norris Stadium\, 1020 Dunham Road\, St. Charles\, IL\, 60174\, United States
CATEGORIES:2022-04 Results (April)
ORGANIZER;CN="Kari Batka":MAILTO:kari.batka@d303.org
GEO:41.9274362;-88.2808843
X-APPLE-STRUCTURED-LOCATION;VALUE=URI;X-ADDRESS=St. Charles East High School: Norris Stadium 1020 Dunham Road St. Charles IL 60174 United States;X-APPLE-RADIUS=500;X-TITLE=1020 Dunham Road:geo:-88.2808843,41.9274362
END:VEVENT
BEGIN:VEVENT
DTSTART;TZID=America/Chicago:20220423T090000
DTEND;TZID=America/Chicago:20220423T103000
DTSTAMP:20260423T224950
CREATED:20220224T010301Z
LAST-MODIFIED:20220423T214009Z
UID:10002090-1650704400-1650709800@www.racetime.info
SUMMARY:Earlville PTA 5K Run/Walk
DESCRIPTION:Earlville 5K Age Group Results\n\nEarlville 5K Overall Results\n\nEarlville Teachers Overall Results
URL:https://www.racetime.info/event/earlville-pta-5k-run-walk/
LOCATION:Earlville School\, 415 West Union Street\, Earlville\, IL\, 60518\, United States
CATEGORIES:2022-04 Results (April)
ORGANIZER;CN="Danielle Neri":MAILTO:earlvillepta1@gmail.com
END:VEVENT
BEGIN:VEVENT
DTSTART;TZID=America/Chicago:20220423T090000
DTEND;TZID=America/Chicago:20220423T103000
DTSTAMP:20260423T224950
CREATED:20190203T134305Z
LAST-MODIFIED:20220423T182452Z
UID:10001853-1650704400-1650709800@www.racetime.info
SUMMARY:Frog Hop Five 5K Run/Walk
DESCRIPTION:Frog Hop Five 5K Age Group Results\n\nFrog Hop Five 5K Overall Results
URL:https://www.racetime.info/event/frog-hop-five-5k-run-walk/
LOCATION:Foster Park\, South Benton St & East Jasper Street\, Goodland\, IN\, 47948\, United States
CATEGORIES:2022-04 Results (April)
ORGANIZER;CN="Diane Costello":MAILTO:d-n-costello@sbcglobal.net
END:VEVENT
BEGIN:VEVENT
DTSTART;TZID=America/Chicago:20220423T090000
DTEND;TZID=America/Chicago:20220423T103000
DTSTAMP:20260423T224950
CREATED:20180711T174611Z
LAST-MODIFIED:20220423T183636Z
UID:10001812-1650704400-1650709800@www.racetime.info
SUMMARY:Cancer Schmancer 5K Run/Walk
DESCRIPTION:Cancer Schmancer 5K Overall Results
URL:https://www.racetime.info/event/cancer-schmancer-5k-run-walk-3/
LOCATION:Rollins Savanna\, 20160 W. Washington Street\, Grayslake\, IL\, 60030\, United States
CATEGORIES:2022-04 Results (April)
ORGANIZER;CN="Megan Leider":MAILTO:megan@martileiderfound.org
GEO:42.3603267;-88.0266379
X-APPLE-STRUCTURED-LOCATION;VALUE=URI;X-ADDRESS=Rollins Savanna 20160 W. Washington Street Grayslake IL 60030 United States;X-APPLE-RADIUS=500;X-TITLE=20160 W. Washington Street:geo:-88.0266379,42.3603267
END:VEVENT
BEGIN:VEVENT
DTSTART;TZID=America/Chicago:20220423T090000
DTEND;TZID=America/Chicago:20220423T103000
DTSTAMP:20260423T224950
CREATED:20170222T130519Z
LAST-MODIFIED:20220423T182323Z
UID:10001058-1650704400-1650709800@www.racetime.info
SUMMARY:Shelter\, Inc. Run4Kidz
DESCRIPTION:Shelter Run4Kidz 5K Age Group Results\n\nShelter Run4Kidz 5K Overall Results\n\nShelter Run4Kidz Team Results
URL:https://www.racetime.info/event/shelter-inc-run4kidz/
LOCATION:Busse Woods\, Groves 5-16\, Higgins Road & S. Arlington Heights Rd\, Elk Grove Village\, IL\, 60007\, United States
CATEGORIES:2022-04 Results (April)
ORGANIZER;CN="Zoe McGrath":MAILTO:zmcgrath@shelter-inc.org
GEO:42.0126908;-87.9982495
X-APPLE-STRUCTURED-LOCATION;VALUE=URI;X-ADDRESS=Busse Woods Groves 5-16 Higgins Road & S. Arlington Heights Rd Elk Grove Village IL 60007 United States;X-APPLE-RADIUS=500;X-TITLE=Higgins Road & S. Arlington Heights Rd:geo:-87.9982495,42.0126908
END:VEVENT
BEGIN:VEVENT
DTSTART;TZID=America/Chicago:20220423T083000
DTEND;TZID=America/Chicago:20220423T103000
DTSTAMP:20260423T224950
CREATED:20220123T225147Z
LAST-MODIFIED:20220423T182150Z
UID:10002078-1650702600-1650709800@www.racetime.info
SUMMARY:Run For Rett 5K & 1 Mile
DESCRIPTION:Run For Rett 1 Mile Overall Results\n\nRun For Rett 5K Age Group Results\n\nRun For Rett 5K Overall Results
URL:https://www.racetime.info/event/run-for-rett-5k-1-mile/
LOCATION:Busse Woods Grove 28\, Golf Road\, Elk Grove Village\, IL\, 60008\, United States
CATEGORIES:2022-04 Results (April)
ORGANIZER;CN="Diane Ross":MAILTO:diross62@aol.com
END:VEVENT
BEGIN:VEVENT
DTSTART;TZID=America/Chicago:20220416T090000
DTEND;TZID=America/Chicago:20220416T103000
DTSTAMP:20260423T224950
CREATED:20190324T135341Z
LAST-MODIFIED:20220416T165847Z
UID:10001877-1650099600-1650105000@www.racetime.info
SUMMARY:Wauconda Bunny Hop 4 Mile Run and 2 Mile Fun Run/Walk
DESCRIPTION:Wauconda Bunny Hop 4 Mile Age Group Results\n\nWauconda Bunny Hop 4 Mile Overall Results
URL:https://www.racetime.info/event/copy-of-wauconda-bunny-hop-4-mile-run-and-2-mile-fun-run-walk/
LOCATION:Wauconda Park District\, 600 North Main Street\, Wauconda\, IL\, 60084\, United States
CATEGORIES:2022-04 Results (April)
ORGANIZER;CN="Trista Iodice":MAILTO:trista.iodice@procomps.com
END:VEVENT
BEGIN:VEVENT
DTSTART;TZID=America/Chicago:20220410T100000
DTEND;TZID=America/Chicago:20220410T120000
DTSTAMP:20260423T224950
CREATED:20220213T130805Z
LAST-MODIFIED:20220411T143319Z
UID:10001260-1649584800-1649592000@www.racetime.info
SUMMARY:Run Thru The Hills 5K Run/Walk; 1 Mile Dog Walk & Kids 100 Yard Dash!
DESCRIPTION:Run Thru The Hills 1 Mile Dog Walk\n\nRun Thru The Hills 5K Age Group Results\n\nRun Thru The Hills 5K Overall Results
URL:https://www.racetime.info/event/run-thru-the-hills-5k-run-walk-1-mile-dog-walk-kids-100-yard-dash/
LOCATION:U Haul Moving and Storage of LITH\, 81 North Randall Road\, Lake In The Hills\, IL\, 60156\, United States
CATEGORIES:2022-04 Results (April)
ORGANIZER;CN="Kristi Brewer":MAILTO:kbrewer@lith.org
END:VEVENT
BEGIN:VEVENT
DTSTART;TZID=America/Chicago:20220410T090000
DTEND;TZID=America/Chicago:20220410T090000
DTSTAMP:20260423T224950
CREATED:20170209T023023Z
LAST-MODIFIED:20220420T162921Z
UID:10000998-1649581200-1649581200@www.racetime.info
SUMMARY:Mustang Trot 5K Run/Walk
DESCRIPTION:Mustang Trot 5K Age Group Results\n\nMustang Trot 5K Overall Results\n\nMustang Trot 5K Team Results
URL:https://www.racetime.info/event/mustang-trot-5k-run-walk-4/
LOCATION:Downers Grove South High School\, 1436 Norfolk Street\, Downers Grove\, IL\, 60515\, United States
CATEGORIES:2022-04 Results (April)
ORGANIZER;CN="Amy Klug":MAILTO:aklug@csd99.org
GEO:41.771175;-88.020645
X-APPLE-STRUCTURED-LOCATION;VALUE=URI;X-ADDRESS=Downers Grove South High School 1436 Norfolk Street Downers Grove IL 60515 United States;X-APPLE-RADIUS=500;X-TITLE=1436 Norfolk Street:geo:-88.020645,41.771175
END:VEVENT
END:VCALENDAR