BEGIN:VCALENDAR
VERSION:2.0
PRODID:-//Race Time - ECPv6.15.13//NONSGML v1.0//EN
CALSCALE:GREGORIAN
METHOD:PUBLISH
X-WR-CALNAME:Race Time
X-ORIGINAL-URL:https://www.racetime.info
X-WR-CALDESC:Events for Race Time
REFRESH-INTERVAL;VALUE=DURATION:PT1H
X-Robots-Tag:noindex
X-PUBLISHED-TTL:PT1H
BEGIN:VTIMEZONE
TZID:America/Chicago
BEGIN:DAYLIGHT
TZOFFSETFROM:-0600
TZOFFSETTO:-0500
TZNAME:CDT
DTSTART:20210314T080000
END:DAYLIGHT
BEGIN:STANDARD
TZOFFSETFROM:-0500
TZOFFSETTO:-0600
TZNAME:CST
DTSTART:20211107T070000
END:STANDARD
BEGIN:DAYLIGHT
TZOFFSETFROM:-0600
TZOFFSETTO:-0500
TZNAME:CDT
DTSTART:20220313T080000
END:DAYLIGHT
BEGIN:STANDARD
TZOFFSETFROM:-0500
TZOFFSETTO:-0600
TZNAME:CST
DTSTART:20221106T070000
END:STANDARD
BEGIN:DAYLIGHT
TZOFFSETFROM:-0600
TZOFFSETTO:-0500
TZNAME:CDT
DTSTART:20230312T080000
END:DAYLIGHT
BEGIN:STANDARD
TZOFFSETFROM:-0500
TZOFFSETTO:-0600
TZNAME:CST
DTSTART:20231105T070000
END:STANDARD
END:VTIMEZONE
BEGIN:VEVENT
DTSTART;TZID=America/Chicago:20220626T110000
DTEND;TZID=America/Chicago:20220626T170000
DTSTAMP:20260423T224951
CREATED:20220423T101842Z
LAST-MODIFIED:20220626T184711Z
UID:10001291-1656241200-1656262800@www.racetime.info
SUMMARY:Tiny & Tall Rescue 5K
DESCRIPTION:Tiny N Tall 5K Overall Results
URL:https://www.racetime.info/event/tiny-tall-rescue-5k/
LOCATION:Schaumburg Boomers Stadium\, 1999 S. Springinscuth Road\, Schaumburg\, IL\, 60193\, United States
CATEGORIES:2022-06 Results (June)
ORGANIZER;CN="Michelle Henning":MAILTO:mhenning@tinyntallrescue.com
END:VEVENT
BEGIN:VEVENT
DTSTART;TZID=America/Chicago:20220626T073000
DTEND;TZID=America/Chicago:20220626T090000
DTSTAMP:20260423T224951
CREATED:20210525T191802Z
LAST-MODIFIED:20220627T172021Z
UID:10001166-1656228600-1656234000@www.racetime.info
SUMMARY:McHenry County Patriot Run 5M; 5K & 1 Mile Run/Walk
DESCRIPTION:Patriot 1 Mile Overall Results\n\nPatriot 5K Age Group Results\n\nPatriot 5K Overall Results\n\nPatriot 5M Age Group Results\n\nPatriot 5M Overall Results
URL:https://www.racetime.info/event/copy-of-mchenry-county-patriot-run-5m-5k-1-mile-run-walk/
LOCATION:McHenry County College\, 8900 US Hwy 14\, Crystal Lake\, IL\, 60012\, United States
CATEGORIES:2022-06 Results (June)
ORGANIZER;CN="Trudy Wakeman":MAILTO:trudywakeman@gmail.com
END:VEVENT
BEGIN:VEVENT
DTSTART;TZID=America/Chicago:20220625T080000
DTEND;TZID=America/Chicago:20220625T100000
DTSTAMP:20260423T224951
CREATED:20180615T122653Z
LAST-MODIFIED:20220625T170709Z
UID:10000979-1656144000-1656151200@www.racetime.info
SUMMARY:Furry Friends 5K Run & 1 Mile Walk
DESCRIPTION:Furry Friends 5K Age Group Results\n\nFurry Friends 5K Overall Results
URL:https://www.racetime.info/event/copy-of-furry-friends-5k-2020-super-hero-run-cancelled/
LOCATION:Old School Forest Preserve\, St. Mary's Road\, Libertyville\, IL\, 60048\, United States
CATEGORIES:2022-06 Results (June)
ORGANIZER;CN="Stacy Ellington":MAILTO:development.manager@saveapetil.org
GEO:42.2902329;-87.9248759
X-APPLE-STRUCTURED-LOCATION;VALUE=URI;X-ADDRESS=Old School Forest Preserve St. Mary's Road Libertyville IL 60048 United States;X-APPLE-RADIUS=500;X-TITLE=St. Mary's Road:geo:-87.9248759,42.2902329
END:VEVENT
BEGIN:VEVENT
DTSTART;TZID=America/Chicago:20220625T070000
DTEND;TZID=America/Chicago:20220625T100000
DTSTAMP:20260423T224951
CREATED:20210525T190707Z
LAST-MODIFIED:20220625T170539Z
UID:10001159-1656140400-1656151200@www.racetime.info
SUMMARY:Miles for Maddog 5K Run/Walk and 10K Run
DESCRIPTION:Miles for Maddog 5K Age Group Results\n\nMiles for Maddog 5K Overall Results\n\nMiles for Maddog 10K Age Group Results\n\nMiles for Maddog 10K Overall Results\n\nMiles for Maddog 10K Wheel Division
URL:https://www.racetime.info/event/copy-of-miles-for-maddog-5k-run-walk-and-10k-run/
LOCATION:Frankfort Square Park District\, 7540 W. Braemar Lane\, Frankfort\, IL\, 60423\, United States
CATEGORIES:2022-06 Results (June)
ORGANIZER;CN="Cyndi Grobmeier":MAILTO:cyndi@maddogstrong.org
END:VEVENT
BEGIN:VEVENT
DTSTART;TZID=America/Chicago:20220619T080000
DTEND;TZID=America/Chicago:20220619T100000
DTSTAMP:20260423T224951
CREATED:20170317T115948Z
LAST-MODIFIED:20220619T161333Z
UID:10001248-1655625600-1655632800@www.racetime.info
SUMMARY:Daisy Dash 5K Run/Walk & 1K Kids Dash
DESCRIPTION:Daisy Dash 1K Overall Results\n\nDaisy Dash 5K Age Group Results\n\nDaisy Dash 5K Overall Results\n \nPlease Note:  If your bib is listed under “unknown participant” please contact Race Time with your details (Name/Age/Gender).  Thank you.
URL:https://www.racetime.info/event/copy-of-daisy-dash-5k-run-walk-1k-kids-dash/
LOCATION:Downtown Clarendon Hills\, IL\, South Prospect Avenue\, Clarendon Hills\, IL\, 60514\, United States
CATEGORIES:2022-06 Results (June)
ORGANIZER;CN="Greg Foster":MAILTO:daisydash@comcast.net
GEO:41.7930315;-87.9521828
X-APPLE-STRUCTURED-LOCATION;VALUE=URI;X-ADDRESS=Downtown Clarendon Hills IL South Prospect Avenue Clarendon Hills IL 60514 United States;X-APPLE-RADIUS=500;X-TITLE=South Prospect Avenue:geo:-87.9521828,41.7930315
END:VEVENT
BEGIN:VEVENT
DTSTART;TZID=America/Chicago:20220618T083000
DTEND;TZID=America/Chicago:20220618T100000
DTSTAMP:20260423T224951
CREATED:20170124T202720Z
LAST-MODIFIED:20220618T160754Z
UID:10000873-1655541000-1655546400@www.racetime.info
SUMMARY:JOURNEYS: Superhero 5K Run/Walk & 1 Mile Youth Run
DESCRIPTION:Journeys Superhero 1 Mile Overall Results\n\nJourneys Superhero 5K Age Group Results\n\nJourneys Superhero 5K Overall Results
URL:https://www.racetime.info/event/copy-of-journeys-superhero-5k-run-walk-1-mile-youth-run/
LOCATION:Deer Grove East Forest Preserve\, 100 West Dundee\, Palatine\, IL\, 60074\, United States
CATEGORIES:2022-06 Results (June)
ORGANIZER;CN="Kate Hassemer":MAILTO:k.hassemer@journeystheroadhome.org
GEO:42.143126;-88.0144015
X-APPLE-STRUCTURED-LOCATION;VALUE=URI;X-ADDRESS=Deer Grove East Forest Preserve 100 West Dundee Palatine IL 60074 United States;X-APPLE-RADIUS=500;X-TITLE=100 West Dundee:geo:-88.0144015,42.143126
END:VEVENT
BEGIN:VEVENT
DTSTART;TZID=America/Chicago:20220612T083000
DTEND;TZID=America/Chicago:20220612T130000
DTSTAMP:20260423T224951
CREATED:20220421T015223Z
LAST-MODIFIED:20220612T165820Z
UID:10001299-1655022600-1655038800@www.racetime.info
SUMMARY:Woodstock Challenge
DESCRIPTION:Woodstock Challenge 5K Age Group Results\n\nWoodstock Challenge 5K Overall Results
URL:https://www.racetime.info/event/woodstock-challenge/
LOCATION:Woodstock Water Works\, Kishwaukee Valley Road\, Woodstock\, IL\, 60098\, United States
CATEGORIES:2022-06 Results (June)
ORGANIZER;CN="Dave Zinnen":MAILTO:dzinnen@woodstockil.gov
END:VEVENT
BEGIN:VEVENT
DTSTART;TZID=America/Chicago:20220612T080000
DTEND;TZID=America/Chicago:20220612T100000
DTSTAMP:20260423T224951
CREATED:20170406T133031Z
LAST-MODIFIED:20220612T165643Z
UID:10001283-1655020800-1655028000@www.racetime.info
SUMMARY:The Randall Oaks 5K Run/Walk & Kids Fun Runs
DESCRIPTION:Randall Oaks 5K Age Group Results\n\nRandall Oaks 5K Overall Results\n\nRandall Oaks 5K Wheel Division\n\nRandall Oaks Youth Runs
URL:https://www.racetime.info/event/copy-of-the-randall-oaks-5k-run-walk-kids-fun-runs/
LOCATION:Randall Oaks Recreation Center\, 500 North Randall Road\, West Dundee\, IL\, 60118\, United States
CATEGORIES:2022-06 Results (June)
ORGANIZER;CN="Bill Hepperle":MAILTO:bhepperle@dtpd.org
GEO:42.109152;-88.3362828
X-APPLE-STRUCTURED-LOCATION;VALUE=URI;X-ADDRESS=Randall Oaks Recreation Center 500 North Randall Road West Dundee IL 60118 United States;X-APPLE-RADIUS=500;X-TITLE=500 North Randall Road:geo:-88.3362828,42.109152
END:VEVENT
BEGIN:VEVENT
DTSTART;TZID=America/Chicago:20220611T080000
DTEND;TZID=America/Chicago:20220611T170000
DTSTAMP:20260423T224951
CREATED:20220330T204312Z
LAST-MODIFIED:20220611T165528Z
UID:10002103-1654934400-1654966800@www.racetime.info
SUMMARY:Run For The Stars 5K & Kids Dash
DESCRIPTION:Run For The Stars 5K Age Group Results\n\nRun For The Stars 5K Overall Results\n\nRun For The Stars 5K Wheel Division
URL:https://www.racetime.info/event/run-for-the-stars-5k-kids-dash/
LOCATION:College Church Commons\, 332 East Seminary\, Wheaton\, 60187\, United States
CATEGORIES:2022-06 Results (June)
ORGANIZER;CN="Ben Colling":MAILTO:benjamin.e.colling@gmail.com
END:VEVENT
BEGIN:VEVENT
DTSTART;TZID=America/Chicago:20220611T080000
DTEND;TZID=America/Chicago:20220611T100000
DTSTAMP:20260423T224951
CREATED:20190303T192103Z
LAST-MODIFIED:20220611T165637Z
UID:10001865-1654934400-1654941600@www.racetime.info
SUMMARY:CAR Foundation 5K Fun-Raiser
DESCRIPTION:C.A.R. 5K Overall Results
URL:https://www.racetime.info/event/copy-of-car-foundation-5k-fun-raiser/
LOCATION:Diversey Harbor\, 2601 N. Cannon Drive\, Chicago\, IL\, 60614\, United States
CATEGORIES:2022-06 Results (June)
ORGANIZER;CN="Brent Dornbos":MAILTO:bdornbos@chicagorealtor.com
END:VEVENT
BEGIN:VEVENT
DTSTART;TZID=America/Chicago:20220604T090000
DTEND;TZID=America/Chicago:20220604T110000
DTSTAMP:20260423T224951
CREATED:20210525T183055Z
LAST-MODIFIED:20220604T190717Z
UID:10001988-1654333200-1654340400@www.racetime.info
SUMMARY:Waubonsee Foundation 5K Trail Run and Walk
DESCRIPTION:Waubonsee 5K Overall Results
URL:https://www.racetime.info/event/copy-of-waubonsee-foundation-5k-trail-run-and-walk/
LOCATION:Waubonsee Community College\, Route 47 @ Waubonsee Drive\, Sugar Grove\, IL\, 60554\, United States
CATEGORIES:2022-06 Results (June)
ORGANIZER;CN="Stephanie Carreno":MAILTO:scarreno@waubonsee.edu
END:VEVENT
BEGIN:VEVENT
DTSTART;TZID=America/Chicago:20220604T090000
DTEND;TZID=America/Chicago:20220604T103000
DTSTAMP:20260423T224951
CREATED:20210525T114027Z
LAST-MODIFIED:20220607T100642Z
UID:10001986-1654333200-1654338600@www.racetime.info
SUMMARY:SSL DifferenceMaker 5K Run/Walk & Kids Run
DESCRIPTION:SSL DifferenceMaker Age Group Results\n\nSSL DifferenceMaker Overall Results\n\nSSL DifferenceMaker Team Results
URL:https://www.racetime.info/event/copy-of-ssl-differencemaker-5k-run-walk-kids-run/
LOCATION:Breidert Green Park\, 432 W. Nebraska\, Frankfort\, IL\, 60423\, United States
CATEGORIES:2022-06 Results (June)
ORGANIZER;CN="Melissa Cunningham":MAILTO:6hams@comcast.net
GEO:41.4974227;-87.8607917
X-APPLE-STRUCTURED-LOCATION;VALUE=URI;X-ADDRESS=Breidert Green Park 432 W. Nebraska Frankfort IL 60423 United States;X-APPLE-RADIUS=500;X-TITLE=432 W. Nebraska:geo:-87.8607917,41.4974227
END:VEVENT
BEGIN:VEVENT
DTSTART;TZID=America/Chicago:20220604T090000
DTEND;TZID=America/Chicago:20220604T103000
DTSTAMP:20260423T224951
CREATED:20190227T134554Z
LAST-MODIFIED:20220604T190434Z
UID:10001044-1654333200-1654338600@www.racetime.info
SUMMARY:SPS Run For Life 5K Run/Walk
DESCRIPTION:SPS Run For Life 5K Age Group\n\nSPS Run For Life 5K Overall Results
URL:https://www.racetime.info/event/copy-of-sps-run-for-life-5k-run-walk/
LOCATION:Peg Bond Center\, 151 N. Island Avenue\, Batavia\, IL\, 60510\, United States
CATEGORIES:2022-06 Results (June)
ORGANIZER;CN="Holly Mapes":MAILTO:hollymapes0131@gmail.com
GEO:41.853407;-88.3092422
X-APPLE-STRUCTURED-LOCATION;VALUE=URI;X-ADDRESS=Peg Bond Center 151 N. Island Avenue Batavia IL 60510 United States;X-APPLE-RADIUS=500;X-TITLE=151 N. Island Avenue:geo:-88.3092422,41.853407
END:VEVENT
BEGIN:VEVENT
DTSTART;TZID=America/Chicago:20220604T083000
DTEND;TZID=America/Chicago:20220604T100000
DTSTAMP:20260423T224951
CREATED:20220320T125254Z
LAST-MODIFIED:20220604T190309Z
UID:10001269-1654331400-1654336800@www.racetime.info
SUMMARY:Empowerment 5K Run/Walk
DESCRIPTION:Empowerment 5K Overall Results
URL:https://www.racetime.info/event/empowerment-5k-run-walk/
LOCATION:Burnham Park\, 3900 S. Jean-Baptiste Point\, Chicago\, IL\, 60653\, United States
CATEGORIES:2022-06 Results (June)
ORGANIZER;CN="Eve Hill":MAILTO:evehill@umich.edu
END:VEVENT
END:VCALENDAR