BEGIN:VCALENDAR
VERSION:2.0
PRODID:-//Race Time - ECPv6.15.13//NONSGML v1.0//EN
CALSCALE:GREGORIAN
METHOD:PUBLISH
X-WR-CALNAME:Race Time
X-ORIGINAL-URL:https://www.racetime.info
X-WR-CALDESC:Events for Race Time
REFRESH-INTERVAL;VALUE=DURATION:PT1H
X-Robots-Tag:noindex
X-PUBLISHED-TTL:PT1H
BEGIN:VTIMEZONE
TZID:America/Chicago
BEGIN:DAYLIGHT
TZOFFSETFROM:-0600
TZOFFSETTO:-0500
TZNAME:CDT
DTSTART:20210314T080000
END:DAYLIGHT
BEGIN:STANDARD
TZOFFSETFROM:-0500
TZOFFSETTO:-0600
TZNAME:CST
DTSTART:20211107T070000
END:STANDARD
BEGIN:DAYLIGHT
TZOFFSETFROM:-0600
TZOFFSETTO:-0500
TZNAME:CDT
DTSTART:20220313T080000
END:DAYLIGHT
BEGIN:STANDARD
TZOFFSETFROM:-0500
TZOFFSETTO:-0600
TZNAME:CST
DTSTART:20221106T070000
END:STANDARD
BEGIN:DAYLIGHT
TZOFFSETFROM:-0600
TZOFFSETTO:-0500
TZNAME:CDT
DTSTART:20230312T080000
END:DAYLIGHT
BEGIN:STANDARD
TZOFFSETFROM:-0500
TZOFFSETTO:-0600
TZNAME:CST
DTSTART:20231105T070000
END:STANDARD
END:VTIMEZONE
BEGIN:VTIMEZONE
TZID:America/Indiana/Indianapolis
BEGIN:DAYLIGHT
TZOFFSETFROM:-0500
TZOFFSETTO:-0400
TZNAME:EDT
DTSTART:20210314T070000
END:DAYLIGHT
BEGIN:STANDARD
TZOFFSETFROM:-0400
TZOFFSETTO:-0500
TZNAME:EST
DTSTART:20211107T060000
END:STANDARD
BEGIN:DAYLIGHT
TZOFFSETFROM:-0500
TZOFFSETTO:-0400
TZNAME:EDT
DTSTART:20220313T070000
END:DAYLIGHT
BEGIN:STANDARD
TZOFFSETFROM:-0400
TZOFFSETTO:-0500
TZNAME:EST
DTSTART:20221106T060000
END:STANDARD
BEGIN:DAYLIGHT
TZOFFSETFROM:-0500
TZOFFSETTO:-0400
TZNAME:EDT
DTSTART:20230312T070000
END:DAYLIGHT
BEGIN:STANDARD
TZOFFSETFROM:-0400
TZOFFSETTO:-0500
TZNAME:EST
DTSTART:20231105T060000
END:STANDARD
END:VTIMEZONE
BEGIN:VEVENT
DTSTART;TZID=America/Chicago:20220731T080000
DTEND;TZID=America/Chicago:20220731T100000
DTSTAMP:20260423T224951
CREATED:20170425T131515Z
LAST-MODIFIED:20220731T165115Z
UID:10001349-1659254400-1659261600@www.racetime.info
SUMMARY:Algonquin Founders' Day 10K Run\, 5K Run/Walk & Youth 1 Mile Fun Run
DESCRIPTION:Algonquin Founders Youth 1 Mile Overall Results\n\nAlgonquin Founders 5K Age Group Results\n\nAlgonquin Founders 5K Overall Results\n\nAlgonquin Founders 10K Age Group Results\n\nAlgonquin Founders 10K Overall Results
URL:https://www.racetime.info/event/algonquin-founders-day-10k-run-5k-run-walk-youth-1-mile-fun-run-4/
LOCATION:Algonquin Middle School\, 520 Longwood Drive\, Algonquin\, IL\, 60102\, United States
CATEGORIES:2022-07 Results (July)
ORGANIZER;CN="Cheryl Hagen":MAILTO:foundersrun1@yahoo.com
GEO:42.1583261;-88.2831554
X-APPLE-STRUCTURED-LOCATION;VALUE=URI;X-ADDRESS=Algonquin Middle School 520 Longwood Drive Algonquin IL 60102 United States;X-APPLE-RADIUS=500;X-TITLE=520 Longwood Drive:geo:-88.2831554,42.1583261
END:VEVENT
BEGIN:VEVENT
DTSTART;TZID=America/Chicago:20220730T073000
DTEND;TZID=America/Chicago:20220730T090000
DTSTAMP:20260423T224951
CREATED:20170613T193547Z
LAST-MODIFIED:20220730T145207Z
UID:10001482-1659166200-1659171600@www.racetime.info
SUMMARY:Corn Boil 5K Run/Walk
DESCRIPTION:Sugar Grove Corn Boil 5K Age Group Results\n\nSugar Grove Corn Boil 5K Overall Results
URL:https://www.racetime.info/event/copy-of-corn-boil-5k-run-walk/
LOCATION:Sugar Grove Park District\, 61 Main St.\, Sugar Grove\, IL\, 60554\, United States
CATEGORIES:2022-07 Results (July)
ORGANIZER;CN="Blake Mayerle":MAILTO:bmayerle@sgparks.org
GEO:41.7632516;-88.4442141
X-APPLE-STRUCTURED-LOCATION;VALUE=URI;X-ADDRESS=Sugar Grove Park District 61 Main St. Sugar Grove IL 60554 United States;X-APPLE-RADIUS=500;X-TITLE=61 Main St.:geo:-88.4442141,41.7632516
END:VEVENT
BEGIN:VEVENT
DTSTART;TZID=America/Chicago:20220720T180000
DTEND;TZID=America/Chicago:20220720T200000
DTSTAMP:20260423T224951
CREATED:20210604T114102Z
LAST-MODIFIED:20220721T043951Z
UID:10001992-1658340000-1658347200@www.racetime.info
SUMMARY:Summer Sunset 5K Run/Walk & Youth Runs
DESCRIPTION:Summer Sunset Youth Races\n\nSummer Sunset 5K Age Group Results\n\nSummer Sunset 5K Overall Results\n \nIf you were not able to stay for the award ceremony and you have placed in your age group\, please contact Race Time at racetime21@hotmail.com and we can ship your medal to you.
URL:https://www.racetime.info/event/copy-of-summer-sunset-5k-run-walk-youth-runs/
LOCATION:Pottawatomi Park\, 8 North Avenue\, St. Charles\, IL\, 60174\, United States
CATEGORIES:2022-07 Results (July)
ORGANIZER;CN="Race Director Fox River Trail Runners":MAILTO:summersunset@foxrivertrailrunners.org
GEO:41.9210527;-88.3158804
X-APPLE-STRUCTURED-LOCATION;VALUE=URI;X-ADDRESS=Pottawatomi Park 8 North Avenue St. Charles IL 60174 United States;X-APPLE-RADIUS=500;X-TITLE=8 North Avenue:geo:-88.3158804,41.9210527
END:VEVENT
BEGIN:VEVENT
DTSTART;TZID=America/Chicago:20220709T070000
DTEND;TZID=America/Chicago:20220709T083000
DTSTAMP:20260423T224951
CREATED:20170410T213134Z
LAST-MODIFIED:20220710T115045Z
UID:10001326-1657350000-1657355400@www.racetime.info
SUMMARY:Bristol Progress Days 5K Run & 1.5 Mile Walk
DESCRIPTION:Bristol 5K Overall Results\n\nBristol 5K Wheeler Overall Results
URL:https://www.racetime.info/event/copy-of-bristol-progress-days-5k-run-1-5-mile-walk-2/
LOCATION:Bristol Village Hall\, 19801 83rd Street\, Bristol\, WI\, United States
CATEGORIES:2022-07 Results (July)
ORGANIZER;CN="Lori Muhlenbeck":MAILTO:bristolrun@yahoo.com
END:VEVENT
BEGIN:VEVENT
DTSTART;TZID=America/Chicago:20220704T080000
DTEND;TZID=America/Chicago:20220704T100000
DTSTAMP:20260423T224951
CREATED:20190620T181826Z
LAST-MODIFIED:20220704T164602Z
UID:10001068-1656921600-1656928800@www.racetime.info
SUMMARY:Great Western Freedom 4 Miler
DESCRIPTION:Great Western Freedom 4 Mile Age Group Results\n\nGreat Western Freedom 4 Mile Overall Results
URL:https://www.racetime.info/event/copy-of-great-western-freedom-4-miler/
LOCATION:LeRoy Oakes Forest Preserve\, 37W584 Dean Street\, St. Charles\, IL\, 60175\, United States
CATEGORIES:2022-07 Results (July)
ORGANIZER;CN="Ann Marie Dunn":MAILTO:annmaried@lazarushouse.net
GEO:41.929212;-88.352091
X-APPLE-STRUCTURED-LOCATION;VALUE=URI;X-ADDRESS=LeRoy Oakes Forest Preserve 37W584 Dean Street St. Charles IL 60175 United States;X-APPLE-RADIUS=500;X-TITLE=37W584 Dean Street:geo:-88.352091,41.929212
END:VEVENT
BEGIN:VEVENT
DTSTART;TZID=America/Chicago:20220704T080000
DTEND;TZID=America/Chicago:20220704T093000
DTSTAMP:20260423T224951
CREATED:20210730T180952Z
LAST-MODIFIED:20220704T164715Z
UID:10001177-1656921600-1656927000@www.racetime.info
SUMMARY:Deerfield's Family Days 5K
DESCRIPTION:Rotary Family Days 5K Age Group Results\n\nRotary Family Day 5K Overall Results
URL:https://www.racetime.info/event/copy-of-deerfields-harvest-fest-5k/
LOCATION:Maplewood Park\, 900 Clay Court\, Deerfield\, IL\, 60015\, United States
CATEGORIES:2022-07 Results (July)
ORGANIZER;CN="Justin Keenan":MAILTO:jkeenan@deerfield.il.us
END:VEVENT
BEGIN:VEVENT
DTSTART;TZID=America/Indiana/Indianapolis:20220704T080000
DTEND;TZID=America/Indiana/Indianapolis:20220704T093000
DTSTAMP:20260423T224951
CREATED:20190523T114939Z
LAST-MODIFIED:20220704T164957Z
UID:10001884-1656921600-1656927000@www.racetime.info
SUMMARY:Fowler Fireworks Frenzy 5K Run/Walk
DESCRIPTION:Fowler Fireworks Frenzy 5K Age Group Results\n\nFowler Fireworks Frenzy 5K Overall Results
URL:https://www.racetime.info/event/copy-of-fowler-fireworks-frenzy-5k-run-walk/
LOCATION:Fowler Town Park\, 302 S. Fowler Town Park Drive\, Fowler\, IN\, 47944\, United States
CATEGORIES:2022-07 Results (July)
ORGANIZER;CN="Diane Costello":MAILTO:d-n-costello@sbcglobal.net
END:VEVENT
BEGIN:VEVENT
DTSTART;TZID=America/Chicago:20220704T080000
DTEND;TZID=America/Chicago:20220704T093000
DTSTAMP:20260423T224951
CREATED:20190402T212954Z
LAST-MODIFIED:20220704T164848Z
UID:10001053-1656921600-1656927000@www.racetime.info
SUMMARY:Freedom Classic 5K Run/Walk & Youth Fun Run
DESCRIPTION:Freedom Classic 5K Age Group Results\n\nFreedom Classic 5K Overall Results
URL:https://www.racetime.info/event/copy-of-freedom-classic-5k-run-walk-youth-fun-run/
LOCATION:Mundelein Park District\, 1401 N. Midlthian Road\, Mundelein\, United States
CATEGORIES:2022-07 Results (July)
ORGANIZER;CN="Matt LaPorte":MAILTO:mlaporte@mundeleinparks.org
END:VEVENT
BEGIN:VEVENT
DTSTART;TZID=America/Chicago:20220704T073000
DTEND;TZID=America/Chicago:20220704T090000
DTSTAMP:20260423T224951
CREATED:20170613T174104Z
LAST-MODIFIED:20220704T164356Z
UID:10000646-1656919800-1656925200@www.racetime.info
SUMMARY:Liberty Loop 5K Run/Walk
DESCRIPTION:Liberty Loop 5K Age Group Results\n\nLiberty Loop 5K Overall Results
URL:https://www.racetime.info/event/copy-of-liberty-loop-5k-run-walk/
LOCATION:Techny Prairie Activity Center\, 180 Anets Drive\, Northbrook\, IL\, 60062\, United States
CATEGORIES:2022-07 Results (July)
ORGANIZER;CN="Isaac Urow":MAILTO:iurow@nbparks.org
GEO:42.1275267;-87.8289548
X-APPLE-STRUCTURED-LOCATION;VALUE=URI;X-ADDRESS=Techny Prairie Activity Center 180 Anets Drive Northbrook IL 60062 United States;X-APPLE-RADIUS=500;X-TITLE=180 Anets Drive:geo:-87.8289548,42.1275267
END:VEVENT
BEGIN:VEVENT
DTSTART;TZID=America/Chicago:20220702T080000
DTEND;TZID=America/Chicago:20220702T170000
DTSTAMP:20260423T224951
CREATED:20220413T001947Z
LAST-MODIFIED:20220702T152457Z
UID:10002113-1656748800-1656781200@www.racetime.info
SUMMARY:Land We Love 5K Run/Walk & 10K Run
DESCRIPTION:Land We Love 2 Mile Overall Results\n\nLand We Love 5K Age Group Results\n\nLand We Love 5K Overall Results\n\nLand We Love 10K Age Group Results\n\nLand We Love 10K Overall Results
URL:https://www.racetime.info/event/land-we-love-5k-run-walk-10k-run/
LOCATION:Cuba Township Offices\, 28000 West Cuba Road\, Barringtn\, IL\, 60010\, United States
CATEGORIES:2022-07 Results (July)
ORGANIZER;CN="Anna Paul":MAILTO:village@vbhil.gov
END:VEVENT
END:VCALENDAR