BEGIN:VCALENDAR
VERSION:2.0
PRODID:-//Race Time - ECPv6.15.13//NONSGML v1.0//EN
CALSCALE:GREGORIAN
METHOD:PUBLISH
X-WR-CALNAME:Race Time
X-ORIGINAL-URL:https://www.racetime.info
X-WR-CALDESC:Events for Race Time
REFRESH-INTERVAL;VALUE=DURATION:PT1H
X-Robots-Tag:noindex
X-PUBLISHED-TTL:PT1H
BEGIN:VTIMEZONE
TZID:America/Chicago
BEGIN:DAYLIGHT
TZOFFSETFROM:-0600
TZOFFSETTO:-0500
TZNAME:CDT
DTSTART:20210314T080000
END:DAYLIGHT
BEGIN:STANDARD
TZOFFSETFROM:-0500
TZOFFSETTO:-0600
TZNAME:CST
DTSTART:20211107T070000
END:STANDARD
BEGIN:DAYLIGHT
TZOFFSETFROM:-0600
TZOFFSETTO:-0500
TZNAME:CDT
DTSTART:20220313T080000
END:DAYLIGHT
BEGIN:STANDARD
TZOFFSETFROM:-0500
TZOFFSETTO:-0600
TZNAME:CST
DTSTART:20221106T070000
END:STANDARD
BEGIN:DAYLIGHT
TZOFFSETFROM:-0600
TZOFFSETTO:-0500
TZNAME:CDT
DTSTART:20230312T080000
END:DAYLIGHT
BEGIN:STANDARD
TZOFFSETFROM:-0500
TZOFFSETTO:-0600
TZNAME:CST
DTSTART:20231105T070000
END:STANDARD
END:VTIMEZONE
BEGIN:VEVENT
DTSTART;TZID=America/Chicago:20220828T080000
DTEND;TZID=America/Chicago:20220828T093000
DTSTAMP:20260423T212319
CREATED:20170723T102042Z
LAST-MODIFIED:20220828T165010Z
UID:10001551-1661673600-1661679000@www.racetime.info
SUMMARY:Bartlett Lions Day Dash: 10K Run\, 5K Run/Walk & Kids Dash!
DESCRIPTION:Bartlett Lions 5K Age Group Results\n\nBartlett Lions 5K Overall Results\n\nBartlett Lions 10K Age Group Results\n\nBartlett Lions 10K Overall Results\n\nBartlett Lions Team Results\n\nBartlett Lions Dash Youth Runs
URL:https://www.racetime.info/event/copy-of-bartlett-lions-day-dash-10k-run-5k-run-walk-kids-dash/
LOCATION:James “Pate” Phillips State Park (Bartlett Nature Center\, 2050 W. Stearns Road\, Bartlett\, IL\, 60103\, United States
CATEGORIES:2022-08 Results (August)
ORGANIZER;CN="Matthew Kelley":MAILTO:mxk1114@yahoo.com
GEO:41.9772137;-88.2551583
X-APPLE-STRUCTURED-LOCATION;VALUE=URI;X-ADDRESS=James “Pate” Phillips State Park (Bartlett Nature Center 2050 W. Stearns Road Bartlett IL 60103 United States;X-APPLE-RADIUS=500;X-TITLE=2050 W. Stearns Road:geo:-88.2551583,41.9772137
END:VEVENT
BEGIN:VEVENT
DTSTART;TZID=America/Chicago:20220820T083000
DTEND;TZID=America/Chicago:20220820T100000
DTSTAMP:20260423T212319
CREATED:20170501T172355Z
LAST-MODIFIED:20220820T171412Z
UID:10000561-1660984200-1660989600@www.racetime.info
SUMMARY:Race To Stop Hunger 5K Run/Walk
DESCRIPTION:Race To Stop Hunger 5K Age Group Results\n\nRace To Stop Hunger 5K Overall Results\n\nRace To Stop Hunger Team Results
URL:https://www.racetime.info/event/copy-of-race-to-stop-hunger-5k-run-walk/
LOCATION:Indian Lakes Park Golf Course\, 250 West Schick Road\, Bloomingdale\, 60108
CATEGORIES:2022-08 Results (August)
ORGANIZER;CN="Nancy Thiemann":MAILTO:racetostophunger@gmail.com
END:VEVENT
BEGIN:VEVENT
DTSTART;TZID=America/Chicago:20220820T080000
DTEND;TZID=America/Chicago:20220820T100000
DTSTAMP:20260423T212319
CREATED:20170723T000844Z
LAST-MODIFIED:20220820T171542Z
UID:10000713-1660982400-1660989600@www.racetime.info
SUMMARY:Prince Hall Prostate Cancer 5K Run/Walk/Bike
DESCRIPTION:Prostate 5K Run/Walk Overall Results\n\nProstate Bike Results
URL:https://www.racetime.info/event/copy-of-ronald-g-simon-5k-prostate-cancer-run-walk-bike/
LOCATION:Prince Hall Grand Lodge of Illinois\, 809 E. 42nd Place\, Chicago\, IL\, 60653\, United States
CATEGORIES:2022-08 Results (August)
ORGANIZER;CN="Michelle Stewart":MAILTO:mjs2125@yahoo.com
GEO:41.8177864;-87.6062914
X-APPLE-STRUCTURED-LOCATION;VALUE=URI;X-ADDRESS=Prince Hall Grand Lodge of Illinois 809 E. 42nd Place Chicago IL 60653 United States;X-APPLE-RADIUS=500;X-TITLE=809 E. 42nd Place:geo:-87.6062914,41.8177864
END:VEVENT
BEGIN:VEVENT
DTSTART;TZID=America/Chicago:20220820T073000
DTEND;TZID=America/Chicago:20220820T090000
DTSTAMP:20260423T212319
CREATED:20180324T174038Z
LAST-MODIFIED:20220820T191654Z
UID:10000935-1660980600-1660986000@www.racetime.info
SUMMARY:Shalynn's Shuffle 5K Run/Walk
DESCRIPTION:Shalynn’s Shuffle 5K Age Group Results\n\nShalynn’s Shuffle 5K Overall Results
URL:https://www.racetime.info/event/copy-of-shalynns-shuffle-5k-run-walk/
LOCATION:Atwood Hammond Grade School\, 316 N. Illinois Street\, Atwood\, IL\, 61913\, United States
CATEGORIES:2022-08 Results (August)
ORGANIZER;CN="Stacy Welch":MAILTO:skwelch04@gmail.com
GEO:39.8035367;-88.4646508
X-APPLE-STRUCTURED-LOCATION;VALUE=URI;X-ADDRESS=Atwood Hammond Grade School 316 N. Illinois Street Atwood IL 61913 United States;X-APPLE-RADIUS=500;X-TITLE=316 N. Illinois Street:geo:-88.4646508,39.8035367
END:VEVENT
BEGIN:VEVENT
DTSTART;TZID=America/Chicago:20220820T073000
DTEND;TZID=America/Chicago:20220820T083000
DTSTAMP:20260423T212319
CREATED:20180417T125626Z
LAST-MODIFIED:20220820T171250Z
UID:10001765-1660980600-1660984200@www.racetime.info
SUMMARY:Healthy West Chicago 5K Run/Walk & Kiddie Dash
DESCRIPTION:Healthy We Go 5K Age Group Results\n\nHealthy We Go 5K Overall Results\n\nHealthy We Go Youth Run
URL:https://www.racetime.info/event/copy-of-healthy-west-chicago-5k-run-walk-kiddie-dash/
LOCATION:Reed Keppler Park\, 129 W. National Street\, West Chicago\, IL\, 60185\, United States
CATEGORIES:2022-08 Results (August)
ORGANIZER;CN="Natalia Serrano":MAILTO:natalia@healthywestchicago.org
GEO:41.8942059;-88.2065487
X-APPLE-STRUCTURED-LOCATION;VALUE=URI;X-ADDRESS=Reed Keppler Park 129 W. National Street West Chicago IL 60185 United States;X-APPLE-RADIUS=500;X-TITLE=129 W. National Street:geo:-88.2065487,41.8942059
END:VEVENT
BEGIN:VEVENT
DTSTART;TZID=America/Chicago:20220814T083000
DTEND;TZID=America/Chicago:20220814T100000
DTSTAMP:20260423T212319
CREATED:20220318T115144Z
LAST-MODIFIED:20220814T171408Z
UID:10001281-1660465800-1660471200@www.racetime.info
SUMMARY:Madonna Miles 5K Run/Walk
DESCRIPTION:Madonna 5K Age Group Results\n\nMadonna 5K Overall Results
URL:https://www.racetime.info/event/madonna-miles-5k-run-walk/
LOCATION:Moraine Valley Community College\, 9000 W. College Pkwy\, Palos Hills\, IL\, 60465\, United States
CATEGORIES:2022-08 Results (August)
ORGANIZER;CN="Betsy Garbrecht":MAILTO:egarbrecht@franciscanministries.org
GEO:41.6932523;-87.8354241
X-APPLE-STRUCTURED-LOCATION;VALUE=URI;X-ADDRESS=Moraine Valley Community College 9000 W. College Pkwy Palos Hills IL 60465 United States;X-APPLE-RADIUS=500;X-TITLE=9000 W. College Pkwy:geo:-87.8354241,41.6932523
END:VEVENT
BEGIN:VEVENT
DTSTART;TZID=America/Chicago:20220814T073000
DTEND;TZID=America/Chicago:20220814T100000
DTSTAMP:20260423T212319
CREATED:20220608T184132Z
LAST-MODIFIED:20220814T171659Z
UID:10002116-1660462200-1660471200@www.racetime.info
SUMMARY:Summer Trail Classic
DESCRIPTION:Summer Trail Classic Overall Results by Distance\n\nSummer Trail Classic Team Relay Results \nAge Group Results were not given but in case you want to see how you did broken down by age!\n \nSummer Trail Classic Age Group Results By Distance\n\nSummer Trail Classic Team Relay Age Results
URL:https://www.racetime.info/event/summer-trail-classic/
LOCATION:Carl R. Hansen Woods\, Poplar Creek Trail\, Elgin\, IL\, 60120\, United States
CATEGORIES:2022-08 Results (August)
ORGANIZER;CN="Wayne Haworth":MAILTO:wayne@dickpondathletics.com
END:VEVENT
BEGIN:VEVENT
DTSTART;TZID=America/Chicago:20220813T080000
DTEND;TZID=America/Chicago:20220813T100000
DTSTAMP:20260423T212319
CREATED:20170609T175801Z
LAST-MODIFIED:20220813T170100Z
UID:10001446-1660377600-1660384800@www.racetime.info
SUMMARY:St. Catherine's Charge On! 5K Run/Walk
DESCRIPTION:Charge On 5K Age Group Results\n\nCharge On 5K Overall Results
URL:https://www.racetime.info/event/copy-of-st-catherines-charge-on-5k-run-walk/
LOCATION:Lawn Manor Park\, 108th Street & Kostner Avenue\, Oak Lawn\, IL\, 60453\, United States
CATEGORIES:2022-08 Results (August)
ORGANIZER;CN="Kelly Evans":MAILTO:chargeon5k@gmail.com
GEO:41.6952028;-87.7301904
X-APPLE-STRUCTURED-LOCATION;VALUE=URI;X-ADDRESS=Lawn Manor Park 108th Street & Kostner Avenue Oak Lawn IL 60453 United States;X-APPLE-RADIUS=500;X-TITLE=108th Street & Kostner Avenue:geo:-87.7301904,41.6952028
END:VEVENT
BEGIN:VEVENT
DTSTART;TZID=America/Chicago:20220813T070000
DTEND;TZID=America/Chicago:20220813T080000
DTSTAMP:20260423T212319
CREATED:20220729T103723Z
LAST-MODIFIED:20220815T175116Z
UID:10001301-1660374000-1660377600@www.racetime.info
SUMMARY:ALS A Long Swim
DESCRIPTION:A Long Swim 5K\n\nA Long Swim 2.4 Miles\n\nA Long Swim 1.2 Miles\n\nA Long Swim 1500 Meters\n\nA Long Swim 750 Meters
URL:https://www.racetime.info/event/a-long-swim/
LOCATION:Tower Road Park/Beach\, 899 Sheridan Road\, Winnetka\, IL\, 60093\, United States
CATEGORIES:2022-08 Results (August)
ORGANIZER;CN="Kate Himes":MAILTO:katehimes@alongswim.org
END:VEVENT
BEGIN:VEVENT
DTSTART;TZID=America/Chicago:20220812T070000
DTEND;TZID=America/Chicago:20220812T080000
DTSTAMP:20260423T212319
CREATED:20220724T132402Z
LAST-MODIFIED:20220812T154820Z
UID:10001312-1660287600-1660291200@www.racetime.info
SUMMARY:Flutopia 5K Run/Walk
DESCRIPTION:Flutopia 5K Age Group Results\n\nFlutopia 5K Overall Results
URL:https://www.racetime.info/event/flutopia-5k-run-walk/
LOCATION:Chicago River Walk (Adjacent to Hyatt Chicago)\, Columbus Drive\, Chicago\, IL\, United States
CATEGORIES:2022-08 Results (August)
ORGANIZER;CN="Cathy Herrera":MAILTO:theflutopiainitiative@gmail.com
END:VEVENT
BEGIN:VEVENT
DTSTART;TZID=America/Chicago:20220811T173000
DTEND;TZID=America/Chicago:20220811T190000
DTSTAMP:20260423T212319
CREATED:20220407T114247Z
LAST-MODIFIED:20220812T021644Z
UID:10002106-1660239000-1660244400@www.racetime.info
SUMMARY:TransPerfect Victory Lap
DESCRIPTION:TransPerfect Victory Lap 5K Overall Results
URL:https://www.racetime.info/event/transperfect-victory-lap/
LOCATION:Diversey Harbor\, 2601 N. Cannon Drive\, Chicago\, IL\, 60614\, United States
CATEGORIES:2022-08 Results (August)
ORGANIZER;CN="Tori Balkin":MAILTO:tbalkin@transperfect.com
END:VEVENT
BEGIN:VEVENT
DTSTART;TZID=America/Chicago:20220806T160000
DTEND;TZID=America/Chicago:20220806T170000
DTSTAMP:20260423T212319
CREATED:20220627T114546Z
LAST-MODIFIED:20220806T234526Z
UID:10002122-1659801600-1659805200@www.racetime.info
SUMMARY:Romeoville Food Fest 1 Mile Run/Walk
DESCRIPTION:Romeoville Food Fest 1 Mile Age Group Results\n\nRomeoville Food Fest 1 Mile Overall Results
URL:https://www.racetime.info/event/food-fest-1-mile-run-walk/
LOCATION:Romeoville Village Hall\, 1050 W. Romeo Road\, Romeoville\, IL\, 60446\, United States
CATEGORIES:2022-08 Results (August)
ORGANIZER;CN="Kristine Wahlgren":MAILTO:kwahlgren@romeoville.org
END:VEVENT
BEGIN:VEVENT
DTSTART;TZID=America/Chicago:20220806T090000
DTEND;TZID=America/Chicago:20220806T110000
DTSTAMP:20260423T212319
CREATED:20170621T202443Z
LAST-MODIFIED:20220807T092904Z
UID:10001492-1659776400-1659783600@www.racetime.info
SUMMARY:GEPD Kids Color Bash Fun Run
DESCRIPTION:Kids Color Bash Age Group Results\n\nKids Color Bash Overall Results
URL:https://www.racetime.info/event/copy-of-gepd-kids-2k19-fun-run/
LOCATION:Newton Park\, 707 Fairview Avenue\, Glen Ellyn\, IL\, 60137\, United States
CATEGORIES:2022-08 Results (August)
ORGANIZER;CN="Stacey Lim":MAILTO:slim@geparks.org
GEO:41.8644276;-88.0577808
X-APPLE-STRUCTURED-LOCATION;VALUE=URI;X-ADDRESS=Newton Park 707 Fairview Avenue Glen Ellyn IL 60137 United States;X-APPLE-RADIUS=500;X-TITLE=707 Fairview Avenue:geo:-88.0577808,41.8644276
END:VEVENT
BEGIN:VEVENT
DTSTART;TZID=America/Chicago:20220806T083000
DTEND;TZID=America/Chicago:20220806T103000
DTSTAMP:20260423T212319
CREATED:20170303T144838Z
LAST-MODIFIED:20220806T173440Z
UID:10001117-1659774600-1659781800@www.racetime.info
SUMMARY:Shopping Cart Shuffle 5K Run & 2K Walk
DESCRIPTION:Shopping Cart Shuffle 2K Overall Results\n\nShopping Cart Shuffle 5K Age Group Results\n\nShopping Cart Shuffle 5K Overall Results\n\nShopping Cart Shuffle Team Results
URL:https://www.racetime.info/event/shopping-cart-shuffle-5k-run-walk-kids-dash-5/
LOCATION:Mallard Lake Forest Preserve\, Schick Road & Mallard Lane\, Bloomingdae\, IL\, 60172\, United States
CATEGORIES:2022-08 Results (August)
ORGANIZER;CN="Pete Kinsella":MAILTO:pete@Neighborhoodfp.org
GEO:41.9527902;-88.1282465
X-APPLE-STRUCTURED-LOCATION;VALUE=URI;X-ADDRESS=Mallard Lake Forest Preserve Schick Road & Mallard Lane Bloomingdae IL 60172 United States;X-APPLE-RADIUS=500;X-TITLE=Schick Road & Mallard Lane:geo:-88.1282465,41.9527902
END:VEVENT
BEGIN:VEVENT
DTSTART;TZID=America/Chicago:20220806T083000
DTEND;TZID=America/Chicago:20220806T100000
DTSTAMP:20260423T212319
CREATED:20180308T022127Z
LAST-MODIFIED:20220806T173256Z
UID:10001750-1659774600-1659780000@www.racetime.info
SUMMARY:Happy Feet Healthy Heart 5K Run/Walk
DESCRIPTION:Happy Feet Healthy Heart 5K Age Group Results\n\nHappy Feet Healthy Heart 5K Overall Results
URL:https://www.racetime.info/event/copy-of-happy-feet-healthy-heart-5k-run-walk-2/
LOCATION:Phillips Park\, 1000 Ray Moses Drive\, Aurora\, IL\, 60505\, United States
CATEGORIES:2022-08 Results (August)
ORGANIZER;CN="Vimi Shukla":MAILTO:vimishukla1981@gmail.com
GEO:41.7365152;-88.2948701
X-APPLE-STRUCTURED-LOCATION;VALUE=URI;X-ADDRESS=Phillips Park 1000 Ray Moses Drive Aurora IL 60505 United States;X-APPLE-RADIUS=500;X-TITLE=1000 Ray Moses Drive:geo:-88.2948701,41.7365152
END:VEVENT
BEGIN:VEVENT
DTSTART;TZID=America/Chicago:20220806T083000
DTEND;TZID=America/Chicago:20220806T100000
DTSTAMP:20260423T212319
CREATED:20170615T155738Z
LAST-MODIFIED:20220807T153012Z
UID:10000667-1659774600-1659780000@www.racetime.info
SUMMARY:HaRUNbee 5K Run/Walk for Healthy Birth Outcomes
DESCRIPTION:HaRUNbee 5K Overall Results
URL:https://www.racetime.info/event/copy-of-harunbee-5k-run-walk-for-healthy-birth-outcomes/
LOCATION:Pete’s Fruit Market\, 1400 S. Union Street\, Milwaukee\, WI\, 53204\, United States
CATEGORIES:2022-08 Results (August)
ORGANIZER;CN="Tonda Thompson":MAILTO:harunbee5k@gmail.com
END:VEVENT
END:VCALENDAR