BEGIN:VCALENDAR
VERSION:2.0
PRODID:-//Race Time - ECPv6.15.13//NONSGML v1.0//EN
CALSCALE:GREGORIAN
METHOD:PUBLISH
X-ORIGINAL-URL:https://www.racetime.info
X-WR-CALDESC:Events for Race Time
REFRESH-INTERVAL;VALUE=DURATION:PT1H
X-Robots-Tag:noindex
X-PUBLISHED-TTL:PT1H
BEGIN:VTIMEZONE
TZID:America/Chicago
BEGIN:DAYLIGHT
TZOFFSETFROM:-0600
TZOFFSETTO:-0500
TZNAME:CDT
DTSTART:20210314T080000
END:DAYLIGHT
BEGIN:STANDARD
TZOFFSETFROM:-0500
TZOFFSETTO:-0600
TZNAME:CST
DTSTART:20211107T070000
END:STANDARD
BEGIN:DAYLIGHT
TZOFFSETFROM:-0600
TZOFFSETTO:-0500
TZNAME:CDT
DTSTART:20220313T080000
END:DAYLIGHT
BEGIN:STANDARD
TZOFFSETFROM:-0500
TZOFFSETTO:-0600
TZNAME:CST
DTSTART:20221106T070000
END:STANDARD
BEGIN:DAYLIGHT
TZOFFSETFROM:-0600
TZOFFSETTO:-0500
TZNAME:CDT
DTSTART:20230312T080000
END:DAYLIGHT
BEGIN:STANDARD
TZOFFSETFROM:-0500
TZOFFSETTO:-0600
TZNAME:CST
DTSTART:20231105T070000
END:STANDARD
END:VTIMEZONE
BEGIN:VEVENT
DTSTART;TZID=America/Chicago:20220925T090000
DTEND;TZID=America/Chicago:20220926T103000
DTSTAMP:20260423T194437
CREATED:20170308T123621Z
LAST-MODIFIED:20220925T174950Z
UID:10000469-1664096400-1664188200@www.racetime.info
SUMMARY:Inside Out Club 5K Run/Walk
DESCRIPTION:Inside Out Club 5K Age Group Results\n\nInside Out Club 5K Overall Results\n\nInside Out Club Team Results
URL:https://www.racetime.info/event/copy-of-inside-out-club-5k-run-walk/
LOCATION:Danada Forest Preserve\, 3S580 Naperville Road\, Wheaton\, IL\, 60187\, United States
CATEGORIES:2022-09 Results (September)
ORGANIZER;CN="Marion Ruthig":MAILTO:marion@isupportcommunity.org
GEO:41.819072;-88.1124109
X-APPLE-STRUCTURED-LOCATION;VALUE=URI;X-ADDRESS=Danada Forest Preserve 3S580 Naperville Road Wheaton IL 60187 United States;X-APPLE-RADIUS=500;X-TITLE=3S580 Naperville Road:geo:-88.1124109,41.819072
END:VEVENT
BEGIN:VEVENT
DTSTART;TZID=America/Chicago:20220925T090000
DTEND;TZID=America/Chicago:20220925T103000
DTSTAMP:20260423T194437
CREATED:20210907T013334Z
LAST-MODIFIED:20220925T175117Z
UID:10002049-1664096400-1664101800@www.racetime.info
SUMMARY:FCA Harvest Hustle 5K Run/Walk
DESCRIPTION:FCA Harvest Hustle 5K Age Group Results\n\nFCA Harvest Hustle 5K Overall Results
URL:https://www.racetime.info/event/copy-of-fca-harvest-hustle-5k-run-walk/
LOCATION:YMCA Camp Duncan\, 32405 N. HIghway 12\, Volo\, IL\, 60041\, United States
CATEGORIES:2022-09 Results (September)
ORGANIZER;CN="Lisa Schwabe":MAILTO:harvesthustle@frassaticatholicacademy.org
GEO:42.3388339;-88.1584637
X-APPLE-STRUCTURED-LOCATION;VALUE=URI;X-ADDRESS=YMCA Camp Duncan 32405 N. HIghway 12 Volo IL 60041 United States;X-APPLE-RADIUS=500;X-TITLE=32405 N. HIghway 12:geo:-88.1584637,42.3388339
END:VEVENT
BEGIN:VEVENT
DTSTART;TZID=America/Chicago:20220925T080000
DTEND;TZID=America/Chicago:20220925T110000
DTSTAMP:20260423T194437
CREATED:20220803T031848Z
LAST-MODIFIED:20220925T174737Z
UID:10002136-1664092800-1664103600@www.racetime.info
SUMMARY:Turn The World Around 1 Mile * 5K * 10K * Kids Dash
DESCRIPTION:Turn The World Around 5K Age Group Results\n\nTurn The World Around 5K Overall Results\n\nTurn The World Around 10K Age Group Results\n\nTurn The World Around 10K Overall Results
URL:https://www.racetime.info/event/turn-the-world-around-1-mile-5k-10k-kids-dash/
LOCATION:Cantigny Park\, 1S151 Winfield Road\, Wheaton\, IL\, 60187\, United States
CATEGORIES:2022-09 Results (September)
ORGANIZER;CN="MaryBeth Collins":MAILTO:mebmik2017@gmail.com
GEO:41.8549443;-88.1559782
X-APPLE-STRUCTURED-LOCATION;VALUE=URI;X-ADDRESS=Cantigny Park 1S151 Winfield Road Wheaton IL 60187 United States;X-APPLE-RADIUS=500;X-TITLE=1S151 Winfield Road:geo:-88.1559782,41.8549443
END:VEVENT
BEGIN:VEVENT
DTSTART;TZID=America/Chicago:20220924T090000
DTEND;TZID=America/Chicago:20220924T110000
DTSTAMP:20260423T194437
CREATED:20180207T132954Z
LAST-MODIFIED:20220924T195038Z
UID:10001735-1664010000-1664017200@www.racetime.info
SUMMARY:Mesothelioma Race for Justice 5K Run/Walk
DESCRIPTION:Run For Justice 5K Overall Results
URL:https://www.racetime.info/event/copy-of-mesothelioma-race-for-justice-5k-run-walk/
LOCATION:Half Day Forest Preserve of Lake County\, 24255 N. Highway 22\, Vernon Hills\, IL\, 60061\, United States
CATEGORIES:2022-09 Results (September)
ORGANIZER;CN="Sasha Shapsis":MAILTO:sshapsis@vogelzanglaw.com
GEO:42.1959154;-87.9592353
X-APPLE-STRUCTURED-LOCATION;VALUE=URI;X-ADDRESS=Half Day Forest Preserve of Lake County 24255 N. Highway 22 Vernon Hills IL 60061 United States;X-APPLE-RADIUS=500;X-TITLE=24255 N. Highway 22:geo:-87.9592353,42.1959154
END:VEVENT
BEGIN:VEVENT
DTSTART;TZID=America/Chicago:20220924T080000
DTEND;TZID=America/Chicago:20220924T093000
DTSTAMP:20260423T194437
CREATED:20210728T183708Z
LAST-MODIFIED:20220924T194851Z
UID:10002004-1664006400-1664011800@www.racetime.info
SUMMARY:Filling The Gap 5K Run/Walk
DESCRIPTION:Filling The Gap 5K Age Group Results\n\nFilling the Gap 5K Overall Results
URL:https://www.racetime.info/event/copy-of-filling-the-gap-5k-run-walk/
LOCATION:St. Julie Billiart Church\, 7399 W. 159th Street\, Tinley Park\, IL\, 60477\, United States
CATEGORIES:2022-09 Results (September)
ORGANIZER;CN="Jen Fitzgerald":MAILTO:jen@fillingthegap-nfp.com
END:VEVENT
BEGIN:VEVENT
DTSTART;TZID=America/Chicago:20220924T073000
DTEND;TZID=America/Chicago:20220924T113000
DTSTAMP:20260423T194437
CREATED:20210906T201455Z
LAST-MODIFIED:20220928T010221Z
UID:10002026-1664004600-1664019000@www.racetime.info
SUMMARY:Moraine Hills Run For The Hills 5K\, 10K & Half Marathon
DESCRIPTION:Run For The Hills 5K Age Group Results\n\nRun For The Hills 5K Overall Results\n\nRun For The Hills 10K Age Group Results\n\nRun For The Hills 10K Overall Results\n\nRun For The Hills Half Marathon Age Group Results\n\nRun For The Hills Half Marathon Overall Results
URL:https://www.racetime.info/event/copy-of-moraine-hills-run-for-the-hills-5k-10k-half-marathon/
LOCATION:Moraine Hills State Park\, 1510 S. River Road\, McHenry\, IL\, 60051\, United States
CATEGORIES:2022-09 Results (September)
ORGANIZER;CN="Doug Foland":MAILTO:dpfoland@sbcglobal.net
GEO:42.3097539;-88.2276231
X-APPLE-STRUCTURED-LOCATION;VALUE=URI;X-ADDRESS=Moraine Hills State Park 1510 S. River Road McHenry IL 60051 United States;X-APPLE-RADIUS=500;X-TITLE=1510 S. River Road:geo:-88.2276231,42.3097539
END:VEVENT
BEGIN:VEVENT
DTSTART;TZID=America/Chicago:20220923T180000
DTEND;TZID=America/Chicago:20220923T193000
DTSTAMP:20260423T194437
CREATED:20220629T114915Z
LAST-MODIFIED:20220924T025627Z
UID:10002126-1663956000-1663961400@www.racetime.info
SUMMARY:Huntley Fall Fest 2 Mile Run/Walk & 1/2 Mile Kids Dash
DESCRIPTION:Huntley Kids Dash Overall Results\n\nHuntley 2 Mile Age Group Results\n\nHuntley 2 Mile Overall Results
URL:https://www.racetime.info/event/huntley-fall-fest-2-mile-run-walk-1-2-mile-kids-dash/
LOCATION:Betsey Warrington Park\, 12015 Mill Street\, Huntley\, IL\, 60142\, United States
CATEGORIES:2022-09 Results (September)
ORGANIZER;CN="Karen Kopf":MAILTO:karenlkopf@gmail.com
GEO:42.1683048;-88.4274499
X-APPLE-STRUCTURED-LOCATION;VALUE=URI;X-ADDRESS=Betsey Warrington Park 12015 Mill Street Huntley IL 60142 United States;X-APPLE-RADIUS=500;X-TITLE=12015 Mill Street:geo:-88.4274499,42.1683048
END:VEVENT
BEGIN:VEVENT
DTSTART;TZID=America/Chicago:20220918T090000
DTEND;TZID=America/Chicago:20220918T103000
DTSTAMP:20260423T194437
CREATED:20180531T120847Z
LAST-MODIFIED:20220919T100032Z
UID:10001800-1663491600-1663497000@www.racetime.info
SUMMARY:D67 Dash 5K Run/Walk
DESCRIPTION:D67 Dash 5K Age Group Results\n\nD67 Dash 5K Overall Results
URL:https://www.racetime.info/event/copy-of-d67-dash-5k-run-walk/
LOCATION:Frank Hren Park\, 9500 Oak Park Avenue\, Morton Grove\, IL\, 60053\, United States
CATEGORIES:2022-09 Results (September)
ORGANIZER;CN="Jen Mehr":MAILTO:info@golf67foundation.org
GEO:42.052855;-87.7954758
X-APPLE-STRUCTURED-LOCATION;VALUE=URI;X-ADDRESS=Frank Hren Park 9500 Oak Park Avenue Morton Grove IL 60053 United States;X-APPLE-RADIUS=500;X-TITLE=9500 Oak Park Avenue:geo:-87.7954758,42.052855
END:VEVENT
BEGIN:VEVENT
DTSTART;TZID=America/Chicago:20220917T120000
DTEND;TZID=America/Chicago:20220917T163000
DTSTAMP:20260423T194437
CREATED:20220802T102144Z
LAST-MODIFIED:20220919T101112Z
UID:10002134-1663416000-1663432200@www.racetime.info
SUMMARY:St. Margaret Mary Oktoberfest 5K Run/Walk
DESCRIPTION:SMM Kids Dash Results\n\nSMM Oktoberfest 5K Overall Results
URL:https://www.racetime.info/event/st-margaret-mary-oktoberfest-5k-run-walk/
LOCATION:St. Margaret Mary Catholic School\, 119 S. Hubbard Street\, Algonquin\, IL\, 60102\, United States
CATEGORIES:2022-09 Results (September)
ORGANIZER;CN="Jill Plantz":MAILTO:jill.m.plantz@gmail.com
END:VEVENT
BEGIN:VEVENT
DTSTART;TZID=America/Chicago:20220917T090000
DTEND;TZID=America/Chicago:20220917T110000
DTSTAMP:20260423T194437
CREATED:20180830T190607Z
LAST-MODIFIED:20220919T101002Z
UID:10001838-1663405200-1663412400@www.racetime.info
SUMMARY:Salt Creek Kids Obstacle Race
DESCRIPTION:Salt Creek Youth Obstacle Age Group Results\n\nSalt Creek Youth Obstacle Family Results
URL:https://www.racetime.info/event/copy-of-salt-creek-kids-obstacle-race/
LOCATION:Twin Lakes Golf Course & Recreation Center\, 1200 E. Twin Lakes Drive\, Palatine\, IL\, 60074\, United States
CATEGORIES:2022-09 Results (September)
ORGANIZER;CN="Jody Dodson":MAILTO:jdodson@saltcreekpd.com
GEO:42.1048792;-88.0145113
X-APPLE-STRUCTURED-LOCATION;VALUE=URI;X-ADDRESS=Twin Lakes Golf Course & Recreation Center 1200 E. Twin Lakes Drive Palatine IL 60074 United States;X-APPLE-RADIUS=500;X-TITLE=1200 E. Twin Lakes Drive:geo:-88.0145113,42.1048792
END:VEVENT
BEGIN:VEVENT
DTSTART;TZID=America/Chicago:20220917T083000
DTEND;TZID=America/Chicago:20220917T100000
DTSTAMP:20260423T194437
CREATED:20220919T101527Z
LAST-MODIFIED:20220919T101527Z
UID:10001331-1663403400-1663408800@www.racetime.info
SUMMARY:Girl Scout Thin Mint 5K Run/Walk
DESCRIPTION:Girl Scout Thin Mint 5K Age Group Results\n\nGirl Scout Thin Mint 5K Overall Results
URL:https://www.racetime.info/event/girl-scout-thin-mint-5k-run-walk/
CATEGORIES:2022-09 Results (September)
END:VEVENT
BEGIN:VEVENT
DTSTART;TZID=America/Chicago:20220917T080000
DTEND;TZID=America/Chicago:20220917T100000
DTSTAMP:20260423T194437
CREATED:20210906T195934Z
LAST-MODIFIED:20220919T100838Z
UID:10001203-1663401600-1663408800@www.racetime.info
SUMMARY:Dundee Lions Heritage Fest 5K Run & 1.6 Mile Walk
DESCRIPTION:Lions Heritage Fest 5K Age Group Results\n\nLions Heritage Fest 5K Overall Results\n\nLions Heritage Fest Walk Results
URL:https://www.racetime.info/event/copy-of-dundee-lions-heritage-fest-5k-run-1-6-mile-walk/
LOCATION:Downtown West Dundee\, Oregon Avenue and South 1st Street\, West Dundee\, IL\, 60118\, United States
CATEGORIES:2022-09 Results (September)
ORGANIZER;CN="Melissa Hernandez":MAILTO:melissa@nkcchamber.com
END:VEVENT
BEGIN:VEVENT
DTSTART;TZID=America/Chicago:20220917T080000
DTEND;TZID=America/Chicago:20220917T093000
DTSTAMP:20260423T194437
CREATED:20210906T202627Z
LAST-MODIFIED:20220919T100713Z
UID:10002032-1663401600-1663407000@www.racetime.info
SUMMARY:Five-O 5K Run/Walk
DESCRIPTION:Five O 5K Overall Results
URL:https://www.racetime.info/event/five-o-5k-run-walk-5/
LOCATION:Mount Prospect Police Department\, 911 East Kensington Road\, Mount Prospect\, IL\, 60056\, United States
CATEGORIES:2022-09 Results (September)
ORGANIZER;CN="Mark Bechtold":MAILTO:fiveo5k@mountprospect.org
END:VEVENT
BEGIN:VEVENT
DTSTART;TZID=America/Chicago:20220917T080000
DTEND;TZID=America/Chicago:20220917T093000
DTSTAMP:20260423T194437
CREATED:20170715T100118Z
LAST-MODIFIED:20220919T100618Z
UID:10001539-1663401600-1663407000@www.racetime.info
SUMMARY:Makin' Tracks 5K Run/Walk
DESCRIPTION:Makin Tracks 5K Age Group Results\n\nMakin Tracks 5K Overall Results
URL:https://www.racetime.info/event/copy-of-makin-tracks-5k-run-walk/
LOCATION:Concordia University Chicago\, 7400 Augusta Street\, River Forest\, IL\, 60305\, United States
CATEGORIES:2022-09 Results (September)
ORGANIZER;CN="Karen Stille":MAILTO:kstille@rfparks.com 
GEO:41.8982348;-87.8095144
X-APPLE-STRUCTURED-LOCATION;VALUE=URI;X-ADDRESS=Concordia University Chicago 7400 Augusta Street River Forest IL 60305 United States;X-APPLE-RADIUS=500;X-TITLE=7400 Augusta Street:geo:-87.8095144,41.8982348
END:VEVENT
BEGIN:VEVENT
DTSTART;TZID=America/Chicago:20220911T083000
DTEND;TZID=America/Chicago:20220911T100000
DTSTAMP:20260423T194437
CREATED:20190806T112658Z
LAST-MODIFIED:20220911T194715Z
UID:10001913-1662885000-1662890400@www.racetime.info
SUMMARY:Selma's Sweets - 10th Annual Run For Peace 5K Run\, 1.5 Mile Walk & Kids Dash
DESCRIPTION:Run For Peace 5K Age Group Results\n\nRun For Peace 5K Overall Results\n\nPLEASE NOTE:  If your gender has been entered incorrectly and/or if your age is not listed please contact racetime21@hotmail.com with correct information.  Thank you!
URL:https://www.racetime.info/event/copy-of-selmas-sweets-8th-annual-run-for-peace-5k-run-1-5-mile-walk-kids-dash/
LOCATION:Moraine Valley Community College\, 9000 W. College Pkwy\, Palos Hills\, IL\, 60465\, United States
CATEGORIES:2022-09 Results (September)
ORGANIZER;CN="Sundus Madi":MAILTO:teampalestine.chicago@gmail.com
GEO:41.6932523;-87.8354241
X-APPLE-STRUCTURED-LOCATION;VALUE=URI;X-ADDRESS=Moraine Valley Community College 9000 W. College Pkwy Palos Hills IL 60465 United States;X-APPLE-RADIUS=500;X-TITLE=9000 W. College Pkwy:geo:-87.8354241,41.6932523
END:VEVENT
BEGIN:VEVENT
DTSTART;TZID=America/Chicago:20220910T090000
DTEND;TZID=America/Chicago:20220910T103000
DTSTAMP:20260423T194437
CREATED:20180121T141402Z
LAST-MODIFIED:20220910T183443Z
UID:10001724-1662800400-1662805800@www.racetime.info
SUMMARY:Children's Dyslexia Center of Metropolitan Chicago 5K Run/Walk
DESCRIPTION:Dyslexia 5K Overall Results
URL:https://www.racetime.info/event/copy-of-childrens-dyslexia-center-of-metropolitan-chicago-5k-run-walk/
LOCATION:Scottish Rite Cathedral\, 383 E. Lake Street\, Bloomingdale\, IL\, 60108\, United States
CATEGORIES:2022-09 Results (September)
ORGANIZER;CN="Bob Kogut":MAILTO:bkogut326@gmail.com
END:VEVENT
BEGIN:VEVENT
DTSTART;TZID=America/Chicago:20220910T083000
DTEND;TZID=America/Chicago:20220910T093000
DTSTAMP:20260423T194437
CREATED:20220910T183717Z
LAST-MODIFIED:20220910T183717Z
UID:10002143-1662798600-1662802200@www.racetime.info
SUMMARY:Lena 5K Run/Walk
DESCRIPTION:Lena 5K Age Group Results\n\nLena 5K Overall Results
URL:https://www.racetime.info/event/lena-5k-run-walk/
LOCATION:Lions Park  Lena\, 300 N. Washington\, Lena\, United States
CATEGORIES:2022-09 Results (September)
END:VEVENT
BEGIN:VEVENT
DTSTART;TZID=America/Chicago:20220910T080000
DTEND;TZID=America/Chicago:20220911T103000
DTSTAMP:20260423T194437
CREATED:20180516T003400Z
LAST-MODIFIED:20220910T230613Z
UID:10001793-1662796800-1662892200@www.racetime.info
SUMMARY:Fox Mill 5K Run & 1 Mile Color Run
DESCRIPTION:Fox Mill 5K Age Group Results\n\nFox Mill 5K Overall Results
URL:https://www.racetime.info/event/copy-of-fox-mill-5k-run-1-mile-color-run/
LOCATION:Fox Mill Community Center\, 3N550 Vachel Lindsey Street\, St. Charles\, IL\, 60175\, United States
CATEGORIES:2022-09 Results (September)
ORGANIZER;CN="Gina Tomaszewski":MAILTO:foxmill5k23@gmail.com
GEO:41.9192854;-88.4030832
X-APPLE-STRUCTURED-LOCATION;VALUE=URI;X-ADDRESS=Fox Mill Community Center 3N550 Vachel Lindsey Street St. Charles IL 60175 United States;X-APPLE-RADIUS=500;X-TITLE=3N550 Vachel Lindsey Street:geo:-88.4030832,41.9192854
END:VEVENT
BEGIN:VEVENT
DTSTART;TZID=America/Chicago:20220910T080000
DTEND;TZID=America/Chicago:20220910T100000
DTSTAMP:20260423T194437
CREATED:20220323T020200Z
LAST-MODIFIED:20220911T112427Z
UID:10001276-1662796800-1662804000@www.racetime.info
SUMMARY:Waterleaf's Run For Life 5K
DESCRIPTION:Waterleaf Run For Life 5K Overall Results
URL:https://www.racetime.info/event/run-for-life-5k-run-2-2-mile-walk/
LOCATION:Waubonsie Lake Park\, 998 Knautz Road\, Aurora\, IL\, 60504\, United States
CATEGORIES:2022-09 Results (September)
ORGANIZER;CN="Megan Barnhart":MAILTO:meganb@waterleaf.org
GEO:41.7386015;-88.2619044
X-APPLE-STRUCTURED-LOCATION;VALUE=URI;X-ADDRESS=Waubonsie Lake Park 998 Knautz Road Aurora IL 60504 United States;X-APPLE-RADIUS=500;X-TITLE=998 Knautz Road:geo:-88.2619044,41.7386015
END:VEVENT
BEGIN:VEVENT
DTSTART;TZID=America/Chicago:20220910T070000
DTEND;TZID=America/Chicago:20220911T083000
DTSTAMP:20260423T194437
CREATED:20170822T121606Z
LAST-MODIFIED:20220910T183347Z
UID:10001589-1662793200-1662885000@www.racetime.info
SUMMARY:South Holland's 5K Fun Run
DESCRIPTION:South Holland 5K Age Group Results\n\nSouth Holland 5K Overall Results
URL:https://www.racetime.info/event/copy-of-south-hollands-5k-fun-run/
LOCATION:Veterans Memorial Park\, 520 E. 160th Place\, South Holland\, IL\, 60444\, United States
CATEGORIES:2022-09 Results (September)
ORGANIZER;CN="Eunice Escobar":MAILTO:events@southholland.org
GEO:41.6042926;-87.6034342
X-APPLE-STRUCTURED-LOCATION;VALUE=URI;X-ADDRESS=Veterans Memorial Park 520 E. 160th Place South Holland IL 60444 United States;X-APPLE-RADIUS=500;X-TITLE=520 E. 160th Place:geo:-87.6034342,41.6042926
END:VEVENT
BEGIN:VEVENT
DTSTART;TZID=America/Chicago:20220904T183000
DTEND;TZID=America/Chicago:20220904T200000
DTSTAMP:20260423T194437
CREATED:20210901T235958Z
LAST-MODIFIED:20220905T025334Z
UID:10002017-1662316200-1662321600@www.racetime.info
SUMMARY:Fireworks 5K Run/Walk
DESCRIPTION:Fireworks 5K Age Group Results\n\nFireworks 5K Overall Results
URL:https://www.racetime.info/event/copy-of-fireworks-5k-run-walk/
LOCATION:Sunset Park\, 9200 Haligus Road\, Lake In The Hills\, IL\, 60156\, United States
CATEGORIES:2022-09 Results (September)
ORGANIZER;CN="Trudy Wakeman":MAILTO:trudywakeman@gmail.com
END:VEVENT
BEGIN:VEVENT
DTSTART;TZID=America/Chicago:20220904T073000
DTEND;TZID=America/Chicago:20220904T110000
DTSTAMP:20260423T194437
CREATED:20210901T235330Z
LAST-MODIFIED:20220906T142257Z
UID:10002013-1662276600-1662289200@www.racetime.info
SUMMARY:Crystal Lake Half Marathon
DESCRIPTION:Crystal Lake Kids Run This Town 1 Miler\n\nCrystal Lake Half Marathon Age Group Results\n\nCrystal Lake Half Marathon Overall Finish
URL:https://www.racetime.info/event/copy-of-crystal-lake-half-marathon-kids-run-this-town-1-mile-run/
LOCATION:Crystal Lake Main Beach\, 300 Lakeshore Drive\, Crystal Lake\, IL\, 60014\, United States
CATEGORIES:2022-09 Results (September)
ORGANIZER;CN="Trudy Wakeman":MAILTO:trudywakeman@gmail.com
GEO:42.2325146;-88.3442798
X-APPLE-STRUCTURED-LOCATION;VALUE=URI;X-ADDRESS=Crystal Lake Main Beach 300 Lakeshore Drive Crystal Lake IL 60014 United States;X-APPLE-RADIUS=500;X-TITLE=300 Lakeshore Drive:geo:-88.3442798,42.2325146
END:VEVENT
END:VCALENDAR