BEGIN:VCALENDAR
VERSION:2.0
PRODID:-//Race Time - ECPv6.15.13//NONSGML v1.0//EN
CALSCALE:GREGORIAN
METHOD:PUBLISH
X-WR-CALNAME:Race Time
X-ORIGINAL-URL:https://www.racetime.info
X-WR-CALDESC:Events for Race Time
REFRESH-INTERVAL;VALUE=DURATION:PT1H
X-Robots-Tag:noindex
X-PUBLISHED-TTL:PT1H
BEGIN:VTIMEZONE
TZID:America/Chicago
BEGIN:DAYLIGHT
TZOFFSETFROM:-0600
TZOFFSETTO:-0500
TZNAME:CDT
DTSTART:20210314T080000
END:DAYLIGHT
BEGIN:STANDARD
TZOFFSETFROM:-0500
TZOFFSETTO:-0600
TZNAME:CST
DTSTART:20211107T070000
END:STANDARD
BEGIN:DAYLIGHT
TZOFFSETFROM:-0600
TZOFFSETTO:-0500
TZNAME:CDT
DTSTART:20220313T080000
END:DAYLIGHT
BEGIN:STANDARD
TZOFFSETFROM:-0500
TZOFFSETTO:-0600
TZNAME:CST
DTSTART:20221106T070000
END:STANDARD
BEGIN:DAYLIGHT
TZOFFSETFROM:-0600
TZOFFSETTO:-0500
TZNAME:CDT
DTSTART:20230312T080000
END:DAYLIGHT
BEGIN:STANDARD
TZOFFSETFROM:-0500
TZOFFSETTO:-0600
TZNAME:CST
DTSTART:20231105T070000
END:STANDARD
END:VTIMEZONE
BEGIN:VEVENT
DTSTART;TZID=America/Chicago:20221030T090000
DTEND;TZID=America/Chicago:20221030T100000
DTSTAMP:20260424T012507
CREATED:20210920T012453Z
LAST-MODIFIED:20221030T170949Z
UID:10002068-1667120400-1667124000@www.racetime.info
SUMMARY:Shannon McNamara Memorial 5K Run/Walk
DESCRIPTION:Shannon McNamara 5K Age Group Results\n\nShannon McNamara 5K Overall Results
URL:https://www.racetime.info/event/copy-of-shannon-mcnamara-memorial-5k-run-walk/
LOCATION:Rolling Meadow Community Center\, 3705 Pheasant Drive\, Rolling Meadows\, IL\, 60008\, United States
CATEGORIES:2022-10 Results (October)
ORGANIZER;CN="Kailey Schwartzhoff":MAILTO:kschwartzhoff@rmparks.org
END:VEVENT
BEGIN:VEVENT
DTSTART;TZID=America/Chicago:20221030T080000
DTEND;TZID=America/Chicago:20221030T093000
DTSTAMP:20260424T012507
CREATED:20210827T105523Z
LAST-MODIFIED:20221030T170848Z
UID:10002005-1667116800-1667122200@www.racetime.info
SUMMARY:Day of the Dead 5K Run/Walk
DESCRIPTION:Day of the Dead 5K Age Group Results\n\nDay of the Dead 5K Overall Results
URL:https://www.racetime.info/event/copy-of-day-of-the-dead-5k-run-walk/
LOCATION:Heritage Park – Wheeling\, 100 Community Blvd\, Wheeling\, IL\, United States
CATEGORIES:2022-10 Results (October)
ORGANIZER;CN="Beth Harrington":MAILTO:bharrington@wheelingparkdistrict.com
END:VEVENT
BEGIN:VEVENT
DTSTART;TZID=America/Chicago:20221029T090000
DTEND;TZID=America/Chicago:20221029T110000
DTSTAMP:20260424T012507
CREATED:20220409T140512Z
LAST-MODIFIED:20221029T192706Z
UID:10002109-1667034000-1667041200@www.racetime.info
SUMMARY:Race to Cure Sarcoma 5K Run and 1 Mile Fun Run/Walk
DESCRIPTION:Run For Sarcoma 5K Overall Results
URL:https://www.racetime.info/event/race-to-cure-sarcoma-5k-run-and-1-mile-fun-run-walk/
LOCATION:Cantigny Park\, 1S151 Winfield Road\, Wheaton\, IL\, 60187\, United States
CATEGORIES:2022-10 Results (October)
ORGANIZER;CN="Shelby Ostrander":MAILTO:sostrander@curesarcoma.org
GEO:41.8549443;-88.1559782
X-APPLE-STRUCTURED-LOCATION;VALUE=URI;X-ADDRESS=Cantigny Park 1S151 Winfield Road Wheaton IL 60187 United States;X-APPLE-RADIUS=500;X-TITLE=1S151 Winfield Road:geo:-88.1559782,41.8549443
END:VEVENT
BEGIN:VEVENT
DTSTART;TZID=America/Chicago:20221029T090000
DTEND;TZID=America/Chicago:20221029T110000
DTSTAMP:20260424T012507
CREATED:20170818T030451Z
LAST-MODIFIED:20221029T192612Z
UID:10001579-1667034000-1667041200@www.racetime.info
SUMMARY:Howl Through The Hills 5K Run/Walk & Kids Fun Run
DESCRIPTION:Howl Through The Hills 5K Age Group Results\n\nHowl Through The Hills 5K Overall Results
URL:https://www.racetime.info/event/copy-of-howl-through-the-hills-5k-run-walk-kids-fun-run-cancelled/
LOCATION:Hickory Hills City Hall\, 8652 West 95th Street\, Hickory Hills\, IL\, 60457\, United States
CATEGORIES:2022-10 Results (October)
ORGANIZER;CN="Mary Esposito":MAILTO:mesposito@hickoryhillsil.org
GEO:41.7185263;-87.8344458
X-APPLE-STRUCTURED-LOCATION;VALUE=URI;X-ADDRESS=Hickory Hills City Hall 8652 West 95th Street Hickory Hills IL 60457 United States;X-APPLE-RADIUS=500;X-TITLE=8652 West 95th Street:geo:-87.8344458,41.7185263
END:VEVENT
BEGIN:VEVENT
DTSTART;TZID=America/Chicago:20221022T103000
DTEND;TZID=America/Chicago:20221022T120000
DTSTAMP:20260424T012507
CREATED:20220815T111919Z
LAST-MODIFIED:20221022T203039Z
UID:10002137-1666434600-1666440000@www.racetime.info
SUMMARY:Scary at the Prairie 5K * 1 Mile * Kids Dash
DESCRIPTION:Scary at the Prairie 1 Mile Overall Results\n\nScary at the Prairie 5K Age Group Results\n\nScary at the Prairie 5K Overall Results
URL:https://www.racetime.info/event/scary-at-the-prairie-5k-1-mile-kids-dash/
LOCATION:Breidert Green Park\, 432 W. Nebraska\, Frankfort\, IL\, 60423\, United States
CATEGORIES:2022-10 Results (October)
ORGANIZER;CN="Susan Lynchey":MAILTO:slynchey@vofil.com
GEO:41.4974227;-87.8607917
X-APPLE-STRUCTURED-LOCATION;VALUE=URI;X-ADDRESS=Breidert Green Park 432 W. Nebraska Frankfort IL 60423 United States;X-APPLE-RADIUS=500;X-TITLE=432 W. Nebraska:geo:-87.8607917,41.4974227
END:VEVENT
BEGIN:VEVENT
DTSTART;TZID=America/Chicago:20221022T083000
DTEND;TZID=America/Chicago:20221022T103000
DTSTAMP:20260424T012507
CREATED:20170723T101133Z
LAST-MODIFIED:20221022T202923Z
UID:10001545-1666427400-1666434600@www.racetime.info
SUMMARY:St. Bede Halloween Hustle: 10K Run\, 5K &1 Mile Run/Walk
DESCRIPTION:St. Bede Halloween Hustle 1 Mile Overall Results\n\nSt. Bede Halloween Hustle 5K Age Group Results\n\nSt. Bede Halloween Hustle 5K Overall Results\n\nSt. Bede Halloween Hustle 10K Age Group Results\n\nSt. Bede Halloween Hustle 10K Overall Results\n\nSt. Bede Halloween Hustle Dog Division
URL:https://www.racetime.info/event/copy-of-st-bede-halloween-hustle-10k-run-5k-1-mile-run-walk/
LOCATION:Grant Woods Forest Preserve\, 25405 West Monaville Road\, Ingleside\, IL\, 60041\, United States
CATEGORIES:2022-10 Results (October)
ORGANIZER;CN="Tina Lutzke":MAILTO:tinalutzke@hotmail.com
GEO:42.399051;-88.128126
X-APPLE-STRUCTURED-LOCATION;VALUE=URI;X-ADDRESS=Grant Woods Forest Preserve 25405 West Monaville Road Ingleside IL 60041 United States;X-APPLE-RADIUS=500;X-TITLE=25405 West Monaville Road:geo:-88.128126,42.399051
END:VEVENT
BEGIN:VEVENT
DTSTART;TZID=America/Chicago:20221022T080000
DTEND;TZID=America/Chicago:20221022T100000
DTSTAMP:20260424T012507
CREATED:20210920T010453Z
LAST-MODIFIED:20221024T180929Z
UID:10002066-1666425600-1666432800@www.racetime.info
SUMMARY:We Run Blue 5K & 1 Mile Run/Walk
DESCRIPTION:We Run Blue 1 Mile Overall Results\n\nWe Run Blue 5K Age Group Results\n\nWe Run Blue 5K Overall Results
URL:https://www.racetime.info/event/copy-of-we-run-blue-5k-1-mile-run-walk/
LOCATION:Rochester Community Park\, 90 Wild Rose Lane\, Rochester\, IL\, 62556\, United States
CATEGORIES:2022-10 Results (October)
ORGANIZER;CN="Lynn Saputo":MAILTO:lynn@ilsheriff.org
END:VEVENT
BEGIN:VEVENT
DTSTART;TZID=America/Chicago:20221021T164500
DTEND;TZID=America/Chicago:20221021T183000
DTSTAMP:20260424T012507
CREATED:20220916T013212Z
LAST-MODIFIED:20221024T111204Z
UID:10002144-1666370700-1666377000@www.racetime.info
SUMMARY:Hot Chocolate 5K and 1 Mile Run/Walk
DESCRIPTION:Whittier Hot Chocolate 1 Mile Overall Results\n\nWhittier Hot Chocolate 5K Overall Results\n\nWhittier Hot Chocolate 2 Mile Overall Results
URL:https://www.racetime.info/event/hot-chocolate-5k-and-1-mile-run-walk/
LOCATION:Whittier School\, Hill Street\, Downers Grove\, IL\, 60515\, United States
CATEGORIES:2022-10 Results (October)
ORGANIZER;CN="Andi Wiklund":MAILTO:andi.wiklund@gmail.com
END:VEVENT
BEGIN:VEVENT
DTSTART;TZID=America/Chicago:20221016T090000
DTEND;TZID=America/Chicago:20221016T110000
DTSTAMP:20260424T012507
CREATED:20220701T121220Z
LAST-MODIFIED:20221016T175821Z
UID:10002127-1665910800-1665918000@www.racetime.info
SUMMARY:Halloween Hustle 5K Run/Walk & 1 Mile Fun Walk
DESCRIPTION:Halloween Hustle 5K Age Group Results\n\nHalloween Hustle 5K Overall Results
URL:https://www.racetime.info/event/halloween-hustle-5k-run-walk-1-mile-fun-walk/
LOCATION:Phillips Park\, 1000 Ray Moses Drive\, Aurora\, IL\, 60505\, United States
CATEGORIES:2022-10 Results (October)
ORGANIZER;CN="Lisa Foydel":MAILTO:info@foxvalleyunitedway.org
GEO:41.7365152;-88.2948701
X-APPLE-STRUCTURED-LOCATION;VALUE=URI;X-ADDRESS=Phillips Park 1000 Ray Moses Drive Aurora IL 60505 United States;X-APPLE-RADIUS=500;X-TITLE=1000 Ray Moses Drive:geo:-88.2948701,41.7365152
END:VEVENT
BEGIN:VEVENT
DTSTART;TZID=America/Chicago:20221016T090000
DTEND;TZID=America/Chicago:20221016T103000
DTSTAMP:20260424T012507
CREATED:20170604T171307Z
LAST-MODIFIED:20221017T001252Z
UID:10000603-1665910800-1665916200@www.racetime.info
SUMMARY:Run With The Nuns 5K Run/Walk
DESCRIPTION:Run With The Nuns 5K Age Group Results\n\nRun With The Nuns 5K Overall Results
URL:https://www.racetime.info/event/copy-of-run-with-the-nuns-5k-run-walk/
LOCATION:Mt. Assisi Academy\, 13860 Main Street\, Lemont\, IL\, 60439\, United States
CATEGORIES:2022-10 Results (October)
ORGANIZER;CN="Carrie Peters":MAILTO:carriepeters2@sbcglobal.net
GEO:41.685218;-87.981291
X-APPLE-STRUCTURED-LOCATION;VALUE=URI;X-ADDRESS=Mt. Assisi Academy 13860 Main Street Lemont IL 60439 United States;X-APPLE-RADIUS=500;X-TITLE=13860 Main Street:geo:-87.981291,41.685218
END:VEVENT
BEGIN:VEVENT
DTSTART;TZID=America/Chicago:20221015T110000
DTEND;TZID=America/Chicago:20221015T130000
DTSTAMP:20260424T012507
CREATED:20221013T202230Z
LAST-MODIFIED:20221015T194435Z
UID:10001329-1665831600-1665838800@www.racetime.info
SUMMARY:M.E.A.N. Girls Empowerment 5K Run/Walk
DESCRIPTION:M.E.A.N. Girls Empowerment 5K Overall Results
URL:https://www.racetime.info/event/m-e-a-n-girls-empowerment-5k-run-walk/
LOCATION:Paarlberg Park\, 172nd Street and Paxton Avenue\, South Holland\, 60473\, United States
CATEGORIES:2022-10 Results (October)
ORGANIZER;CN="Eunice Escobar":MAILTO:events@southholland.org
END:VEVENT
BEGIN:VEVENT
DTSTART;TZID=America/Chicago:20221015T083000
DTEND;TZID=America/Chicago:20221015T100000
DTSTAMP:20260424T012507
CREATED:20210701T112624Z
LAST-MODIFIED:20221015T172739Z
UID:10001998-1665822600-1665828000@www.racetime.info
SUMMARY:Winfield's Cider 5K & 1 Mile Run/Walk
DESCRIPTION:Winfield Cider 1 Mile Overall Results\n\nWinfield Cider 5K Age Group Results\n\nWinfield Cider 5K Overall Results
URL:https://www.racetime.info/event/copy-of-winfields-centennial-cider-5k-1-mile-run-walk/
LOCATION:Winfield River Walk\, High Lake Road and Winfield Road\, Winfield\, IL\, 60190\, United States
CATEGORIES:2022-10 Results (October)
ORGANIZER;CN="Julie Pearson":MAILTO:racetime21@hotmail.com
END:VEVENT
BEGIN:VEVENT
DTSTART;TZID=America/Chicago:20221015T083000
DTEND;TZID=America/Chicago:20221015T100000
DTSTAMP:20260424T012507
CREATED:20170902T182915Z
LAST-MODIFIED:20221015T194333Z
UID:10001659-1665822600-1665828000@www.racetime.info
SUMMARY:St. Christopher 5K Run/Walk
DESCRIPTION:St. Christopher 5K Overall Results
URL:https://www.racetime.info/event/copy-of-st-christopher-5k-run-walk/
LOCATION:St. Christopher School\, 4130 W. 147th Street\, Midlothian\, IL\, 60445\, United States
CATEGORIES:2022-10 Results (October)
ORGANIZER;CN="Joe Alfano":MAILTO:info@stchrisschool.org
GEO:41.6257534;-87.7221261
X-APPLE-STRUCTURED-LOCATION;VALUE=URI;X-ADDRESS=St. Christopher School 4130 W. 147th Street Midlothian IL 60445 United States;X-APPLE-RADIUS=500;X-TITLE=4130 W. 147th Street:geo:-87.7221261,41.6257534
END:VEVENT
BEGIN:VEVENT
DTSTART;TZID=America/Chicago:20221009T090000
DTEND;TZID=America/Chicago:20221009T103000
DTSTAMP:20260424T012507
CREATED:20220628T122515Z
LAST-MODIFIED:20221009T173821Z
UID:10002123-1665306000-1665311400@www.racetime.info
SUMMARY:Jim M'Lady Nissan 5K Run/Walk for Lymphoma
DESCRIPTION:Mlady 5K Overall Results
URL:https://www.racetime.info/event/jim-mlady-nissan-5k-run-walk-for-lymphoma/
LOCATION:Lippold Park\, 8597 Il. Hwy. 176\, Crystal Lake\, IL\, 60014\, United States
CATEGORIES:2022-10 Results (October)
ORGANIZER;CN="Julie Pearson":MAILTO:racetime21@hotmail.com
GEO:42.2480551;-88.3760423
X-APPLE-STRUCTURED-LOCATION;VALUE=URI;X-ADDRESS=Lippold Park 8597 Il. Hwy. 176 Crystal Lake IL 60014 United States;X-APPLE-RADIUS=500;X-TITLE=8597 Il. Hwy. 176:geo:-88.3760423,42.2480551
END:VEVENT
BEGIN:VEVENT
DTSTART;TZID=America/Chicago:20221008T103000
DTEND;TZID=America/Chicago:20221008T133000
DTSTAMP:20260424T012507
CREATED:20210913T114024Z
LAST-MODIFIED:20221008T194251Z
UID:10001237-1665225000-1665235800@www.racetime.info
SUMMARY:Mark Bancroft 5K Run/Walk for Charity
DESCRIPTION:Mark Bancroft 5K Overall Results
URL:https://www.racetime.info/event/copy-of-mark-bancroft-5k-run-walk-for-charity/
LOCATION:Waubonsie Lake Park\, 998 Knautz Road\, Aurora\, IL\, 60504\, United States
CATEGORIES:2022-10 Results (October)
ORGANIZER;CN="Rick Marsh":MAILTO:richardmarsh2@aol.com
GEO:41.7386015;-88.2619044
X-APPLE-STRUCTURED-LOCATION;VALUE=URI;X-ADDRESS=Waubonsie Lake Park 998 Knautz Road Aurora IL 60504 United States;X-APPLE-RADIUS=500;X-TITLE=998 Knautz Road:geo:-88.2619044,41.7386015
END:VEVENT
BEGIN:VEVENT
DTSTART;TZID=America/Chicago:20221008T083000
DTEND;TZID=America/Chicago:20221008T113000
DTSTAMP:20260424T012507
CREATED:20220326T140443Z
LAST-MODIFIED:20221008T164811Z
UID:10002099-1665217800-1665228600@www.racetime.info
SUMMARY:Panting Four Paws 5K & 10K
DESCRIPTION:Panting Four Paws 5K Age Group Results\n\nPanting Four Paws 5K Overall Results\n\nPanting Four Paws 10K Age Group Results\n\nPanting Four Paws 10K Overall Results
URL:https://www.racetime.info/event/panting-for-paws-1m-5k-10k/
LOCATION:Lippold Park\, 8597 Il. Hwy. 176\, Crystal Lake\, IL\, 60014\, United States
CATEGORIES:2022-10 Results (October)
ORGANIZER;CN="Kathy Taylor":MAILTO:kathy@helpingpaws.net
GEO:42.2480551;-88.3760423
X-APPLE-STRUCTURED-LOCATION;VALUE=URI;X-ADDRESS=Lippold Park 8597 Il. Hwy. 176 Crystal Lake IL 60014 United States;X-APPLE-RADIUS=500;X-TITLE=8597 Il. Hwy. 176:geo:-88.3760423,42.2480551
END:VEVENT
BEGIN:VEVENT
DTSTART;TZID=America/Chicago:20221008T080000
DTEND;TZID=America/Chicago:20221008T103000
DTSTAMP:20260424T012507
CREATED:20220620T202730Z
LAST-MODIFIED:20221008T194141Z
UID:10002119-1665216000-1665225000@www.racetime.info
SUMMARY:#LetHerLive DV 5K Walk/Run
DESCRIPTION:Exposed Let Her Live 5K Overall Results
URL:https://www.racetime.info/event/letherlive-dv-5k-walk-run/
LOCATION:Veterans Park Pavilion\, 1010 N. Lincoln Memorial Drive\, Milwaukee\, WI\, 53219\, United States
CATEGORIES:2022-10 Results (October)
ORGANIZER;CN="Natalie Hayden":MAILTO:exposeddva@gmail.com
END:VEVENT
BEGIN:VEVENT
DTSTART;TZID=America/Chicago:20221002T100000
DTEND;TZID=America/Chicago:20221002T120000
DTSTAMP:20260424T012507
CREATED:20220602T112843Z
LAST-MODIFIED:20221002T195509Z
UID:10001287-1664704800-1664712000@www.racetime.info
SUMMARY:Oktoberfest 5K Run/Walk
DESCRIPTION:Oktoberfest 5K Overall Results
URL:https://www.racetime.info/event/oktoberfest-5k-run-walk/
LOCATION:Half Day Brewing Company\, 200 Village Green S\, Lincolnshire\, IL\, 60069\, United States
CATEGORIES:2022-10 Results (October)
ORGANIZER;CN="Janette Damian":MAILTO:janettedamian@yahoo.com
END:VEVENT
BEGIN:VEVENT
DTSTART;TZID=America/Chicago:20221002T090000
DTEND;TZID=America/Chicago:20221002T110000
DTSTAMP:20260424T012507
CREATED:20220724T112624Z
LAST-MODIFIED:20221002T195400Z
UID:10002128-1664701200-1664708400@www.racetime.info
SUMMARY:Butterfly 5K Walk\, Run & Flutter
DESCRIPTION:Butterfly 5K Overall Results
URL:https://www.racetime.info/event/butterfly-5k-walk-run-flutter/
LOCATION:Busse Woods Grove 26\, Elk Grove Village\, IL\, United States
CATEGORIES:2022-10 Results (October)
ORGANIZER;CN="Rachel French":MAILTO:rfrench@thehapfoundation.org
END:VEVENT
BEGIN:VEVENT
DTSTART;TZID=America/Chicago:20221002T090000
DTEND;TZID=America/Chicago:20221002T103000
DTSTAMP:20260424T012507
CREATED:20170509T210412Z
LAST-MODIFIED:20221002T195235Z
UID:10001391-1664701200-1664706600@www.racetime.info
SUMMARY:Fox Chase 5K & Youth Mile
DESCRIPTION:Fox Chase 5K Age Group Results\n\nFox Chase 5K Overall Results\n\nFox Chase 1 Mile Age Group Results\n\nFox Chase 1 Mile Overall Results
URL:https://www.racetime.info/event/copy-of-fox-chase-5k-youth-mile/
LOCATION:Stanger Park\, 257 Lexington Road\, Fox River Grove\, IL\, 60021\, United States
CATEGORIES:2022-10 Results (October)
ORGANIZER;CN="Sheri Sepeczi":MAILTO:sepeczi@ameritech.net
GEO:42.1958967;-88.2116426
X-APPLE-STRUCTURED-LOCATION;VALUE=URI;X-ADDRESS=Stanger Park 257 Lexington Road Fox River Grove IL 60021 United States;X-APPLE-RADIUS=500;X-TITLE=257 Lexington Road:geo:-88.2116426,42.1958967
END:VEVENT
BEGIN:VEVENT
DTSTART;TZID=America/Chicago:20221002T081500
DTEND;TZID=America/Chicago:20221002T103000
DTSTAMP:20260424T012507
CREATED:20180328T104530Z
LAST-MODIFIED:20221002T195034Z
UID:10000928-1664698500-1664706600@www.racetime.info
SUMMARY:Marisa's Purpose Run To Recovery 5K & Bike To Recovery 11M
DESCRIPTION:Marisa’s Purpose 5K Overall Results\n\nMarisa’s Purpose Bike Overall Results
URL:https://www.racetime.info/event/copy-of-marisas-purpose-run-to-recovery-5k-bike-to-recovery-11m/
LOCATION:Allerton Park & Retreat Center\, 515 Old Timber Road\, Monticello\, IL\, 61856\, United States
CATEGORIES:2022-10 Results (October)
ORGANIZER;CN="Connie Gyorr":MAILTO:marisaspurpose@gmail.com
GEO:40.026603;-88.570234
X-APPLE-STRUCTURED-LOCATION;VALUE=URI;X-ADDRESS=Allerton Park & Retreat Center 515 Old Timber Road Monticello IL 61856 United States;X-APPLE-RADIUS=500;X-TITLE=515 Old Timber Road:geo:-88.570234,40.026603
END:VEVENT
BEGIN:VEVENT
DTSTART;TZID=America/Chicago:20221001T093000
DTEND;TZID=America/Chicago:20221001T110000
DTSTAMP:20260424T012507
CREATED:20170514T095614Z
LAST-MODIFIED:20221001T185047Z
UID:10000587-1664616600-1664622000@www.racetime.info
SUMMARY:St. George Spooky Sprint 5K
DESCRIPTION:Spooky Sprint 5K Age Group Results\n\nSpooky Sprint 5K Overall Results
URL:https://www.racetime.info/event/copy-of-st-george-spooky-sprint-5k-virtual/
LOCATION:St. George School\, 6700 W. 176th Street\, Tinley Park\, IL\, 60477\, United States
CATEGORIES:2022-10 Results (October)
ORGANIZER;CN="Marie Lewis":MAILTO:marieradtke@yahoo.com
GEO:41.5722754;-87.7821722
X-APPLE-STRUCTURED-LOCATION;VALUE=URI;X-ADDRESS=St. George School 6700 W. 176th Street Tinley Park IL 60477 United States;X-APPLE-RADIUS=500;X-TITLE=6700 W. 176th Street:geo:-87.7821722,41.5722754
END:VEVENT
BEGIN:VEVENT
DTSTART;TZID=America/Chicago:20221001T090000
DTEND;TZID=America/Chicago:20221001T113000
DTSTAMP:20260424T012507
CREATED:20180507T124708Z
LAST-MODIFIED:20221001T184934Z
UID:10001781-1664614800-1664623800@www.racetime.info
SUMMARY:Easter Seals Run For The Kids Superhero Hustle 5K Run & 2 Mile Walk
DESCRIPTION:Easter Seals Run For Kids 5K Age Group Results\n\nEaster Seals Run For Kids 5K Overall Results
URL:https://www.racetime.info/event/copy-of-easter-seals-run-for-the-kids-5k/
LOCATION:Easter Seals Of Dupage and the Fox Valley Region\, 830 S. Addison Ave.\, Villa Park\, IL\, 60181\, United States
CATEGORIES:2022-10 Results (October)
ORGANIZER;CN="Susan Bonner":MAILTO:sbonner@eastersealsdfvr.org
GEO:41.874404;-87.9889298
X-APPLE-STRUCTURED-LOCATION;VALUE=URI;X-ADDRESS=Easter Seals Of Dupage and the Fox Valley Region 830 S. Addison Ave. Villa Park IL 60181 United States;X-APPLE-RADIUS=500;X-TITLE=830 S. Addison Ave.:geo:-87.9889298,41.874404
END:VEVENT
BEGIN:VEVENT
DTSTART;TZID=America/Chicago:20221001T090000
DTEND;TZID=America/Chicago:20221001T110000
DTSTAMP:20260424T012507
CREATED:20170830T121954Z
LAST-MODIFIED:20221001T184822Z
UID:10001621-1664614800-1664622000@www.racetime.info
SUMMARY:The Trails Challenge Youth 2K OCR Race (Youth Adventure Race)
DESCRIPTION:River Trails Obstacle Overall Results
URL:https://www.racetime.info/event/copy-of-the-trails-challenge-youth-2k-ocr-race-youth-adventure-race-2/
LOCATION:Woodlands Trails Park\, 1500 E. Euclid\, Mount Prospect\, IL\, 60056\, United States
CATEGORIES:2022-10 Results (October)
ORGANIZER;CN="Vance Violante":MAILTO:vviolante@rtpd.org
GEO:42.0887554;-87.9134118
X-APPLE-STRUCTURED-LOCATION;VALUE=URI;X-ADDRESS=Woodlands Trails Park 1500 E. Euclid Mount Prospect IL 60056 United States;X-APPLE-RADIUS=500;X-TITLE=1500 E. Euclid:geo:-87.9134118,42.0887554
END:VEVENT
BEGIN:VEVENT
DTSTART;TZID=America/Chicago:20221001T090000
DTEND;TZID=America/Chicago:20221001T110000
DTSTAMP:20260424T012507
CREATED:20170829T184956Z
LAST-MODIFIED:20221001T184715Z
UID:10001607-1664614800-1664622000@www.racetime.info
SUMMARY:Morris Corn Fest 5K Run/Walk\, 1/2 Youth Fun Run and Tot Trot
DESCRIPTION:Morris Corn Fest 5K Age Group Results\n\nMorris Corn Fest 5K Overall Results
URL:https://www.racetime.info/event/copy-of-morris-corn-fest-5k-run-walk-1-2-youth-fun-run-and-tot-trot-2/
LOCATION:Morris Elementary School\, 2001 DuPont Avenue\, Morris\, IL\, 60450\, United States
CATEGORIES:2022-10 Results (October)
ORGANIZER;CN="Rebecca Evola":MAILTO:revola@morrishospital.org
GEO:41.3666063;-88.4509794
X-APPLE-STRUCTURED-LOCATION;VALUE=URI;X-ADDRESS=Morris Elementary School 2001 DuPont Avenue Morris IL 60450 United States;X-APPLE-RADIUS=500;X-TITLE=2001 DuPont Avenue:geo:-88.4509794,41.3666063
END:VEVENT
BEGIN:VEVENT
DTSTART;TZID=America/Chicago:20221001T090000
DTEND;TZID=America/Chicago:20221001T110000
DTSTAMP:20260424T012507
CREATED:20170829T182113Z
LAST-MODIFIED:20221001T184602Z
UID:10000775-1664614800-1664622000@www.racetime.info
SUMMARY:Jogging for St. Joe's 5K Run/Walk & Kids Dash
DESCRIPTION:Jogging for St. Joe 5K Age Group Results\n\nJogging for St. Joe 5K Overall Results
URL:https://www.racetime.info/event/copy-of-jogging-for-st-joes-5k-run-walk-kids-dash-cancelled/
LOCATION:St. Joseph School\, 510 S. Jefferson\, Lockport\, IL\, 60441\, United States
CATEGORIES:2022-10 Results (October)
ORGANIZER;CN="Maribeth Leyva":MAILTO:joggingforjoes@hotmail.com
GEO:41.5919577;-88.0512084
X-APPLE-STRUCTURED-LOCATION;VALUE=URI;X-ADDRESS=St. Joseph School 510 S. Jefferson Lockport IL 60441 United States;X-APPLE-RADIUS=500;X-TITLE=510 S. Jefferson:geo:-88.0512084,41.5919577
END:VEVENT
BEGIN:VEVENT
DTSTART;TZID=America/Chicago:20221001T090000
DTEND;TZID=America/Chicago:20221001T103000
DTSTAMP:20260424T012507
CREATED:20170506T102337Z
LAST-MODIFIED:20221001T184450Z
UID:10001373-1664614800-1664620200@www.racetime.info
SUMMARY:Montgomery River Run 5K & 10K
DESCRIPTION:Montgomery River Run 5K Age Group Results\n\nMontgomery River Run 5K Overall Results\n\nMontgomery River Run 10K Age Group Results\n\nMontgomery River Run 10K Overall Results
URL:https://www.racetime.info/event/copy-of-montgomery-river-run-5k-10k/
LOCATION:Village of Montgomery\, 200 North River Street\, Montgomery\, IL\, 60538\, United States
CATEGORIES:2022-10 Results (October)
ORGANIZER;CN="Rosie Boeing":MAILTO:riverrun@eeiweb.com
GEO:41.7295362;-88.3416114
X-APPLE-STRUCTURED-LOCATION;VALUE=URI;X-ADDRESS=Village of Montgomery 200 North River Street Montgomery IL 60538 United States;X-APPLE-RADIUS=500;X-TITLE=200 North River Street:geo:-88.3416114,41.7295362
END:VEVENT
END:VCALENDAR