BEGIN:VCALENDAR
VERSION:2.0
PRODID:-//Race Time - ECPv6.15.13//NONSGML v1.0//EN
CALSCALE:GREGORIAN
METHOD:PUBLISH
X-WR-CALNAME:Race Time
X-ORIGINAL-URL:https://www.racetime.info
X-WR-CALDESC:Events for Race Time
REFRESH-INTERVAL;VALUE=DURATION:PT1H
X-Robots-Tag:noindex
X-PUBLISHED-TTL:PT1H
BEGIN:VTIMEZONE
TZID:America/Chicago
BEGIN:DAYLIGHT
TZOFFSETFROM:-0600
TZOFFSETTO:-0500
TZNAME:CDT
DTSTART:20210314T080000
END:DAYLIGHT
BEGIN:STANDARD
TZOFFSETFROM:-0500
TZOFFSETTO:-0600
TZNAME:CST
DTSTART:20211107T070000
END:STANDARD
BEGIN:DAYLIGHT
TZOFFSETFROM:-0600
TZOFFSETTO:-0500
TZNAME:CDT
DTSTART:20220313T080000
END:DAYLIGHT
BEGIN:STANDARD
TZOFFSETFROM:-0500
TZOFFSETTO:-0600
TZNAME:CST
DTSTART:20221106T070000
END:STANDARD
BEGIN:DAYLIGHT
TZOFFSETFROM:-0600
TZOFFSETTO:-0500
TZNAME:CDT
DTSTART:20230312T080000
END:DAYLIGHT
BEGIN:STANDARD
TZOFFSETFROM:-0500
TZOFFSETTO:-0600
TZNAME:CST
DTSTART:20231105T070000
END:STANDARD
END:VTIMEZONE
BEGIN:VTIMEZONE
TZID:America/Indiana/Indianapolis
BEGIN:DAYLIGHT
TZOFFSETFROM:-0500
TZOFFSETTO:-0400
TZNAME:EDT
DTSTART:20210314T070000
END:DAYLIGHT
BEGIN:STANDARD
TZOFFSETFROM:-0400
TZOFFSETTO:-0500
TZNAME:EST
DTSTART:20211107T060000
END:STANDARD
BEGIN:DAYLIGHT
TZOFFSETFROM:-0500
TZOFFSETTO:-0400
TZNAME:EDT
DTSTART:20220313T070000
END:DAYLIGHT
BEGIN:STANDARD
TZOFFSETFROM:-0400
TZOFFSETTO:-0500
TZNAME:EST
DTSTART:20221106T060000
END:STANDARD
BEGIN:DAYLIGHT
TZOFFSETFROM:-0500
TZOFFSETTO:-0400
TZNAME:EDT
DTSTART:20230312T070000
END:DAYLIGHT
BEGIN:STANDARD
TZOFFSETFROM:-0400
TZOFFSETTO:-0500
TZNAME:EST
DTSTART:20231105T060000
END:STANDARD
END:VTIMEZONE
BEGIN:VEVENT
DTSTART;TZID=America/Chicago:20221127T100000
DTEND;TZID=America/Chicago:20221127T120000
DTSTAMP:20260424T012955
CREATED:20170908T153504Z
LAST-MODIFIED:20221127T185643Z
UID:10000838-1669543200-1669550400@www.racetime.info
SUMMARY:Gaelic Park Carraig Challenge Cross Country 5K Run & 1.5 Mile Walk
DESCRIPTION:Carraig Challenge 5K Age Group Results\n\nCarraig Challenge 5K Overall Results
URL:https://www.racetime.info/event/copy-of-gaelic-park-carraig-challenge-cross-country-5k-run-1-5-mile-walk-2/
LOCATION:Chicago Gaelic Park\, 6119 W. 147th Street\, Oak Forest\, IL\, 60452\, United States
CATEGORIES:2022-11 Results (November)
ORGANIZER;CN="Mike Cooke":MAILTO:officecgp@chicagogaelicpark.org
GEO:41.6231713;-87.7709214
X-APPLE-STRUCTURED-LOCATION;VALUE=URI;X-ADDRESS=Chicago Gaelic Park 6119 W. 147th Street Oak Forest IL 60452 United States;X-APPLE-RADIUS=500;X-TITLE=6119 W. 147th Street:geo:-87.7709214,41.6231713
END:VEVENT
BEGIN:VEVENT
DTSTART;TZID=America/Chicago:20221124T090000
DTEND;TZID=America/Chicago:20221124T103000
DTSTAMP:20260424T012955
CREATED:20191112T131829Z
LAST-MODIFIED:20221124T184930Z
UID:10001931-1669280400-1669285800@www.racetime.info
SUMMARY:Wauconda Turkey Trot 4 Mile Run and 2 Mile Walk
DESCRIPTION:Wauconda Turkey Trot 4 Mile Age Group Results\n\nWauconda Turkey Trot 4 Mile Overall Results
URL:https://www.racetime.info/event/copy-of-wauconda-turkey-trot-4-mile-run-and-2-mile-walk/
LOCATION:Wauconda Bangs Lake\, 118 South Main Street\, Wauconda\, IL\, 60084\, United States
CATEGORIES:2022-11 Results (November)
ORGANIZER;CN="Linda Starkey":MAILTO:lindakaystarkey@gmail.com
END:VEVENT
BEGIN:VEVENT
DTSTART;TZID=America/Indiana/Indianapolis:20221124T090000
DTEND;TZID=America/Indiana/Indianapolis:20221124T103000
DTSTAMP:20260424T012955
CREATED:20171103T171216Z
LAST-MODIFIED:20221124T184631Z
UID:10001702-1669280400-1669285800@www.racetime.info
SUMMARY:Attica Turkey Trot 5K Run/Walk
DESCRIPTION:Attica Turkey Trot 5K Age Group Results\n\nAttica Turkey Trot 5K Overall Results
URL:https://www.racetime.info/event/copy-of-attica-turkey-trot-5k-run-walk/
LOCATION:Attica High School\, 211 Sycamore Street\, Attica\, IN\, 47918\, United States
CATEGORIES:2022-11 Results (November)
ORGANIZER;CN="Jeff Crane":MAILTO:atticaturkeytrot@yahoo.com
GEO:40.277395;-87.250629
X-APPLE-STRUCTURED-LOCATION;VALUE=URI;X-ADDRESS=Attica High School 211 Sycamore Street Attica IN 47918 United States;X-APPLE-RADIUS=500;X-TITLE=211 Sycamore Street:geo:-87.250629,40.277395
END:VEVENT
BEGIN:VEVENT
DTSTART;TZID=America/Chicago:20221119T090000
DTEND;TZID=America/Chicago:20221119T110000
DTSTAMP:20260424T012955
CREATED:20170621T211501Z
LAST-MODIFIED:20221119T175837Z
UID:10000685-1668848400-1668855600@www.racetime.info
SUMMARY:Gobbler Gallop 5K Run/Walk
DESCRIPTION:Waterman Gobbler Gallop 5K Age Group Results\n\nWaterman Gobbler Gallop 5K Overall Results\n\nWaterman 5K Team Results
URL:https://www.racetime.info/event/gobbler-gallop-5k-run-walk-5/
LOCATION:Indian Creek Middle School\, 335 E. Garfield Street\, Waterman\, IL\, 60556\, United States
CATEGORIES:2022-11 Results (November)
ORGANIZER;CN="Bob Bend":MAILTO:rbend51@yahoo.com
END:VEVENT
BEGIN:VEVENT
DTSTART;TZID=America/Chicago:20221119T080000
DTEND;TZID=America/Chicago:20221119T100000
DTSTAMP:20260424T012955
CREATED:20220930T105449Z
LAST-MODIFIED:20221119T175659Z
UID:10001322-1668844800-1668852000@www.racetime.info
SUMMARY:Turkey Trot 5K Run/Walk
DESCRIPTION:F3 Turkey Trot One Mile Results\n\nF3 Turkey Trot 5K Results
URL:https://www.racetime.info/event/turkey-trot-5k-run-walk/
LOCATION:Community Park at Grande Park\, 26333 Grande Park Blvd\, Plainfield\, IL\, 60585\, United States
CATEGORIES:2022-11 Results (November)
ORGANIZER;CN="Brandon Ohms":MAILTO:brandon_ohms@yahoo.com
END:VEVENT
BEGIN:VEVENT
DTSTART;TZID=America/Chicago:20221112T090000
DTEND;TZID=America/Chicago:20221112T150000
DTSTAMP:20260424T012955
CREATED:20170920T104651Z
LAST-MODIFIED:20221112T201831Z
UID:10001681-1668243600-1668265200@www.racetime.info
SUMMARY:Bill Leonard Memorial Rig Rondy Dog Sled Races
DESCRIPTION:Rig Rendezvous Overall Results
URL:https://www.racetime.info/event/copy-of-bill-leonard-memorial-rig-rondy-dog-sled-races/
LOCATION:Red Barn Farm Market\, 3500 S. IL. Route 47\, Woodstock\, IL\, 60098\, United States
CATEGORIES:2022-11 Results (November)
ORGANIZER;CN="Mary Beth Kolb":MAILTO:rigrondy@adoptahusky.com
GEO:42.2753018;-88.432903
X-APPLE-STRUCTURED-LOCATION;VALUE=URI;X-ADDRESS=Red Barn Farm Market 3500 S. IL. Route 47 Woodstock IL 60098 United States;X-APPLE-RADIUS=500;X-TITLE=3500 S. IL. Route 47:geo:-88.432903,42.2753018
END:VEVENT
BEGIN:VEVENT
DTSTART;TZID=America/Chicago:20221112T083000
DTEND;TZID=America/Chicago:20221112T100000
DTSTAMP:20260424T012955
CREATED:20210823T114310Z
LAST-MODIFIED:20221112T201728Z
UID:10001182-1668241800-1668247200@www.racetime.info
SUMMARY:Strides for Pies 5K Run/Walk
DESCRIPTION:Strides for Pies 5K Age Group Results\n\nStrides for Pies 5K Overall Results
URL:https://www.racetime.info/event/copy-of-drumstick-dash-5k-run-walk/
LOCATION:Primrose Farm Park\, 5N726 Crane Road\, St. Charles\, IL\, 60174\, United States
CATEGORIES:2022-11 Results (November)
ORGANIZER;CN="TC Hull":MAILTO:thull@stcparks.org
GEO:41.9516747;-88.3490845
X-APPLE-STRUCTURED-LOCATION;VALUE=URI;X-ADDRESS=Primrose Farm Park 5N726 Crane Road St. Charles IL 60174 United States;X-APPLE-RADIUS=500;X-TITLE=5N726 Crane Road:geo:-88.3490845,41.9516747
END:VEVENT
BEGIN:VEVENT
DTSTART;TZID=America/Chicago:20221106T100000
DTEND;TZID=America/Chicago:20221106T113000
DTSTAMP:20260424T012955
CREATED:20160809T011705Z
LAST-MODIFIED:20221106T203542Z
UID:10000292-1667728800-1667734200@www.racetime.info
SUMMARY:Jones College Prep Eagle 5K Run/Walk
DESCRIPTION:JCP Eagle 5K Overall Results
URL:https://www.racetime.info/event/copy-of-jones-college-prep-eagle-5k-run-walk/
LOCATION:Washington Park\, Pool & Russell Drive\, Chicago\, IL\, United States
CATEGORIES:2022-11 Results (November)
ORGANIZER;CN="Sarah Renz":MAILTO:sarah.renz@friendsofjones.org
GEO:41.7929062;-87.6134155
X-APPLE-STRUCTURED-LOCATION;VALUE=URI;X-ADDRESS=Washington Park Pool & Russell Drive Chicago IL United States;X-APPLE-RADIUS=500;X-TITLE=Pool & Russell Drive:geo:-87.6134155,41.7929062
END:VEVENT
BEGIN:VEVENT
DTSTART;TZID=America/Chicago:20221106T090000
DTEND;TZID=America/Chicago:20221106T103000
DTSTAMP:20260424T012955
CREATED:20190815T121619Z
LAST-MODIFIED:20221106T213525Z
UID:10001093-1667725200-1667730600@www.racetime.info
SUMMARY:Illini Dads 5K Fun Run/Walk
DESCRIPTION:Illini Dads 5K Overall Results\n\nIllini Dads Team Results
URL:https://www.racetime.info/event/copy-of-illini-dads-5k-fun-run-walk/
LOCATION:University Of Illinois Arboretum\, Champaign\, IL\, United States
CATEGORIES:2022-11 Results (November)
ORGANIZER;CN="The Dads Association at the University of Illinois":MAILTO:iuparentfamilyprograms@illinois.edu
GEO:40.1164204;-88.2433829
END:VEVENT
BEGIN:VEVENT
DTSTART;TZID=America/Chicago:20221106T080000
DTEND;TZID=America/Chicago:20221106T110000
DTSTAMP:20260424T012955
CREATED:20180801T012123Z
LAST-MODIFIED:20221112T114603Z
UID:10000999-1667721600-1667732400@www.racetime.info
SUMMARY:Big Timber XC Challenge 3 & 5 Mile Run
DESCRIPTION:Big Timber 3 Mile Age Group Results\n\nBig Timber 3 Mile Overall Results\n\nBig Timber 5 Mile Age Group Results\n\nBig Timber 5 Mile Overall Results\n\nBig Timber Relay Team Results\n\nBig Timber Youth Runs\n\nTriple Trail Challenge 2022
URL:https://www.racetime.info/event/copy-of-big-timber-xc-challenge-3-5-mile-run/
LOCATION:Camp Big Timber\, Big Timber Road\, Elgin\, IL\, 60120\, United States
CATEGORIES:2022-11 Results (November)
ORGANIZER;CN="Wayne Haworth":MAILTO:wayne@dickpondathletics.com
END:VEVENT
BEGIN:VEVENT
DTSTART;TZID=America/Chicago:20221105T110000
DTEND;TZID=America/Chicago:20221105T123000
DTSTAMP:20260424T012955
CREATED:20210915T094836Z
LAST-MODIFIED:20221105T222105Z
UID:10001246-1667646000-1667651400@www.racetime.info
SUMMARY:Hawthorn Hustle 5K Run/Walk and 1 Mile Stroll
DESCRIPTION:Hawthorn Hustle Grade Level Results\n\nHawthorn Hustle Overall Results
URL:https://www.racetime.info/event/copy-of-hawthorn-hustle-5k-run-walk-and-1-mile-stroll/
LOCATION:Century Park North Pavilion\, 1401 Indianwood Drive\, Vernon Hills\, IL\, 60061\, United States
CATEGORIES:2022-11 Results (November)
ORGANIZER;CN="Larry Gokhman":MAILTO:hawthornhustle@hawthornpto.org.
GEO:42.2374557;-87.9695504
X-APPLE-STRUCTURED-LOCATION;VALUE=URI;X-ADDRESS=Century Park North Pavilion 1401 Indianwood Drive Vernon Hills IL 60061 United States;X-APPLE-RADIUS=500;X-TITLE=1401 Indianwood Drive:geo:-87.9695504,42.2374557
END:VEVENT
BEGIN:VEVENT
DTSTART;TZID=America/Chicago:20221105T090000
DTEND;TZID=America/Chicago:20221105T110000
DTSTAMP:20260424T012955
CREATED:20170831T221446Z
LAST-MODIFIED:20221105T174736Z
UID:10000818-1667638800-1667646000@www.racetime.info
SUMMARY:Bourbonnais Township Turkey Trot 10K & 5K Run; 2 Mile Walk
DESCRIPTION:Bourbonnais Turkey Trot 5K Age Group Results\n\nBourbonnais Turkey Trot 5K Overall Results\n\nBourbonnais Turkey Trot 10K Age Group Results\n\nBourbonnais Turkey Trot 10K Overall Results\n\nBourbonnais Turkey Trot Predictor Results
URL:https://www.racetime.info/event/copy-of-bourbonnais-township-turkey-trot-10k-2-mile-walk/
LOCATION:Perry Farm Park\, 459 N. Kennedy Drive\, Bourbonnais\, IL\, 60914\, United States
CATEGORIES:2022-11 Results (November)
ORGANIZER;CN="Lindsey Laskey":MAILTO:lindseyl@btpd.org
GEO:41.1551827;-87.8783865
X-APPLE-STRUCTURED-LOCATION;VALUE=URI;X-ADDRESS=Perry Farm Park 459 N. Kennedy Drive Bourbonnais IL 60914 United States;X-APPLE-RADIUS=500;X-TITLE=459 N. Kennedy Drive:geo:-87.8783865,41.1551827
END:VEVENT
BEGIN:VEVENT
DTSTART;TZID=America/Chicago:20221105T090000
DTEND;TZID=America/Chicago:20221105T103000
DTSTAMP:20260424T012955
CREATED:20170926T121645Z
LAST-MODIFIED:20221105T163818Z
UID:10000854-1667638800-1667644200@www.racetime.info
SUMMARY:St. Linus Gobble\, Gobble\, Run or Wobble 5K Run/Walk
DESCRIPTION:Gobble Gobble Run or Wobble 5K Age Group Results\n\nGobble Gobble Run or Wobble 5K Overall Results
URL:https://www.racetime.info/event/copy-of-gobble-gobble-run-or-wobble-5k-run-walk/
LOCATION:St. Linus Church\, 10400 Lawler Avenue\, Oak Lawn\, IL\, 60453\, United States
CATEGORIES:2022-11 Results (November)
ORGANIZER;CN="Alisa Trovato":MAILTO:atrovato@stlinusschool.org
GEO:41.7053927;-87.7463825
X-APPLE-STRUCTURED-LOCATION;VALUE=URI;X-ADDRESS=St. Linus Church 10400 Lawler Avenue Oak Lawn IL 60453 United States;X-APPLE-RADIUS=500;X-TITLE=10400 Lawler Avenue:geo:-87.7463825,41.7053927
END:VEVENT
END:VCALENDAR