BEGIN:VCALENDAR
VERSION:2.0
PRODID:-//Race Time - ECPv6.15.13//NONSGML v1.0//EN
CALSCALE:GREGORIAN
METHOD:PUBLISH
X-WR-CALNAME:Race Time
X-ORIGINAL-URL:https://www.racetime.info
X-WR-CALDESC:Events for Race Time
REFRESH-INTERVAL;VALUE=DURATION:PT1H
X-Robots-Tag:noindex
X-PUBLISHED-TTL:PT1H
BEGIN:VTIMEZONE
TZID:America/Chicago
BEGIN:DAYLIGHT
TZOFFSETFROM:-0600
TZOFFSETTO:-0500
TZNAME:CDT
DTSTART:20220313T080000
END:DAYLIGHT
BEGIN:STANDARD
TZOFFSETFROM:-0500
TZOFFSETTO:-0600
TZNAME:CST
DTSTART:20221106T070000
END:STANDARD
BEGIN:DAYLIGHT
TZOFFSETFROM:-0600
TZOFFSETTO:-0500
TZNAME:CDT
DTSTART:20230312T080000
END:DAYLIGHT
BEGIN:STANDARD
TZOFFSETFROM:-0500
TZOFFSETTO:-0600
TZNAME:CST
DTSTART:20231105T070000
END:STANDARD
BEGIN:DAYLIGHT
TZOFFSETFROM:-0600
TZOFFSETTO:-0500
TZNAME:CDT
DTSTART:20240310T080000
END:DAYLIGHT
BEGIN:STANDARD
TZOFFSETFROM:-0500
TZOFFSETTO:-0600
TZNAME:CST
DTSTART:20241103T070000
END:STANDARD
END:VTIMEZONE
BEGIN:VTIMEZONE
TZID:America/Indiana/Indianapolis
BEGIN:DAYLIGHT
TZOFFSETFROM:-0500
TZOFFSETTO:-0400
TZNAME:EDT
DTSTART:20220313T070000
END:DAYLIGHT
BEGIN:STANDARD
TZOFFSETFROM:-0400
TZOFFSETTO:-0500
TZNAME:EST
DTSTART:20221106T060000
END:STANDARD
BEGIN:DAYLIGHT
TZOFFSETFROM:-0500
TZOFFSETTO:-0400
TZNAME:EDT
DTSTART:20230312T070000
END:DAYLIGHT
BEGIN:STANDARD
TZOFFSETFROM:-0400
TZOFFSETTO:-0500
TZNAME:EST
DTSTART:20231105T060000
END:STANDARD
BEGIN:DAYLIGHT
TZOFFSETFROM:-0500
TZOFFSETTO:-0400
TZNAME:EDT
DTSTART:20240310T070000
END:DAYLIGHT
BEGIN:STANDARD
TZOFFSETFROM:-0400
TZOFFSETTO:-0500
TZNAME:EST
DTSTART:20241103T060000
END:STANDARD
END:VTIMEZONE
BEGIN:VEVENT
DTSTART;TZID=America/Chicago:20230730T073000
DTEND;TZID=America/Chicago:20230730T100000
DTSTAMP:20260423T182310
CREATED:20210719T155207Z
LAST-MODIFIED:20230801T105031Z
UID:10002001-1690702200-1690711200@www.racetime.info
SUMMARY:Crystal Lake Aquathon
DESCRIPTION:Olympic Age Group Results\n\nOlympic Overall Results\n\nOlympic Relay\n\nAdaptive\n\nSprint Age Group Results\n\nSprint Overall\n\n2 Mile Swim Age Group Results\n\n2 Mile Swim Overall Results\n\n1 Mile Swim Overall\n\nKids Race\n\nKids Relay
URL:https://www.racetime.info/event/copy-of-crystal-lake-aquathon-2/
LOCATION:Three Oakes Recreation Area\, 5517 Northwest Highway\, Crystal Lake\, IL\, 60014\, United States
CATEGORIES:2023-07 Results (July)
END:VEVENT
BEGIN:VEVENT
DTSTART;TZID=America/Chicago:20230730T063000
DTEND;TZID=America/Chicago:20230730T093000
DTSTAMP:20260423T182310
CREATED:20230529T120038Z
LAST-MODIFIED:20230801T234732Z
UID:10001357-1690698600-1690709400@www.racetime.info
SUMMARY:Splash * Pedal * Dash Triathlon
DESCRIPTION:Schamburg Triathlon Results
URL:https://www.racetime.info/event/splash-pedal-dash-triathlon/
LOCATION:Meineke Recreation Center/Pool\, 220 E. Weathersfield Way\, Schaumburg\, IL\, United States
CATEGORIES:2023-07 Results (July)
ORGANIZER;CN="Stacy Johnson":MAILTO:stjohnson@parkfun.com
END:VEVENT
BEGIN:VEVENT
DTSTART;TZID=America/Chicago:20230729T090000
DTEND;TZID=America/Chicago:20230729T103000
DTSTAMP:20260423T182310
CREATED:20230529T114435Z
LAST-MODIFIED:20230731T155840Z
UID:10001353-1690621200-1690626600@www.racetime.info
SUMMARY:2023 Dekalb Aruna 5K Run/Walk
DESCRIPTION:Aruna Youth One Mile Overall Results\n\nAruna 5K Age Group Results\n\nAruna 5K Overall Results\n\nAruna Team Results
URL:https://www.racetime.info/event/2023-dekalb-aruna-5k-run-walk/
LOCATION:Christ Community Church Dekalb\, 2350 Pride Avenue\, Dekalb\, IL\, 60115\, United States
CATEGORIES:2023-07 Results (July)
ORGANIZER;CN="Chuck Keller":MAILTO:chuck@inspirededgecoaching.com
END:VEVENT
BEGIN:VEVENT
DTSTART;TZID=America/Chicago:20230725T180000
DTEND;TZID=America/Chicago:20230725T200000
DTSTAMP:20260423T182310
CREATED:20230524T190238Z
LAST-MODIFIED:20230727T211109Z
UID:10002178-1690308000-1690315200@www.racetime.info
SUMMARY:Christmas in July 5K Run/Walk
DESCRIPTION:Christmas in July 5K Age Group Results\n\nChristmas in July 5K Overall Results
URL:https://www.racetime.info/event/christmas-in-july-5k-run-walk/
LOCATION:Community Services Foundation\, 18230 Orland Parkway\, Orland Park\, IL\, 60467\, United States
CATEGORIES:2023-07 Results (July)
ORGANIZER;CN="Susan Barnes":MAILTO:sbarnes@csfil.org
END:VEVENT
BEGIN:VEVENT
DTSTART;TZID=America/Chicago:20230723T080000
DTEND;TZID=America/Chicago:20230723T100000
DTSTAMP:20260423T182310
CREATED:20170425T131515Z
LAST-MODIFIED:20230723T161645Z
UID:10001350-1690099200-1690106400@www.racetime.info
SUMMARY:Algonquin Founders' Day 10K Run\, 5K Run/Walk & Youth 1 Mile Fun Run
DESCRIPTION:Algonquin Founders Youth 1 Mile Run\n\nAlgonquin Founders 5K Age Group Results\n\nAlgonquin Founders 5K Overall Results\n\nAlgonquin Founders 10K Age Group Results\n\nAlgonquin Founders 10K Overall Results
URL:https://www.racetime.info/event/copy-of-algonquin-founders-day-10k-run-5k-run-walk-youth-1-mile-fun-run/
LOCATION:Algonquin Middle School\, 520 Longwood Drive\, Algonquin\, IL\, 60102\, United States
CATEGORIES:2023-07 Results (July)
ORGANIZER;CN="Cheryl Hagen":MAILTO:foundersrun1@yahoo.com
GEO:42.1583261;-88.2831554
X-APPLE-STRUCTURED-LOCATION;VALUE=URI;X-ADDRESS=Algonquin Middle School 520 Longwood Drive Algonquin IL 60102 United States;X-APPLE-RADIUS=500;X-TITLE=520 Longwood Drive:geo:-88.2831554,42.1583261
END:VEVENT
BEGIN:VEVENT
DTSTART;TZID=America/Chicago:20230722T090000
DTEND;TZID=America/Chicago:20230722T103000
DTSTAMP:20260423T182310
CREATED:20230529T112525Z
LAST-MODIFIED:20230722T175903Z
UID:10001366-1690016400-1690021800@www.racetime.info
SUMMARY:Celebrate Highwood Taco Fest 5K Family Run\, Walk & Stroll
DESCRIPTION:Taco Fest 5K Age Group Results\n\nTaco Fest 5K Overall Results
URL:https://www.racetime.info/event/north-shore-taco-5k-family-run-walk-stroll/
LOCATION:Billy’s Garage\, 401 Sheridan Road\, Highwood\, IL\, 60040\, United States
CATEGORIES:2023-07 Results (July)
ORGANIZER;CN="Syd Saks":MAILTO:info@celebratehighwood.org
END:VEVENT
BEGIN:VEVENT
DTSTART;TZID=America/Chicago:20230722T073000
DTEND;TZID=America/Chicago:20230722T090000
DTSTAMP:20260423T182310
CREATED:20170613T193547Z
LAST-MODIFIED:20230722T175737Z
UID:10001483-1690011000-1690016400@www.racetime.info
SUMMARY:Corn Boil 5K Run/Walk
DESCRIPTION:Corn Boil 5K Age Group Results\n\nCorn Boil 5K Overall Results
URL:https://www.racetime.info/event/copy-of-corn-boil-5k-run-walk-2/
LOCATION:Sugar Grove Park District\, 61 Main St.\, Sugar Grove\, IL\, 60554\, United States
CATEGORIES:2023-07 Results (July)
ORGANIZER;CN="Blake Mayerle":MAILTO:bmayerle@sgparks.org
GEO:41.7632516;-88.4442141
X-APPLE-STRUCTURED-LOCATION;VALUE=URI;X-ADDRESS=Sugar Grove Park District 61 Main St. Sugar Grove IL 60554 United States;X-APPLE-RADIUS=500;X-TITLE=61 Main St.:geo:-88.4442141,41.7632516
END:VEVENT
BEGIN:VEVENT
DTSTART;TZID=America/Chicago:20230715T080000
DTEND;TZID=America/Chicago:20230715T100000
DTSTAMP:20260423T182310
CREATED:20170613T192906Z
LAST-MODIFIED:20230715T155756Z
UID:10001477-1689408000-1689415200@www.racetime.info
SUMMARY:Splashes\, Dashes & Spokes Youth Triathlon
DESCRIPTION:Splashes*Dashes*Spokes Results by Age Group
URL:https://www.racetime.info/event/copy-of-splashes-dashes-spokes-youth-triathlon-2/
LOCATION:James O’Breen Community Park\, Campton Hills Road & Peck Road\, St. Charles\, IL\, 60174\, United States
CATEGORIES:2023-07 Results (July)
ORGANIZER;CN="Rosie Edwards":MAILTO:redwards@stcparks.org
GEO:41.9135899;-88.3601517
X-APPLE-STRUCTURED-LOCATION;VALUE=URI;X-ADDRESS=James O’Breen Community Park Campton Hills Road & Peck Road St. Charles IL 60174 United States;X-APPLE-RADIUS=500;X-TITLE=Campton Hills Road & Peck Road:geo:-88.3601517,41.9135899
END:VEVENT
BEGIN:VEVENT
DTSTART;TZID=America/Chicago:20230708T083000
DTEND;TZID=America/Chicago:20230708T100000
DTSTAMP:20260423T182310
CREATED:20230528T124134Z
LAST-MODIFIED:20230708T161945Z
UID:10001363-1688805000-1688810400@www.racetime.info
SUMMARY:Pizza Pursuit 5K
DESCRIPTION:Pizza Pursuit 5K Age Group Results\n\nPizza Pursuit 5K Overall Results
URL:https://www.racetime.info/event/pizza-pursuit-5k/
LOCATION:Twin Lakes Golf Course & Recreation Center\, 1200 E. Twin Lakes Drive\, Palatine\, IL\, 60074\, United States
CATEGORIES:2023-07 Results (July)
ORGANIZER;CN="Jody Dodson":MAILTO:jdodson@saltcreekpd.com
GEO:42.1048792;-88.0145113
X-APPLE-STRUCTURED-LOCATION;VALUE=URI;X-ADDRESS=Twin Lakes Golf Course & Recreation Center 1200 E. Twin Lakes Drive Palatine IL 60074 United States;X-APPLE-RADIUS=500;X-TITLE=1200 E. Twin Lakes Drive:geo:-88.0145113,42.1048792
END:VEVENT
BEGIN:VEVENT
DTSTART;TZID=America/Chicago:20230708T070000
DTEND;TZID=America/Chicago:20230708T083000
DTSTAMP:20260423T182310
CREATED:20170410T213134Z
LAST-MODIFIED:20230708T161826Z
UID:10001328-1688799600-1688805000@www.racetime.info
SUMMARY:Bristol Progress Days 5K Run & 1.5 Mile Walk
DESCRIPTION:Bristol Progress Days 1.5 Mile Walk\n\nBristol Progress Days 5K Age Group Results\n\nBristol Progress Days 5K Individual Overall Results\n\nBristol Progress Days 5K Wheelers Overall Results
URL:https://www.racetime.info/event/copy-of-bristol-progress-days-5k-run-1-5-mile-walk-3/
LOCATION:Bristol Village Hall\, 19801 83rd Street\, Bristol\, WI\, United States
CATEGORIES:2023-07 Results (July)
ORGANIZER;CN="Rachael Muhlenbeck Miskie":MAILTO:muhlenbeck3@yahoo.com
END:VEVENT
BEGIN:VEVENT
DTSTART;TZID=America/Indiana/Indianapolis:20230704T080000
DTEND;TZID=America/Indiana/Indianapolis:20230704T103000
DTSTAMP:20260423T182310
CREATED:20190523T114939Z
LAST-MODIFIED:20230704T161229Z
UID:10001885-1688457600-1688466600@www.racetime.info
SUMMARY:Fowler Fireworks Frenzy 5K Run/Walk
DESCRIPTION:Fowler Fireworks 5K Age Group Results\n\nFowler Fireworks 5K Overall Results
URL:https://www.racetime.info/event/copy-of-fowler-fireworks-frenzy-5k-run-walk-2/
LOCATION:Fowler Town Park\, 302 S. Fowler Town Park Drive\, Fowler\, IN\, 47944\, United States
CATEGORIES:2023-07 Results (July)
ORGANIZER;CN="Diane Costello":MAILTO:d-n-costello@sbcglobal.net
END:VEVENT
BEGIN:VEVENT
DTSTART;TZID=America/Chicago:20230704T080000
DTEND;TZID=America/Chicago:20230704T093000
DTSTAMP:20260423T182310
CREATED:20210625T020324Z
LAST-MODIFIED:20230706T103659Z
UID:10001995-1688457600-1688463000@www.racetime.info
SUMMARY:Freedom Classic 5K Run/Walk
DESCRIPTION:Freedom Classic 5K Age Group Results\n\nFreedom Classic 5K Overall Results
URL:https://www.racetime.info/event/copy-of-freedom-classic-5k-run-walk/
LOCATION:Keith Mione Community Park\, 1401 Midlothian Road\, Mundelein\, IL\, 60060\, United States
CATEGORIES:2023-07 Results (July)
ORGANIZER;CN="Kelsey Fuller":MAILTO:kfuller@mundeleinparks.org
END:VEVENT
BEGIN:VEVENT
DTSTART;TZID=America/Chicago:20230704T080000
DTEND;TZID=America/Chicago:20230704T093000
DTSTAMP:20260423T182310
CREATED:20190620T181826Z
LAST-MODIFIED:20230704T161016Z
UID:10001070-1688457600-1688463000@www.racetime.info
SUMMARY:Great Western Freedom 4 Miler
DESCRIPTION:Great Western Freedom 2 Mile Overall Results\n\nGreat Western Freedom 4 Mile Age Group Results\n\nGreat Western Freedom 4 Mile Overall Results
URL:https://www.racetime.info/event/copy-of-great-western-freedom-4-miler-2/
LOCATION:LeRoy Oakes Forest Preserve\, 37W584 Dean Street\, St. Charles\, IL\, 60175\, United States
CATEGORIES:2023-07 Results (July)
ORGANIZER;CN="Ann Marie Dunn":MAILTO:annmaried@lazarushouse.net
GEO:41.929212;-88.352091
X-APPLE-STRUCTURED-LOCATION;VALUE=URI;X-ADDRESS=LeRoy Oakes Forest Preserve 37W584 Dean Street St. Charles IL 60175 United States;X-APPLE-RADIUS=500;X-TITLE=37W584 Dean Street:geo:-88.352091,41.929212
END:VEVENT
BEGIN:VEVENT
DTSTART;TZID=America/Chicago:20230704T080000
DTEND;TZID=America/Chicago:20230704T093000
DTSTAMP:20260423T182310
CREATED:20170613T120059Z
LAST-MODIFIED:20230704T160854Z
UID:10001466-1688457600-1688463000@www.racetime.info
SUMMARY:Deerfield Rotary Club 5K Run/Walk
DESCRIPTION:Deerfield Family Days 5K Age Group Results\n\nDeerfield Family Days 5K Overall Results
URL:https://www.racetime.info/event/copy-of-deerfield-rotarys-53rd-annual-10k-run-5k-run-walk/
LOCATION:Maplewood Park\, 900 Clay Court\, Deerfield\, IL\, 60015\, United States
CATEGORIES:2023-07 Results (July)
ORGANIZER;CN="Victoria Street":MAILTO:victoriastreet@dbrchamber.com
END:VEVENT
BEGIN:VEVENT
DTSTART;TZID=America/Chicago:20230704T073000
DTEND;TZID=America/Chicago:20230704T090000
DTSTAMP:20260423T182310
CREATED:20230528T123023Z
LAST-MODIFIED:20230704T160744Z
UID:10002182-1688455800-1688461200@www.racetime.info
SUMMARY:Freedom Four 4 Mile Run/Walk
DESCRIPTION:Freedom Four Age Group Results\n\nFreedom Four Overall Results
URL:https://www.racetime.info/event/freedom-four-4-mile-run-walk/
LOCATION:Lake Ellyn Park\, 645 Lenox Road\, Glen Ellyn\, IL\, 60137\, United States
CATEGORIES:2023-07 Results (July)
ORGANIZER;CN="Brad Thomas":MAILTO:bthomas@gepark.org
END:VEVENT
BEGIN:VEVENT
DTSTART;TZID=America/Chicago:20230703T140000
DTEND;TZID=America/Chicago:20230703T160000
DTSTAMP:20260423T182310
CREATED:20230528T122304Z
LAST-MODIFIED:20230703T213405Z
UID:10002181-1688392800-1688400000@www.racetime.info
SUMMARY:Freedom Fest 5K Run/Walk & 1 Mile Family Color Run
DESCRIPTION:St. John Freedom 5K Overall Results\n\nSt. John Freedom 1 Mile Overall Results
URL:https://www.racetime.info/event/freedom-fest-5k-run-walk-1-mile-family-color-run/
LOCATION:Heartland Park Sports Complex\, 10600 White Oak Avenue\, St. John\, IN\, United States
CATEGORIES:2023-07 Results (July)
ORGANIZER;CN="Michael O'Shea":MAILTO:moshea@stjohnin.com
END:VEVENT
BEGIN:VEVENT
DTSTART;TZID=America/Chicago:20230703T090000
DTEND;TZID=America/Chicago:20230703T103000
DTSTAMP:20260423T182310
CREATED:20170513T104136Z
LAST-MODIFIED:20230703T173318Z
UID:10001404-1688374800-1688380200@www.racetime.info
SUMMARY:Eagle Ridge Resort's Firecracker 5K
DESCRIPTION:Eagle Ridge Firecracker 5K Age Group Results\n\nEagle Ridge Firecracker 5K Overall Results
URL:https://www.racetime.info/event/copy-of-eagle-ridge-resorts-firecracker-5k-kids-sprint/
LOCATION:Eagle Ridge Resort & Spa\, 444 Eagle Ridge Drive\, Galena\, IL\, 61036\, United States
CATEGORIES:2023-07 Results (July)
ORGANIZER;CN="Megan Dombek":MAILTO:mdombek@eagleridge.com
GEO:42.4054927;-90.338314
X-APPLE-STRUCTURED-LOCATION;VALUE=URI;X-ADDRESS=Eagle Ridge Resort & Spa 444 Eagle Ridge Drive Galena IL 61036 United States;X-APPLE-RADIUS=500;X-TITLE=444 Eagle Ridge Drive:geo:-90.338314,42.4054927
END:VEVENT
BEGIN:VEVENT
DTSTART;TZID=America/Chicago:20230701T073000
DTEND;TZID=America/Chicago:20230701T090000
DTSTAMP:20260423T182310
CREATED:20220413T001947Z
LAST-MODIFIED:20230701T164033Z
UID:10002114-1688196600-1688202000@www.racetime.info
SUMMARY:Land We Love 5K Run/Walk & 10K Run
DESCRIPTION:Land We Love 2 Mile Overall Results\n\nLand We Love 5K Age Groups\n\nLand We Love 5K Overall Results\n\nLand We Love 10K Age Group\n\nLand We Love 10K Overall Results
URL:https://www.racetime.info/event/copy-of-land-we-love-5k-run-walk-10k-run/
LOCATION:Cuba Township Offices\, 28000 West Cuba Road\, Barringtn\, IL\, 60010\, United States
CATEGORIES:2023-07 Results (July)
ORGANIZER;CN="Anna Paul":MAILTO:village@vbhil.gov
END:VEVENT
BEGIN:VEVENT
DTSTART;TZID=America/Chicago:20230701T073000
DTEND;TZID=America/Chicago:20230701T090000
DTSTAMP:20260423T182310
CREATED:20170613T174104Z
LAST-MODIFIED:20230701T163842Z
UID:10000648-1688196600-1688202000@www.racetime.info
SUMMARY:Liberty Loop 5K Run/Walk
DESCRIPTION:Liberty Loop 5K Age Group Results\n\nLiberty Loop 5K Overall Results
URL:https://www.racetime.info/event/copy-of-liberty-loop-5k-run-walk-2/
LOCATION:Techny Prairie Activity Center\, 180 Anets Drive\, Northbrook\, IL\, 60062\, United States
CATEGORIES:2023-07 Results (July)
ORGANIZER;CN="Isaac Urow":MAILTO:iurow@nbparks.org
GEO:42.1275267;-87.8289548
X-APPLE-STRUCTURED-LOCATION;VALUE=URI;X-ADDRESS=Techny Prairie Activity Center 180 Anets Drive Northbrook IL 60062 United States;X-APPLE-RADIUS=500;X-TITLE=180 Anets Drive:geo:-87.8289548,42.1275267
END:VEVENT
END:VCALENDAR