BEGIN:VCALENDAR
VERSION:2.0
PRODID:-//Race Time - ECPv6.15.13//NONSGML v1.0//EN
CALSCALE:GREGORIAN
METHOD:PUBLISH
X-WR-CALNAME:Race Time
X-ORIGINAL-URL:https://www.racetime.info
X-WR-CALDESC:Events for Race Time
REFRESH-INTERVAL;VALUE=DURATION:PT1H
X-Robots-Tag:noindex
X-PUBLISHED-TTL:PT1H
BEGIN:VTIMEZONE
TZID:America/Chicago
BEGIN:DAYLIGHT
TZOFFSETFROM:-0600
TZOFFSETTO:-0500
TZNAME:CDT
DTSTART:20220313T080000
END:DAYLIGHT
BEGIN:STANDARD
TZOFFSETFROM:-0500
TZOFFSETTO:-0600
TZNAME:CST
DTSTART:20221106T070000
END:STANDARD
BEGIN:DAYLIGHT
TZOFFSETFROM:-0600
TZOFFSETTO:-0500
TZNAME:CDT
DTSTART:20230312T080000
END:DAYLIGHT
BEGIN:STANDARD
TZOFFSETFROM:-0500
TZOFFSETTO:-0600
TZNAME:CST
DTSTART:20231105T070000
END:STANDARD
BEGIN:DAYLIGHT
TZOFFSETFROM:-0600
TZOFFSETTO:-0500
TZNAME:CDT
DTSTART:20240310T080000
END:DAYLIGHT
BEGIN:STANDARD
TZOFFSETFROM:-0500
TZOFFSETTO:-0600
TZNAME:CST
DTSTART:20241103T070000
END:STANDARD
END:VTIMEZONE
BEGIN:VEVENT
DTSTART;TZID=America/Chicago:20231203T090000
DTEND;TZID=America/Chicago:20231203T103000
DTSTAMP:20260424T024651
CREATED:20210823T124852Z
LAST-MODIFIED:20231203T195725Z
UID:10001186-1701594000-1701599400@www.racetime.info
SUMMARY:McHenry County Santa Run For Kids
DESCRIPTION:Santa Run 1 Mile Overall Results\n\nSanta Run 5K Age Group Results\n\nSanta Run 5K Overall Results
URL:https://www.racetime.info/event/copy-of-mchenry-county-santa-run-for-kids-2/
LOCATION:Raue Center For The Arts\, 26 N. Williams Street\, Crystal Lake\, IL\, 60014\, United States
CATEGORIES:2023-12 Results (December)
ORGANIZER;CN="Trudy Wakeman":MAILTO:trudywakeman@gmail.com
GEO:42.2419354;-88.3190301
X-APPLE-STRUCTURED-LOCATION;VALUE=URI;X-ADDRESS=Raue Center For The Arts 26 N. Williams Street Crystal Lake IL 60014 United States;X-APPLE-RADIUS=500;X-TITLE=26 N. Williams Street:geo:-88.3190301,42.2419354
END:VEVENT
BEGIN:VEVENT
DTSTART;TZID=America/Chicago:20231202T150000
DTEND;TZID=America/Chicago:20231202T170000
DTSTAMP:20260424T024651
CREATED:20231026T113835Z
LAST-MODIFIED:20231203T000522Z
UID:10001379-1701529200-1701536400@www.racetime.info
SUMMARY:Winfield's Santa Run 5K * 1K
DESCRIPTION:Winfield Santa Run 5K Overall Results
URL:https://www.racetime.info/event/winfields-santa-run-5k-1k/
LOCATION:Winfield Village Hall\, 27W465 Jewell Road\, Winfield\, IL\, 60190\, United States
CATEGORIES:2023-12 Results (December)
ORGANIZER;CN="Deb Moran":MAILTO:deb@emplimp.com
END:VEVENT
BEGIN:VEVENT
DTSTART;TZID=America/Chicago:20231202T100000
DTEND;TZID=America/Chicago:20231202T123000
DTSTAMP:20260424T024651
CREATED:20220829T113346Z
LAST-MODIFIED:20231206T134517Z
UID:10002141-1701511200-1701520200@www.racetime.info
SUMMARY:Running with the Elves: A Very Merry Huntley Event
DESCRIPTION:Huntley Kids Dash Overall Results\n\nHuntley 5K Age Group Results\n\nHuntley 5K Overall Results\n\nHuntley 1 Mile Overall Results
URL:https://www.racetime.info/event/copy-of-running-with-the-elves-a-very-merry-huntley-event/
LOCATION:Downtown Huntley\, Coral and Church Streets\, Huntley\, IL\, 60142\, United States
CATEGORIES:2023-12 Results (December)
ORGANIZER;CN="Jim Uszler":MAILTO:huntleyrotary@yahoo.com
END:VEVENT
BEGIN:VEVENT
DTSTART;TZID=America/Chicago:20231202T100000
DTEND;TZID=America/Chicago:20231202T113000
DTSTAMP:20260424T024651
CREATED:20211126T153904Z
LAST-MODIFIED:20231202T184649Z
UID:10002075-1701511200-1701516600@www.racetime.info
SUMMARY:Chilly Chili 5K Run/Walk
DESCRIPTION:Chilly Chili 5K+ Age Group Results\n\nChilly Chili 5K+ Overall Results
URL:https://www.racetime.info/event/copy-of-chilly-chili-5k-run-walk-2/
LOCATION:Schaumburg Golf Club\, 401 North Roselle Road\, Schaumburg\, IL\, 60194\, United States
CATEGORIES:2023-12 Results (December)
ORGANIZER;CN="Stacy Johnson":MAILTO:stjohnson@parkfun.com
END:VEVENT
BEGIN:VEVENT
DTSTART;TZID=America/Chicago:20231202T073000
DTEND;TZID=America/Chicago:20231202T150000
DTSTAMP:20260424T024651
CREATED:20231203T000739Z
LAST-MODIFIED:20231209T121419Z
UID:10002205-1701502200-1701529200@www.racetime.info
SUMMARY:Arctic Frog Endurance Races
DESCRIPTION:Arctic Frog 5K Overall Results\n\nArctic Frog 10K Overall Results\n\nArctic Frog 15K Overall Results\n\nArctic Frog 25K Overall Result2\n\nArctic Frog 50K Overall Results
URL:https://www.racetime.info/event/arctic-frog-endurance-races/
LOCATION:Independence Grove Forest Preserve\, 16400 Buckley Road\, Libertyville\, IL\, 60045\, United States
CATEGORIES:2023-12 Results (December)
ORGANIZER;CN="Rey LaTada":MAILTO:froghopsrd@outlook.com
GEO:42.3118463;-87.9529568
X-APPLE-STRUCTURED-LOCATION;VALUE=URI;X-ADDRESS=Independence Grove Forest Preserve 16400 Buckley Road Libertyville IL 60045 United States;X-APPLE-RADIUS=500;X-TITLE=16400 Buckley Road:geo:-87.9529568,42.3118463
END:VEVENT
END:VCALENDAR