BEGIN:VCALENDAR
VERSION:2.0
PRODID:-//Race Time - ECPv6.15.13//NONSGML v1.0//EN
CALSCALE:GREGORIAN
METHOD:PUBLISH
X-ORIGINAL-URL:https://www.racetime.info
X-WR-CALDESC:Events for Race Time
REFRESH-INTERVAL;VALUE=DURATION:PT1H
X-Robots-Tag:noindex
X-PUBLISHED-TTL:PT1H
BEGIN:VTIMEZONE
TZID:America/Chicago
BEGIN:DAYLIGHT
TZOFFSETFROM:-0600
TZOFFSETTO:-0500
TZNAME:CDT
DTSTART:20230312T080000
END:DAYLIGHT
BEGIN:STANDARD
TZOFFSETFROM:-0500
TZOFFSETTO:-0600
TZNAME:CST
DTSTART:20231105T070000
END:STANDARD
BEGIN:DAYLIGHT
TZOFFSETFROM:-0600
TZOFFSETTO:-0500
TZNAME:CDT
DTSTART:20240310T080000
END:DAYLIGHT
BEGIN:STANDARD
TZOFFSETFROM:-0500
TZOFFSETTO:-0600
TZNAME:CST
DTSTART:20241103T070000
END:STANDARD
BEGIN:DAYLIGHT
TZOFFSETFROM:-0600
TZOFFSETTO:-0500
TZNAME:CDT
DTSTART:20250309T080000
END:DAYLIGHT
BEGIN:STANDARD
TZOFFSETFROM:-0500
TZOFFSETTO:-0600
TZNAME:CST
DTSTART:20251102T070000
END:STANDARD
END:VTIMEZONE
BEGIN:VEVENT
DTSTART;TZID=America/Chicago:20240330T080000
DTEND;TZID=America/Chicago:20240330T120000
DTSTAMP:20260424T013026
CREATED:20230308T131202Z
LAST-MODIFIED:20240330T202324Z
UID:10002160-1711785600-1711800000@www.racetime.info
SUMMARY:Bunny Wabbit 5K*10K*Half Marathon/Kids Fun Run and Easter Egg Hunt
DESCRIPTION:Bunny Wabbit 5K Overall Results\n\nBunny Wabbit 10K Overall Results\n\nBunny Wabbit Half Marathon Overall Results
URL:https://www.racetime.info/event/copy-of-bunny-wabbit-5k10khalf-marathon-kids-fun-run-and-easter-egg-hunt/
LOCATION:Independence Grove Forest Preserve\, 16400 Buckley Road\, Libertyville\, IL\, 60045\, United States
CATEGORIES:2024-03 Results (March)
ORGANIZER;CN="Rey LaTada":MAILTO:froghopsrd@outlook.com
GEO:42.3118463;-87.9529568
X-APPLE-STRUCTURED-LOCATION;VALUE=URI;X-ADDRESS=Independence Grove Forest Preserve 16400 Buckley Road Libertyville IL 60045 United States;X-APPLE-RADIUS=500;X-TITLE=16400 Buckley Road:geo:-87.9529568,42.3118463
END:VEVENT
BEGIN:VEVENT
DTSTART;TZID=America/Chicago:20240330T080000
DTEND;TZID=America/Chicago:20240330T093000
DTSTAMP:20260424T013026
CREATED:20230307T202143Z
LAST-MODIFIED:20240330T200715Z
UID:10002152-1711785600-1711791000@www.racetime.info
SUMMARY:Wauconda Bunny Hop 4 & 2 Mile Run/Walk
DESCRIPTION:Wauconda Bunny Hop 4M Age Group Results\n\nWauconda Bunny Hop 4M Overall Results
URL:https://www.racetime.info/event/copy-of-wauconda-bunny-hop-4-2-mile-run-walk/
LOCATION:Wauconda Park District\, 600 North Main Street\, Wauconda\, IL\, 60084\, United States
CATEGORIES:2024-03 Results (March)
ORGANIZER;CN="Trista Iodice":MAILTO:trista.iodice@procomps.com
END:VEVENT
BEGIN:VEVENT
DTSTART;TZID=America/Chicago:20240323T090000
DTEND;TZID=America/Chicago:20240323T103000
DTSTAMP:20260424T013026
CREATED:20200211T224304Z
LAST-MODIFIED:20240323T172005Z
UID:10001118-1711184400-1711189800@www.racetime.info
SUMMARY:Shamrock Shuffle 5K Run/Walk
DESCRIPTION:Everest Shamrock Shuffle 5K Age Group Results\n\nEverest Shamrock Shuffle 5K Overall Results
URL:https://www.racetime.info/event/copy-of-shamrock-shuffle-5k-run-walk-2/
LOCATION:Everest Academy\, 11550 Bell Road\, Lemont\, 60439\, United States
CATEGORIES:2024-03 Results (March)
ORGANIZER;CN="Sue Zabilka":MAILTO:szabilka17@gmail.com
END:VEVENT
BEGIN:VEVENT
DTSTART;TZID=America/Chicago:20240323T083000
DTEND;TZID=America/Chicago:20240323T130000
DTSTAMP:20260424T013026
CREATED:20240216T210301Z
LAST-MODIFIED:20240323T172816Z
UID:10002212-1711182600-1711198800@www.racetime.info
SUMMARY:Black Locust Dog Sled Race
DESCRIPTION:Black Locust Dryland Dog Race
URL:https://www.racetime.info/event/black-locust-dog-sled-race/
LOCATION:Weldon Springs State Park\, 4734 Weldon Springs Road\, Clinton\, IL\, 61727\, United States
CATEGORIES:2024-03 Results (March)
ORGANIZER;CN="Chelsea Robertson":MAILTO:marscj15@aol.com
END:VEVENT
BEGIN:VEVENT
DTSTART;TZID=America/Chicago:20240316T083000
DTEND;TZID=America/Chicago:20240316T103000
DTSTAMP:20260424T013026
CREATED:20170215T132442Z
LAST-MODIFIED:20240316T182840Z
UID:10001030-1710577800-1710585000@www.racetime.info
SUMMARY:Dixon YMCA Sham-Rock Shuffle 5K Run/Walk & Kids Run
DESCRIPTION:Sham-Rock 5K Age Group Results\n\nSham-Rock 5K Overall Results
URL:https://www.racetime.info/event/copy-of-dixon-ymca-shamrock-shuffle-5k-run-walk/
LOCATION:Dixon YMCA\, 110 N. Galena Avenue\, Dixon\, IL\, 61021\, United States
CATEGORIES:2024-03 Results (March)
ORGANIZER;CN="Andrew McFarlane":MAILTO:ceo@dixonymca.org
GEO:41.8471187;-89.4838665
X-APPLE-STRUCTURED-LOCATION;VALUE=URI;X-ADDRESS=Dixon YMCA 110 N. Galena Avenue Dixon IL 61021 United States;X-APPLE-RADIUS=500;X-TITLE=110 N. Galena Avenue:geo:-89.4838665,41.8471187
END:VEVENT
BEGIN:VEVENT
DTSTART;TZID=America/Chicago:20240302T090000
DTEND;TZID=America/Chicago:20240302T103000
DTSTAMP:20260424T013026
CREATED:20240131T224420Z
LAST-MODIFIED:20240302T184131Z
UID:10002206-1709370000-1709375400@www.racetime.info
SUMMARY:St. Mike's St. Patrick Shamrock 5K Run/Walk
DESCRIPTION:St. Michael 1 Mile Results\n\nSt. Michael 3 Mile Results
URL:https://www.racetime.info/event/st-mikes-st-patrick-shamrock-5k-run-walk/
LOCATION:Centennial Park Orland Park\, 10401 W\, 153rd Street\, Orland Park\, IL\, 60467\, United States
CATEGORIES:2024-03 Results (March)
ORGANIZER;CN="Mary Reynolds":MAILTO:merey80@gmail.com
END:VEVENT
END:VCALENDAR