BEGIN:VCALENDAR
VERSION:2.0
PRODID:-//Race Time - ECPv6.15.13//NONSGML v1.0//EN
CALSCALE:GREGORIAN
METHOD:PUBLISH
X-ORIGINAL-URL:https://www.racetime.info
X-WR-CALDESC:Events for Race Time
REFRESH-INTERVAL;VALUE=DURATION:PT1H
X-Robots-Tag:noindex
X-PUBLISHED-TTL:PT1H
BEGIN:VTIMEZONE
TZID:America/Chicago
BEGIN:DAYLIGHT
TZOFFSETFROM:-0600
TZOFFSETTO:-0500
TZNAME:CDT
DTSTART:20230312T080000
END:DAYLIGHT
BEGIN:STANDARD
TZOFFSETFROM:-0500
TZOFFSETTO:-0600
TZNAME:CST
DTSTART:20231105T070000
END:STANDARD
BEGIN:DAYLIGHT
TZOFFSETFROM:-0600
TZOFFSETTO:-0500
TZNAME:CDT
DTSTART:20240310T080000
END:DAYLIGHT
BEGIN:STANDARD
TZOFFSETFROM:-0500
TZOFFSETTO:-0600
TZNAME:CST
DTSTART:20241103T070000
END:STANDARD
BEGIN:DAYLIGHT
TZOFFSETFROM:-0600
TZOFFSETTO:-0500
TZNAME:CDT
DTSTART:20250309T080000
END:DAYLIGHT
BEGIN:STANDARD
TZOFFSETFROM:-0500
TZOFFSETTO:-0600
TZNAME:CST
DTSTART:20251102T070000
END:STANDARD
END:VTIMEZONE
BEGIN:VEVENT
DTSTART;TZID=America/Chicago:20240428T090000
DTEND;TZID=America/Chicago:20240429T110000
DTSTAMP:20260423T225639
CREATED:20220316T172001Z
LAST-MODIFIED:20240428T194937Z
UID:10001280-1714294800-1714388400@www.racetime.info
SUMMARY:Cancer Wellness Center's Stepping Up to Wellness: 5K Run; 5K Walk & 1 Mile Walk
DESCRIPTION:CWC Stepping Up To Wellness 5K Age Group Results\n\nCWC Stepping Up To Wellness 5K Overall Results
URL:https://www.racetime.info/event/copy-of-stepping-up-to-wellness-5k-run-5k-walk-1-mile-walk-2/
LOCATION:Independence Grove Forest Preserve\, 16400 Buckley Road\, Libertyville\, IL\, 60045\, United States
CATEGORIES:2024-04 Results (April)
ORGANIZER;CN="Gail Fradin":MAILTO:gfradin@cancerwellness.org
GEO:42.3118463;-87.9529568
X-APPLE-STRUCTURED-LOCATION;VALUE=URI;X-ADDRESS=Independence Grove Forest Preserve 16400 Buckley Road Libertyville IL 60045 United States;X-APPLE-RADIUS=500;X-TITLE=16400 Buckley Road:geo:-87.9529568,42.3118463
END:VEVENT
BEGIN:VEVENT
DTSTART;TZID=America/Chicago:20240428T083000
DTEND;TZID=America/Chicago:20240429T100000
DTSTAMP:20260423T225639
CREATED:20180501T143132Z
LAST-MODIFIED:20240428T194810Z
UID:10000954-1714293000-1714384800@www.racetime.info
SUMMARY:Helen Keller 5K Run/Walk
DESCRIPTION:Helen Keller 5K Age Group Results\n\nHelen Keller 5K Overall Results
URL:https://www.racetime.info/event/copy-of-helen-keller-5k-run-walk/
LOCATION:Richards High School\, 10601 Central Avenue\, Oak Lawn\, IL\, 60453\, United States
CATEGORIES:2024-04 Results (April)
ORGANIZER;CN="Chris Coleman":MAILTO:coleman5726@comcast.net
GEO:41.6990522;-87.7577097
X-APPLE-STRUCTURED-LOCATION;VALUE=URI;X-ADDRESS=Richards High School 10601 Central Avenue Oak Lawn IL 60453 United States;X-APPLE-RADIUS=500;X-TITLE=10601 Central Avenue:geo:-87.7577097,41.6990522
END:VEVENT
BEGIN:VEVENT
DTSTART;TZID=America/Chicago:20240428T080000
DTEND;TZID=America/Chicago:20240428T100000
DTSTAMP:20260423T225639
CREATED:20230223T125509Z
LAST-MODIFIED:20240503T094825Z
UID:10002150-1714291200-1714298400@www.racetime.info
SUMMARY:Chicago Federation of Labor May Day 5K Run/Walk
DESCRIPTION:May Day 5K Age Group Results\n\nMay Day 5K Overall Results
URL:https://www.racetime.info/event/copy-of-chicago-federation-of-labor-may-day-5k-run-walk/
LOCATION:The Lakeside Center at McCormick Place\, 2300 S. Fort Dearborn\, Chicago\, IL\, 60601\, United States
CATEGORIES:2024-04 Results (April)
ORGANIZER;CN="Andrea Chaudron":MAILTO:achaudron@chicagolabor.org
GEO:41.8461749;-87.6108272
X-APPLE-STRUCTURED-LOCATION;VALUE=URI;X-ADDRESS=The Lakeside Center at McCormick Place 2300 S. Fort Dearborn Chicago IL 60601 United States;X-APPLE-RADIUS=500;X-TITLE=2300 S. Fort Dearborn:geo:-87.6108272,41.8461749
END:VEVENT
BEGIN:VEVENT
DTSTART;TZID=America/Chicago:20240427T083000
DTEND;TZID=America/Chicago:20240427T103000
DTSTAMP:20260423T225639
CREATED:20240201T212934Z
LAST-MODIFIED:20240428T005045Z
UID:10002208-1714206600-1714213800@www.racetime.info
SUMMARY:The Home Run for PADS of Elgin 5K Run/Walk & 1 Mile Kids Fun Run
DESCRIPTION:Home Run for Pads 5K Age Group Results\n\nHome Run for Pads 5K Overall Results
URL:https://www.racetime.info/event/the-home-run-for-pads-of-elgin-5k-run-walk-1-mile-kids-fun-run/
LOCATION:Festival Park\, 132 S. Grove Avenue\, Elgin\, 60120\, United States
CATEGORIES:2024-04 Results (April)
ORGANIZER;CN="Jen Keller":MAILTO:jkeller@padsofelgin.org
GEO:42.031068;-88.2785788
X-APPLE-STRUCTURED-LOCATION;VALUE=URI;X-ADDRESS=Festival Park 132 S. Grove Avenue Elgin 60120 United States;X-APPLE-RADIUS=500;X-TITLE=132 S. Grove Avenue:geo:-88.2785788,42.031068
END:VEVENT
BEGIN:VEVENT
DTSTART;TZID=America/Chicago:20240427T073000
DTEND;TZID=America/Chicago:20240427T090000
DTSTAMP:20260423T225639
CREATED:20240207T213224Z
LAST-MODIFIED:20240427T144808Z
UID:10002210-1714203000-1714208400@www.racetime.info
SUMMARY:Lowell 5K Run/Walk
DESCRIPTION:Lowell 5K Grade Level Results\n\nLowell 5K Overall Results
URL:https://www.racetime.info/event/lowell-5k-run-walk/
LOCATION:Lowell Elementary School\, 312 S. President Street\, Wheaton\, IL\, 60187\, United States
CATEGORIES:2024-04 Results (April)
ORGANIZER;CN="Lowell PTA Race Director":MAILTO:lowellpta5k@gmail.com
END:VEVENT
BEGIN:VEVENT
DTSTART;TZID=America/Chicago:20240421T110000
DTEND;TZID=America/Chicago:20240421T123000
DTSTAMP:20260423T225639
CREATED:20240308T132801Z
LAST-MODIFIED:20240421T200738Z
UID:10002217-1713697200-1713702600@www.racetime.info
SUMMARY:Harcerstwo on the Run 5K
DESCRIPTION:Harcerstwo On The Run 5K Age Group Results\n\nHarcerstwo On The Run 5K Overall Results
URL:https://www.racetime.info/event/harcerstwo-on-the-run-5k/
LOCATION:Busse Woods Grove 26\, Elk Grove Village\, IL\, United States
CATEGORIES:2024-04 Results (April)
ORGANIZER;CN="Joanna Gadzala":MAILTO:ref-zuchy.tatry@zhp.org
END:VEVENT
BEGIN:VEVENT
DTSTART;TZID=America/Chicago:20240420T090000
DTEND;TZID=America/Chicago:20240420T103000
DTSTAMP:20260423T225639
CREATED:20190217T191120Z
LAST-MODIFIED:20240420T184842Z
UID:10001037-1713603600-1713609000@www.racetime.info
SUMMARY:Semblex Get Fit 5K Run/Walk (Private)
DESCRIPTION:Semblex Get Fit 5K Age Group Results\n\nSemblex Get Fit 5K Overall Results
URL:https://www.racetime.info/event/copy-of-semblex-get-fit-5k-run-walk-private/
LOCATION:Cantigny Park\, 1S151 Winfield Road\, Wheaton\, IL\, 60187\, United States
CATEGORIES:2024-04 Results (April)
ORGANIZER;CN="Karla Chirinos":MAILTO:kchirinos@semblex.com
GEO:41.8549443;-88.1559782
X-APPLE-STRUCTURED-LOCATION;VALUE=URI;X-ADDRESS=Cantigny Park 1S151 Winfield Road Wheaton IL 60187 United States;X-APPLE-RADIUS=500;X-TITLE=1S151 Winfield Road:geo:-88.1559782,41.8549443
END:VEVENT
BEGIN:VEVENT
DTSTART;TZID=America/Chicago:20240420T090000
DTEND;TZID=America/Chicago:20240420T103000
DTSTAMP:20260423T225639
CREATED:20170209T125640Z
LAST-MODIFIED:20240420T184727Z
UID:10000406-1713603600-1713609000@www.racetime.info
SUMMARY:The Germazing Race 5K Run/Walk & Kids' Dash
DESCRIPTION:Germazing Race 5K Age Group Results\n\nGermazing Race 5K Overall Results
URL:https://www.racetime.info/event/copy-of-the-germazing-race-5k-run-walk-kids-dash-2/
LOCATION:St. Germaine Parish\, 9711 S. Kolin\, Oak Lawn\, IL\, 60453\, United States
CATEGORIES:2024-04 Results (April)
ORGANIZER;CN="Kate Paluszek":MAILTO:germazingrace@hotmail.com
GEO:41.7151965;-87.7292777
X-APPLE-STRUCTURED-LOCATION;VALUE=URI;X-ADDRESS=St. Germaine Parish 9711 S. Kolin Oak Lawn IL 60453 United States;X-APPLE-RADIUS=500;X-TITLE=9711 S. Kolin:geo:-87.7292777,41.7151965
END:VEVENT
BEGIN:VEVENT
DTSTART;TZID=America/Chicago:20240420T083000
DTEND;TZID=America/Chicago:20240420T103000
DTSTAMP:20260423T225639
CREATED:20200214T131219Z
LAST-MODIFIED:20240420T184519Z
UID:10001107-1713601800-1713609000@www.racetime.info
SUMMARY:SuperHEARo 5K Run/Walk
DESCRIPTION:Super Hear-O 5K Age Group Results\n\nSuper Hear-O 5K Overall Results
URL:https://www.racetime.info/event/copy-of-superhearo-5k-run-walk/
LOCATION:Phillips Park\, 1000 Ray Moses Drive\, Aurora\, IL\, 60505\, United States
CATEGORIES:2024-04 Results (April)
ORGANIZER;CN="Andrea Stambaugh":MAILTO:ilhandsandvoices@gmail.com
GEO:41.7365152;-88.2948701
X-APPLE-STRUCTURED-LOCATION;VALUE=URI;X-ADDRESS=Phillips Park 1000 Ray Moses Drive Aurora IL 60505 United States;X-APPLE-RADIUS=500;X-TITLE=1000 Ray Moses Drive:geo:-88.2948701,41.7365152
END:VEVENT
BEGIN:VEVENT
DTSTART;TZID=America/Chicago:20240420T083000
DTEND;TZID=America/Chicago:20240420T100000
DTSTAMP:20260423T225639
CREATED:20190203T134305Z
LAST-MODIFIED:20240420T184312Z
UID:10001856-1713601800-1713607200@www.racetime.info
SUMMARY:Frog Hop Five 5K Run/Walk
DESCRIPTION:Frog Hop Five 5K Age Group Results\n\nFrog Hop Five 5K Overall Results
URL:https://www.racetime.info/event/copy-of-frog-hop-five-5k-run-walk-2/
LOCATION:Foster Park\, South Benton St & East Jasper Street\, Goodland\, IN\, 47948\, United States
CATEGORIES:2024-04 Results (April)
ORGANIZER;CN="Diane Costello":MAILTO:d-n-costello@sbcglobal.net
END:VEVENT
BEGIN:VEVENT
DTSTART;TZID=America/Chicago:20240420T080000
DTEND;TZID=America/Chicago:20240420T100000
DTSTAMP:20260423T225639
CREATED:20230307T220919Z
LAST-MODIFIED:20240420T201850Z
UID:10002156-1713600000-1713607200@www.racetime.info
SUMMARY:Drug-Free Dash 5K & 2 Mile Walk
DESCRIPTION:Drug Free Dash 2M Overall Results\n\nDrug Free Dash 5K Age Group Results\n\nDrug Free Dash 5K Overall Results
URL:https://www.racetime.info/event/copy-of-drug-free-dash-5k-2-mile-walk/
LOCATION:Gail Borden Library\, 270 N. Grove Avenue\, Elgin\, illinois
CATEGORIES:2024-04 Results (April)
ORGANIZER;CN="Nicole Wheatley":MAILTO:cshelgin@gmail.com
END:VEVENT
BEGIN:VEVENT
DTSTART;TZID=America/Chicago:20240420T073000
DTEND;TZID=America/Chicago:20240420T100000
DTSTAMP:20260423T225639
CREATED:20240204T231456Z
LAST-MODIFIED:20240420T184201Z
UID:10002209-1713598200-1713607200@www.racetime.info
SUMMARY:KC Kicker 5K Run/Walk & 2K Kids Run
DESCRIPTION:KC Kicker Youth 2K Overall Results\n\nKC Kicker 5K Overall Results
URL:https://www.racetime.info/event/kc-kicker-5k-run-walk-2k-kids-run/
LOCATION:St. Mary Immaculate School Plainfield\, 15609 South Route 59\, Plainfield\, IL\, 60544\, United States
CATEGORIES:2024-04 Results (April)
ORGANIZER;CN="Tom Brady":MAILTO:tbrady7202@aol.com
END:VEVENT
BEGIN:VEVENT
DTSTART;TZID=America/Chicago:20240414T090000
DTEND;TZID=America/Chicago:20240414T103000
DTSTAMP:20260423T225639
CREATED:20170209T023023Z
LAST-MODIFIED:20240414T185844Z
UID:10001002-1713085200-1713090600@www.racetime.info
SUMMARY:Mustang Trot 5K Run/Walk
DESCRIPTION:Mustang Trot 5K Age Group Results\n\nMustang Trot 5K Overall Results\n\nMustang Trot Team Results
URL:https://www.racetime.info/event/copy-of-mustang-trot-5k-run-walk-2/
LOCATION:Downers Grove South High School\, 1436 Norfolk Street\, Downers Grove\, IL\, 60515\, United States
CATEGORIES:2024-04 Results (April)
ORGANIZER;CN="Amy Klug":MAILTO:aklug@csd99.org
GEO:41.771175;-88.020645
X-APPLE-STRUCTURED-LOCATION;VALUE=URI;X-ADDRESS=Downers Grove South High School 1436 Norfolk Street Downers Grove IL 60515 United States;X-APPLE-RADIUS=500;X-TITLE=1436 Norfolk Street:geo:-88.020645,41.771175
END:VEVENT
BEGIN:VEVENT
DTSTART;TZID=America/Chicago:20240407T080000
DTEND;TZID=America/Chicago:20240407T110000
DTSTAMP:20260423T225639
CREATED:20221230T131557Z
LAST-MODIFIED:20240407T155927Z
UID:10001321-1712476800-1712487600@www.racetime.info
SUMMARY:Chauncey's 4 at the Farm
DESCRIPTION:Chauncey’s 4 at the Farm Age Group Results\n\nChauncey’s 4 at the Farm Overall Results
URL:https://www.racetime.info/event/copy-of-chaunceys-4-at-the-farm/
LOCATION:St. James Farm\, 2S541 Winfield Road\, Warrenville\, IL\, 60555\, United States
CATEGORIES:2024-04 Results (April)
ORGANIZER;CN="Wayne Haworth":MAILTO:wayne@dickpondathletics.com
GEO:41.835209;-88.1636
X-APPLE-STRUCTURED-LOCATION;VALUE=URI;X-ADDRESS=St. James Farm 2S541 Winfield Road Warrenville IL 60555 United States;X-APPLE-RADIUS=500;X-TITLE=2S541 Winfield Road:geo:-88.1636,41.835209
END:VEVENT
BEGIN:VEVENT
DTSTART;TZID=America/Chicago:20240406T085000
DTEND;TZID=America/Chicago:20240406T100000
DTSTAMP:20260423T225639
CREATED:20240402T212437Z
LAST-MODIFIED:20240407T162223Z
UID:10002220-1712393400-1712397600@www.racetime.info
SUMMARY:Farm to Farm 5K/10K & Kids Fun Run
DESCRIPTION:Farm to Farm 5K Age Group Results\n\nFarm to Farm 5K Overall Results\n\nFarm to Farm 10K Age Group Results\n\nFarm to Farm 10K Overall Results
URL:https://www.racetime.info/event/farm-to-farm-5k-10k-kids-fun-run/
LOCATION:Kent Farms\, 12662 N. Christian Hollow Road\, Winslow\, IL\, 61089\, United States
CATEGORIES:2024-04 Results (April)
ORGANIZER;CN="Victoria Hanson":MAILTO:manager@stephensoncfb.org
END:VEVENT
END:VCALENDAR