BEGIN:VCALENDAR
VERSION:2.0
PRODID:-//Race Time - ECPv6.15.13//NONSGML v1.0//EN
CALSCALE:GREGORIAN
METHOD:PUBLISH
X-WR-CALNAME:Race Time
X-ORIGINAL-URL:https://www.racetime.info
X-WR-CALDESC:Events for Race Time
REFRESH-INTERVAL;VALUE=DURATION:PT1H
X-Robots-Tag:noindex
X-PUBLISHED-TTL:PT1H
BEGIN:VTIMEZONE
TZID:America/Chicago
BEGIN:DAYLIGHT
TZOFFSETFROM:-0600
TZOFFSETTO:-0500
TZNAME:CDT
DTSTART:20230312T080000
END:DAYLIGHT
BEGIN:STANDARD
TZOFFSETFROM:-0500
TZOFFSETTO:-0600
TZNAME:CST
DTSTART:20231105T070000
END:STANDARD
BEGIN:DAYLIGHT
TZOFFSETFROM:-0600
TZOFFSETTO:-0500
TZNAME:CDT
DTSTART:20240310T080000
END:DAYLIGHT
BEGIN:STANDARD
TZOFFSETFROM:-0500
TZOFFSETTO:-0600
TZNAME:CST
DTSTART:20241103T070000
END:STANDARD
BEGIN:DAYLIGHT
TZOFFSETFROM:-0600
TZOFFSETTO:-0500
TZNAME:CDT
DTSTART:20250309T080000
END:DAYLIGHT
BEGIN:STANDARD
TZOFFSETFROM:-0500
TZOFFSETTO:-0600
TZNAME:CST
DTSTART:20251102T070000
END:STANDARD
END:VTIMEZONE
BEGIN:VEVENT
DTSTART;TZID=America/Chicago:20240629T083000
DTEND;TZID=America/Chicago:20240629T103000
DTSTAMP:20260424T012509
CREATED:20230524T120817Z
LAST-MODIFIED:20240629T181208Z
UID:10002176-1719649800-1719657000@www.racetime.info
SUMMARY:Footsteps for Families 5K & 1 Mile Run/Walk
DESCRIPTION:Footsteps for Families 5K Age Group Results\n\nFootsteps for Families 5K Overall Results
URL:https://www.racetime.info/event/copy-of-footsteps-for-families-5k-1-mile-run-walk/
LOCATION:Busse Wood Grove 5\, Higgins Road (just west of Arlington Heights Road)\, Elk Grove Village\, IL\, United States
CATEGORIES:2024-06 Results (June)
ORGANIZER;CN="Sharon Fulgenzi":MAILTO:sharonf@safefamilies.net
END:VEVENT
BEGIN:VEVENT
DTSTART;TZID=America/Chicago:20240629T073000
DTEND;TZID=America/Chicago:20240629T093000
DTSTAMP:20260424T012509
CREATED:20220413T001947Z
LAST-MODIFIED:20240629T180939Z
UID:10001296-1719646200-1719653400@www.racetime.info
SUMMARY:Land We Love 2M Walk; 5K Run/Walk & 10K Run
DESCRIPTION:Land We Love 2 Mile Overall Results\n\nLand We Love 5K Age Group Results\n\nLand We Love 5K Overall Results\n\nLand We Love 10K Age Group Results\n\nLand We Love 10K Overall Results
URL:https://www.racetime.info/event/copy-of-land-we-love-5k-run-walk-10k-run-2/
LOCATION:Cuba Township Offices\, 28000 West Cuba Road\, Barringtn\, IL\, 60010\, United States
CATEGORIES:2024-06 Results (June)
ORGANIZER;CN="Anna Paul":MAILTO:village@vbhil.gov
END:VEVENT
BEGIN:VEVENT
DTSTART;TZID=America/Chicago:20240623T073000
DTEND;TZID=America/Chicago:20240623T093000
DTSTAMP:20260424T012509
CREATED:20210525T191802Z
LAST-MODIFIED:20240624T114905Z
UID:10001168-1719127800-1719135000@www.racetime.info
SUMMARY:McHenry County Patriot Run 10K; 5K & 1 Mile Run/Walk
DESCRIPTION:Patriot 5K Age Group Results\n\nPatriot 5K Overall Results\n\nPatriot 10K Age Group Results\n\nPatriot 10K Overall Results\n\nPatriot 1 Mile Overall Results
URL:https://www.racetime.info/event/copy-of-mchenry-county-patriot-run-5m-5k-1-mile-run-walk-3/
LOCATION:Veterans Acres Park\, 431 Walkup Road\, Crystal Lake\, IL\, 60014\, United States
CATEGORIES:2024-06 Results (June)
ORGANIZER;CN="Trudy Wakeman":MAILTO:trudywakeman@gmail.com
GEO:42.25217;-88.3183449
X-APPLE-STRUCTURED-LOCATION;VALUE=URI;X-ADDRESS=Veterans Acres Park 431 Walkup Road Crystal Lake IL 60014 United States;X-APPLE-RADIUS=500;X-TITLE=431 Walkup Road:geo:-88.3183449,42.25217
END:VEVENT
BEGIN:VEVENT
DTSTART;TZID=America/Chicago:20240622T083000
DTEND;TZID=America/Chicago:20240622T100000
DTSTAMP:20260424T012509
CREATED:20170124T202720Z
LAST-MODIFIED:20240622T172730Z
UID:10000877-1719045000-1719050400@www.racetime.info
SUMMARY:JOURNEYS: Superhero 5K Run/Walk & 1 Mile Youth Run
DESCRIPTION:JOURNEYS 1M Overall Results\n\nJOURNEYS 5K Age Group Results\n\nJOURNEYS 5K Overall Results
URL:https://www.racetime.info/event/copy-of-journeys-superhero-5k-run-walk-1-mile-youth-run-3/
LOCATION:Deer Grove East Forest Preserve\, 100 West Dundee\, Palatine\, IL\, 60074\, United States
CATEGORIES:2024-06 Results (June)
ORGANIZER;CN="Kate Hassemer":MAILTO:k.hassemer@journeystheroadhome.org
GEO:42.143126;-88.0144015
X-APPLE-STRUCTURED-LOCATION;VALUE=URI;X-ADDRESS=Deer Grove East Forest Preserve 100 West Dundee Palatine IL 60074 United States;X-APPLE-RADIUS=500;X-TITLE=100 West Dundee:geo:-88.0144015,42.143126
END:VEVENT
BEGIN:VEVENT
DTSTART;TZID=America/Chicago:20240622T081500
DTEND;TZID=America/Chicago:20240622T100000
DTSTAMP:20260424T012509
CREATED:20170303T144838Z
LAST-MODIFIED:20240622T172612Z
UID:10001121-1719044100-1719050400@www.racetime.info
SUMMARY:Shopping Cart Shuffle 5K Run & Kids Fun Run
DESCRIPTION:Shopping Cart Shuffle 5K Age Group Results\n\nShopping Cart Shuffle 5K Overall Results\n\nShopping Cart Shuffle Team Results
URL:https://www.racetime.info/event/copy-of-shopping-cart-shuffle-5k-run-kids-fun-run/
LOCATION:Mallard Lake Forest Preserve\, Schick Road & Mallard Lane\, Bloomingdae\, IL\, 60172\, United States
CATEGORIES:2024-06 Results (June)
ORGANIZER;CN="Elizabeth Zrelak":MAILTO:elizabeth@neighborhoodfp.org
GEO:41.9527902;-88.1282465
X-APPLE-STRUCTURED-LOCATION;VALUE=URI;X-ADDRESS=Mallard Lake Forest Preserve Schick Road & Mallard Lane Bloomingdae IL 60172 United States;X-APPLE-RADIUS=500;X-TITLE=Schick Road & Mallard Lane:geo:-88.1282465,41.9527902
END:VEVENT
BEGIN:VEVENT
DTSTART;TZID=America/Chicago:20240622T080000
DTEND;TZID=America/Chicago:20240623T093000
DTSTAMP:20260424T012509
CREATED:20180615T122653Z
LAST-MODIFIED:20240623T165545Z
UID:10000981-1719043200-1719135000@www.racetime.info
SUMMARY:Furry Friends 5K Run & 1 Mile Walk
DESCRIPTION:Furry Friends 5K Age Group Results\n\nFurry Friends 5k Overall Results
URL:https://www.racetime.info/event/copy-of-furry-friends-5k-run-1-mile-walk-2/
LOCATION:Old School Forest Preserve\, St. Mary's Road\, Libertyville\, IL\, 60048\, United States
CATEGORIES:2024-06 Results (June)
ORGANIZER;CN="Stacy Ellington":MAILTO:development.manager@saveapetil.org
GEO:42.2902329;-87.9248759
X-APPLE-STRUCTURED-LOCATION;VALUE=URI;X-ADDRESS=Old School Forest Preserve St. Mary's Road Libertyville IL 60048 United States;X-APPLE-RADIUS=500;X-TITLE=St. Mary's Road:geo:-87.9248759,42.2902329
END:VEVENT
BEGIN:VEVENT
DTSTART;TZID=America/Chicago:20240622T070000
DTEND;TZID=America/Chicago:20240622T103000
DTSTAMP:20260424T012509
CREATED:20210525T190707Z
LAST-MODIFIED:20240624T113556Z
UID:10001163-1719039600-1719052200@www.racetime.info
SUMMARY:Miles for Maddog 5K Run/Walk and 10K Run
DESCRIPTION:Miles for Maddog 5K Age Group Results\n\nMiles for Maddog 5K Overall Results\n\nMiles for Maddog 10K Age Group Results\n\nMiles for Maddog 10K Overall Results
URL:https://www.racetime.info/event/copy-of-miles-for-maddog-5k-run-walk-and-10k-run-3/
LOCATION:Lincoln Way North High School\, 19900 S. Harlem Avenue\, Frankfort\, IL\, 60423\, United States
CATEGORIES:2024-06 Results (June)
ORGANIZER;CN="Cyndi Grobmeier":MAILTO:cyndi@maddogstrong.org
GEO:41.5260813;-87.795022
X-APPLE-STRUCTURED-LOCATION;VALUE=URI;X-ADDRESS=Lincoln Way North High School 19900 S. Harlem Avenue Frankfort IL 60423 United States;X-APPLE-RADIUS=500;X-TITLE=19900 S. Harlem Avenue:geo:-87.795022,41.5260813
END:VEVENT
BEGIN:VEVENT
DTSTART;TZID=America/Chicago:20240616T083000
DTEND;TZID=America/Chicago:20240616T103000
DTSTAMP:20260424T012509
CREATED:20230501T234453Z
LAST-MODIFIED:20240616T161217Z
UID:10002168-1718526600-1718533800@www.racetime.info
SUMMARY:Hustle for the Heroes 5K Run/Walk
DESCRIPTION:Hustle for the Heroes 5K Age Group Results\n\nHustle for the Heroes 5K Overall Results
URL:https://www.racetime.info/event/copy-of-hustle-for-the-heroes-5k-run-walk/
LOCATION:St. Laurence High School\, 5556 W. 77th Street\, Burbank\, IL\, 60459\, United States
CATEGORIES:2024-06 Results (June)
ORGANIZER;CN="Kristy Kane":MAILTO:vikings@stlaurence.com
END:VEVENT
BEGIN:VEVENT
DTSTART;TZID=America/Chicago:20240616T080000
DTEND;TZID=America/Chicago:20240616T100000
DTSTAMP:20260424T012509
CREATED:20170317T115948Z
LAST-MODIFIED:20240621T113720Z
UID:10001251-1718524800-1718532000@www.racetime.info
SUMMARY:Daisy Dash 5K Run/Walk & 1K Kids Dash
DESCRIPTION:Daisy Dash 1K Age Group Results\n\nDaisy Dash 1K Overall Results\n\nNote:  Age group results are for reference only.  Top three overall male/female and top three 10 and under boys/girls were the only awards recognized in the 5K.\nDaisy Dash 5K Age Group Results\n\nDaisy Dash 5K Overall Results
URL:https://www.racetime.info/event/copy-of-daisy-dash-5k-run-walk-1k-kids-dash-3/
LOCATION:Downtown Clarendon Hills\, IL\, South Prospect Avenue\, Clarendon Hills\, IL\, 60514\, United States
CATEGORIES:2024-06 Results (June)
ORGANIZER;CN="Greg Foster":MAILTO:daisydash@comcast.net
GEO:41.7930315;-87.9521828
X-APPLE-STRUCTURED-LOCATION;VALUE=URI;X-ADDRESS=Downtown Clarendon Hills IL South Prospect Avenue Clarendon Hills IL 60514 United States;X-APPLE-RADIUS=500;X-TITLE=South Prospect Avenue:geo:-87.9521828,41.7930315
END:VEVENT
BEGIN:VEVENT
DTSTART;TZID=America/Chicago:20240615T090000
DTEND;TZID=America/Chicago:20240615T113000
DTSTAMP:20260424T012509
CREATED:20220801T183211Z
LAST-MODIFIED:20240618T202659Z
UID:10002135-1718442000-1718451000@www.racetime.info
SUMMARY:Vernon Hill Mighty Kids Youth Triathlon
DESCRIPTION:Mighty Kids 6 and 7 Age Group Results\n\nMighty Kids 6 to 7 Overall Results\n\nMighty Kids 8 to 12 Age Group Results\n\nMighty Kids 8 to 10 Overall Results\n\nMighty Kids 11 to 12 Overall Results
URL:https://www.racetime.info/event/copy-of-vernon-hill-mighty-kids-youth-triathlon-2/
LOCATION:Vernon Hills Park District\, 700 Lakeview Parkway\, Vernon Hills\, IL\, 60061\, United States
CATEGORIES:2024-06 Results (June)
ORGANIZER;CN="Heather Rabbitt":MAILTO:heatherr@vhparkdistrict.org
GEO:42.236739;-87.957314
X-APPLE-STRUCTURED-LOCATION;VALUE=URI;X-ADDRESS=Vernon Hills Park District 700 Lakeview Parkway Vernon Hills IL 60061 United States;X-APPLE-RADIUS=500;X-TITLE=700 Lakeview Parkway:geo:-87.957314,42.236739
END:VEVENT
BEGIN:VEVENT
DTSTART;TZID=America/Chicago:20240609T080000
DTEND;TZID=America/Chicago:20240609T103000
DTSTAMP:20260424T012509
CREATED:20210413T141537Z
LAST-MODIFIED:20240609T165605Z
UID:10001981-1717920000-1717929000@www.racetime.info
SUMMARY:Hickory Knolls Trail Run 5K/10K
DESCRIPTION:Hickory Knolls 5K Age Group Results\n\nHickory Knolls 5K Overall Results\n\nHickory Knolls 10K Age Group Results\n\nHickory Knolls 10K Overall Results\n\nHickory Knolls Relay Team Results
URL:https://www.racetime.info/event/copy-of-hickory-knolls-trail-run-relay-5k-10k-3/
LOCATION:Hickory Knolls Discovery Center\, 3795 Campton Hills Dr\, St. Charles\, IL\, 60175\, United States
CATEGORIES:2024-06 Results (June)
ORGANIZER;CN="Wayne Haworth":MAILTO:wayne@dickpondathletics.com
END:VEVENT
BEGIN:VEVENT
DTSTART;TZID=America/Chicago:20240608T080000
DTEND;TZID=America/Chicago:20240608T100000
DTSTAMP:20260424T012509
CREATED:20240502T111026Z
LAST-MODIFIED:20240608T210202Z
UID:10001399-1717833600-1717840800@www.racetime.info
SUMMARY:CASA Color Run 5K
DESCRIPTION:CASA Color Run 5K Age Group Results\n\nCASA Color Run 5K Overall Results
URL:https://www.racetime.info/event/casa-color-run-5k/
LOCATION:Sycamore Middle School\, 150 Maplewood Drive\, Sycamore\, IL\, 60178\, United States
CATEGORIES:2024-06 Results (June)
ORGANIZER;CN="Michelle Wilder":MAILTO:mwilder213@gmail.com
END:VEVENT
BEGIN:VEVENT
DTSTART;TZID=America/Chicago:20240601T090000
DTEND;TZID=America/Chicago:20240601T103000
DTSTAMP:20260424T012509
CREATED:20230316T102037Z
LAST-MODIFIED:20240601T170506Z
UID:10001341-1717232400-1717237800@www.racetime.info
SUMMARY:Glazin' The Trail 5K Family Run/Walk
DESCRIPTION:Glazin the Trail 2K Overall Results\n\nGlazin The Trail 5K Overall Results
URL:https://www.racetime.info/event/copy-of-glazin-the-trail-5k-family-run-walk/
LOCATION:Kankakee Community College\, 100 College Drive\, Kankakee\, IL\, 60901\, United States
CATEGORIES:2024-06 Results (June)
ORGANIZER;CN="Derek Schultz":MAILTO:dschultz@cc-doj.org
END:VEVENT
BEGIN:VEVENT
DTSTART;TZID=America/Chicago:20240601T090000
DTEND;TZID=America/Chicago:20240601T103000
DTSTAMP:20260424T012509
CREATED:20190227T134554Z
LAST-MODIFIED:20240601T170356Z
UID:10001858-1717232400-1717237800@www.racetime.info
SUMMARY:SPS Run For Life 5K Run/Walk
DESCRIPTION:SPS Run For Life 5K Age Group Results\n\nSPS Run For Life 5K Overall Results
URL:https://www.racetime.info/event/copy-of-sps-run-for-life-5k-run-walk-3/
LOCATION:Laurelwood Park\, 800 North River Street\, Batavia\, IL\, 60510\, United States
CATEGORIES:2024-06 Results (June)
ORGANIZER;CN="Amanda Vancura":MAILTO:amanda.vancura@gmail.com
END:VEVENT
BEGIN:VEVENT
DTSTART;TZID=America/Chicago:20240601T083000
DTEND;TZID=America/Chicago:20240601T100000
DTSTAMP:20260424T012509
CREATED:20210525T183055Z
LAST-MODIFIED:20240601T202015Z
UID:10001170-1717230600-1717236000@www.racetime.info
SUMMARY:Waubonsee Foundation 5K/10K Trail Run
DESCRIPTION:Waubonsee 5K Overall Results\n\nWaubonsee 10K Overall Results
URL:https://www.racetime.info/event/copy-of-waubonsee-foundation-5k-10k-trail-run/
LOCATION:Waubonsee Community College\, Route 47 @ Waubonsee Drive\, Sugar Grove\, IL\, 60554\, United States
CATEGORIES:2024-06 Results (June)
ORGANIZER;CN="Stephanie Carreno":MAILTO:scarreno@waubonsee.edu
END:VEVENT
BEGIN:VEVENT
DTSTART;TZID=America/Chicago:20240601T080000
DTEND;TZID=America/Chicago:20240601T100000
DTSTAMP:20260424T012509
CREATED:20190910T123449Z
LAST-MODIFIED:20240601T170124Z
UID:10001919-1717228800-1717236000@www.racetime.info
SUMMARY:Gigi's Playhouse GiGiFit Acceptance Challenge 5K & 1 Mile Run/Walk
DESCRIPTION:Gigi’s 5K Age Group Results\n\nGigi’s 5K Overall Results
URL:https://www.racetime.info/event/copy-of-gigis-playhouse-gigifit-acceptance-challenge-5k-1-mile-run-walk/
LOCATION:Centennial Park Orland Park\, 10401 W\, 153rd Street\, Orland Park\, IL\, 60467\, United States
CATEGORIES:2024-06 Results (June)
ORGANIZER;CN="Nick Chesna":MAILTO:nchesna@gigisplayhouse.org
END:VEVENT
END:VCALENDAR