BEGIN:VCALENDAR
VERSION:2.0
PRODID:-//Race Time - ECPv6.15.13//NONSGML v1.0//EN
CALSCALE:GREGORIAN
METHOD:PUBLISH
X-WR-CALNAME:Race Time
X-ORIGINAL-URL:https://www.racetime.info
X-WR-CALDESC:Events for Race Time
REFRESH-INTERVAL;VALUE=DURATION:PT1H
X-Robots-Tag:noindex
X-PUBLISHED-TTL:PT1H
BEGIN:VTIMEZONE
TZID:America/Chicago
BEGIN:DAYLIGHT
TZOFFSETFROM:-0600
TZOFFSETTO:-0500
TZNAME:CDT
DTSTART:20230312T080000
END:DAYLIGHT
BEGIN:STANDARD
TZOFFSETFROM:-0500
TZOFFSETTO:-0600
TZNAME:CST
DTSTART:20231105T070000
END:STANDARD
BEGIN:DAYLIGHT
TZOFFSETFROM:-0600
TZOFFSETTO:-0500
TZNAME:CDT
DTSTART:20240310T080000
END:DAYLIGHT
BEGIN:STANDARD
TZOFFSETFROM:-0500
TZOFFSETTO:-0600
TZNAME:CST
DTSTART:20241103T070000
END:STANDARD
BEGIN:DAYLIGHT
TZOFFSETFROM:-0600
TZOFFSETTO:-0500
TZNAME:CDT
DTSTART:20250309T080000
END:DAYLIGHT
BEGIN:STANDARD
TZOFFSETFROM:-0500
TZOFFSETTO:-0600
TZNAME:CST
DTSTART:20251102T070000
END:STANDARD
END:VTIMEZONE
BEGIN:VTIMEZONE
TZID:America/Indiana/Indianapolis
BEGIN:DAYLIGHT
TZOFFSETFROM:-0500
TZOFFSETTO:-0400
TZNAME:EDT
DTSTART:20230312T070000
END:DAYLIGHT
BEGIN:STANDARD
TZOFFSETFROM:-0400
TZOFFSETTO:-0500
TZNAME:EST
DTSTART:20231105T060000
END:STANDARD
BEGIN:DAYLIGHT
TZOFFSETFROM:-0500
TZOFFSETTO:-0400
TZNAME:EDT
DTSTART:20240310T070000
END:DAYLIGHT
BEGIN:STANDARD
TZOFFSETFROM:-0400
TZOFFSETTO:-0500
TZNAME:EST
DTSTART:20241103T060000
END:STANDARD
BEGIN:DAYLIGHT
TZOFFSETFROM:-0500
TZOFFSETTO:-0400
TZNAME:EDT
DTSTART:20250309T070000
END:DAYLIGHT
BEGIN:STANDARD
TZOFFSETFROM:-0400
TZOFFSETTO:-0500
TZNAME:EST
DTSTART:20251102T060000
END:STANDARD
END:VTIMEZONE
BEGIN:VEVENT
DTSTART;TZID=America/Chicago:20240728T080000
DTEND;TZID=America/Chicago:20240728T100000
DTSTAMP:20260423T210934
CREATED:20170425T131515Z
LAST-MODIFIED:20240728T184508Z
UID:10001351-1722153600-1722160800@www.racetime.info
SUMMARY:Algonquin "Let's Go To The Movies" 10K Run\, 5K Run/Walk & Youth 1 Mile Fun Run
DESCRIPTION:Algonquin Let’s Go To The Movies Youth 1 Mile Results\n\nAlgonquin Let’s Go To The Movies 5K Age Group Results\n\nAlgonquin Let’s Go To The Movies 5K Overall Results\n\nAlgonquin Let’s Go To The Movies 10K Age Group Results\n\nAlgonquin Let’s Go To The Movies 10K Overall Results
URL:https://www.racetime.info/event/copy-of-algonquin-founders-day-10k-run-5k-run-walk-youth-1-mile-fun-run-2/
LOCATION:Algonquin Middle School\, 520 Longwood Drive\, Algonquin\, IL\, 60102\, United States
CATEGORIES:2024-07 Results (July)
ORGANIZER;CN="Cheryl Hagen":MAILTO:foundersrun1@yahoo.com
GEO:42.1583261;-88.2831554
X-APPLE-STRUCTURED-LOCATION;VALUE=URI;X-ADDRESS=Algonquin Middle School 520 Longwood Drive Algonquin IL 60102 United States;X-APPLE-RADIUS=500;X-TITLE=520 Longwood Drive:geo:-88.2831554,42.1583261
END:VEVENT
BEGIN:VEVENT
DTSTART;TZID=America/Chicago:20240728T073000
DTEND;TZID=America/Chicago:20240728T100000
DTSTAMP:20260423T210934
CREATED:20210719T155207Z
LAST-MODIFIED:20240730T120824Z
UID:10002002-1722151800-1722160800@www.racetime.info
SUMMARY:Crystal Lake Aquathon
DESCRIPTION:CL Aquathon Olympic Age Group Results\n\nCL Aquathon Olympic Overall Results\n\nCL Aquathon Adaptive Results\n\nCL Aquathon Sprint Age Group Results\n\nCL Aquathon Sprint Overall Results\n\nCL Aquathon Relay Team Results\n\nCL Aquathon 2 Mile Age Group Results\n\nCL Aquathon 2 Mile Overall Results\n\nCL Aquathon 1 Mile Overall Results\n\nCL Aquathon Kids Race
URL:https://www.racetime.info/event/copy-of-crystal-lake-aquathon-3/
LOCATION:Three Oakes Recreation Area\, 5517 Northwest Highway\, Crystal Lake\, IL\, 60014\, United States
CATEGORIES:2024-07 Results (July)
END:VEVENT
BEGIN:VEVENT
DTSTART;TZID=America/Chicago:20240728T063000
DTEND;TZID=America/Chicago:20240728T100000
DTSTAMP:20260423T210934
CREATED:20230529T120038Z
LAST-MODIFIED:20240729T115000Z
UID:10001358-1722148200-1722160800@www.racetime.info
SUMMARY:Splash * Pedal * Dash Triathlon
DESCRIPTION:Schaumburg Triathlon Age Group Results\n\nSchaumburg Triathlon Overall Results
URL:https://www.racetime.info/event/copy-of-splash-pedal-dash-triathlon/
LOCATION:Meineke Recreation Center/Pool\, 220 E. Weathersfield Way\, Schaumburg\, IL\, United States
CATEGORIES:2024-07 Results (July)
ORGANIZER;CN="Stacy Johnson":MAILTO:stjohnson@parkfun.com
END:VEVENT
BEGIN:VEVENT
DTSTART;TZID=America/Chicago:20240720T090000
DTEND;TZID=America/Chicago:20240720T103000
DTSTAMP:20260423T210934
CREATED:20230529T112525Z
LAST-MODIFIED:20240720T175113Z
UID:10001368-1721466000-1721471400@www.racetime.info
SUMMARY:Celebrate Highwood Taco Fest 5K Family Run\, Walk & Stroll
DESCRIPTION:Celebrate Highwood Taco Fest 5K Age Group Results\n\nCelebrate Highwood Taco Fest 5K Overall Results
URL:https://www.racetime.info/event/copy-of-celebrate-highwood-taco-fest-5k-family-run-walk-stroll/
LOCATION:Billy’s Garage\, 401 Sheridan Road\, Highwood\, IL\, 60040\, United States
CATEGORIES:2024-07 Results (July)
ORGANIZER;CN="Syd Saks":MAILTO:info@celebratehighwood.org
END:VEVENT
BEGIN:VEVENT
DTSTART;TZID=America/Chicago:20240720T080000
DTEND;TZID=America/Chicago:20240720T100000
DTSTAMP:20260423T210934
CREATED:20170613T192906Z
LAST-MODIFIED:20240724T204237Z
UID:10001478-1721462400-1721469600@www.racetime.info
SUMMARY:Splashes\, Dashes & Spokes Youth Triathlon
DESCRIPTION:Splashes Dashes and Spokes\n\nSplashes Dashes and Spokes Overall No Bike
URL:https://www.racetime.info/event/copy-of-splashes-dashes-spokes-youth-triathlon-3/
LOCATION:James O’Breen Community Park\, Campton Hills Road & Peck Road\, St. Charles\, IL\, 60174\, United States
CATEGORIES:2024-07 Results (July)
ORGANIZER;CN="Rosie Edwards":MAILTO:redwards@stcparks.org
GEO:41.9135899;-88.3601517
X-APPLE-STRUCTURED-LOCATION;VALUE=URI;X-ADDRESS=James O’Breen Community Park Campton Hills Road & Peck Road St. Charles IL 60174 United States;X-APPLE-RADIUS=500;X-TITLE=Campton Hills Road & Peck Road:geo:-88.3601517,41.9135899
END:VEVENT
BEGIN:VEVENT
DTSTART;TZID=America/Chicago:20240713T070000
DTEND;TZID=America/Chicago:20240713T083000
DTSTAMP:20260423T210934
CREATED:20170410T213134Z
LAST-MODIFIED:20240713T151440Z
UID:10000552-1720854000-1720859400@www.racetime.info
SUMMARY:Bristol Progress Days 5K Run & 1.5 Mile Walk
DESCRIPTION:Bristol Progress Days 5K Age Group Results\n\nBristol Progress Days 5K Overall Results\n\nBristol Progress Days 5K Wheelers
URL:https://www.racetime.info/event/copy-of-bristol-progress-days-5k-run-1-5-mile-walk-4/
LOCATION:Bristol Village Hall\, 19801 83rd Street\, Bristol\, WI\, United States
CATEGORIES:2024-07 Results (July)
ORGANIZER;CN="Rachael Muhlenbeck Miskie":MAILTO:muhlenbeck3@yahoo.com
END:VEVENT
BEGIN:VEVENT
DTSTART;TZID=America/Chicago:20240704T080000
DTEND;TZID=America/Chicago:20240704T170000
DTSTAMP:20260423T210934
CREATED:20240417T000318Z
LAST-MODIFIED:20240705T202207Z
UID:10002221-1720080000-1720112400@www.racetime.info
SUMMARY:Bulldog Bolt 5K & 1 Mile Run/Walk
DESCRIPTION:Bulldog Bolt 5K Age Group Results\n\nBulldog Bolt 5K Overall Results
URL:https://www.racetime.info/event/bulldog-bolt-5k-1-mile-run-walk/
LOCATION:Nick Saelens Memorial Park\, S. Center Street\, Durand\, IL\, 61024\, United States
CATEGORIES:2024-07 Results (July)
ORGANIZER;CN="Michael Langley":MAILTO:bulldogbolt5k@gmail.com
END:VEVENT
BEGIN:VEVENT
DTSTART;TZID=America/Indiana/Indianapolis:20240704T080000
DTEND;TZID=America/Indiana/Indianapolis:20240704T100000
DTSTAMP:20260423T210934
CREATED:20190523T114939Z
LAST-MODIFIED:20240704T160205Z
UID:10001886-1720080000-1720087200@www.racetime.info
SUMMARY:Fowler Fireworks Frenzy 5K Run/Walk
DESCRIPTION:Fowler Fireworks Frenzy 5K Age Group Results\n\nFowler Fireworks Frenzy 5K Overall Results
URL:https://www.racetime.info/event/copy-of-fowler-fireworks-frenzy-5k-run-walk-3/
LOCATION:Fowler Town Park\, 302 S. Fowler Town Park Drive\, Fowler\, IN\, 47944\, United States
CATEGORIES:2024-07 Results (July)
ORGANIZER;CN="Diane Costello":MAILTO:d-n-costello@sbcglobal.net
END:VEVENT
BEGIN:VEVENT
DTSTART;TZID=America/Chicago:20240704T080000
DTEND;TZID=America/Chicago:20240704T093000
DTSTAMP:20260423T210934
CREATED:20210625T020324Z
LAST-MODIFIED:20240710T205121Z
UID:10001996-1720080000-1720085400@www.racetime.info
SUMMARY:Freedom Classic 5K Run/Walk
DESCRIPTION:Freedom Classic 5K Age Group Results\n\nFreedom Classic 5K Overall Results\n\nPlease Note:  If you do not see your time listed please contact racetime21@hotmail.com directly with your bib number and approximate finish time.  We apologize for any inconvenience.
URL:https://www.racetime.info/event/copy-of-freedom-classic-5k-run-walk-2/
LOCATION:Keith Mione Community Park\, 1401 Midlothian Road\, Mundelein\, IL\, 60060\, United States
CATEGORIES:2024-07 Results (July)
ORGANIZER;CN="Kelsey Fuller":MAILTO:kfuller@mundeleinparks.org
END:VEVENT
BEGIN:VEVENT
DTSTART;TZID=America/Chicago:20240704T080000
DTEND;TZID=America/Chicago:20240704T093000
DTSTAMP:20260423T210934
CREATED:20170613T120059Z
LAST-MODIFIED:20240704T160049Z
UID:10001467-1720080000-1720085400@www.racetime.info
SUMMARY:Deerfield Rotary Club 5K Run/Walk
DESCRIPTION:Deerfield Rotary 5K Age Group Results\n\nDeerfield Rotary 5K Overall Results
URL:https://www.racetime.info/event/copy-of-deerfield-rotary-club-5k-run-walk/
LOCATION:Maplewood Park\, 900 Clay Court\, Deerfield\, IL\, 60015\, United States
CATEGORIES:2024-07 Results (July)
ORGANIZER;CN="Victoria Street":MAILTO:victoriastreet@dbrchamber.com
END:VEVENT
BEGIN:VEVENT
DTSTART;TZID=America/Chicago:20240704T073000
DTEND;TZID=America/Chicago:20240705T090000
DTSTAMP:20260423T210934
CREATED:20170613T174104Z
LAST-MODIFIED:20240705T201927Z
UID:10000649-1720078200-1720170000@www.racetime.info
SUMMARY:Liberty Loop 5K Run/Walk
DESCRIPTION:Liberty Loop 5K Age Group Results\n\nLiberty Loop 5K Overall Results
URL:https://www.racetime.info/event/copy-of-liberty-loop-5k-run-walk-3/
LOCATION:Techny Prairie Activity Center\, 180 Anets Drive\, Northbrook\, IL\, 60062\, United States
CATEGORIES:2024-07 Results (July)
ORGANIZER;CN="Isaac Urow":MAILTO:iurow@nbparks.org
GEO:42.1275267;-87.8289548
X-APPLE-STRUCTURED-LOCATION;VALUE=URI;X-ADDRESS=Techny Prairie Activity Center 180 Anets Drive Northbrook IL 60062 United States;X-APPLE-RADIUS=500;X-TITLE=180 Anets Drive:geo:-87.8289548,42.1275267
END:VEVENT
BEGIN:VEVENT
DTSTART;TZID=America/Chicago:20240704T073000
DTEND;TZID=America/Chicago:20240704T090000
DTSTAMP:20260423T210934
CREATED:20230528T123023Z
LAST-MODIFIED:20240704T155928Z
UID:10001369-1720078200-1720083600@www.racetime.info
SUMMARY:Freedom Four 4 Mile Run/Walk
DESCRIPTION:Freedom Four Age Group Results\n\nFreedom Four Overall Results
URL:https://www.racetime.info/event/copy-of-freedom-four-4-mile-run-walk/
LOCATION:Lake Ellyn Park\, 645 Lenox Road\, Glen Ellyn\, IL\, 60137\, United States
CATEGORIES:2024-07 Results (July)
ORGANIZER;CN="Brad Thomas":MAILTO:bthomas@gepark.org
END:VEVENT
BEGIN:VEVENT
DTSTART;TZID=America/Chicago:20240703T080000
DTEND;TZID=America/Chicago:20240703T100000
DTSTAMP:20260423T210934
CREATED:20170513T104136Z
LAST-MODIFIED:20240703T201428Z
UID:10001406-1719993600-1720000800@www.racetime.info
SUMMARY:Eagle Ridge Resort's Firecracker 5K/10K & Kids Sparkler Sprint
DESCRIPTION:Firecracker 5K Age Group Results\n\nFirecracker 5K Overall Results\n\nFirecracker 10K Age Group Results\n\nFirecracker 10K Overall Results
URL:https://www.racetime.info/event/copy-of-eagle-ridge-resorts-firecracker-5k/
LOCATION:Eagle Ridge Resort & Spa\, 444 Eagle Ridge Drive\, Galena\, IL\, 61036\, United States
CATEGORIES:2024-07 Results (July)
ORGANIZER;CN="Megan Dombek":MAILTO:mdombek@eagleridge.com
GEO:42.4054927;-90.338314
X-APPLE-STRUCTURED-LOCATION;VALUE=URI;X-ADDRESS=Eagle Ridge Resort & Spa 444 Eagle Ridge Drive Galena IL 61036 United States;X-APPLE-RADIUS=500;X-TITLE=444 Eagle Ridge Drive:geo:-90.338314,42.4054927
END:VEVENT
END:VCALENDAR