BEGIN:VCALENDAR
VERSION:2.0
PRODID:-//Race Time - ECPv6.15.13//NONSGML v1.0//EN
CALSCALE:GREGORIAN
METHOD:PUBLISH
X-WR-CALNAME:Race Time
X-ORIGINAL-URL:https://www.racetime.info
X-WR-CALDESC:Events for Race Time
REFRESH-INTERVAL;VALUE=DURATION:PT1H
X-Robots-Tag:noindex
X-PUBLISHED-TTL:PT1H
BEGIN:VTIMEZONE
TZID:America/Chicago
BEGIN:DAYLIGHT
TZOFFSETFROM:-0600
TZOFFSETTO:-0500
TZNAME:CDT
DTSTART:20230312T080000
END:DAYLIGHT
BEGIN:STANDARD
TZOFFSETFROM:-0500
TZOFFSETTO:-0600
TZNAME:CST
DTSTART:20231105T070000
END:STANDARD
BEGIN:DAYLIGHT
TZOFFSETFROM:-0600
TZOFFSETTO:-0500
TZNAME:CDT
DTSTART:20240310T080000
END:DAYLIGHT
BEGIN:STANDARD
TZOFFSETFROM:-0500
TZOFFSETTO:-0600
TZNAME:CST
DTSTART:20241103T070000
END:STANDARD
BEGIN:DAYLIGHT
TZOFFSETFROM:-0600
TZOFFSETTO:-0500
TZNAME:CDT
DTSTART:20250309T080000
END:DAYLIGHT
BEGIN:STANDARD
TZOFFSETFROM:-0500
TZOFFSETTO:-0600
TZNAME:CST
DTSTART:20251102T070000
END:STANDARD
END:VTIMEZONE
BEGIN:VEVENT
DTSTART;TZID=America/Chicago:20240825T080000
DTEND;TZID=America/Chicago:20240825T100000
DTSTAMP:20260423T182310
CREATED:20170723T102042Z
LAST-MODIFIED:20240825T172055Z
UID:10001553-1724572800-1724580000@www.racetime.info
SUMMARY:Bartlett Lions Day Dash: 10K Run\, 5K Run/Walk & Kids Dash!
DESCRIPTION:Bartlett Lions 5K Age Group Results\n\nBartlett Lions 5K Overall Results\n\nBartlett Lions 10K Age Group Results\n\nBartlett Lions 10K Overall Results\n\nBartlett Lions Team Results
URL:https://www.racetime.info/event/copy-of-bartlett-lions-day-dash-10k-run-5k-run-walk-kids-dash-3/
LOCATION:James “Pate” Phillips State Park (Bartlett Nature Center\, 2050 W. Stearns Road\, Bartlett\, IL\, 60103\, United States
CATEGORIES:2024-08 Results (August)
ORGANIZER;CN="Matthew Kelley":MAILTO:mxk1114@yahoo.com
GEO:41.9772137;-88.2551583
X-APPLE-STRUCTURED-LOCATION;VALUE=URI;X-ADDRESS=James “Pate” Phillips State Park (Bartlett Nature Center 2050 W. Stearns Road Bartlett IL 60103 United States;X-APPLE-RADIUS=500;X-TITLE=2050 W. Stearns Road:geo:-88.2551583,41.9772137
END:VEVENT
BEGIN:VEVENT
DTSTART;TZID=America/Chicago:20240824T090000
DTEND;TZID=America/Chicago:20240824T110000
DTSTAMP:20260423T182310
CREATED:20240308T201012Z
LAST-MODIFIED:20240824T182223Z
UID:10002218-1724490000-1724497200@www.racetime.info
SUMMARY:RileyStrong Fun Run and 5K
DESCRIPTION:RileyStrong 5K Overall Results
URL:https://www.racetime.info/event/rileystrong-fun-run-and-5k/
LOCATION:American Legion Hall\, 1110 N. 11th Street\, Monmouth\, IL\, 61462\, United States
CATEGORIES:2024-08 Results (August)
ORGANIZER;CN="Michelle Thomas":MAILTO:michthomas83@gmail.com
END:VEVENT
BEGIN:VEVENT
DTSTART;TZID=America/Chicago:20240824T090000
DTEND;TZID=America/Chicago:20240824T103000
DTSTAMP:20260423T182310
CREATED:20170726T115546Z
LAST-MODIFIED:20240824T182131Z
UID:10000738-1724490000-1724495400@www.racetime.info
SUMMARY:St. Stephen's 5K Run/Walk
DESCRIPTION:St. Stephen 5K Age Group Results\n\nSt. Stephen 5K Overall Results
URL:https://www.racetime.info/event/copy-of-st-stephens-5k-run-walk-to-help-those-in-need/
LOCATION:St. Stephen’s Deacon & Martyr Catholic Church\, 17500 South 84th Avenue\, Tinley Park\, IL\, 60487\, United States
CATEGORIES:2024-08 Results (August)
ORGANIZER;CN="Eamon Allbee":MAILTO:ststephen25year5k@gmail.com
GEO:41.572114;-87.8232614
X-APPLE-STRUCTURED-LOCATION;VALUE=URI;X-ADDRESS=St. Stephen’s Deacon & Martyr Catholic Church 17500 South 84th Avenue Tinley Park IL 60487 United States;X-APPLE-RADIUS=500;X-TITLE=17500 South 84th Avenue:geo:-87.8232614,41.572114
END:VEVENT
BEGIN:VEVENT
DTSTART;TZID=America/Chicago:20240818T073000
DTEND;TZID=America/Chicago:20240818T093000
DTSTAMP:20260423T182310
CREATED:20220608T184132Z
LAST-MODIFIED:20240818T173945Z
UID:10002118-1723966200-1723973400@www.racetime.info
SUMMARY:Summer Trail Classic 4M*9.5M*13M
DESCRIPTION:Summer Trail Classic Age Group Results All Distances\n\nSummer Trail Classic Overall Results All Distances
URL:https://www.racetime.info/event/copy-of-summer-trail-classic-5-5m10-5m15-5m/
LOCATION:Paul Douglas Forest Preserve\, Central Road\, Hoffman Estates\, IL\, 60193\, United States
CATEGORIES:2024-08 Results (August)
ORGANIZER;CN="Wayne Haworth":MAILTO:wayne@dickpondathletics.com
END:VEVENT
BEGIN:VEVENT
DTSTART;TZID=America/Chicago:20240817T080000
DTEND;TZID=America/Chicago:20240817T100000
DTSTAMP:20260423T182310
CREATED:20170723T000844Z
LAST-MODIFIED:20240817T165701Z
UID:10000715-1723881600-1723888800@www.racetime.info
SUMMARY:Prince Hall Prostate Cancer 5K Run/Walk/Bike
DESCRIPTION:Prostate 5K Overall Results
URL:https://www.racetime.info/event/copy-of-prince-hall-prostate-cancer-5k-run-walk-bike-2/
LOCATION:Prince Hall Grand Lodge of Illinois\, 809 E. 42nd Place\, Chicago\, IL\, 60653\, United States
CATEGORIES:2024-08 Results (August)
ORGANIZER;CN="Michelle Stewart":MAILTO:mjs2125@yahoo.com
GEO:41.8177864;-87.6062914
X-APPLE-STRUCTURED-LOCATION;VALUE=URI;X-ADDRESS=Prince Hall Grand Lodge of Illinois 809 E. 42nd Place Chicago IL 60653 United States;X-APPLE-RADIUS=500;X-TITLE=809 E. 42nd Place:geo:-87.6062914,41.8177864
END:VEVENT
BEGIN:VEVENT
DTSTART;TZID=America/Chicago:20240817T080000
DTEND;TZID=America/Chicago:20240817T093000
DTSTAMP:20260423T182310
CREATED:20170609T175801Z
LAST-MODIFIED:20240817T165612Z
UID:10001448-1723881600-1723887000@www.racetime.info
SUMMARY:St. Catherine's Charge On! 5K Run/Walk
DESCRIPTION:Charge On! 5K Age Group Results\n\nCharge On! 5K Overall Results
URL:https://www.racetime.info/event/copy-of-st-catherines-charge-on-5k-run-walk-3/
LOCATION:Lawn Manor Park\, 108th Street & Kostner Avenue\, Oak Lawn\, IL\, 60453\, United States
CATEGORIES:2024-08 Results (August)
ORGANIZER;CN="Race Director":MAILTO:chargeon5k@gmail.com
GEO:41.6952028;-87.7301904
X-APPLE-STRUCTURED-LOCATION;VALUE=URI;X-ADDRESS=Lawn Manor Park 108th Street & Kostner Avenue Oak Lawn IL 60453 United States;X-APPLE-RADIUS=500;X-TITLE=108th Street & Kostner Avenue:geo:-87.7301904,41.6952028
END:VEVENT
BEGIN:VEVENT
DTSTART;TZID=America/Chicago:20240817T080000
DTEND;TZID=America/Chicago:20240817T090000
DTSTAMP:20260423T182310
CREATED:20240816T175544Z
LAST-MODIFIED:20240817T165513Z
UID:10002223-1723881600-1723885200@www.racetime.info
SUMMARY:Mary E. Smith Brain Tumor Awareness 5K Run/Walk
DESCRIPTION:Mary E Smith 5K Overall Results
URL:https://www.racetime.info/event/mary-e-smith-brain-tumor-awareness-5k-run-walk/
LOCATION:Chicago Ridge Mall\, 444 RIdgeland Avenue\, Chicago Ridge\, IL\, 60415\, United States
CATEGORIES:2024-08 Results (August)
END:VEVENT
BEGIN:VEVENT
DTSTART;TZID=America/Chicago:20240811T063000
DTEND;TZID=America/Chicago:20240811T090000
DTSTAMP:20260423T182310
CREATED:20220729T103723Z
LAST-MODIFIED:20240811T163133Z
UID:10001305-1723357800-1723366800@www.racetime.info
SUMMARY:ALS A Long Swim
DESCRIPTION:ALS 5K Results\n\nALS 2.4 Mile Results\n\nALS 1.2 Mile Results\n\nALS 1500 Meter Results\n\nALS 750 Meter Results
URL:https://www.racetime.info/event/copy-of-als-a-long-swim-2/
LOCATION:Tower Road Park/Beach\, 899 Sheridan Road\, Winnetka\, IL\, 60093\, United States
CATEGORIES:2024-08 Results (August)
ORGANIZER;CN="Kate Himes":MAILTO:katehimes@alongswim.org
END:VEVENT
BEGIN:VEVENT
DTSTART;TZID=America/Chicago:20240810T093000
DTEND;TZID=America/Chicago:20240810T110000
DTSTAMP:20260423T182310
CREATED:20170621T202443Z
LAST-MODIFIED:20240813T160002Z
UID:10001494-1723282200-1723287600@www.racetime.info
SUMMARY:GEPD Kids Color Bash Fun Run
DESCRIPTION:GE Color Run Age Group Results
URL:https://www.racetime.info/event/copy-of-gepd-kids-color-bash-fun-run-2/
LOCATION:Ackerman Park\, 800 St. Charles Road\, Glen Ellyn\, IL\, 60137\, United States
CATEGORIES:2024-08 Results (August)
ORGANIZER;CN="Stacey Lim":MAILTO:slim@geparks.org
END:VEVENT
BEGIN:VEVENT
DTSTART;TZID=America/Chicago:20240810T080000
DTEND;TZID=America/Chicago:20240810T100000
DTSTAMP:20260423T182310
CREATED:20240624T201128Z
LAST-MODIFIED:20240810T174859Z
UID:10001394-1723276800-1723284000@www.racetime.info
SUMMARY:Lincoln Douglas 5K Run/Walk & 1 Mile Fun Run
DESCRIPTION:Lincoln Douglas 5K Age Group Results\n\nLincoln Douglas 5K Overall Results
URL:https://www.racetime.info/event/lincoln-douglas-5k-run-walk-1-mile-fun-run/
LOCATION:Taylor Park\, 900 East Stephenson Street\, Freeport\, IL\, 61032\, United States
CATEGORIES:2024-08 Results (August)
ORGANIZER;CN="Matt Dougherty":MAILTO:mdougherty@freeportymca.org
END:VEVENT
BEGIN:VEVENT
DTSTART;TZID=America/Chicago:20240810T080000
DTEND;TZID=America/Chicago:20240810T100000
DTSTAMP:20260423T182310
CREATED:20240401T124129Z
LAST-MODIFIED:20240810T174743Z
UID:10002219-1723276800-1723284000@www.racetime.info
SUMMARY:Raceway Woods 5K/3K Run & Walk
DESCRIPTION:Raceway Woods 3K Overall Results\n\nRaceway Woods 5K Age Group Results\n\nRaceway Woods 5K Overall Results
URL:https://www.racetime.info/event/raceway-woods-5k-3k-run-walk/
LOCATION:Raceway Wood Forest Preserve\, State Route 31\, Carpentersville\, IL\, 60110\, United States
CATEGORIES:2024-08 Results (August)
ORGANIZER;CN="Heather Zabski":MAILTO:carpentersvillerotary@gmail.com
GEO:42.1157273;-88.2966772
X-APPLE-STRUCTURED-LOCATION;VALUE=URI;X-ADDRESS=Raceway Wood Forest Preserve State Route 31 Carpentersville IL 60110 United States;X-APPLE-RADIUS=500;X-TITLE=State Route 31:geo:-88.2966772,42.1157273
END:VEVENT
BEGIN:VEVENT
DTSTART;TZID=America/Chicago:20240810T080000
DTEND;TZID=America/Chicago:20240810T093000
DTSTAMP:20260423T182310
CREATED:20170501T172355Z
LAST-MODIFIED:20240812T120127Z
UID:10000565-1723276800-1723282200@www.racetime.info
SUMMARY:Race To Stop Hunger 5K Run/Walk
DESCRIPTION:Race to Stop Hunger 5K Age Group Results\n\nRace to Stop Hunger 5K Overall Results\n\nRace to Stop Hunger 5K Virtual Results\n\nRace to Stop Hunger Team Results
URL:https://www.racetime.info/event/copy-of-race-to-stop-hunger-5k-run-walk-3/
LOCATION:Meachum Grove Forest Preserve\, Circle Avenue\, Bloomingdale\, IL\, 60108\, United States
CATEGORIES:2024-08 Results (August)
ORGANIZER;CN="Nancy Thiemann":MAILTO:racetostophunger@gmail.com
END:VEVENT
BEGIN:VEVENT
DTSTART;TZID=America/Chicago:20240804T083000
DTEND;TZID=America/Chicago:20240804T093000
DTSTAMP:20260423T182310
CREATED:20230710T113157Z
LAST-MODIFIED:20240804T164219Z
UID:10002188-1722760200-1722763800@www.racetime.info
SUMMARY:Carol Stream Chamber Foundation Annual 5K Walk/Run
DESCRIPTION:Carol Stream Chamber 5K Age Group Results\n\nCarol Stream Chamber 5K Overall Results
URL:https://www.racetime.info/event/copy-of-strides-for-scholarships-5k-walk-run-youth-fun-run/
LOCATION:Fountain View\, 910 North Gary Avenue\, Carol Stream\, IL\, 60188\, United States
CATEGORIES:2024-08 Results (August)
ORGANIZER;CN="Andre Adams":MAILTO:info@carolstreamchamber.com
END:VEVENT
BEGIN:VEVENT
DTSTART;TZID=America/Chicago:20240803T090000
DTEND;TZID=America/Chicago:20240803T103000
DTSTAMP:20260423T182310
CREATED:20230529T114435Z
LAST-MODIFIED:20240803T194504Z
UID:10001355-1722675600-1722681000@www.racetime.info
SUMMARY:Dekalb Aruna 5K & 1M Run/Walk
DESCRIPTION:Aruna 1 Mile Age Group Results\n\nAruna 1 Mile Overall Results\n\nAruna 5K Age Group Results\n\nAruna 5K Overall Results
URL:https://www.racetime.info/event/copy-of-2023-dekalb-aruna-5k-run-walk/
LOCATION:Christ Community Church Dekalb\, 2350 Pride Avenue\, Dekalb\, IL\, 60115\, United States
CATEGORIES:2024-08 Results (August)
ORGANIZER;CN="Chuck Keller":MAILTO:chuck@inspirededgecoaching.com
END:VEVENT
BEGIN:VEVENT
DTSTART;TZID=America/Chicago:20240803T084500
DTEND;TZID=America/Chicago:20240803T110000
DTSTAMP:20260423T182310
CREATED:20170609T172131Z
LAST-MODIFIED:20240803T194247Z
UID:10001434-1722674700-1722682800@www.racetime.info
SUMMARY:Get Your Rear In Gear 5K Run/Walk
DESCRIPTION:Get Your Rear In Gear Survivors\n\nGet Your Rear In Gear 5K Age Group Results\n\nGet Your Rear In Gear 5K Overall Results
URL:https://www.racetime.info/event/copy-of-get-your-rear-in-gear-5k-run-walk/
LOCATION:Montrose Harbor\, 601 W. Montrose Avenue\, Chicago\, IL\, United States
CATEGORIES:2024-08 Results (August)
ORGANIZER;CN="Amanda Schulman":MAILTO:amanda@coloncancercoalition.org
GEO:41.9630332;-87.6381737
X-APPLE-STRUCTURED-LOCATION;VALUE=URI;X-ADDRESS=Montrose Harbor 601 W. Montrose Avenue Chicago IL United States;X-APPLE-RADIUS=500;X-TITLE=601 W. Montrose Avenue:geo:-87.6381737,41.9630332
END:VEVENT
BEGIN:VEVENT
DTSTART;TZID=America/Chicago:20240803T083000
DTEND;TZID=America/Chicago:20240803T100000
DTSTAMP:20260423T182310
CREATED:20170615T155738Z
LAST-MODIFIED:20240803T194039Z
UID:10000670-1722673800-1722679200@www.racetime.info
SUMMARY:HaRUNbee 5K Run/Walk for Healthy Birth Outcomes
DESCRIPTION:HaRUNBee 5K Overall Results
URL:https://www.racetime.info/event/copy-of-harunbee-5k-run-walk-for-healthy-birth-outcomes-3/
LOCATION:Pete’s Fruit Market\, 1400 S. Union Street\, Milwaukee\, WI\, 53204\, United States
CATEGORIES:2024-08 Results (August)
ORGANIZER;CN="Tonda Thompson":MAILTO:harunbee5k@gmail.com
END:VEVENT
BEGIN:VEVENT
DTSTART;TZID=America/Chicago:20240803T080000
DTEND;TZID=America/Chicago:20240803T100000
DTSTAMP:20260423T182310
CREATED:20240530T120541Z
LAST-MODIFIED:20240803T193902Z
UID:10001397-1722672000-1722679200@www.racetime.info
SUMMARY:Summer's Last Kick 1 Mile & 5K Run/Walk
DESCRIPTION:Summer’s Last Kick 1 Mile Age Group Results\n\nSummer’s Last Kick 1 Mile Overall Results\n\nSummer’s Last Kick 5K Age Group Results\n\nSummer’s Last Kick 5K Overall Results
URL:https://www.racetime.info/event/summers-last-kick-1-mile-5k-run-walk/
LOCATION:Townsend Park\, 413 Oswego Drive\, Oswego\, IL\, 60543\, United States
CATEGORIES:2024-08 Results (August)
ORGANIZER;CN="Alexander Das":MAILTO:alexjaidas@gmail.com
END:VEVENT
END:VCALENDAR