BEGIN:VCALENDAR
VERSION:2.0
PRODID:-//Race Time - ECPv6.15.13//NONSGML v1.0//EN
CALSCALE:GREGORIAN
METHOD:PUBLISH
X-WR-CALNAME:Race Time
X-ORIGINAL-URL:https://www.racetime.info
X-WR-CALDESC:Events for Race Time
REFRESH-INTERVAL;VALUE=DURATION:PT1H
X-Robots-Tag:noindex
X-PUBLISHED-TTL:PT1H
BEGIN:VTIMEZONE
TZID:America/Chicago
BEGIN:DAYLIGHT
TZOFFSETFROM:-0600
TZOFFSETTO:-0500
TZNAME:CDT
DTSTART:20230312T080000
END:DAYLIGHT
BEGIN:STANDARD
TZOFFSETFROM:-0500
TZOFFSETTO:-0600
TZNAME:CST
DTSTART:20231105T070000
END:STANDARD
BEGIN:DAYLIGHT
TZOFFSETFROM:-0600
TZOFFSETTO:-0500
TZNAME:CDT
DTSTART:20240310T080000
END:DAYLIGHT
BEGIN:STANDARD
TZOFFSETFROM:-0500
TZOFFSETTO:-0600
TZNAME:CST
DTSTART:20241103T070000
END:STANDARD
BEGIN:DAYLIGHT
TZOFFSETFROM:-0600
TZOFFSETTO:-0500
TZNAME:CDT
DTSTART:20250309T080000
END:DAYLIGHT
BEGIN:STANDARD
TZOFFSETFROM:-0500
TZOFFSETTO:-0600
TZNAME:CST
DTSTART:20251102T070000
END:STANDARD
END:VTIMEZONE
BEGIN:VEVENT
DTSTART;TZID=America/Chicago:20241221T080000
DTEND;TZID=America/Chicago:20241221T103000
DTSTAMP:20260423T194315
CREATED:20241117T144552Z
LAST-MODIFIED:20251130T133028Z
UID:10002233-1734768000-1734777000@www.racetime.info
SUMMARY:Grinch Chase 5K & Kids Dash
DESCRIPTION:Grinch Chase 5K Age Group Results\n\nGrinch Chase 5K Overall Results
URL:https://www.racetime.info/event/grinch-chase-5k-kids-dash/
LOCATION:Allerton Park & Retreat Center\, 515 Old Timber Road\, Monticello\, IL\, 61856\, United States
CATEGORIES:2024-12 Results (December)
ORGANIZER;CN="Ariel Ponce":MAILTO:business@sangamonvalleyceo.com
GEO:40.026603;-88.570234
X-APPLE-STRUCTURED-LOCATION;VALUE=URI;X-ADDRESS=Allerton Park & Retreat Center 515 Old Timber Road Monticello IL 61856 United States;X-APPLE-RADIUS=500;X-TITLE=515 Old Timber Road:geo:-88.570234,40.026603
END:VEVENT
BEGIN:VEVENT
DTSTART;TZID=America/Chicago:20241208T083000
DTEND;TZID=America/Chicago:20241208T100000
DTSTAMP:20260423T194315
CREATED:20241115T130058Z
LAST-MODIFIED:20241209T191019Z
UID:10002232-1733646600-1733652000@www.racetime.info
SUMMARY:Insane Candy Cane 5K & Kids Reindeer Dash
DESCRIPTION:Insane Candy Cane 5K Age Group Results\n\nInsane Candy Cane 5K Overall Results
URL:https://www.racetime.info/event/insane-candy-cane-5k-kids-reindeer-dash/
LOCATION:Peg Bond Center\, 151 N. Island Avenue\, Batavia\, IL\, 60510\, United States
CATEGORIES:2024-12 Results (December)
ORGANIZER;CN="Mary Agnes Zellmer":MAILTO:maz@chicagoracemanagement.com
GEO:41.853407;-88.3092422
X-APPLE-STRUCTURED-LOCATION;VALUE=URI;X-ADDRESS=Peg Bond Center 151 N. Island Avenue Batavia IL 60510 United States;X-APPLE-RADIUS=500;X-TITLE=151 N. Island Avenue:geo:-88.3092422,41.853407
END:VEVENT
BEGIN:VEVENT
DTSTART;TZID=America/Chicago:20241207T100000
DTEND;TZID=America/Chicago:20241207T233000
DTSTAMP:20260423T194315
CREATED:20220829T113346Z
LAST-MODIFIED:20241209T111225Z
UID:10002142-1733565600-1733614200@www.racetime.info
SUMMARY:Running with the Elves: A Very Merry Huntley Event
DESCRIPTION:Huntley Running of the Elves 1M Overall Results\n\nHuntley Running of the Elves 5K Age Group Results\n\nHuntley Running of the Elves 5K Overall Results
URL:https://www.racetime.info/event/copy-of-running-with-the-elves-a-very-merry-huntley-event-2/
LOCATION:Downtown Huntley\, Coral and Church Streets\, Huntley\, IL\, 60142\, United States
CATEGORIES:2024-12 Results (December)
ORGANIZER;CN="Jim Uszler":MAILTO:huntleyrotary@yahoo.com
END:VEVENT
BEGIN:VEVENT
DTSTART;TZID=America/Chicago:20241207T100000
DTEND;TZID=America/Chicago:20241207T113000
DTSTAMP:20260423T194315
CREATED:20211126T153904Z
LAST-MODIFIED:20241207T230538Z
UID:10002076-1733565600-1733571000@www.racetime.info
SUMMARY:Chilly Chili 5K Run/Walk
DESCRIPTION:Chilly Chili 5K Age Group Results\n\nChilly Chili 5K Overall Results
URL:https://www.racetime.info/event/copy-of-chilly-chili-5k-run-walk-3/
LOCATION:Schaumburg Golf Club\, 401 North Roselle Road\, Schaumburg\, IL\, 60194\, United States
CATEGORIES:2024-12 Results (December)
ORGANIZER;CN="Stacy Johnson":MAILTO:stjohnson@parkfun.com
END:VEVENT
BEGIN:VEVENT
DTSTART;TZID=America/Chicago:20241207T073000
DTEND;TZID=America/Chicago:20241207T113000
DTSTAMP:20260423T194315
CREATED:20231203T000739Z
LAST-MODIFIED:20241207T230450Z
UID:10002207-1733556600-1733571000@www.racetime.info
SUMMARY:Arctic Frog Endurance Races
DESCRIPTION:Arctic Frog 5K Results\n\nArctic Frog 10K Results\n\nArctic Frog 15K Results\n\nArctic Frog 25K Results\n\nArctic Frog 50K Results
URL:https://www.racetime.info/event/copy-of-arctic-frog-endurance-races/
LOCATION:Independence Grove Forest Preserve\, 16400 Buckley Road\, Libertyville\, IL\, 60045\, United States
CATEGORIES:2024-12 Results (December)
ORGANIZER;CN="Rey LaTada":MAILTO:froghopsrd@outlook.com
GEO:42.3118463;-87.9529568
X-APPLE-STRUCTURED-LOCATION;VALUE=URI;X-ADDRESS=Independence Grove Forest Preserve 16400 Buckley Road Libertyville IL 60045 United States;X-APPLE-RADIUS=500;X-TITLE=16400 Buckley Road:geo:-87.9529568,42.3118463
END:VEVENT
BEGIN:VEVENT
DTSTART;TZID=America/Chicago:20241201T100000
DTEND;TZID=America/Chicago:20241201T113000
DTSTAMP:20260423T194315
CREATED:20170908T153504Z
LAST-MODIFIED:20241201T200942Z
UID:10000834-1733047200-1733052600@www.racetime.info
SUMMARY:Gaelic Park Carraig Challenge Cross Country 5K Run & 1.5 Mile Walk
DESCRIPTION:Carraig Challenge 5K Age Group Results\n\nCarraig Challenge 5K Overall Results
URL:https://www.racetime.info/event/copy-of-gaelic-park-carraig-challenge-cross-country-5k-run-1-5-mile-walk-4/
LOCATION:Chicago Gaelic Park\, 6119 W. 147th Street\, Oak Forest\, IL\, 60452\, United States
CATEGORIES:2024-12 Results (December)
ORGANIZER;CN="Mike Cooke":MAILTO:officecgp@chicagogaelicpark.org
GEO:41.6231713;-87.7709214
X-APPLE-STRUCTURED-LOCATION;VALUE=URI;X-ADDRESS=Chicago Gaelic Park 6119 W. 147th Street Oak Forest IL 60452 United States;X-APPLE-RADIUS=500;X-TITLE=6119 W. 147th Street:geo:-87.7709214,41.6231713
END:VEVENT
BEGIN:VEVENT
DTSTART;TZID=America/Chicago:20241201T090000
DTEND;TZID=America/Chicago:20241201T103000
DTSTAMP:20260423T194315
CREATED:20210823T124852Z
LAST-MODIFIED:20241202T120238Z
UID:10001188-1733043600-1733049000@www.racetime.info
SUMMARY:McHenry County Santa Run For Kids
DESCRIPTION:Santa Run For Kids 1 Mile Overall Results\n\nSanta Run For Kids 5K Age Group Results\n\nSanta Run For Kids 5K Overall Results
URL:https://www.racetime.info/event/copy-of-mchenry-county-santa-run-for-kids-3/
LOCATION:Raue Center For The Arts\, 26 N. Williams Street\, Crystal Lake\, IL\, 60014\, United States
CATEGORIES:2024-12 Results (December)
ORGANIZER;CN="Trudy Wakeman":MAILTO:trudywakeman@gmail.com
GEO:42.2419354;-88.3190301
X-APPLE-STRUCTURED-LOCATION;VALUE=URI;X-ADDRESS=Raue Center For The Arts 26 N. Williams Street Crystal Lake IL 60014 United States;X-APPLE-RADIUS=500;X-TITLE=26 N. Williams Street:geo:-88.3190301,42.2419354
END:VEVENT
END:VCALENDAR