BEGIN:VCALENDAR
VERSION:2.0
PRODID:-//Race Time - ECPv6.15.13//NONSGML v1.0//EN
CALSCALE:GREGORIAN
METHOD:PUBLISH
X-ORIGINAL-URL:https://www.racetime.info
X-WR-CALDESC:Events for Race Time
REFRESH-INTERVAL;VALUE=DURATION:PT1H
X-Robots-Tag:noindex
X-PUBLISHED-TTL:PT1H
BEGIN:VTIMEZONE
TZID:America/Chicago
BEGIN:DAYLIGHT
TZOFFSETFROM:-0600
TZOFFSETTO:-0500
TZNAME:CDT
DTSTART:20240310T080000
END:DAYLIGHT
BEGIN:STANDARD
TZOFFSETFROM:-0500
TZOFFSETTO:-0600
TZNAME:CST
DTSTART:20241103T070000
END:STANDARD
BEGIN:DAYLIGHT
TZOFFSETFROM:-0600
TZOFFSETTO:-0500
TZNAME:CDT
DTSTART:20250309T080000
END:DAYLIGHT
BEGIN:STANDARD
TZOFFSETFROM:-0500
TZOFFSETTO:-0600
TZNAME:CST
DTSTART:20251102T070000
END:STANDARD
BEGIN:DAYLIGHT
TZOFFSETFROM:-0600
TZOFFSETTO:-0500
TZNAME:CDT
DTSTART:20260308T080000
END:DAYLIGHT
BEGIN:STANDARD
TZOFFSETFROM:-0500
TZOFFSETTO:-0600
TZNAME:CST
DTSTART:20261101T070000
END:STANDARD
END:VTIMEZONE
BEGIN:VTIMEZONE
TZID:America/Indiana/Indianapolis
BEGIN:DAYLIGHT
TZOFFSETFROM:-0500
TZOFFSETTO:-0400
TZNAME:EDT
DTSTART:20240310T070000
END:DAYLIGHT
BEGIN:STANDARD
TZOFFSETFROM:-0400
TZOFFSETTO:-0500
TZNAME:EST
DTSTART:20241103T060000
END:STANDARD
BEGIN:DAYLIGHT
TZOFFSETFROM:-0500
TZOFFSETTO:-0400
TZNAME:EDT
DTSTART:20250309T070000
END:DAYLIGHT
BEGIN:STANDARD
TZOFFSETFROM:-0400
TZOFFSETTO:-0500
TZNAME:EST
DTSTART:20251102T060000
END:STANDARD
BEGIN:DAYLIGHT
TZOFFSETFROM:-0500
TZOFFSETTO:-0400
TZNAME:EDT
DTSTART:20260308T070000
END:DAYLIGHT
BEGIN:STANDARD
TZOFFSETFROM:-0400
TZOFFSETTO:-0500
TZNAME:EST
DTSTART:20261101T060000
END:STANDARD
END:VTIMEZONE
BEGIN:VEVENT
DTSTART;TZID=America/Chicago:20250727T080000
DTEND;TZID=America/Chicago:20250727T113000
DTSTAMP:20260423T134045
CREATED:20250325T124125Z
LAST-MODIFIED:20250727T153226Z
UID:10002299-1753603200-1753615800@www.racetime.info
SUMMARY:A Sundae In July 5K * Kids Dash
DESCRIPTION:A Sundae In July 5K Age Group Results\n\nA Sundae In July 5K Overall Results
URL:https://www.racetime.info/event/a-sundae-in-july-5k-kids-dash/
LOCATION:Scottish Rite Cathedral\, 383 E. Lake Street\, Bloomingdale\, IL\, 60108\, United States
CATEGORIES:2025-07 Results (July)
ORGANIZER;CN="Mary Agnes Zellmer":MAILTO:maz@chicagoracemanagement.com
END:VEVENT
BEGIN:VEVENT
DTSTART;TZID=America/Chicago:20250726T090000
DTEND;TZID=America/Chicago:20250726T103000
DTSTAMP:20260423T134045
CREATED:20250406T232109Z
LAST-MODIFIED:20250726T174412Z
UID:10002349-1753520400-1753525800@www.racetime.info
SUMMARY:Dekalb Aruna 5K & 1M Run/Walk
DESCRIPTION:Aruna 1 Mile Overall Results\n\nAruna 5K Age Group Results\n\nAruna 5K Overall Results
URL:https://www.racetime.info/event/dekalb-aruna-5k-1m-run-walk/
LOCATION:Christ Community Church Dekalb\, 2350 Pride Avenue\, Dekalb\, IL\, 60115\, United States
CATEGORIES:2025-07 Results (July)
ORGANIZER;CN="Chuck Keller":MAILTO:chuck@inspirededgecoaching.com
END:VEVENT
BEGIN:VEVENT
DTSTART;TZID=America/Chicago:20250720T073000
DTEND;TZID=America/Chicago:20250720T100000
DTSTAMP:20260423T134045
CREATED:20250406T231442Z
LAST-MODIFIED:20250721T152050Z
UID:10002348-1752996600-1753005600@www.racetime.info
SUMMARY:Crystal Lake Aquathon
DESCRIPTION:CL 1 Mile Swim\n\nCL 2 Mile Swim Age Group Results\n\nCL 2 Mile Swim Overall Results\n\nCL Olympic Age Group Results\n\nCL Olympic Overall Results\n\nCL Sprint Age Group Results\n\nCL Sprint Overall Results\n\nCL Adaptive Results\n\nCL Aquathon Relay Teams
URL:https://www.racetime.info/event/crystal-lake-aquathon-2/
LOCATION:Three Oakes Recreation Area\, 5517 Northwest Highway\, Crystal Lake\, IL\, 60014\, United States
CATEGORIES:2025-07 Results (July)
END:VEVENT
BEGIN:VEVENT
DTSTART;TZID=America/Chicago:20250719T090000
DTEND;TZID=America/Chicago:20250719T103000
DTSTAMP:20260423T134045
CREATED:20250513T113257Z
LAST-MODIFIED:20250719T173658Z
UID:10002358-1752915600-1752921000@www.racetime.info
SUMMARY:Highwood 5K Family Run\, Walk & Stroll
DESCRIPTION:Highwood 5K Age Group Results\n\nHighwood 5K Overall Results
URL:https://www.racetime.info/event/highwood-5k-family-run-walk-stroll/
LOCATION:Downtown Highwood\, Sheridan Road and Clay Avenue\, Highwood\, 60040\, United States
CATEGORIES:2025-07 Results (July)
ORGANIZER;CN="Syd Saks":MAILTO:info@celebratehighwood.org
END:VEVENT
BEGIN:VEVENT
DTSTART;TZID=America/Chicago:20250719T073000
DTEND;TZID=America/Chicago:20250719T090000
DTSTAMP:20260423T134045
CREATED:20250324T114926Z
LAST-MODIFIED:20250719T150441Z
UID:10002296-1752910200-1752915600@www.racetime.info
SUMMARY:Donut Dash 5K * 1M * Kids Fun Run
DESCRIPTION:Donut Dash 1 Mile Age Group Results\n\nDonut Dash 1 Mile Overall Results\n\nDonut Dash 5K Age Group Results\n\nDonut Dash 5K Overall Results
URL:https://www.racetime.info/event/donut-dash-5k-1m-kids-fun-run/
LOCATION:Peg Bond Center\, 151 N. Island Avenue\, Batavia\, IL\, 60510\, United States
CATEGORIES:2025-07 Results (July)
ORGANIZER;CN="Mary Agnes Zellmer":MAILTO:maz@chicagoracemanagement.com
GEO:41.853407;-88.3092422
X-APPLE-STRUCTURED-LOCATION;VALUE=URI;X-ADDRESS=Peg Bond Center 151 N. Island Avenue Batavia IL 60510 United States;X-APPLE-RADIUS=500;X-TITLE=151 N. Island Avenue:geo:-88.3092422,41.853407
END:VEVENT
BEGIN:VEVENT
DTSTART;TZID=America/Chicago:20250712T070000
DTEND;TZID=America/Chicago:20250712T083000
DTSTAMP:20260423T134045
CREATED:20250406T230929Z
LAST-MODIFIED:20250712T150409Z
UID:10002346-1752303600-1752309000@www.racetime.info
SUMMARY:Bristol Progress Days 5K Run & 1.5 Mile Walk
DESCRIPTION:Bristol Progress Days 5K Overall Results
URL:https://www.racetime.info/event/bristol-progress-days-5k-run-1-5-mile-walk-5/
LOCATION:Bristol Village Hall\, 19801 83rd Street\, Bristol\, WI\, United States
CATEGORIES:2025-07 Results (July)
ORGANIZER;CN="Rachael Muhlenbeck Miskie":MAILTO:muhlenbeck3@yahoo.com
END:VEVENT
BEGIN:VEVENT
DTSTART;TZID=America/Chicago:20250704T080000
DTEND;TZID=America/Chicago:20250704T170000
DTSTAMP:20260423T134045
CREATED:20250312T115717Z
LAST-MODIFIED:20250704T191424Z
UID:10002265-1751616000-1751648400@www.racetime.info
SUMMARY:Bulldog Bolt 5K & 1 Mile Run/Walk
DESCRIPTION:Bulldog Bolt 5K Age Group Results\n\nBulldog Bolt 5K Overall Results
URL:https://www.racetime.info/event/bulldog-bolt-5k-1-mile-run-walk-2/
LOCATION:Nick Saelens Memorial Park\, S. Center Street\, Durand\, IL\, 61024\, United States
CATEGORIES:2025-07 Results (July)
ORGANIZER;CN="Michael Langley":MAILTO:bulldogbolt5k@gmail.com
END:VEVENT
BEGIN:VEVENT
DTSTART;TZID=America/Indiana/Indianapolis:20250704T080000
DTEND;TZID=America/Indiana/Indianapolis:20250704T100000
DTSTAMP:20260423T134045
CREATED:20250406T230553Z
LAST-MODIFIED:20250704T154559Z
UID:10002345-1751616000-1751623200@www.racetime.info
SUMMARY:Fowler Fireworks Frenzy 5K Run/Walk
DESCRIPTION:Fowler Fireworks Frenzy 5K Age Group Results\n\nFowler Fireworks Frenzy 5K Overall Results
URL:https://www.racetime.info/event/fowler-fireworks-frenzy-5k-run-walk-2/
LOCATION:Fowler Town Park\, 302 S. Fowler Town Park Drive\, Fowler\, IN\, 47944\, United States
CATEGORIES:2025-07 Results (July)
ORGANIZER;CN="Diane Costello":MAILTO:d-n-costello@sbcglobal.net
END:VEVENT
BEGIN:VEVENT
DTSTART;TZID=America/Chicago:20250704T080000
DTEND;TZID=America/Chicago:20250704T100000
DTSTAMP:20260423T134045
CREATED:20250320T223434Z
LAST-MODIFIED:20250718T120733Z
UID:10002279-1751616000-1751623200@www.racetime.info
SUMMARY:Great Western Freedom 4 Mile Run * 2 Mile Walk & Kids Dashes
DESCRIPTION:Great Western Freedom 4 Mile Age Group Results\n\nGreat Western Freedom 4 Mile Overall Results
URL:https://www.racetime.info/event/great-western-freedom-4-mile-run-2-mile-walk-kids-dashes/
LOCATION:LeRoy Oakes Forest Preserve\, 37W584 Dean Street\, St. Charles\, IL\, 60175\, United States
CATEGORIES:2025-07 Results (July)
ORGANIZER;CN="Ann Marie Dunn":MAILTO:annmaried@lazarushouse.net
GEO:41.929212;-88.352091
X-APPLE-STRUCTURED-LOCATION;VALUE=URI;X-ADDRESS=LeRoy Oakes Forest Preserve 37W584 Dean Street St. Charles IL 60175 United States;X-APPLE-RADIUS=500;X-TITLE=37W584 Dean Street:geo:-88.352091,41.929212
END:VEVENT
BEGIN:VEVENT
DTSTART;TZID=America/Chicago:20250704T080000
DTEND;TZID=America/Chicago:20250704T093000
DTSTAMP:20260423T134045
CREATED:20250512T113613Z
LAST-MODIFIED:20250704T154044Z
UID:10002357-1751616000-1751621400@www.racetime.info
SUMMARY:Deerfield Rotary Club 5K Run/Walk
DESCRIPTION:Deerfield Family Days 5K Age Group Results\n\nDeerfield Family Days 5K Overall Results
URL:https://www.racetime.info/event/deerfield-rotary-club-5k-run-walk/
LOCATION:Walden Park\, 630 Essex Court\, Deerfield\, 60015\, United States
CATEGORIES:2025-07 Results (July)
ORGANIZER;CN="Victoria Street":MAILTO:victoriastreet@dbrchamber.com
END:VEVENT
BEGIN:VEVENT
DTSTART;TZID=America/Chicago:20250704T073000
DTEND;TZID=America/Chicago:20250705T090000
DTSTAMP:20260423T134045
CREATED:20250623T122525Z
LAST-MODIFIED:20250718T120837Z
UID:10002372-1751614200-1751706000@www.racetime.info
SUMMARY:Liberty Loop 5K Run/Walk
DESCRIPTION:Liberty Loop 5K Age Group Results\n\nLiberty Loop 5K Overall Results
URL:https://www.racetime.info/event/liberty-loop-5k-run-walk-5/
LOCATION:Techny Prairie Activity Center\, 180 Anets Drive\, Northbrook\, IL\, 60062\, United States
CATEGORIES:2025-07 Results (July)
ORGANIZER;CN="Isaac Urow":MAILTO:iurow@nbparks.org
GEO:42.1275267;-87.8289548
X-APPLE-STRUCTURED-LOCATION;VALUE=URI;X-ADDRESS=Techny Prairie Activity Center 180 Anets Drive Northbrook IL 60062 United States;X-APPLE-RADIUS=500;X-TITLE=180 Anets Drive:geo:-87.8289548,42.1275267
END:VEVENT
BEGIN:VEVENT
DTSTART;TZID=America/Chicago:20250704T073000
DTEND;TZID=America/Chicago:20250704T090000
DTSTAMP:20260423T134045
CREATED:20230528T123023Z
LAST-MODIFIED:20250707T175750Z
UID:10001360-1751614200-1751619600@www.racetime.info
SUMMARY:Freedom Four 4 Mile Run/Walk
DESCRIPTION:Freedom Four 4 Mile Age Group Results \nFreedom Four 4 Mile Overall Results
URL:https://www.racetime.info/event/copy-of-freedom-four-4-mile-run-walk-2/
LOCATION:Lake Ellyn Park\, 645 Lenox Road\, Glen Ellyn\, IL\, 60137\, United States
CATEGORIES:2025-07 Results (July)
ORGANIZER;CN="Brad Thomas":MAILTO:bthomas@gepark.org
END:VEVENT
BEGIN:VEVENT
DTSTART;TZID=America/Chicago:20250703T080000
DTEND;TZID=America/Chicago:20250703T100000
DTSTAMP:20260423T134045
CREATED:20250406T182816Z
LAST-MODIFIED:20250718T120610Z
UID:10002344-1751529600-1751536800@www.racetime.info
SUMMARY:Wilmette's Yankee Doodle Dash 5K
DESCRIPTION:Yankee Doodle Dash 5K Overall Results
URL:https://www.racetime.info/event/wilmettes-yankee-doodle-5k-2/
LOCATION:Gillson Beach\, 800 Gillson Park Drive\, Wilmette\, IL\, 60091\, United States
CATEGORIES:2025-07 Results (July)
ORGANIZER;CN="Tim Johnson":MAILTO:tjohnson@wilpark.org
GEO:42.0804297;-87.6887941
X-APPLE-STRUCTURED-LOCATION;VALUE=URI;X-ADDRESS=Gillson Beach 800 Gillson Park Drive Wilmette IL 60091 United States;X-APPLE-RADIUS=500;X-TITLE=800 Gillson Park Drive:geo:-87.6887941,42.0804297
END:VEVENT
BEGIN:VEVENT
DTSTART;TZID=America/Chicago:20250703T080000
DTEND;TZID=America/Chicago:20250703T100000
DTSTAMP:20260423T134045
CREATED:20250326T175654Z
LAST-MODIFIED:20250703T191102Z
UID:10002302-1751529600-1751536800@www.racetime.info
SUMMARY:Eagle Ridge Resort's Firecracker 5K/10K & Kids Sparkler Sprint
DESCRIPTION:Firecracker 5K Age Group Results\n\nFirecracker 5K Overall Results\n\nFirecracker 10K Age Group Results\n\nFirecracker 10K Overall Results
URL:https://www.racetime.info/event/eagle-ridge-resorts-firecracker-5k-10k-kids-sparkler-sprint/
LOCATION:Eagle Ridge Resort & Spa\, 444 Eagle Ridge Drive\, Galena\, IL\, 61036\, United States
CATEGORIES:2025-07 Results (July)
ORGANIZER;CN="Megan Dombek":MAILTO:mdombek@eagleridge.com
GEO:42.4054927;-90.338314
X-APPLE-STRUCTURED-LOCATION;VALUE=URI;X-ADDRESS=Eagle Ridge Resort & Spa 444 Eagle Ridge Drive Galena IL 61036 United States;X-APPLE-RADIUS=500;X-TITLE=444 Eagle Ridge Drive:geo:-90.338314,42.4054927
END:VEVENT
END:VCALENDAR