BEGIN:VCALENDAR
VERSION:2.0
PRODID:-//Race Time - ECPv6.15.13//NONSGML v1.0//EN
CALSCALE:GREGORIAN
METHOD:PUBLISH
X-ORIGINAL-URL:https://www.racetime.info
X-WR-CALDESC:Events for Race Time
REFRESH-INTERVAL;VALUE=DURATION:PT1H
X-Robots-Tag:noindex
X-PUBLISHED-TTL:PT1H
BEGIN:VTIMEZONE
TZID:America/Chicago
BEGIN:DAYLIGHT
TZOFFSETFROM:-0600
TZOFFSETTO:-0500
TZNAME:CDT
DTSTART:20240310T080000
END:DAYLIGHT
BEGIN:STANDARD
TZOFFSETFROM:-0500
TZOFFSETTO:-0600
TZNAME:CST
DTSTART:20241103T070000
END:STANDARD
BEGIN:DAYLIGHT
TZOFFSETFROM:-0600
TZOFFSETTO:-0500
TZNAME:CDT
DTSTART:20250309T080000
END:DAYLIGHT
BEGIN:STANDARD
TZOFFSETFROM:-0500
TZOFFSETTO:-0600
TZNAME:CST
DTSTART:20251102T070000
END:STANDARD
BEGIN:DAYLIGHT
TZOFFSETFROM:-0600
TZOFFSETTO:-0500
TZNAME:CDT
DTSTART:20260308T080000
END:DAYLIGHT
BEGIN:STANDARD
TZOFFSETFROM:-0500
TZOFFSETTO:-0600
TZNAME:CST
DTSTART:20261101T070000
END:STANDARD
END:VTIMEZONE
BEGIN:VEVENT
DTSTART;TZID=America/Chicago:20250831T073000
DTEND;TZID=America/Chicago:20250831T113000
DTSTAMP:20260423T165147
CREATED:20250727T101150Z
LAST-MODIFIED:20250831T181253Z
UID:10002390-1756625400-1756639800@www.racetime.info
SUMMARY:Crystal Lake Half Marathon  * 12K  *  Kids Run This Town 1 Miler
DESCRIPTION:CL Kids Run This Town Results\n\nCL 12K Age Group Results\n\nCL 12K Overall Results\n\nCL Half Marathon Age Group Results\n\nCL Half Marathon Overall Results\n \nNote: 12K Age Group Results are for reference only – no age group awards were given for the 12K.
URL:https://www.racetime.info/event/crystal-lake-half-marathon-12k-kids-run-this-town-1-miler/
LOCATION:Crystal Lake Main Beach\, 300 Lakeshore Drive\, Crystal Lake\, IL\, 60014\, United States
CATEGORIES:2025-08 Results (August)
ORGANIZER;CN="Trudy Wakeman":MAILTO:trudywakeman@gmail.com
GEO:42.2325146;-88.3442798
X-APPLE-STRUCTURED-LOCATION;VALUE=URI;X-ADDRESS=Crystal Lake Main Beach 300 Lakeshore Drive Crystal Lake IL 60014 United States;X-APPLE-RADIUS=500;X-TITLE=300 Lakeshore Drive:geo:-88.3442798,42.2325146
END:VEVENT
BEGIN:VEVENT
DTSTART;TZID=America/Chicago:20250830T080000
DTEND;TZID=America/Chicago:20250830T093000
DTSTAMP:20260423T165147
CREATED:20250830T212532Z
LAST-MODIFIED:20250830T212647Z
UID:10002436-1756540800-1756546200@www.racetime.info
SUMMARY:Navoo Grape Stomp 5K Run and Walk
DESCRIPTION:Grape Stomp 5K Run Age Group Results\n\nGrape Stomp 5K Run Overall Results\n\nGrape Stomp 5K Walk Age Group Results\n\nGrape Stomp 5K Walk Overall Results
URL:https://www.racetime.info/event/navoo-grape-stomp-5k-run-and-walk/
CATEGORIES:2025-08 Results (August)
END:VEVENT
BEGIN:VEVENT
DTSTART;TZID=America/Chicago:20250824T090000
DTEND;TZID=America/Chicago:20250824T110000
DTSTAMP:20260423T165147
CREATED:20250401T175535Z
LAST-MODIFIED:20250824T193638Z
UID:10002323-1756026000-1756033200@www.racetime.info
SUMMARY:Stride For Strength: 1M * 5K * 10K
DESCRIPTION:ATI Strides for Strength 1 Mile Overall Results\n\nATI Strides for Strength 5K Overall Results\n\nATI Strides for Strength 10K Overall Results
URL:https://www.racetime.info/event/stride-for-strength-1m-5k-10k/
LOCATION:Busse Woods Grove 27\, Elk Grove Village\, IL\, United States
CATEGORIES:2025-08 Results (August)
ORGANIZER;CN="Theresa Benkeser":MAILTO:theresa.benkeser@atipt.com
END:VEVENT
BEGIN:VEVENT
DTSTART;TZID=America/Chicago:20250824T080000
DTEND;TZID=America/Chicago:20250824T100000
DTSTAMP:20260423T165147
CREATED:20250717T123848Z
LAST-MODIFIED:20250824T212504Z
UID:10002378-1756022400-1756029600@www.racetime.info
SUMMARY:Bartlett Lions Day Dash: 10K Run\, 5K Run/Walk & Kids Dash!
DESCRIPTION:Bartlett Lions Dash 5K Age Group Results\n\nBartlett Lions Dash 5K Overall Results\n\nBartlett Lions Dash 10K Age Group Results\n\nBartlett Lions Dash 10K Overall Results
URL:https://www.racetime.info/event/bartlett-lions-day-dash-10k-run-5k-run-walk-kids-dash/
LOCATION:James “Pate” Phillips State Park (Bartlett Nature Center\, 2050 W. Stearns Road\, Bartlett\, IL\, 60103\, United States
CATEGORIES:2025-08 Results (August)
ORGANIZER;CN="Matthew Kelley":MAILTO:mxk1114@yahoo.com
GEO:41.9772137;-88.2551583
X-APPLE-STRUCTURED-LOCATION;VALUE=URI;X-ADDRESS=James “Pate” Phillips State Park (Bartlett Nature Center 2050 W. Stearns Road Bartlett IL 60103 United States;X-APPLE-RADIUS=500;X-TITLE=2050 W. Stearns Road:geo:-88.2551583,41.9772137
END:VEVENT
BEGIN:VEVENT
DTSTART;TZID=America/Chicago:20250824T073000
DTEND;TZID=America/Chicago:20250824T093000
DTSTAMP:20260423T165147
CREATED:20250727T100420Z
LAST-MODIFIED:20250824T173839Z
UID:10002389-1756020600-1756027800@www.racetime.info
SUMMARY:Summer Trail Classic 4M*9.5M*13M
DESCRIPTION:Summer Classic 4 Mile Age Group Results\n\nSummer Classic 4 Mile Overall Results\n\nSummer Classic 9.5 Mile Age Group Results\n\nSummer Classic 9.5 Mile Overall Results\n\nSummer Classic 13 Mile Age Group Results\n\nSummer Classic 13 Mile Overall Results
URL:https://www.racetime.info/event/summer-trail-classic-4m9-5m13m/
LOCATION:Paul Douglas Forest Preserve\, Central Road\, Hoffman Estates\, IL\, 60193\, United States
CATEGORIES:2025-08 Results (August)
ORGANIZER;CN="Wayne Haworth":MAILTO:wayne@dickpondathletics.com
END:VEVENT
BEGIN:VEVENT
DTSTART;TZID=America/Chicago:20250823T090000
DTEND;TZID=America/Chicago:20250823T110000
DTSTAMP:20260423T165147
CREATED:20250430T125246Z
LAST-MODIFIED:20250824T020017Z
UID:10002354-1755939600-1755946800@www.racetime.info
SUMMARY:RileyStrong Fun Run and 5K
DESCRIPTION:RileyStrong 5K Age Group Results\n\nRileyStrong 5K Overall Results
URL:https://www.racetime.info/event/rileystrong-fun-run-and-5k-2/
LOCATION:American Legion Hall\, 1110 N. 11th Street\, Monmouth\, IL\, 61462\, United States
CATEGORIES:2025-08 Results (August)
ORGANIZER;CN="Michelle Thomas":MAILTO:michthomas83@gmail.com
END:VEVENT
BEGIN:VEVENT
DTSTART;TZID=America/Chicago:20250816T080000
DTEND;TZID=America/Chicago:20250816T100000
DTSTAMP:20260423T165147
CREATED:20250405T184743Z
LAST-MODIFIED:20250816T173946Z
UID:10002327-1755331200-1755338400@www.racetime.info
SUMMARY:Prince Hall Prostate Cancer 5K Run/Walk/Bike
DESCRIPTION:Prostate 5K Overall Results\n\nProstate Bike Overall Results
URL:https://www.racetime.info/event/prince-hall-prostate-cancer-5k-run-walk-bike/
LOCATION:Prince Hall Grand Lodge of Illinois\, 809 E. 42nd Place\, Chicago\, IL\, 60653\, United States
CATEGORIES:2025-08 Results (August)
ORGANIZER;CN="Michelle Stewart":MAILTO:mjs2125@yahoo.com
GEO:41.8177864;-87.6062914
X-APPLE-STRUCTURED-LOCATION;VALUE=URI;X-ADDRESS=Prince Hall Grand Lodge of Illinois 809 E. 42nd Place Chicago IL 60653 United States;X-APPLE-RADIUS=500;X-TITLE=809 E. 42nd Place:geo:-87.6062914,41.8177864
END:VEVENT
BEGIN:VEVENT
DTSTART;TZID=America/Chicago:20250809T090000
DTEND;TZID=America/Chicago:20250809T110000
DTSTAMP:20260423T165147
CREATED:20250302T215229Z
LAST-MODIFIED:20250809T181145Z
UID:10002253-1754730000-1754737200@www.racetime.info
SUMMARY:GEPD Kids Color Bash 2K Fun Run
DESCRIPTION:GEPD Kids Color Bash
URL:https://www.racetime.info/event/gepd-kids-color-bash-2k-fun-run/
LOCATION:Ackerman Park\, 800 St. Charles Road\, Glen Ellyn\, IL\, 60137\, United States
CATEGORIES:2025-08 Results (August)
ORGANIZER;CN="Rebecca Brush":MAILTO:rbrush@gepark.org
END:VEVENT
BEGIN:VEVENT
DTSTART;TZID=America/Chicago:20250809T080000
DTEND;TZID=America/Chicago:20250809T100000
DTSTAMP:20260423T165147
CREATED:20250513T192451Z
LAST-MODIFIED:20250810T001317Z
UID:10002360-1754726400-1754733600@www.racetime.info
SUMMARY:Raceway Woods 5K/3K Run & Walk
DESCRIPTION:Raceway Woods 3K Overall Results\n\nRaceway Woods 5K Age Group Results\n\nRaceway Woods 5K Overall Results
URL:https://www.racetime.info/event/raceway-woods-5k-3k-run-walk-2/
LOCATION:Raceway Wood Forest Preserve\, State Route 31\, Carpentersville\, IL\, 60110\, United States
CATEGORIES:2025-08 Results (August)
ORGANIZER;CN="Tammy St. John":MAILTO:carpentersvillerotary@gmail.com
GEO:42.1157273;-88.2966772
X-APPLE-STRUCTURED-LOCATION;VALUE=URI;X-ADDRESS=Raceway Wood Forest Preserve State Route 31 Carpentersville IL 60110 United States;X-APPLE-RADIUS=500;X-TITLE=State Route 31:geo:-88.2966772,42.1157273
END:VEVENT
BEGIN:VEVENT
DTSTART;TZID=America/Chicago:20250809T080000
DTEND;TZID=America/Chicago:20250809T100000
DTSTAMP:20260423T165147
CREATED:20250312T181323Z
LAST-MODIFIED:20250809T180312Z
UID:10002267-1754726400-1754733600@www.racetime.info
SUMMARY:Lincoln Douglas 5K Run/Walk & 1 Mile Fun Run
DESCRIPTION:Lincoln Douglas 5K Age Group Results\n\nLincoln Douglas 5K Overall Results
URL:https://www.racetime.info/event/lincoln-douglas-5k-run-walk-1-mile-fun-run-2/
LOCATION:Taylor Park\, 900 East Stephenson Street\, Freeport\, IL\, 61032\, United States
CATEGORIES:2025-08 Results (August)
ORGANIZER;CN="Connie Kraft":MAILTO:director@uwni.org
END:VEVENT
BEGIN:VEVENT
DTSTART;TZID=America/Chicago:20250809T080000
DTEND;TZID=America/Chicago:20250809T093000
DTSTAMP:20260423T165147
CREATED:20250528T122113Z
LAST-MODIFIED:20250809T180401Z
UID:10002363-1754726400-1754731800@www.racetime.info
SUMMARY:Race To Stop Hunger 5K Run/Walk
DESCRIPTION:Race to Stop Hunger 5K Age Group Results\n\nRace to Stop Hunger 5K Overall Results\n\nRace to Stop Hunger Team Results
URL:https://www.racetime.info/event/race-to-stop-hunger-5k-run-walk-3/
LOCATION:Mallard Lake Forest Preserve\, Schick Road & Mallard Lane\, Bloomingdae\, IL\, 60172\, United States
CATEGORIES:2025-08 Results (August)
ORGANIZER;CN="Nancy Thiemann":MAILTO:racetostophunger@gmail.com
GEO:41.9527902;-88.1282465
X-APPLE-STRUCTURED-LOCATION;VALUE=URI;X-ADDRESS=Mallard Lake Forest Preserve Schick Road & Mallard Lane Bloomingdae IL 60172 United States;X-APPLE-RADIUS=500;X-TITLE=Schick Road & Mallard Lane:geo:-88.1282465,41.9527902
END:VEVENT
BEGIN:VEVENT
DTSTART;TZID=America/Chicago:20250802T083000
DTEND;TZID=America/Chicago:20250802T100000
DTSTAMP:20260423T165147
CREATED:20250727T094025Z
LAST-MODIFIED:20250802T170739Z
UID:10002386-1754123400-1754128800@www.racetime.info
SUMMARY:HaRUNbee 5K Run/Walk for Healthy Birth Outcomes
DESCRIPTION:HaRUNbee 5K Overall Results\n\nHaRUNbee Team Results
URL:https://www.racetime.info/event/harunbee-5k-run-walk-for-healthy-birth-outcomes-5/
LOCATION:Pete’s Fruit Market\, 1400 S. Union Street\, Milwaukee\, WI\, 53204\, United States
CATEGORIES:2025-08 Results (August)
ORGANIZER;CN="Tonda Thompson":MAILTO:harunbee5k@gmail.com
END:VEVENT
END:VCALENDAR